Perl-Critic-Tics v0.010 Perl 5 v5.30.3 darwin-thread-multi-2level

Status
Pass
From
Gintautas Grigelionis
Dist
Perl-Critic-Tics v0.010
Platform
Perl 5 v5.30.3 darwin-thread-multi-2level
Date
2023-01-06 19:56:11
ID
2b2f129c-8dfc-11ed-a869-45b23f552626
This distribution has been tested as part of the CPAN Testers
project, supporting the Perl programming language.  See
http://wiki.cpantesters.org/ for more information or email
questions to cpan-testers-discuss@perl.org


--
Dear Ricardo SIGNES,

This is a computer-generated report for Perl-Critic-Tics-0.010
on perl 5.30.3, created by CPAN-Reporter-1.2018.

Thank you for uploading your work to CPAN.  Congratulations!
All tests were successful.

Sections of this report:

    * Tester comments
    * Program output
    * Prerequisites
    * Environment and other context

------------------------------
TESTER COMMENTS
------------------------------

Additional comments from tester:

none provided

------------------------------
PROGRAM OUTPUT
------------------------------

Output from '/usr/bin/make test':

PERL_DL_NONLAZY=1 "/usr/bin/perl" "-MExtUtils::Command::MM" "-MTest::Harness" "-e" "undef *Test::Harness::Switches; test_harness(0, 'blib/lib', 'blib/arch')" t/*.t
# 
# Versions for all modules listed in MYMETA.json (including optional ones):
# 
# === Configure Requires ===
# 
#     Module              Want Have
#     ------------------- ---- ----
#     ExtUtils::MakeMaker 6.78 7.66
# 
# === Build Requires ===
# 
#     Module              Want Have
#     ------------------- ---- ----
#     ExtUtils::MakeMaker  any 7.66
# 
# === Test Requires ===
# 
#     Module                  Want     Have
#     ----------------------- ---- --------
#     ExtUtils::MakeMaker      any     7.66
#     File::Spec               any     3.78
#     Perl::Critic::TestUtils  any    1.146
#     Test::More              0.96 1.302191
# 
# === Test Recommends ===
# 
#     Module         Want     Have
#     ---------- -------- --------
#     CPAN::Meta 2.120900 2.150010
# 
# === Runtime Requires ===
# 
#     Module                  Want  Have
#     ----------------------- ---- -----
#     Perl::Critic::Policy     any 1.146
#     Perl::Critic::Utils      any 1.146
#     Perl::Critic::Violation  any 1.146
#     parent                   any 0.239
#     strict                   any  1.11
#     warnings                 any  1.44
# 
t/00-report-prereqs.t .. ok
t/context.t ............ ok
t/line-no.t ............ ok
t/long-lines.t ......... ok
t/many-arrows.t ........ ok
t/no-base.t ............ ok
All tests successful.
Files=6, Tests=38,  3 wallclock secs ( 0.02 usr  0.01 sys +  2.19 cusr  0.41 csys =  2.63 CPU)
Result: PASS

------------------------------
PREREQUISITES
------------------------------

Prerequisite modules loaded:

requires:

    Module                  Need     Have    
    ----------------------- -------- --------
    parent                  0        0.239   
    perl                    5.012    5.030003
    Perl::Critic::Policy    0        1.146   
    Perl::Critic::Utils     0        1.146   
    Perl::Critic::Violation 0        1.146   
    strict                  0        1.11    
    warnings                0        1.44    

build_requires:

    Module                  Need     Have    
    ----------------------- -------- --------
    ExtUtils::MakeMaker     0        7.66    
    File::Spec              0        3.78    
    Perl::Critic::TestUtils 0        1.146   
    Test::More              0.96     1.302191

configure_requires:

    Module                  Need     Have    
    ----------------------- -------- --------
    ExtUtils::MakeMaker     6.78     7.66    

opt_build_requires:

    Module                  Need     Have    
    ----------------------- -------- --------
    CPAN::Meta              2.120900 2.150010


------------------------------
ENVIRONMENT AND OTHER CONTEXT
------------------------------

Environment variables:

    LANG = sv_SE.UTF-8
    PATH = /usr/local/bin:/System/Cryptexes/App/usr/bin:/usr/bin:/bin:/usr/sbin:/sbin:/Library/TeX/texbin:/usr/local/MacGPG2/bin:/opt/X11/bin:/Library/Apple/usr/bin
    PERL5LIB = /Users/gintas/.cpan/build/Text-ParseWords-3.31-2/blib/arch:/Users/gintas/.cpan/build/Text-ParseWords-3.31-2/blib/lib:/Users/gintas/.cpan/build/Pod-Checker-1.75-0/blib/arch:/Users/gintas/.cpan/build/Pod-Checker-1.75-0/blib/lib:/Users/gintas/.cpan/build/Pod-Parser-1.65-0/blib/arch:/Users/gintas/.cpan/build/Pod-Parser-1.65-0/blib/lib
    PERL5OPT = 
    PERL5_CPANPLUS_IS_RUNNING = 29321
    PERL5_CPAN_IS_RUNNING = 29321
    PERL_USE_UNSAFE_INC = 1
    SHELL = /bin/bash
    TERM = xterm-256color
    TMPDIR = /var/folders/y9/7vddvyqs64j1pfp28_p_6dfm0000gq/T/

Perl special variables (and OS-specific diagnostics, for MSWin32):

    $^X = /usr/bin/perl
    $UID/$EUID = 503 / 503
    $GID = 20 20 12 61 79 80 81 98 701 702 33 100 204 250 395 398 399 400
    $EGID = 20 20 12 61 79 80 81 98 701 702 33 100 204 250 395 398 399 400

Perl module toolchain versions installed:

    Module              Have    
    ------------------- --------
    CPAN                2.22    
    CPAN::Meta          2.150010
    Cwd                 3.78    
    ExtUtils::CBuilder  0.280236
    ExtUtils::Command   7.66    
    ExtUtils::Install   2.22    
    ExtUtils::MakeMaker 7.66    
    ExtUtils::Manifest  1.73    
    ExtUtils::ParseXS   3.40    
    File::Spec          3.78    
    JSON                4.10    
    JSON::PP            4.16    
    Module::Build       0.4231  
    Module::Signature   0.88    
    Parse::CPAN::Meta   2.150010
    Test::Harness       3.44    
    Test::More          1.302191
    YAML                1.30    
    YAML::Syck          1.32    
    version             0.9929  


--

Summary of my perl5 (revision 5 version 30 subversion 3) configuration:
   
  Platform:
    osname=darwin
    osvers=22.0
    archname=darwin-thread-multi-2level
    uname='darwin mjll5.p1s.plx.sd.apple.com 22.0 darwin kernel version 20.1.0: wed feb 2 10:48:39 pst 2022; root:xnu-7195.41.8.100.11~1development_x86_64 x86_64 '
    config_args='-ds -e -Dprefix=/usr -Dccflags=-g  -pipe  -Dldflags= -Dman3ext=3pm -Duseithreads -Duseshrplib -Dinc_version_list=none -Dcc=cc'
    hint=recommended
    useposix=true
    d_sigaction=define
    useithreads=define
    usemultiplicity=define
    use64bitint=define
    use64bitall=define
    uselongdouble=undef
    usemymalloc=n
    default_inc_excludes_dot=define
    bincompat5005=undef
  Compiler:
    cc='cc'
    ccflags =' -g -pipe -DPERL_USE_SAFE_PUTENV'
    optimize='-Os'
    cppflags='-g -pipe'
    ccversion=''
    gccversion='Apple LLVM 14.0.0 (clang-1400.0.29.2) [+internal-os, ptrauth-isa=deployment-target-based]'
    gccosandvers=''
    intsize=4
    longsize=8
    ptrsize=8
    doublesize=8
    byteorder=12345678
    doublekind=3
    d_longlong=define
    longlongsize=8
    d_longdbl=define
    longdblsize=16
    longdblkind=3
    ivtype='long'
    ivsize=8
    nvtype='double'
    nvsize=8
    Off_t='off_t'
    lseeksize=8
    alignbytes=8
    prototype=define
  Linker and Libraries:
    ld='cc'
    ldflags =' '
    libpth=/AppleInternal/Library/BuildRoots/aaefcfd1-5c95-11ed-8734-2e32217d8374/Applications/Xcode.app/Contents/Developer/Platforms/MacOSX.platform/Developer/SDKs/MacOSX13.1.Internal.sdk/usr/local/lib /AppleInternal/Library/BuildRoots/aaefcfd1-5c95-11ed-8734-2e32217d8374/Applications/Xcode.app/Contents/Developer/Toolchains/OSX13.1.xctoolchain/usr/lib/clang/14.0.0/lib /AppleInternal/Library/BuildRoots/aaefcfd1-5c95-11ed-8734-2e32217d8374/Applications/Xcode.app/Contents/Developer/Platforms/MacOSX.platform/Developer/SDKs/MacOSX13.1.Internal.sdk/usr/lib /AppleInternal/Library/BuildRoots/aaefcfd1-5c95-11ed-8734-2e32217d8374/Applications/Xcode.app/Contents/Developer/Toolchains/OSX13.1.xctoolchain/usr/lib /AppleInternal/Library/BuildRoots/aaefcfd1-5c95-11ed-8734-2e32217d8374/Applications/Xcode.app/Contents/Developer/Toolchains/XcodeDefault.xctoolchain/usr/lib /usr/lib /usr/local/lib
    libs= 
    perllibs=
    libc=
    so=dylib
    useshrplib=true
    libperl=libperl.dylib
    gnulibc_version=''
  Dynamic Linking:
    dlsrc=dl_dlopen.xs
    dlext=bundle
    d_dlsymun=undef
    ccdlflags=' '
    cccdlflags=' '
    lddlflags=' -bundle -undefined dynamic_lookup'


Characteristics of this binary (from libperl): 
  Compile-time options:
    HAS_TIMES
    MULTIPLICITY
    PERLIO_LAYERS
    PERL_COPY_ON_WRITE
    PERL_DONT_CREATE_GVSV
    PERL_IMPLICIT_CONTEXT
    PERL_MALLOC_WRAP
    PERL_OP_PARENT
    PERL_PRESERVE_IVUV
    PERL_USE_SAFE_PUTENV
    USE_64_BIT_ALL
    USE_64_BIT_INT
    USE_ITHREADS
    USE_LARGE_FILES
    USE_LOCALE
    USE_LOCALE_COLLATE
    USE_LOCALE_CTYPE
    USE_LOCALE_NUMERIC
    USE_LOCALE_TIME
    USE_PERLIO
    USE_PERL_ATOF
    USE_REENTRANT_API
    USE_THREAD_SAFE_LOCALE
  Locally applied patches:
    /Library/Perl/Updates/<version> comes before system perl directories
    installprivlib and installarchlib points to the Updates directory
  Built under darwin
  Compiled at Nov  4 2022 18:31:43
  %ENV:
    PERL5LIB="/Users/gintas/.cpan/build/Text-ParseWords-3.31-2/blib/arch:/Users/gintas/.cpan/build/Text-ParseWords-3.31-2/blib/lib:/Users/gintas/.cpan/build/Pod-Checker-1.75-0/blib/arch:/Users/gintas/.cpan/build/Pod-Checker-1.75-0/blib/lib:/Users/gintas/.cpan/build/Pod-Parser-1.65-0/blib/arch:/Users/gintas/.cpan/build/Pod-Parser-1.65-0/blib/lib"
    PERL5OPT=""
    PERL5_CPANPLUS_IS_RUNNING="29321"
    PERL5_CPAN_IS_RUNNING="29321"
    PERL_USE_UNSAFE_INC="1"
  @INC:
    /Users/gintas/.cpan/build/Text-ParseWords-3.31-2/blib/arch
    /Users/gintas/.cpan/build/Text-ParseWords-3.31-2/blib/lib
    /Users/gintas/.cpan/build/Pod-Checker-1.75-0/blib/arch
    /Users/gintas/.cpan/build/Pod-Checker-1.75-0/blib/lib
    /Users/gintas/.cpan/build/Pod-Parser-1.65-0/blib/arch
    /Users/gintas/.cpan/build/Pod-Parser-1.65-0/blib/lib
    /Library/Perl/5.30/darwin-thread-multi-2level
    /Library/Perl/5.30
    /Network/Library/Perl/5.30/darwin-thread-multi-2level
    /Network/Library/Perl/5.30
    /Library/Perl/Updates/5.30.3/darwin-thread-multi-2level
    /Library/Perl/Updates/5.30.3
    /System/Library/Perl/5.30/darwin-thread-multi-2level
    /System/Library/Perl/5.30
    /System/Library/Perl/Extras/5.30/darwin-thread-multi-2level
    /System/Library/Perl/Extras/5.30
    .