Reaction v0.002005 Perl 5 v5.43.2 x86_64-linux

Status
Pass
From
Andreas J. König (ANDK)
Dist
Reaction v0.002005
Platform
Perl 5 v5.43.2 x86_64-linux
Date
2025-09-03 10:38:45
ID
2b2253e6-88b2-11f0-95b8-c6f4e802fa23
This distribution has been tested as part of the CPAN Testers
project, supporting the Perl programming language.  See
http://wiki.cpantesters.org/ for more information or email
questions to cpan-testers-discuss@perl.org


--
Dear Justin Hunter,

This is a computer-generated report for Reaction-0.002005
on perl 5.43.2, created by CPAN-Reporter-1.2020.

Thank you for uploading your work to CPAN.  Congratulations!
All tests were successful.

Sections of this report:

    * Tester comments
    * Program output
    * Prerequisites
    * Environment and other context

------------------------------
TESTER COMMENTS
------------------------------

Additional comments from tester:

this report is from an automated smoke testing program
and was not reviewed by a human for accuracy

------------------------------
PROGRAM OUTPUT
------------------------------

Output from '/usr/bin/make test':

PERL_DL_NONLAZY=1 "/tmp/basesmoker-reloperl-Cfju/bin/perl" "-MExtUtils::Command::MM" "-MTest::Harness" "-e" "undef *Test::Harness::Switches; test_harness(0, 'inc', 'blib/lib', 'blib/arch')" t/00componentui_compiles.t t/01app.t t/04load_all.t t/05reflect_attr_from.t t/im_dbic.t t/ui_focus_stack.t t/ui_view.t t/ui_viewport.t t/uncheck_bool_field.t
Attempt to call undefined import method with arguments ("5.80") via package "Catalyst::Runtime" (Perhaps you forgot to load the package?) at /tmp/loop_over_bdir-1721494-QTfThW/Reaction-0.002005-0/blib/lib/ComponentUI.pm line 6.
Possible attempt to escape whitespace in qw() list at /home/sand/src/perl/repoperls/installed-perls/host/k93jammy/v5.43.2/6567/lib/site_perl/5.43.2/Sub/Quote.pm line 64.
Class::MOP::load_class is deprecated at /home/sand/src/perl/repoperls/installed-perls/host/k93jammy/v5.43.2/6567/lib/site_perl/5.43.2/x86_64-linux/Class/MOP.pm line 69.
	Class::MOP::load_class("ComponentUI::TestModel") called at /tmp/loop_over_bdir-1721494-QTfThW/Reaction-0.002005-0/blib/lib/Catalyst/Model/Reaction/InterfaceModel/DBIC.pm line 24
	Catalyst::Model::Reaction::InterfaceModel::DBIC::COMPONENT("ComponentUI::Model::TestModel", "ComponentUI", HASH(0x6352ce32fe68)) called at /home/sand/src/perl/repoperls/installed-perls/host/k93jammy/v5.43.2/6567/lib/site_perl/5.43.2/Catalyst.pm line 3240
	eval {...} called at /home/sand/src/perl/repoperls/installed-perls/host/k93jammy/v5.43.2/6567/lib/site_perl/5.43.2/Catalyst.pm line 3241
	Catalyst::setup_component("ComponentUI", "ComponentUI::Model::TestModel") called at /home/sand/src/perl/repoperls/installed-perls/host/k93jammy/v5.43.2/6567/lib/site_perl/5.43.2/Catalyst.pm line 3218
	Catalyst::__ANON__() called at /home/sand/src/perl/repoperls/installed-perls/host/k93jammy/v5.43.2/6567/lib/site_perl/5.43.2/Catalyst.pm line 3065
	Catalyst::setup_components("ComponentUI") called at /home/sand/src/perl/repoperls/installed-perls/host/k93jammy/v5.43.2/6567/lib/site_perl/5.43.2/Catalyst.pm line 1438
	Catalyst::setup("ComponentUI") called at /tmp/loop_over_bdir-1721494-QTfThW/Reaction-0.002005-0/blib/lib/ComponentUI.pm line 32
	require ComponentUI.pm called at t/00componentui_compiles.t line 7
	main::BEGIN() called at t/00componentui_compiles.t line 7
	eval {...} called at t/00componentui_compiles.t line 7
	eval 'package main;
BEGIN { ${^WARNING_BITS} = $args[-1] if defined $args[-1] }
#line 7 t/00componentui_compiles.t
use ComponentUI @{$args[0]};
1;
' called at /home/sand/src/perl/repoperls/installed-perls/host/k93jammy/v5.43.2/6567/lib/5.43.2/Test/More.pm line 1056
	Test::More::_eval("package main;\x{a}BEGIN { \${^WARNING_BITS} = \$args[-1] if defined"..., ARRAY(0x6352c8fc1dc0), "UUUUUUUUUUUUUUUUUUUU") called at /home/sand/src/perl/repoperls/installed-perls/host/k93jammy/v5.43.2/6567/lib/5.43.2/Test/More.pm line 1031
	Test::More::use_ok("ComponentUI") called at t/00componentui_compiles.t line 7
Class::MOP::load_class is deprecated at /home/sand/src/perl/repoperls/installed-perls/host/k93jammy/v5.43.2/6567/lib/site_perl/5.43.2/x86_64-linux/Class/MOP.pm line 69.
	Class::MOP::load_class("Reaction::InterfaceModel::Object") called at /tmp/loop_over_bdir-1721494-QTfThW/Reaction-0.002005-0/blib/lib/Reaction/InterfaceModel/Reflector/DBIC.pm line 149
	Reaction::InterfaceModel::Reflector::DBIC::reflect_schema(Reaction::InterfaceModel::Reflector::DBIC=HASH(0x6352ceeebb90), "model_class", "ComponentUI::TestModel", "schema_class", "RTest::TestDB", "sources", ARRAY(0x6352cf067378)) called at /tmp/loop_over_bdir-1721494-QTfThW/Reaction-0.002005-0/blib/lib/ComponentUI/TestModel.pm line 10
	require ComponentUI/TestModel.pm called at /home/sand/src/perl/repoperls/installed-perls/host/k93jammy/v5.43.2/6567/lib/site_perl/5.43.2/Module/Runtime.pm line 120
	Module::Runtime::require_module("ComponentUI::TestModel") called at /home/sand/src/perl/repoperls/installed-perls/host/k93jammy/v5.43.2/6567/lib/site_perl/5.43.2/Class/Load.pm line 174
	Class::Load::try {...} () called at /home/sand/src/perl/repoperls/installed-perls/host/k93jammy/v5.43.2/6567/lib/site_perl/5.43.2/Try/Tiny.pm line 98
	eval {...} called at /home/sand/src/perl/repoperls/installed-perls/host/k93jammy/v5.43.2/6567/lib/site_perl/5.43.2/Try/Tiny.pm line 93
	Try::Tiny::try(CODE(0x6352cbaf8a20), Try::Tiny::Catch=REF(0x6352ceb48b98)) called at /home/sand/src/perl/repoperls/installed-perls/host/k93jammy/v5.43.2/6567/lib/site_perl/5.43.2/Class/Load.pm line 180
	Class::Load::try_load_class("ComponentUI::TestModel", undef) called at /home/sand/src/perl/repoperls/installed-perls/host/k93jammy/v5.43.2/6567/lib/site_perl/5.43.2/Class/Load.pm line 35
	Class::Load::load_class("ComponentUI::TestModel") called at /tmp/loop_over_bdir-1721494-QTfThW/Reaction-0.002005-0/blib/lib/Catalyst/Model/Reaction/InterfaceModel/DBIC.pm line 24
	Catalyst::Model::Reaction::InterfaceModel::DBIC::COMPONENT("ComponentUI::Model::TestModel", "ComponentUI", HASH(0x6352ce32fe68)) called at /home/sand/src/perl/repoperls/installed-perls/host/k93jammy/v5.43.2/6567/lib/site_perl/5.43.2/Catalyst.pm line 3240
	eval {...} called at /home/sand/src/perl/repoperls/installed-perls/host/k93jammy/v5.43.2/6567/lib/site_perl/5.43.2/Catalyst.pm line 3241
	Catalyst::setup_component("ComponentUI", "ComponentUI::Model::TestModel") called at /home/sand/src/perl/repoperls/installed-perls/host/k93jammy/v5.43.2/6567/lib/site_perl/5.43.2/Catalyst.pm line 3218
	Catalyst::__ANON__() called at /home/sand/src/perl/repoperls/installed-perls/host/k93jammy/v5.43.2/6567/lib/site_perl/5.43.2/Catalyst.pm line 3065
	Catalyst::setup_components("ComponentUI") called at /home/sand/src/perl/repoperls/installed-perls/host/k93jammy/v5.43.2/6567/lib/site_perl/5.43.2/Catalyst.pm line 1438
	Catalyst::setup("ComponentUI") called at /tmp/loop_over_bdir-1721494-QTfThW/Reaction-0.002005-0/blib/lib/ComponentUI.pm line 32
	require ComponentUI.pm called at t/00componentui_compiles.t line 7
	main::BEGIN() called at t/00componentui_compiles.t line 7
	eval {...} called at t/00componentui_compiles.t line 7
	eval 'package main;
BEGIN { ${^WARNING_BITS} = $args[-1] if defined $args[-1] }
#line 7 t/00componentui_compiles.t
use ComponentUI @{$args[0]};
1;
' called at /home/sand/src/perl/repoperls/installed-perls/host/k93jammy/v5.43.2/6567/lib/5.43.2/Test/More.pm line 1056
	Test::More::_eval("package main;\x{a}BEGIN { \${^WARNING_BITS} = \$args[-1] if defined"..., ARRAY(0x6352c8fc1dc0), "UUUUUUUUUUUUUUUUUUUU") called at /home/sand/src/perl/repoperls/installed-perls/host/k93jammy/v5.43.2/6567/lib/5.43.2/Test/More.pm line 1031
	Test::More::use_ok("ComponentUI") called at t/00componentui_compiles.t line 7
Class::MOP::load_class is deprecated at /home/sand/src/perl/repoperls/installed-perls/host/k93jammy/v5.43.2/6567/lib/site_perl/5.43.2/x86_64-linux/Class/MOP.pm line 69.
	Class::MOP::load_class("Reaction::InterfaceModel::Object") called at /tmp/loop_over_bdir-1721494-QTfThW/Reaction-0.002005-0/blib/lib/Reaction/Class.pm line 123
	Reaction::Class::do_class_sub("Reaction::Class", "ComponentUI::TestModel::Foo", "ComponentUI::TestModel::Foo", "is", "Reaction::InterfaceModel::Object", "which", CODE(0x6352cf229560)) called at /tmp/loop_over_bdir-1721494-QTfThW/Reaction-0.002005-0/blib/lib/Reaction/Class.pm line 86
	Reaction::Class::("ComponentUI::TestModel::Foo", "is", "Reaction::InterfaceModel::Object", "which", CODE(0x6352cf229560)) called at /tmp/loop_over_bdir-1721494-QTfThW/Reaction-0.002005-0/blib/lib/ComponentUI/TestModel/Foo.pm line 8
	require ComponentUI/TestModel/Foo.pm called at /home/sand/src/perl/repoperls/installed-perls/host/k93jammy/v5.43.2/6567/lib/site_perl/5.43.2/Module/Runtime.pm line 120
	Module::Runtime::require_module("ComponentUI::TestModel::Foo") called at /home/sand/src/perl/repoperls/installed-perls/host/k93jammy/v5.43.2/6567/lib/site_perl/5.43.2/Class/Load.pm line 174
	Class::Load::try {...} () called at /home/sand/src/perl/repoperls/installed-perls/host/k93jammy/v5.43.2/6567/lib/site_perl/5.43.2/Try/Tiny.pm line 98
	eval {...} called at /home/sand/src/perl/repoperls/installed-perls/host/k93jammy/v5.43.2/6567/lib/site_perl/5.43.2/Try/Tiny.pm line 93
	Try::Tiny::try(CODE(0x6352cf2044a0), Try::Tiny::Catch=REF(0x6352cf22e138)) called at /home/sand/src/perl/repoperls/installed-perls/host/k93jammy/v5.43.2/6567/lib/site_perl/5.43.2/Class/Load.pm line 180
	Class::Load::try_load_class("ComponentUI::TestModel::Foo", undef) called at /home/sand/src/perl/repoperls/installed-perls/host/k93jammy/v5.43.2/6567/lib/site_perl/5.43.2/Class/Load.pm line 35
	Class::Load::load_class("ComponentUI::TestModel::Foo") called at /tmp/loop_over_bdir-1721494-QTfThW/Reaction-0.002005-0/blib/lib/Reaction/InterfaceModel/Reflector/DBIC.pm line 892
	eval {...} called at /tmp/loop_over_bdir-1721494-QTfThW/Reaction-0.002005-0/blib/lib/Reaction/InterfaceModel/Reflector/DBIC.pm line 892
	Reaction::InterfaceModel::Reflector::DBIC::_maybe_load_class(Reaction::InterfaceModel::Reflector::DBIC=HASH(0x6352ceeebb90), "ComponentUI::TestModel::Foo") called at /tmp/loop_over_bdir-1721494-QTfThW/Reaction-0.002005-0/blib/lib/Reaction/InterfaceModel/Reflector/DBIC.pm line 876
	Reaction::InterfaceModel::Reflector::DBIC::_load_or_create(Reaction::InterfaceModel::Reflector::DBIC=HASH(0x6352ceeebb90), "ComponentUI::TestModel::Foo", "superclasses", ARRAY(0x6352cf1aa0b8)) called at /tmp/loop_over_bdir-1721494-QTfThW/Reaction-0.002005-0/blib/lib/Reaction/InterfaceModel/Reflector/DBIC.pm line 448
	Reaction::InterfaceModel::Reflector::DBIC::reflect_source_object(Reaction::InterfaceModel::Reflector::DBIC=HASH(0x6352ceeebb90), "source_class", "RTest::TestDB::Foo", "parent_domain_model_name", "_rtest_test_db_store", "schema_class", "RTest::TestDB", "source_name", ...) called at /tmp/loop_over_bdir-1721494-QTfThW/Reaction-0.002005-0/blib/lib/Reaction/InterfaceModel/Reflector/DBIC.pm line 323
	Reaction::InterfaceModel::Reflector::DBIC::reflect_source(Reaction::InterfaceModel::Reflector::DBIC=HASH(0x6352ceeebb90), "source_name", "Foo", "parent_class", "ComponentUI::TestModel", "schema_class", "RTest::TestDB", "source_class", ...) called at /tmp/loop_over_bdir-1721494-QTfThW/Reaction-0.002005-0/blib/lib/Reaction/InterfaceModel/Reflector/DBIC.pm line 185
	Reaction::InterfaceModel::Reflector::DBIC::reflect_schema(Reaction::InterfaceModel::Reflector::DBIC=HASH(0x6352ceeebb90), "model_class", "ComponentUI::TestModel", "schema_class", "RTest::TestDB", "sources", ARRAY(0x6352cf067378)) called at /tmp/loop_over_bdir-1721494-QTfThW/Reaction-0.002005-0/blib/lib/ComponentUI/TestModel.pm line 10
	require ComponentUI/TestModel.pm called at /home/sand/src/perl/repoperls/installed-perls/host/k93jammy/v5.43.2/6567/lib/site_perl/5.43.2/Module/Runtime.pm line 120
	Module::Runtime::require_module("ComponentUI::TestModel") called at /home/sand/src/perl/repoperls/installed-perls/host/k93jammy/v5.43.2/6567/lib/site_perl/5.43.2/Class/Load.pm line 174
	Class::Load::try {...} () called at /home/sand/src/perl/repoperls/installed-perls/host/k93jammy/v5.43.2/6567/lib/site_perl/5.43.2/Try/Tiny.pm line 98
	eval {...} called at /home/sand/src/perl/repoperls/installed-perls/host/k93jammy/v5.43.2/6567/lib/site_perl/5.43.2/Try/Tiny.pm line 93
	Try::Tiny::try(CODE(0x6352cbaf8a20), Try::Tiny::Catch=REF(0x6352ceb48b98)) called at /home/sand/src/perl/repoperls/installed-perls/host/k93jammy/v5.43.2/6567/lib/site_perl/5.43.2/Class/Load.pm line 180
	Class::Load::try_load_class("ComponentUI::TestModel", undef) called at /home/sand/src/perl/repoperls/installed-perls/host/k93jammy/v5.43.2/6567/lib/site_perl/5.43.2/Class/Load.pm line 35
	Class::Load::load_class("ComponentUI::TestModel") called at /tmp/loop_over_bdir-1721494-QTfThW/Reaction-0.002005-0/blib/lib/Catalyst/Model/Reaction/InterfaceModel/DBIC.pm line 24
	Catalyst::Model::Reaction::InterfaceModel::DBIC::COMPONENT("ComponentUI::Model::TestModel", "ComponentUI", HASH(0x6352ce32fe68)) called at /home/sand/src/perl/repoperls/installed-perls/host/k93jammy/v5.43.2/6567/lib/site_perl/5.43.2/Catalyst.pm line 3240
	eval {...} called at /home/sand/src/perl/repoperls/installed-perls/host/k93jammy/v5.43.2/6567/lib/site_perl/5.43.2/Catalyst.pm line 3241
	Catalyst::setup_component("ComponentUI", "ComponentUI::Model::TestModel") called at /home/sand/src/perl/repoperls/installed-perls/host/k93jammy/v5.43.2/6567/lib/site_perl/5.43.2/Catalyst.pm line 3218
	Catalyst::__ANON__() called at /home/sand/src/perl/repoperls/installed-perls/host/k93jammy/v5.43.2/6567/lib/site_perl/5.43.2/Catalyst.pm line 3065
	Catalyst::setup_components("ComponentUI") called at /home/sand/src/perl/repoperls/installed-perls/host/k93jammy/v5.43.2/6567/lib/site_perl/5.43.2/Catalyst.pm line 1438
	Catalyst::setup("ComponentUI") called at /tmp/loop_over_bdir-1721494-QTfThW/Reaction-0.002005-0/blib/lib/ComponentUI.pm line 32
	require ComponentUI.pm called at t/00componentui_compiles.t line 7
	main::BEGIN() called at t/00componentui_compiles.t line 7
	eval {...} called at t/00componentui_compiles.t line 7
	eval 'package main;
BEGIN { ${^WARNING_BITS} = $args[-1] if defined $args[-1] }
#line 7 t/00componentui_compiles.t
use ComponentUI @{$args[0]};
1;
' called at /home/sand/src/perl/repoperls/installed-perls/host/k93jammy/v5.43.2/6567/lib/5.43.2/Test/More.pm line 1056
	Test::More::_eval("package main;\x{a}BEGIN { \${^WARNING_BITS} = \$args[-1] if defined"..., ARRAY(0x6352c8fc1dc0), "UUUUUUUUUUUUUUUUUUUU") called at /home/sand/src/perl/repoperls/installed-perls/host/k93jammy/v5.43.2/6567/lib/5.43.2/Test/More.pm line 1031
	Test::More::use_ok("ComponentUI") called at t/00componentui_compiles.t line 7
t/00componentui_compiles.t .. ok
Attempt to call undefined import method with arguments ("5.80") via package "Catalyst::Runtime" (Perhaps you forgot to load the package?) at /tmp/loop_over_bdir-1721494-QTfThW/Reaction-0.002005-0/blib/lib/ComponentUI.pm line 6.
Possible attempt to escape whitespace in qw() list at /home/sand/src/perl/repoperls/installed-perls/host/k93jammy/v5.43.2/6567/lib/site_perl/5.43.2/Sub/Quote.pm line 64.
Class::MOP::load_class is deprecated at /home/sand/src/perl/repoperls/installed-perls/host/k93jammy/v5.43.2/6567/lib/site_perl/5.43.2/x86_64-linux/Class/MOP.pm line 69.
	Class::MOP::load_class("ComponentUI::TestModel") called at /tmp/loop_over_bdir-1721494-QTfThW/Reaction-0.002005-0/blib/lib/Catalyst/Model/Reaction/InterfaceModel/DBIC.pm line 24
	Catalyst::Model::Reaction::InterfaceModel::DBIC::COMPONENT("ComponentUI::Model::TestModel", "ComponentUI", HASH(0x588ab8f76148)) called at /home/sand/src/perl/repoperls/installed-perls/host/k93jammy/v5.43.2/6567/lib/site_perl/5.43.2/Catalyst.pm line 3240
	eval {...} called at /home/sand/src/perl/repoperls/installed-perls/host/k93jammy/v5.43.2/6567/lib/site_perl/5.43.2/Catalyst.pm line 3241
	Catalyst::setup_component("ComponentUI", "ComponentUI::Model::TestModel") called at /home/sand/src/perl/repoperls/installed-perls/host/k93jammy/v5.43.2/6567/lib/site_perl/5.43.2/Catalyst.pm line 3218
	Catalyst::__ANON__() called at /home/sand/src/perl/repoperls/installed-perls/host/k93jammy/v5.43.2/6567/lib/site_perl/5.43.2/Catalyst.pm line 3065
	Catalyst::setup_components("ComponentUI") called at /home/sand/src/perl/repoperls/installed-perls/host/k93jammy/v5.43.2/6567/lib/site_perl/5.43.2/Catalyst.pm line 1438
	Catalyst::setup("ComponentUI") called at /tmp/loop_over_bdir-1721494-QTfThW/Reaction-0.002005-0/blib/lib/ComponentUI.pm line 32
	require ComponentUI.pm called at /home/sand/src/perl/repoperls/installed-perls/host/k93jammy/v5.43.2/6567/lib/site_perl/5.43.2/Module/Runtime.pm line 120
	Module::Runtime::require_module("ComponentUI") called at /home/sand/src/perl/repoperls/installed-perls/host/k93jammy/v5.43.2/6567/lib/site_perl/5.43.2/Class/Load.pm line 174
	Class::Load::try {...} () called at /home/sand/src/perl/repoperls/installed-perls/host/k93jammy/v5.43.2/6567/lib/site_perl/5.43.2/Try/Tiny.pm line 98
	eval {...} called at /home/sand/src/perl/repoperls/installed-perls/host/k93jammy/v5.43.2/6567/lib/site_perl/5.43.2/Try/Tiny.pm line 93
	Try::Tiny::try(CODE(0x588ab70d78b8), Try::Tiny::Catch=REF(0x588ab6c752f0)) called at /home/sand/src/perl/repoperls/installed-perls/host/k93jammy/v5.43.2/6567/lib/site_perl/5.43.2/Class/Load.pm line 180
	Class::Load::try_load_class("ComponentUI", undef) called at /home/sand/src/perl/repoperls/installed-perls/host/k93jammy/v5.43.2/6567/lib/site_perl/5.43.2/Class/Load.pm line 35
	Class::Load::load_class("ComponentUI") called at /home/sand/src/perl/repoperls/installed-perls/host/k93jammy/v5.43.2/6567/lib/site_perl/5.43.2/Catalyst/Test.pm line 29
	Catalyst::Test::_build_request_export("Catalyst::Test", HASH(0x588ab712b108)) called at /home/sand/src/perl/repoperls/installed-perls/host/k93jammy/v5.43.2/6567/lib/site_perl/5.43.2/Catalyst/Test.pm line 95
	Catalyst::Test::__ANON__("Catalyst::Test", "all", HASH(0x588ab7123dc0), HASH(0x588ab598f9c0)) called at /home/sand/src/perl/repoperls/installed-perls/host/k93jammy/v5.43.2/6567/lib/site_perl/5.43.2/Sub/Exporter.pm line 491
	Sub::Exporter::_expand_group("Catalyst::Test", HASH(0x588ab71233e8), ARRAY(0x588ab598f9d8), HASH(0x588ab598f9c0), HASH(0x588ab712b138), HASH(0x588ab5f584a0)) called at /home/sand/src/perl/repoperls/installed-perls/host/k93jammy/v5.43.2/6567/lib/site_perl/5.43.2/Sub/Exporter.pm line 422
	Sub::Exporter::_expand_groups("Catalyst::Test", HASH(0x588ab71233e8), ARRAY(0x588ab7123850), HASH(0x588ab598f9c0)) called at /home/sand/src/perl/repoperls/installed-perls/host/k93jammy/v5.43.2/6567/lib/site_perl/5.43.2/Sub/Exporter.pm line 740
	Sub::Exporter::__ANON__("Catalyst::Test", "-all", HASH(0x588ab598f918)) called at /home/sand/src/perl/repoperls/installed-perls/host/k93jammy/v5.43.2/6567/lib/site_perl/5.43.2/Catalyst/Test.pm line 155
	Catalyst::Test::import("Catalyst::Test", "ComponentUI") called at t/01app.t line 7
	main::BEGIN() called at t/01app.t line 7
	eval {...} called at t/01app.t line 7
	eval 'package main;
BEGIN { ${^WARNING_BITS} = $args[-1] if defined $args[-1] }
#line 7 t/01app.t
use Catalyst::Test @{$args[0]};
1;
' called at /home/sand/src/perl/repoperls/installed-perls/host/k93jammy/v5.43.2/6567/lib/5.43.2/Test/More.pm line 1056
	Test::More::_eval("package main;\x{a}BEGIN { \${^WARNING_BITS} = \$args[-1] if defined"..., ARRAY(0x588ab5f17fe0), "UUUUUUUUUUUUUUUUUUUU") called at /home/sand/src/perl/repoperls/installed-perls/host/k93jammy/v5.43.2/6567/lib/5.43.2/Test/More.pm line 1031
	Test::More::use_ok("Catalyst::Test", "ComponentUI") called at t/01app.t line 7
	main::BEGIN() called at t/01app.t line 8
	eval {...} called at t/01app.t line 8
Class::MOP::load_class is deprecated at /home/sand/src/perl/repoperls/installed-perls/host/k93jammy/v5.43.2/6567/lib/site_perl/5.43.2/x86_64-linux/Class/MOP.pm line 69.
	Class::MOP::load_class("Reaction::InterfaceModel::Object") called at /tmp/loop_over_bdir-1721494-QTfThW/Reaction-0.002005-0/blib/lib/Reaction/InterfaceModel/Reflector/DBIC.pm line 149
	Reaction::InterfaceModel::Reflector::DBIC::reflect_schema(Reaction::InterfaceModel::Reflector::DBIC=HASH(0x588abbe8b568), "model_class", "ComponentUI::TestModel", "schema_class", "RTest::TestDB", "sources", ARRAY(0x588abbff9e68)) called at /tmp/loop_over_bdir-1721494-QTfThW/Reaction-0.002005-0/blib/lib/ComponentUI/TestModel.pm line 10
	require ComponentUI/TestModel.pm called at /home/sand/src/perl/repoperls/installed-perls/host/k93jammy/v5.43.2/6567/lib/site_perl/5.43.2/Module/Runtime.pm line 120
	Module::Runtime::require_module("ComponentUI::TestModel") called at /home/sand/src/perl/repoperls/installed-perls/host/k93jammy/v5.43.2/6567/lib/site_perl/5.43.2/Class/Load.pm line 174
	Class::Load::try {...} () called at /home/sand/src/perl/repoperls/installed-perls/host/k93jammy/v5.43.2/6567/lib/site_perl/5.43.2/Try/Tiny.pm line 98
	eval {...} called at /home/sand/src/perl/repoperls/installed-perls/host/k93jammy/v5.43.2/6567/lib/site_perl/5.43.2/Try/Tiny.pm line 93
	Try::Tiny::try(CODE(0x588ab8a91120), Try::Tiny::Catch=REF(0x588abbae5320)) called at /home/sand/src/perl/repoperls/installed-perls/host/k93jammy/v5.43.2/6567/lib/site_perl/5.43.2/Class/Load.pm line 180
	Class::Load::try_load_class("ComponentUI::TestModel", undef) called at /home/sand/src/perl/repoperls/installed-perls/host/k93jammy/v5.43.2/6567/lib/site_perl/5.43.2/Class/Load.pm line 35
	Class::Load::load_class("ComponentUI::TestModel") called at /tmp/loop_over_bdir-1721494-QTfThW/Reaction-0.002005-0/blib/lib/Catalyst/Model/Reaction/InterfaceModel/DBIC.pm line 24
	Catalyst::Model::Reaction::InterfaceModel::DBIC::COMPONENT("ComponentUI::Model::TestModel", "ComponentUI", HASH(0x588ab8f76148)) called at /home/sand/src/perl/repoperls/installed-perls/host/k93jammy/v5.43.2/6567/lib/site_perl/5.43.2/Catalyst.pm line 3240
	eval {...} called at /home/sand/src/perl/repoperls/installed-perls/host/k93jammy/v5.43.2/6567/lib/site_perl/5.43.2/Catalyst.pm line 3241
	Catalyst::setup_component("ComponentUI", "ComponentUI::Model::TestModel") called at /home/sand/src/perl/repoperls/installed-perls/host/k93jammy/v5.43.2/6567/lib/site_perl/5.43.2/Catalyst.pm line 3218
	Catalyst::__ANON__() called at /home/sand/src/perl/repoperls/installed-perls/host/k93jammy/v5.43.2/6567/lib/site_perl/5.43.2/Catalyst.pm line 3065
	Catalyst::setup_components("ComponentUI") called at /home/sand/src/perl/repoperls/installed-perls/host/k93jammy/v5.43.2/6567/lib/site_perl/5.43.2/Catalyst.pm line 1438
	Catalyst::setup("ComponentUI") called at /tmp/loop_over_bdir-1721494-QTfThW/Reaction-0.002005-0/blib/lib/ComponentUI.pm line 32
	require ComponentUI.pm called at /home/sand/src/perl/repoperls/installed-perls/host/k93jammy/v5.43.2/6567/lib/site_perl/5.43.2/Module/Runtime.pm line 120
	Module::Runtime::require_module("ComponentUI") called at /home/sand/src/perl/repoperls/installed-perls/host/k93jammy/v5.43.2/6567/lib/site_perl/5.43.2/Class/Load.pm line 174
	Class::Load::try {...} () called at /home/sand/src/perl/repoperls/installed-perls/host/k93jammy/v5.43.2/6567/lib/site_perl/5.43.2/Try/Tiny.pm line 98
	eval {...} called at /home/sand/src/perl/repoperls/installed-perls/host/k93jammy/v5.43.2/6567/lib/site_perl/5.43.2/Try/Tiny.pm line 93
	Try::Tiny::try(CODE(0x588ab70d78b8), Try::Tiny::Catch=REF(0x588ab6c752f0)) called at /home/sand/src/perl/repoperls/installed-perls/host/k93jammy/v5.43.2/6567/lib/site_perl/5.43.2/Class/Load.pm line 180
	Class::Load::try_load_class("ComponentUI", undef) called at /home/sand/src/perl/repoperls/installed-perls/host/k93jammy/v5.43.2/6567/lib/site_perl/5.43.2/Class/Load.pm line 35
	Class::Load::load_class("ComponentUI") called at /home/sand/src/perl/repoperls/installed-perls/host/k93jammy/v5.43.2/6567/lib/site_perl/5.43.2/Catalyst/Test.pm line 29
	Catalyst::Test::_build_request_export("Catalyst::Test", HASH(0x588ab712b108)) called at /home/sand/src/perl/repoperls/installed-perls/host/k93jammy/v5.43.2/6567/lib/site_perl/5.43.2/Catalyst/Test.pm line 95
	Catalyst::Test::__ANON__("Catalyst::Test", "all", HASH(0x588ab7123dc0), HASH(0x588ab598f9c0)) called at /home/sand/src/perl/repoperls/installed-perls/host/k93jammy/v5.43.2/6567/lib/site_perl/5.43.2/Sub/Exporter.pm line 491
	Sub::Exporter::_expand_group("Catalyst::Test", HASH(0x588ab71233e8), ARRAY(0x588ab598f9d8), HASH(0x588ab598f9c0), HASH(0x588ab712b138), HASH(0x588ab5f584a0)) called at /home/sand/src/perl/repoperls/installed-perls/host/k93jammy/v5.43.2/6567/lib/site_perl/5.43.2/Sub/Exporter.pm line 422
	Sub::Exporter::_expand_groups("Catalyst::Test", HASH(0x588ab71233e8), ARRAY(0x588ab7123850), HASH(0x588ab598f9c0)) called at /home/sand/src/perl/repoperls/installed-perls/host/k93jammy/v5.43.2/6567/lib/site_perl/5.43.2/Sub/Exporter.pm line 740
	Sub::Exporter::__ANON__("Catalyst::Test", "-all", HASH(0x588ab598f918)) called at /home/sand/src/perl/repoperls/installed-perls/host/k93jammy/v5.43.2/6567/lib/site_perl/5.43.2/Catalyst/Test.pm line 155
	Catalyst::Test::import("Catalyst::Test", "ComponentUI") called at t/01app.t line 7
	main::BEGIN() called at t/01app.t line 7
	eval {...} called at t/01app.t line 7
	eval 'package main;
BEGIN { ${^WARNING_BITS} = $args[-1] if defined $args[-1] }
#line 7 t/01app.t
use Catalyst::Test @{$args[0]};
1;
' called at /home/sand/src/perl/repoperls/installed-perls/host/k93jammy/v5.43.2/6567/lib/5.43.2/Test/More.pm line 1056
	Test::More::_eval("package main;\x{a}BEGIN { \${^WARNING_BITS} = \$args[-1] if defined"..., ARRAY(0x588ab5f17fe0), "UUUUUUUUUUUUUUUUUUUU") called at /home/sand/src/perl/repoperls/installed-perls/host/k93jammy/v5.43.2/6567/lib/5.43.2/Test/More.pm line 1031
	Test::More::use_ok("Catalyst::Test", "ComponentUI") called at t/01app.t line 7
	main::BEGIN() called at t/01app.t line 8
	eval {...} called at t/01app.t line 8
Class::MOP::load_class is deprecated at /home/sand/src/perl/repoperls/installed-perls/host/k93jammy/v5.43.2/6567/lib/site_perl/5.43.2/x86_64-linux/Class/MOP.pm line 69.
	Class::MOP::load_class("Reaction::InterfaceModel::Object") called at /tmp/loop_over_bdir-1721494-QTfThW/Reaction-0.002005-0/blib/lib/Reaction/Class.pm line 123
	Reaction::Class::do_class_sub("Reaction::Class", "ComponentUI::TestModel::Foo", "ComponentUI::TestModel::Foo", "is", "Reaction::InterfaceModel::Object", "which", CODE(0x588abc328ab8)) called at /tmp/loop_over_bdir-1721494-QTfThW/Reaction-0.002005-0/blib/lib/Reaction/Class.pm line 86
	Reaction::Class::("ComponentUI::TestModel::Foo", "is", "Reaction::InterfaceModel::Object", "which", CODE(0x588abc328ab8)) called at /tmp/loop_over_bdir-1721494-QTfThW/Reaction-0.002005-0/blib/lib/ComponentUI/TestModel/Foo.pm line 8
	require ComponentUI/TestModel/Foo.pm called at /home/sand/src/perl/repoperls/installed-perls/host/k93jammy/v5.43.2/6567/lib/site_perl/5.43.2/Module/Runtime.pm line 120
	Module::Runtime::require_module("ComponentUI::TestModel::Foo") called at /home/sand/src/perl/repoperls/installed-perls/host/k93jammy/v5.43.2/6567/lib/site_perl/5.43.2/Class/Load.pm line 174
	Class::Load::try {...} () called at /home/sand/src/perl/repoperls/installed-perls/host/k93jammy/v5.43.2/6567/lib/site_perl/5.43.2/Try/Tiny.pm line 98
	eval {...} called at /home/sand/src/perl/repoperls/installed-perls/host/k93jammy/v5.43.2/6567/lib/site_perl/5.43.2/Try/Tiny.pm line 93
	Try::Tiny::try(CODE(0x588abc2ccd88), Try::Tiny::Catch=REF(0x588abc305838)) called at /home/sand/src/perl/repoperls/installed-perls/host/k93jammy/v5.43.2/6567/lib/site_perl/5.43.2/Class/Load.pm line 180
	Class::Load::try_load_class("ComponentUI::TestModel::Foo", undef) called at /home/sand/src/perl/repoperls/installed-perls/host/k93jammy/v5.43.2/6567/lib/site_perl/5.43.2/Class/Load.pm line 35
	Class::Load::load_class("ComponentUI::TestModel::Foo") called at /tmp/loop_over_bdir-1721494-QTfThW/Reaction-0.002005-0/blib/lib/Reaction/InterfaceModel/Reflector/DBIC.pm line 892
	eval {...} called at /tmp/loop_over_bdir-1721494-QTfThW/Reaction-0.002005-0/blib/lib/Reaction/InterfaceModel/Reflector/DBIC.pm line 892
	Reaction::InterfaceModel::Reflector::DBIC::_maybe_load_class(Reaction::InterfaceModel::Reflector::DBIC=HASH(0x588abbe8b568), "ComponentUI::TestModel::Foo") called at /tmp/loop_over_bdir-1721494-QTfThW/Reaction-0.002005-0/blib/lib/Reaction/InterfaceModel/Reflector/DBIC.pm line 876
	Reaction::InterfaceModel::Reflector::DBIC::_load_or_create(Reaction::InterfaceModel::Reflector::DBIC=HASH(0x588abbe8b568), "ComponentUI::TestModel::Foo", "superclasses", ARRAY(0x588abc1ef8a0)) called at /tmp/loop_over_bdir-1721494-QTfThW/Reaction-0.002005-0/blib/lib/Reaction/InterfaceModel/Reflector/DBIC.pm line 448
	Reaction::InterfaceModel::Reflector::DBIC::reflect_source_object(Reaction::InterfaceModel::Reflector::DBIC=HASH(0x588abbe8b568), "parent_class", "ComponentUI::TestModel", "source_class", "RTest::TestDB::Foo", "source_name", "Foo", "schema_class", ...) called at /tmp/loop_over_bdir-1721494-QTfThW/Reaction-0.002005-0/blib/lib/Reaction/InterfaceModel/Reflector/DBIC.pm line 323
	Reaction::InterfaceModel::Reflector::DBIC::reflect_source(Reaction::InterfaceModel::Reflector::DBIC=HASH(0x588abbe8b568), "source_name", "Foo", "parent_class", "ComponentUI::TestModel", "schema_class", "RTest::TestDB", "source_class", ...) called at /tmp/loop_over_bdir-1721494-QTfThW/Reaction-0.002005-0/blib/lib/Reaction/InterfaceModel/Reflector/DBIC.pm line 185
	Reaction::InterfaceModel::Reflector::DBIC::reflect_schema(Reaction::InterfaceModel::Reflector::DBIC=HASH(0x588abbe8b568), "model_class", "ComponentUI::TestModel", "schema_class", "RTest::TestDB", "sources", ARRAY(0x588abbff9e68)) called at /tmp/loop_over_bdir-1721494-QTfThW/Reaction-0.002005-0/blib/lib/ComponentUI/TestModel.pm line 10
	require ComponentUI/TestModel.pm called at /home/sand/src/perl/repoperls/installed-perls/host/k93jammy/v5.43.2/6567/lib/site_perl/5.43.2/Module/Runtime.pm line 120
	Module::Runtime::require_module("ComponentUI::TestModel") called at /home/sand/src/perl/repoperls/installed-perls/host/k93jammy/v5.43.2/6567/lib/site_perl/5.43.2/Class/Load.pm line 174
	Class::Load::try {...} () called at /home/sand/src/perl/repoperls/installed-perls/host/k93jammy/v5.43.2/6567/lib/site_perl/5.43.2/Try/Tiny.pm line 98
	eval {...} called at /home/sand/src/perl/repoperls/installed-perls/host/k93jammy/v5.43.2/6567/lib/site_perl/5.43.2/Try/Tiny.pm line 93
	Try::Tiny::try(CODE(0x588ab8a91120), Try::Tiny::Catch=REF(0x588abbae5320)) called at /home/sand/src/perl/repoperls/installed-perls/host/k93jammy/v5.43.2/6567/lib/site_perl/5.43.2/Class/Load.pm line 180
	Class::Load::try_load_class("ComponentUI::TestModel", undef) called at /home/sand/src/perl/repoperls/installed-perls/host/k93jammy/v5.43.2/6567/lib/site_perl/5.43.2/Class/Load.pm line 35
	Class::Load::load_class("ComponentUI::TestModel") called at /tmp/loop_over_bdir-1721494-QTfThW/Reaction-0.002005-0/blib/lib/Catalyst/Model/Reaction/InterfaceModel/DBIC.pm line 24
	Catalyst::Model::Reaction::InterfaceModel::DBIC::COMPONENT("ComponentUI::Model::TestModel", "ComponentUI", HASH(0x588ab8f76148)) called at /home/sand/src/perl/repoperls/installed-perls/host/k93jammy/v5.43.2/6567/lib/site_perl/5.43.2/Catalyst.pm line 3240
	eval {...} called at /home/sand/src/perl/repoperls/installed-perls/host/k93jammy/v5.43.2/6567/lib/site_perl/5.43.2/Catalyst.pm line 3241
	Catalyst::setup_component("ComponentUI", "ComponentUI::Model::TestModel") called at /home/sand/src/perl/repoperls/installed-perls/host/k93jammy/v5.43.2/6567/lib/site_perl/5.43.2/Catalyst.pm line 3218
	Catalyst::__ANON__() called at /home/sand/src/perl/repoperls/installed-perls/host/k93jammy/v5.43.2/6567/lib/site_perl/5.43.2/Catalyst.pm line 3065
	Catalyst::setup_components("ComponentUI") called at /home/sand/src/perl/repoperls/installed-perls/host/k93jammy/v5.43.2/6567/lib/site_perl/5.43.2/Catalyst.pm line 1438
	Catalyst::setup("ComponentUI") called at /tmp/loop_over_bdir-1721494-QTfThW/Reaction-0.002005-0/blib/lib/ComponentUI.pm line 32
	require ComponentUI.pm called at /home/sand/src/perl/repoperls/installed-perls/host/k93jammy/v5.43.2/6567/lib/site_perl/5.43.2/Module/Runtime.pm line 120
	Module::Runtime::require_module("ComponentUI") called at /home/sand/src/perl/repoperls/installed-perls/host/k93jammy/v5.43.2/6567/lib/site_perl/5.43.2/Class/Load.pm line 174
	Class::Load::try {...} () called at /home/sand/src/perl/repoperls/installed-perls/host/k93jammy/v5.43.2/6567/lib/site_perl/5.43.2/Try/Tiny.pm line 98
	eval {...} called at /home/sand/src/perl/repoperls/installed-perls/host/k93jammy/v5.43.2/6567/lib/site_perl/5.43.2/Try/Tiny.pm line 93
	Try::Tiny::try(CODE(0x588ab70d78b8), Try::Tiny::Catch=REF(0x588ab6c752f0)) called at /home/sand/src/perl/repoperls/installed-perls/host/k93jammy/v5.43.2/6567/lib/site_perl/5.43.2/Class/Load.pm line 180
	Class::Load::try_load_class("ComponentUI", undef) called at /home/sand/src/perl/repoperls/installed-perls/host/k93jammy/v5.43.2/6567/lib/site_perl/5.43.2/Class/Load.pm line 35
	Class::Load::load_class("ComponentUI") called at /home/sand/src/perl/repoperls/installed-perls/host/k93jammy/v5.43.2/6567/lib/site_perl/5.43.2/Catalyst/Test.pm line 29
	Catalyst::Test::_build_request_export("Catalyst::Test", HASH(0x588ab712b108)) called at /home/sand/src/perl/repoperls/installed-perls/host/k93jammy/v5.43.2/6567/lib/site_perl/5.43.2/Catalyst/Test.pm line 95
	Catalyst::Test::__ANON__("Catalyst::Test", "all", HASH(0x588ab7123dc0), HASH(0x588ab598f9c0)) called at /home/sand/src/perl/repoperls/installed-perls/host/k93jammy/v5.43.2/6567/lib/site_perl/5.43.2/Sub/Exporter.pm line 491
	Sub::Exporter::_expand_group("Catalyst::Test", HASH(0x588ab71233e8), ARRAY(0x588ab598f9d8), HASH(0x588ab598f9c0), HASH(0x588ab712b138), HASH(0x588ab5f584a0)) called at /home/sand/src/perl/repoperls/installed-perls/host/k93jammy/v5.43.2/6567/lib/site_perl/5.43.2/Sub/Exporter.pm line 422
	Sub::Exporter::_expand_groups("Catalyst::Test", HASH(0x588ab71233e8), ARRAY(0x588ab7123850), HASH(0x588ab598f9c0)) called at /home/sand/src/perl/repoperls/installed-perls/host/k93jammy/v5.43.2/6567/lib/site_perl/5.43.2/Sub/Exporter.pm line 740
	Sub::Exporter::__ANON__("Catalyst::Test", "-all", HASH(0x588ab598f918)) called at /home/sand/src/perl/repoperls/installed-perls/host/k93jammy/v5.43.2/6567/lib/site_perl/5.43.2/Catalyst/Test.pm line 155
	Catalyst::Test::import("Catalyst::Test", "ComponentUI") called at t/01app.t line 7
	main::BEGIN() called at t/01app.t line 7
	eval {...} called at t/01app.t line 7
	eval 'package main;
BEGIN { ${^WARNING_BITS} = $args[-1] if defined $args[-1] }
#line 7 t/01app.t
use Catalyst::Test @{$args[0]};
1;
' called at /home/sand/src/perl/repoperls/installed-perls/host/k93jammy/v5.43.2/6567/lib/5.43.2/Test/More.pm line 1056
	Test::More::_eval("package main;\x{a}BEGIN { \${^WARNING_BITS} = \$args[-1] if defined"..., ARRAY(0x588ab5f17fe0), "UUUUUUUUUUUUUUUUUUUU") called at /home/sand/src/perl/repoperls/installed-perls/host/k93jammy/v5.43.2/6567/lib/5.43.2/Test/More.pm line 1031
	Test::More::use_ok("Catalyst::Test", "ComponentUI") called at t/01app.t line 7
	main::BEGIN() called at t/01app.t line 8
	eval {...} called at t/01app.t line 8
Class::MOP::load_class is deprecated at /home/sand/src/perl/repoperls/installed-perls/host/k93jammy/v5.43.2/6567/lib/site_perl/5.43.2/x86_64-linux/Class/MOP.pm line 69.
	Class::MOP::load_class("ComponentUI::RenderingContext::Site") called at /tmp/loop_over_bdir-1721494-QTfThW/Reaction-0.002005-0/blib/lib/Reaction/UI/View.pm line 125
	eval {...} called at /tmp/loop_over_bdir-1721494-QTfThW/Reaction-0.002005-0/blib/lib/Reaction/UI/View.pm line 125
	Reaction::UI::View::find_related_class(ComponentUI::View::Site=HASH(0x588ab895e4f8), "RenderingContext") called at /tmp/loop_over_bdir-1721494-QTfThW/Reaction-0.002005-0/blib/lib/Reaction/UI/View.pm line 43
	Reaction::UI::View::_build_rendering_context_class(ComponentUI::View::Site=HASH(0x588ab895e4f8)) called at reader Reaction::UI::View::rendering_context_class (defined at /tmp/loop_over_bdir-1721494-QTfThW/Reaction-0.002005-0/blib/lib/Reaction/UI/View.pm line 29) line 8
	Reaction::UI::View::rendering_context_class(ComponentUI::View::Site=HASH(0x588ab895e4f8)) called at /tmp/loop_over_bdir-1721494-QTfThW/Reaction-0.002005-0/blib/lib/Reaction/UI/View.pm line 134
	Reaction::UI::View::create_rendering_context(ComponentUI::View::Site=HASH(0x588ab895e4f8)) called at /tmp/loop_over_bdir-1721494-QTfThW/Reaction-0.002005-0/blib/lib/Reaction/UI/View.pm line 60
	Reaction::UI::View::render_window(ComponentUI::View::Site=HASH(0x588ab895e4f8), Reaction::UI::Window=HASH(0x588abc7db368)) called at /tmp/loop_over_bdir-1721494-QTfThW/Reaction-0.002005-0/blib/lib/Reaction/UI/Window.pm line 74
	Reaction::UI::Window::flush_view(Reaction::UI::Window=HASH(0x588abc7db368)) called at /tmp/loop_over_bdir-1721494-QTfThW/Reaction-0.002005-0/blib/lib/Reaction/UI/Window.pm line 36
	Reaction::UI::Window::flush(Reaction::UI::Window=HASH(0x588abc7db368)) called at /tmp/loop_over_bdir-1721494-QTfThW/Reaction-0.002005-0/blib/lib/Reaction/UI/Controller/Root.pm line 38
	Reaction::UI::Controller::Root::end(ComponentUI::Controller::Root=HASH(0x588abc7d6fa0), ComponentUI=HASH(0x588abc77a118)) called at /home/sand/src/perl/repoperls/installed-perls/host/k93jammy/v5.43.2/6567/lib/site_perl/5.43.2/Catalyst/Action.pm line 374
	Catalyst::Action::execute(Catalyst::Action=HASH(0x588abc5c47b0), ComponentUI::Controller::Root=HASH(0x588abc7d6fa0), ComponentUI=HASH(0x588abc77a118)) called at /home/sand/src/perl/repoperls/installed-perls/host/k93jammy/v5.43.2/6567/lib/site_perl/5.43.2/Catalyst.pm line 2067
	eval {...} called at /home/sand/src/perl/repoperls/installed-perls/host/k93jammy/v5.43.2/6567/lib/site_perl/5.43.2/Catalyst.pm line 2067
	Catalyst::execute(ComponentUI=HASH(0x588abc77a118), "ComponentUI::Controller::Root", Catalyst::Action=HASH(0x588abc5c47b0)) called at /home/sand/src/perl/repoperls/installed-perls/host/k93jammy/v5.43.2/6567/lib/site_perl/5.43.2/Catalyst/Action.pm line 368
	Catalyst::Action::dispatch(Catalyst::Action=HASH(0x588abc5c47b0), ComponentUI=HASH(0x588abc77a118)) called at /home/sand/src/perl/repoperls/installed-perls/host/k93jammy/v5.43.2/6567/lib/site_perl/5.43.2/Catalyst/Controller.pm line 188
	Catalyst::Controller::_END(ComponentUI::Controller::Root=HASH(0x588abc7d6fa0), ComponentUI=HASH(0x588abc77a118)) called at /home/sand/src/perl/repoperls/installed-perls/host/k93jammy/v5.43.2/6567/lib/site_perl/5.43.2/Catalyst/Action.pm line 374
	Catalyst::Action::execute(Catalyst::Action=HASH(0x588abc5c4690), ComponentUI::Controller::Root=HASH(0x588abc7d6fa0), ComponentUI=HASH(0x588abc77a118)) called at /home/sand/src/perl/repoperls/installed-perls/host/k93jammy/v5.43.2/6567/lib/site_perl/5.43.2/Catalyst.pm line 2067
	eval {...} called at /home/sand/src/perl/repoperls/installed-perls/host/k93jammy/v5.43.2/6567/lib/site_perl/5.43.2/Catalyst.pm line 2067
	Catalyst::execute(ComponentUI=HASH(0x588abc77a118), "ComponentUI::Controller::Root", Catalyst::Action=HASH(0x588abc5c4690)) called at /home/sand/src/perl/repoperls/installed-perls/host/k93jammy/v5.43.2/6567/lib/site_perl/5.43.2/Catalyst/Action.pm line 368
	Catalyst::Action::dispatch(Catalyst::Action=HASH(0x588abc5c4690), ComponentUI=HASH(0x588abc77a118)) called at /home/sand/src/perl/repoperls/installed-perls/host/k93jammy/v5.43.2/6567/lib/site_perl/5.43.2/Catalyst/Dispatcher.pm line 261
	Catalyst::Dispatcher::_do_forward(Catalyst::Dispatcher=HASH(0x588ab789bca8), "forward", ComponentUI=HASH(0x588abc77a118), "_END") called at /home/sand/src/perl/repoperls/installed-perls/host/k93jammy/v5.43.2/6567/lib/site_perl/5.43.2/Catalyst/Dispatcher.pm line 241
	Catalyst::Dispatcher::forward(Catalyst::Dispatcher=HASH(0x588ab789bca8), ComponentUI=HASH(0x588abc77a118), "_END") called at /home/sand/src/perl/repoperls/installed-perls/host/k93jammy/v5.43.2/6567/lib/site_perl/5.43.2/Catalyst.pm line 489
	Catalyst::forward(ComponentUI=HASH(0x588abc77a118), "_END") called at /home/sand/src/perl/repoperls/installed-perls/host/k93jammy/v5.43.2/6567/lib/site_perl/5.43.2/Catalyst/Controller.pm line 137
	Catalyst::Controller::_DISPATCH(ComponentUI::Controller::Root=HASH(0x588abc7d6fa0), ComponentUI=HASH(0x588abc77a118)) called at /home/sand/src/perl/repoperls/installed-perls/host/k93jammy/v5.43.2/6567/lib/site_perl/5.43.2/Catalyst/Action.pm line 374
	Catalyst::Action::execute(Catalyst::Action=HASH(0x588abc5c46c0), ComponentUI::Controller::Root=HASH(0x588abc7d6fa0), ComponentUI=HASH(0x588abc77a118)) called at /home/sand/src/perl/repoperls/installed-perls/host/k93jammy/v5.43.2/6567/lib/site_perl/5.43.2/Catalyst.pm line 2067
	eval {...} called at /home/sand/src/perl/repoperls/installed-perls/host/k93jammy/v5.43.2/6567/lib/site_perl/5.43.2/Catalyst.pm line 2067
	Catalyst::execute(ComponentUI=HASH(0x588abc77a118), "ComponentUI::Controller::Root", Catalyst::Action=HASH(0x588abc5c46c0)) called at /home/sand/src/perl/repoperls/installed-perls/host/k93jammy/v5.43.2/6567/lib/site_perl/5.43.2/Catalyst/Action.pm line 368
	Catalyst::Action::dispatch(Catalyst::Action=HASH(0x588abc5c46c0), ComponentUI=HASH(0x588abc77a118)) called at /home/sand/src/perl/repoperls/installed-perls/host/k93jammy/v5.43.2/6567/lib/site_perl/5.43.2/Catalyst/Dispatcher.pm line 261
	Catalyst::Dispatcher::_do_forward(Catalyst::Dispatcher=HASH(0x588ab789bca8), "forward", ComponentUI=HASH(0x588abc77a118), "//_DISPATCH") called at /home/sand/src/perl/repoperls/installed-perls/host/k93jammy/v5.43.2/6567/lib/site_perl/5.43.2/Catalyst/Dispatcher.pm line 241
	Catalyst::Dispatcher::forward(Catalyst::Dispatcher=HASH(0x588ab789bca8), ComponentUI=HASH(0x588abc77a118), "//_DISPATCH") called at /home/sand/src/perl/repoperls/installed-perls/host/k93jammy/v5.43.2/6567/lib/site_perl/5.43.2/Catalyst.pm line 489
	Catalyst::forward(ComponentUI=HASH(0x588abc77a118), "//_DISPATCH") called at /home/sand/src/perl/repoperls/installed-perls/host/k93jammy/v5.43.2/6567/lib/site_perl/5.43.2/Catalyst/Dispatcher.pm line 107
	Catalyst::Dispatcher::dispatch(Catalyst::Dispatcher=HASH(0x588ab789bca8), ComponentUI=HASH(0x588abc77a118)) called at /home/sand/src/perl/repoperls/installed-perls/host/k93jammy/v5.43.2/6567/lib/site_perl/5.43.2/Catalyst.pm line 2013
	Catalyst::dispatch(ComponentUI=HASH(0x588abc77a118)) called at /home/sand/src/perl/repoperls/installed-perls/host/k93jammy/v5.43.2/6567/lib/site_perl/5.43.2/Catalyst/Plugin/Static/Simple.pm line 85
	Class::MOP::Class:::around(CODE(0x588ab7dae3b0), ComponentUI=HASH(0x588abc77a118)) called at /home/sand/src/perl/repoperls/installed-perls/host/k93jammy/v5.43.2/6567/lib/site_perl/5.43.2/x86_64-linux/Class/MOP/Method/Wrapped.pm line 166
	ComponentUI::_wrapped_dispatch(ComponentUI=HASH(0x588abc77a118)) called at /home/sand/src/perl/repoperls/installed-perls/host/k93jammy/v5.43.2/6567/lib/site_perl/5.43.2/x86_64-linux/Class/MOP/Method/Wrapped.pm line 97
	ComponentUI::dispatch(ComponentUI=HASH(0x588abc77a118)) called at /home/sand/src/perl/repoperls/installed-perls/host/k93jammy/v5.43.2/6567/lib/site_perl/5.43.2/Catalyst.pm line 2419
	Catalyst::try {...} () called at /home/sand/src/perl/repoperls/installed-perls/host/k93jammy/v5.43.2/6567/lib/site_perl/5.43.2/Try/Tiny.pm line 102
	eval {...} called at /home/sand/src/perl/repoperls/installed-perls/host/k93jammy/v5.43.2/6567/lib/site_perl/5.43.2/Try/Tiny.pm line 93
	Try::Tiny::try(CODE(0x588abc778568), Try::Tiny::Catch=REF(0x588abc778370)) called at /home/sand/src/perl/repoperls/installed-perls/host/k93jammy/v5.43.2/6567/lib/site_perl/5.43.2/Catalyst.pm line 2428
	Catalyst::handle_request("ComponentUI", "env", HASH(0x588abc784e58), "response_cb", CODE(0x588abc7783d0)) called at /home/sand/src/perl/repoperls/installed-perls/host/k93jammy/v5.43.2/6567/lib/site_perl/5.43.2/Catalyst/Engine.pm line 808
	Catalyst::Engine::__ANON__(CODE(0x588abc7783d0)) called at /home/sand/src/perl/repoperls/installed-perls/host/k93jammy/v5.43.2/6567/lib/site_perl/5.43.2/Plack/Middleware/HTTPExceptions.pm line 32
	Plack::Middleware::HTTPExceptions::try {...} () called at /home/sand/src/perl/repoperls/installed-perls/host/k93jammy/v5.43.2/6567/lib/site_perl/5.43.2/Try/Tiny.pm line 102
	eval {...} called at /home/sand/src/perl/repoperls/installed-perls/host/k93jammy/v5.43.2/6567/lib/site_perl/5.43.2/Try/Tiny.pm line 93
	Try::Tiny::try(CODE(0x588abc778208), Try::Tiny::Catch=REF(0x588abc777a28)) called at /home/sand/src/perl/repoperls/installed-perls/host/k93jammy/v5.43.2/6567/lib/site_perl/5.43.2/Plack/Middleware/HTTPExceptions.pm line 41
	Plack::Middleware::HTTPExceptions::__ANON__(CODE(0x588abc7857a0)) called at /home/sand/src/perl/repoperls/installed-perls/host/k93jammy/v5.43.2/6567/lib/site_perl/5.43.2/Plack/Util.pm line 339
	Plack::Util::__ANON__(CODE(0x588abc784de0)) called at /home/sand/src/perl/repoperls/installed-perls/host/k93jammy/v5.43.2/6567/lib/site_perl/5.43.2/Plack/Util.pm line 339
	Plack::Util::__ANON__(CODE(0x588abc784cf0)) called at /home/sand/src/perl/repoperls/installed-perls/host/k93jammy/v5.43.2/6567/lib/site_perl/5.43.2/Plack/Util.pm line 339
	Plack::Util::__ANON__(CODE(0x588abc784c78)) called at /home/sand/src/perl/repoperls/installed-perls/host/k93jammy/v5.43.2/6567/lib/site_perl/5.43.2/HTTP/Message/PSGI.pm line 100
	HTTP::Message::PSGI::res_from_psgi(CODE(0x588abc777f80)) called at /home/sand/src/perl/repoperls/installed-perls/host/k93jammy/v5.43.2/6567/lib/site_perl/5.43.2/HTTP/Message/PSGI.pm line 157
	HTTP::Response::from_psgi("HTTP::Response", CODE(0x588abc777f80)) called at /home/sand/src/perl/repoperls/installed-perls/host/k93jammy/v5.43.2/6567/lib/site_perl/5.43.2/Plack/Test/MockHTTP.pm line 24
	Plack::Test::MockHTTP::try {...} () called at /home/sand/src/perl/repoperls/installed-perls/host/k93jammy/v5.43.2/6567/lib/site_perl/5.43.2/Try/Tiny.pm line 100
	eval {...} called at /home/sand/src/perl/repoperls/installed-perls/host/k93jammy/v5.43.2/6567/lib/site_perl/5.43.2/Try/Tiny.pm line 93
	Try::Tiny::try(CODE(0x588ab59c0bc0), Try::Tiny::Catch=REF(0x588abc5d6580)) called at /home/sand/src/perl/repoperls/installed-perls/host/k93jammy/v5.43.2/6567/lib/site_perl/5.43.2/Plack/Test/MockHTTP.pm line 27
	Plack::Test::MockHTTP::request(Plack::Test::MockHTTP=HASH(0x588ab59c0c50), HTTP::Request=HASH(0x588ab59c0860)) called at /home/sand/src/perl/repoperls/installed-perls/host/k93jammy/v5.43.2/6567/lib/site_perl/5.43.2/Plack/Test.pm line 38
	Plack::Test::__ANON__(HTTP::Request=HASH(0x588ab59c0860)) called at /home/sand/src/perl/repoperls/installed-perls/host/k93jammy/v5.43.2/6567/lib/site_perl/5.43.2/Catalyst/Test.pm line 290
	Catalyst::Test::__ANON__(CODE(0x588ab59c0bd8)) called at /home/sand/src/perl/repoperls/installed-perls/host/k93jammy/v5.43.2/6567/lib/site_perl/5.43.2/Plack/Test.pm line 38
	Plack::Test::test_psgi("app", CODE(0x588ab59c0410), "mangle_response", CODE(0x588ab710cac0), "app", CODE(0x588abc699320), "client", CODE(0x588ab59c0a70)) called at /home/sand/src/perl/repoperls/installed-perls/host/k93jammy/v5.43.2/6567/lib/site_perl/5.43.2/Catalyst/Test.pm line 293
	Catalyst::Test::_request(HASH(0x588ab598fa80), "/") called at /home/sand/src/perl/repoperls/installed-perls/host/k93jammy/v5.43.2/6567/lib/site_perl/5.43.2/Catalyst/Test.pm line 336
	Catalyst::Test::_local_request("ComponentUI", "/") called at /home/sand/src/perl/repoperls/installed-perls/host/k93jammy/v5.43.2/6567/lib/site_perl/5.43.2/Catalyst/Test.pm line 32
	Catalyst::Test::__ANON__("/") called at t/01app.t line 10
Class::MOP::is_class_loaded is deprecated at /home/sand/src/perl/repoperls/installed-perls/host/k93jammy/v5.43.2/6567/lib/site_perl/5.43.2/x86_64-linux/Class/MOP.pm line 87.
	Class::MOP::is_class_loaded("ComponentUI::UI::Widget::SiteLayout") called at /tmp/loop_over_bdir-1721494-QTfThW/Reaction-0.002005-0/blib/lib/Reaction/UI/Skin.pm line 178
	Reaction::UI::Skin::widget_class_for(Reaction::UI::Skin=HASH(0x588abc7e80d0), Reaction::UI::LayoutSet::TT=HASH(0x588abc867778)) called at /tmp/loop_over_bdir-1721494-QTfThW/Reaction-0.002005-0/blib/lib/Reaction/UI/LayoutSet.pm line 29
	Reaction::UI::LayoutSet::BUILD(Reaction::UI::LayoutSet::TT=HASH(0x588abc867778), HASH(0x588abc867760)) called at constructor Reaction::UI::LayoutSet::TT::new (defined at /tmp/loop_over_bdir-1721494-QTfThW/Reaction-0.002005-0/blib/lib/Reaction/UI/LayoutSet/TT.pm line 43) line 80
	Reaction::UI::LayoutSet::TT::new("Reaction::UI::LayoutSet::TT", "name", "site_layout", "skin", Reaction::UI::Skin=HASH(0x588abc7e80d0), "tt_object", Template=HASH(0x588abb5a9328), "source_file", ...) called at /tmp/loop_over_bdir-1721494-QTfThW/Reaction-0.002005-0/blib/lib/Reaction/UI/Skin.pm line 115
	Reaction::UI::Skin::_create_layout_set(Reaction::UI::Skin=HASH(0x588abc7e80d0), "site_layout", ARRAY(0x588abc8555d8), Reaction::UI::Skin=HASH(0x588abc7e80d0)) called at /tmp/loop_over_bdir-1721494-QTfThW/Reaction-0.002005-0/blib/lib/Reaction/UI/Skin.pm line 110
	Reaction::UI::Skin::create_layout_set(Reaction::UI::Skin=HASH(0x588abc7e80d0), "site_layout") called at /tmp/loop_over_bdir-1721494-QTfThW/Reaction-0.002005-0/blib/lib/Reaction/UI/LayoutSet.pm line 83
	Reaction::UI::LayoutSet::_load_file(Reaction::UI::LayoutSet::TT=HASH(0x588abc8449a8), Path::Class::File=HASH(0x588abc7e9fa8), HASH(0x588abc847800)) called at /tmp/loop_over_bdir-1721494-QTfThW/Reaction-0.002005-0/blib/lib/Reaction/UI/LayoutSet.pm line 27
	Reaction::UI::LayoutSet::BUILD(Reaction::UI::LayoutSet::TT=HASH(0x588abc8449a8), HASH(0x588abc847800)) called at constructor Reaction::UI::LayoutSet::TT::new (defined at /tmp/loop_over_bdir-1721494-QTfThW/Reaction-0.002005-0/blib/lib/Reaction/UI/LayoutSet/TT.pm line 43) line 80
	Reaction::UI::LayoutSet::TT::new("Reaction::UI::LayoutSet::TT", "name", "site_layout", "skin", Reaction::UI::Skin=HASH(0x588abc7fac08), "next_skin", Reaction::UI::Skin=HASH(0x588abc7e80d0), "tt_object", ...) called at /tmp/loop_over_bdir-1721494-QTfThW/Reaction-0.002005-0/blib/lib/Reaction/UI/Skin.pm line 115
	Reaction::UI::Skin::_create_layout_set(Reaction::UI::Skin=HASH(0x588abc7fac08), "site_layout", ARRAY(0x588abc8448d0), Reaction::UI::Skin=HASH(0x588abc7fac08)) called at /tmp/loop_over_bdir-1721494-QTfThW/Reaction-0.002005-0/blib/lib/Reaction/UI/Skin.pm line 110
	Reaction::UI::Skin::create_layout_set(Reaction::UI::Skin=HASH(0x588abc7fac08), "site_layout") called at /tmp/loop_over_bdir-1721494-QTfThW/Reaction-0.002005-0/blib/lib/Reaction/UI/LayoutSet.pm line 83
	Reaction::UI::LayoutSet::_load_file(Reaction::UI::LayoutSet::TT=HASH(0x588abc7fb130), Path::Class::File=HASH(0x588abc7edbc8), HASH(0x588abc7e0408)) called at /tmp/loop_over_bdir-1721494-QTfThW/Reaction-0.002005-0/blib/lib/Reaction/UI/LayoutSet.pm line 27
	Reaction::UI::LayoutSet::BUILD(Reaction::UI::LayoutSet::TT=HASH(0x588abc7fb130), HASH(0x588abc7e0408)) called at constructor Reaction::UI::LayoutSet::TT::new (defined at /tmp/loop_over_bdir-1721494-QTfThW/Reaction-0.002005-0/blib/lib/Reaction/UI/LayoutSet/TT.pm line 43) line 80
	Reaction::UI::LayoutSet::TT::new("Reaction::UI::LayoutSet::TT", "name", "site_layout", "skin", Reaction::UI::Skin=HASH(0x588abc7e00c0), "next_skin", Reaction::UI::Skin=HASH(0x588abc7fac08), "tt_object", ...) called at /tmp/loop_over_bdir-1721494-QTfThW/Reaction-0.002005-0/blib/lib/Reaction/UI/Skin.pm line 115
	Reaction::UI::Skin::_create_layout_set(Reaction::UI::Skin=HASH(0x588abc7e00c0), "site_layout", ARRAY(0x588abc7fab78), Reaction::UI::Skin=HASH(0x588abc7e00c0)) called at /tmp/loop_over_bdir-1721494-QTfThW/Reaction-0.002005-0/blib/lib/Reaction/UI/Skin.pm line 110
	Reaction::UI::Skin::create_layout_set(Reaction::UI::Skin=HASH(0x588abc7e00c0), "site_layout") called at inline delegation in Reaction::UI::View for skin->create_layout_set (attribute declared in /tmp/loop_over_bdir-1721494-QTfThW/Reaction-0.002005-0/blib/lib/Reaction/UI/View.pm at line 22) line 18
	Reaction::UI::View::create_layout_set(ComponentUI::View::Site=HASH(0x588ab895e4f8), "site_layout") called at /tmp/loop_over_bdir-1721494-QTfThW/Reaction-0.002005-0/blib/lib/Reaction/UI/View.pm line 99
	Reaction::UI::View::layout_set_for(ComponentUI::View::Site=HASH(0x588ab895e4f8), Reaction::UI::ViewPort::SiteLayout=HASH(0x588abc7dfa90)) called at /tmp/loop_over_bdir-1721494-QTfThW/Reaction-0.002005-0/blib/lib/Reaction/UI/View.pm line 78
	Reaction::UI::View::render_viewport_args(ComponentUI::View::Site=HASH(0x588ab895e4f8), Reaction::UI::ViewPort::SiteLayout=HASH(0x588abc7dfa90)) called at /tmp/loop_over_bdir-1721494-QTfThW/Reaction-0.002005-0/blib/lib/Reaction/UI/View.pm line 61
	Reaction::UI::View::render_window(ComponentUI::View::Site=HASH(0x588ab895e4f8), Reaction::UI::Window=HASH(0x588abc7db368)) called at /tmp/loop_over_bdir-1721494-QTfThW/Reaction-0.002005-0/blib/lib/Reaction/UI/Window.pm line 74
	Reaction::UI::Window::flush_view(Reaction::UI::Window=HASH(0x588abc7db368)) called at /tmp/loop_over_bdir-1721494-QTfThW/Reaction-0.002005-0/blib/lib/Reaction/UI/Window.pm line 36
	Reaction::UI::Window::flush(Reaction::UI::Window=HASH(0x588abc7db368)) called at /tmp/loop_over_bdir-1721494-QTfThW/Reaction-0.002005-0/blib/lib/Reaction/UI/Controller/Root.pm line 38
	Reaction::UI::Controller::Root::end(ComponentUI::Controller::Root=HASH(0x588abc7d6fa0), ComponentUI=HASH(0x588abc77a118)) called at /home/sand/src/perl/repoperls/installed-perls/host/k93jammy/v5.43.2/6567/lib/site_perl/5.43.2/Catalyst/Action.pm line 374
	Catalyst::Action::execute(Catalyst::Action=HASH(0x588abc5c47b0), ComponentUI::Controller::Root=HASH(0x588abc7d6fa0), ComponentUI=HASH(0x588abc77a118)) called at /home/sand/src/perl/repoperls/installed-perls/host/k93jammy/v5.43.2/6567/lib/site_perl/5.43.2/Catalyst.pm line 2067
	eval {...} called at /home/sand/src/perl/repoperls/installed-perls/host/k93jammy/v5.43.2/6567/lib/site_perl/5.43.2/Catalyst.pm line 2067
	Catalyst::execute(ComponentUI=HASH(0x588abc77a118), "ComponentUI::Controller::Root", Catalyst::Action=HASH(0x588abc5c47b0)) called at /home/sand/src/perl/repoperls/installed-perls/host/k93jammy/v5.43.2/6567/lib/site_perl/5.43.2/Catalyst/Action.pm line 368
	Catalyst::Action::dispatch(Catalyst::Action=HASH(0x588abc5c47b0), ComponentUI=HASH(0x588abc77a118)) called at /home/sand/src/perl/repoperls/installed-perls/host/k93jammy/v5.43.2/6567/lib/site_perl/5.43.2/Catalyst/Controller.pm line 188
	Catalyst::Controller::_END(ComponentUI::Controller::Root=HASH(0x588abc7d6fa0), ComponentUI=HASH(0x588abc77a118)) called at /home/sand/src/perl/repoperls/installed-perls/host/k93jammy/v5.43.2/6567/lib/site_perl/5.43.2/Catalyst/Action.pm line 374
	Catalyst::Action::execute(Catalyst::Action=HASH(0x588abc5c4690), ComponentUI::Controller::Root=HASH(0x588abc7d6fa0), ComponentUI=HASH(0x588abc77a118)) called at /home/sand/src/perl/repoperls/installed-perls/host/k93jammy/v5.43.2/6567/lib/site_perl/5.43.2/Catalyst.pm line 2067
	eval {...} called at /home/sand/src/perl/repoperls/installed-perls/host/k93jammy/v5.43.2/6567/lib/site_perl/5.43.2/Catalyst.pm line 2067
	Catalyst::execute(ComponentUI=HASH(0x588abc77a118), "ComponentUI::Controller::Root", Catalyst::Action=HASH(0x588abc5c4690)) called at /home/sand/src/perl/repoperls/installed-perls/host/k93jammy/v5.43.2/6567/lib/site_perl/5.43.2/Catalyst/Action.pm line 368
	Catalyst::Action::dispatch(Catalyst::Action=HASH(0x588abc5c4690), ComponentUI=HASH(0x588abc77a118)) called at /home/sand/src/perl/repoperls/installed-perls/host/k93jammy/v5.43.2/6567/lib/site_perl/5.43.2/Catalyst/Dispatcher.pm line 261
	Catalyst::Dispatcher::_do_forward(Catalyst::Dispatcher=HASH(0x588ab789bca8), "forward", ComponentUI=HASH(0x588abc77a118), "_END") called at /home/sand/src/perl/repoperls/installed-perls/host/k93jammy/v5.43.2/6567/lib/site_perl/5.43.2/Catalyst/Dispatcher.pm line 241
	Catalyst::Dispatcher::forward(Catalyst::Dispatcher=HASH(0x588ab789bca8), ComponentUI=HASH(0x588abc77a118), "_END") called at /home/sand/src/perl/repoperls/installed-perls/host/k93jammy/v5.43.2/6567/lib/site_perl/5.43.2/Catalyst.pm line 489
	Catalyst::forward(ComponentUI=HASH(0x588abc77a118), "_END") called at /home/sand/src/perl/repoperls/installed-perls/host/k93jammy/v5.43.2/6567/lib/site_perl/5.43.2/Catalyst/Controller.pm line 137
	Catalyst::Controller::_DISPATCH(ComponentUI::Controller::Root=HASH(0x588abc7d6fa0), ComponentUI=HASH(0x588abc77a118)) called at /home/sand/src/perl/repoperls/installed-perls/host/k93jammy/v5.43.2/6567/lib/site_perl/5.43.2/Catalyst/Action.pm line 374
	Catalyst::Action::execute(Catalyst::Action=HASH(0x588abc5c46c0), ComponentUI::Controller::Root=HASH(0x588abc7d6fa0), ComponentUI=HASH(0x588abc77a118)) called at /home/sand/src/perl/repoperls/installed-perls/host/k93jammy/v5.43.2/6567/lib/site_perl/5.43.2/Catalyst.pm line 2067
	eval {...} called at /home/sand/src/perl/repoperls/installed-perls/host/k93jammy/v5.43.2/6567/lib/site_perl/5.43.2/Catalyst.pm line 2067
	Catalyst::execute(ComponentUI=HASH(0x588abc77a118), "ComponentUI::Controller::Root", Catalyst::Action=HASH(0x588abc5c46c0)) called at /home/sand/src/perl/repoperls/installed-perls/host/k93jammy/v5.43.2/6567/lib/site_perl/5.43.2/Catalyst/Action.pm line 368
	Catalyst::Action::dispatch(Catalyst::Action=HASH(0x588abc5c46c0), ComponentUI=HASH(0x588abc77a118)) called at /home/sand/src/perl/repoperls/installed-perls/host/k93jammy/v5.43.2/6567/lib/site_perl/5.43.2/Catalyst/Dispatcher.pm line 261
	Catalyst::Dispatcher::_do_forward(Catalyst::Dispatcher=HASH(0x588ab789bca8), "forward", ComponentUI=HASH(0x588abc77a118), "//_DISPATCH") called at /home/sand/src/perl/repoperls/installed-perls/host/k93jammy/v5.43.2/6567/lib/site_perl/5.43.2/Catalyst/Dispatcher.pm line 241
	Catalyst::Dispatcher::forward(Catalyst::Dispatcher=HASH(0x588ab789bca8), ComponentUI=HASH(0x588abc77a118), "//_DISPATCH") called at /home/sand/src/perl/repoperls/installed-perls/host/k93jammy/v5.43.2/6567/lib/site_perl/5.43.2/Catalyst.pm line 489
	Catalyst::forward(ComponentUI=HASH(0x588abc77a118), "//_DISPATCH") called at /home/sand/src/perl/repoperls/installed-perls/host/k93jammy/v5.43.2/6567/lib/site_perl/5.43.2/Catalyst/Dispatcher.pm line 107
	Catalyst::Dispatcher::dispatch(Catalyst::Dispatcher=HASH(0x588ab789bca8), ComponentUI=HASH(0x588abc77a118)) called at /home/sand/src/perl/repoperls/installed-perls/host/k93jammy/v5.43.2/6567/lib/site_perl/5.43.2/Catalyst.pm line 2013
	Catalyst::dispatch(ComponentUI=HASH(0x588abc77a118)) called at /home/sand/src/perl/repoperls/installed-perls/host/k93jammy/v5.43.2/6567/lib/site_perl/5.43.2/Catalyst/Plugin/Static/Simple.pm line 85
	Class::MOP::Class:::around(CODE(0x588ab7dae3b0), ComponentUI=HASH(0x588abc77a118)) called at /home/sand/src/perl/repoperls/installed-perls/host/k93jammy/v5.43.2/6567/lib/site_perl/5.43.2/x86_64-linux/Class/MOP/Method/Wrapped.pm line 166
	ComponentUI::_wrapped_dispatch(ComponentUI=HASH(0x588abc77a118)) called at /home/sand/src/perl/repoperls/installed-perls/host/k93jammy/v5.43.2/6567/lib/site_perl/5.43.2/x86_64-linux/Class/MOP/Method/Wrapped.pm line 97
	ComponentUI::dispatch(ComponentUI=HASH(0x588abc77a118)) called at /home/sand/src/perl/repoperls/installed-perls/host/k93jammy/v5.43.2/6567/lib/site_perl/5.43.2/Catalyst.pm line 2419
	Catalyst::try {...} () called at /home/sand/src/perl/repoperls/installed-perls/host/k93jammy/v5.43.2/6567/lib/site_perl/5.43.2/Try/Tiny.pm line 102
	eval {...} called at /home/sand/src/perl/repoperls/installed-perls/host/k93jammy/v5.43.2/6567/lib/site_perl/5.43.2/Try/Tiny.pm line 93
	Try::Tiny::try(CODE(0x588abc778568), Try::Tiny::Catch=REF(0x588abc778370)) called at /home/sand/src/perl/repoperls/installed-perls/host/k93jammy/v5.43.2/6567/lib/site_perl/5.43.2/Catalyst.pm line 2428
	Catalyst::handle_request("ComponentUI", "env", HASH(0x588abc784e58), "response_cb", CODE(0x588abc7783d0)) called at /home/sand/src/perl/repoperls/installed-perls/host/k93jammy/v5.43.2/6567/lib/site_perl/5.43.2/Catalyst/Engine.pm line 808
	Catalyst::Engine::__ANON__(CODE(0x588abc7783d0)) called at /home/sand/src/perl/repoperls/installed-perls/host/k93jammy/v5.43.2/6567/lib/site_perl/5.43.2/Plack/Middleware/HTTPExceptions.pm line 32
	Plack::Middleware::HTTPExceptions::try {...} () called at /home/sand/src/perl/repoperls/installed-perls/host/k93jammy/v5.43.2/6567/lib/site_perl/5.43.2/Try/Tiny.pm line 102
	eval {...} called at /home/sand/src/perl/repoperls/installed-perls/host/k93jammy/v5.43.2/6567/lib/site_perl/5.43.2/Try/Tiny.pm line 93
	Try::Tiny::try(CODE(0x588abc778208), Try::Tiny::Catch=REF(0x588abc777a28)) called at /home/sand/src/perl/repoperls/installed-perls/host/k93jammy/v5.43.2/6567/lib/site_perl/5.43.2/Plack/Middleware/HTTPExceptions.pm line 41
	Plack::Middleware::HTTPExceptions::__ANON__(CODE(0x588abc7857a0)) called at /home/sand/src/perl/repoperls/installed-perls/host/k93jammy/v5.43.2/6567/lib/site_perl/5.43.2/Plack/Util.pm line 339
	Plack::Util::__ANON__(CODE(0x588abc784de0)) called at /home/sand/src/perl/repoperls/installed-perls/host/k93jammy/v5.43.2/6567/lib/site_perl/5.43.2/Plack/Util.pm line 339
	Plack::Util::__ANON__(CODE(0x588abc784cf0)) called at /home/sand/src/perl/repoperls/installed-perls/host/k93jammy/v5.43.2/6567/lib/site_perl/5.43.2/Plack/Util.pm line 339
	Plack::Util::__ANON__(CODE(0x588abc784c78)) called at /home/sand/src/perl/repoperls/installed-perls/host/k93jammy/v5.43.2/6567/lib/site_perl/5.43.2/HTTP/Message/PSGI.pm line 100
	HTTP::Message::PSGI::res_from_psgi(CODE(0x588abc777f80)) called at /home/sand/src/perl/repoperls/installed-perls/host/k93jammy/v5.43.2/6567/lib/site_perl/5.43.2/HTTP/Message/PSGI.pm line 157
	HTTP::Response::from_psgi("HTTP::Response", CODE(0x588abc777f80)) called at /home/sand/src/perl/repoperls/installed-perls/host/k93jammy/v5.43.2/6567/lib/site_perl/5.43.2/Plack/Test/MockHTTP.pm line 24
	Plack::Test::MockHTTP::try {...} () called at /home/sand/src/perl/repoperls/installed-perls/host/k93jammy/v5.43.2/6567/lib/site_perl/5.43.2/Try/Tiny.pm line 100
	eval {...} called at /home/sand/src/perl/repoperls/installed-perls/host/k93jammy/v5.43.2/6567/lib/site_perl/5.43.2/Try/Tiny.pm line 93
	Try::Tiny::try(CODE(0x588ab59c0bc0), Try::Tiny::Catch=REF(0x588abc5d6580)) called at /home/sand/src/perl/repoperls/installed-perls/host/k93jammy/v5.43.2/6567/lib/site_perl/5.43.2/Plack/Test/MockHTTP.pm line 27
	Plack::Test::MockHTTP::request(Plack::Test::MockHTTP=HASH(0x588ab59c0c50), HTTP::Request=HASH(0x588ab59c0860)) called at /home/sand/src/perl/repoperls/installed-perls/host/k93jammy/v5.43.2/6567/lib/site_perl/5.43.2/Plack/Test.pm line 38
	Plack::Test::__ANON__(HTTP::Request=HASH(0x588ab59c0860)) called at /home/sand/src/perl/repoperls/installed-perls/host/k93jammy/v5.43.2/6567/lib/site_perl/5.43.2/Catalyst/Test.pm line 290
	Catalyst::Test::__ANON__(CODE(0x588ab59c0bd8)) called at /home/sand/src/perl/repoperls/installed-perls/host/k93jammy/v5.43.2/6567/lib/site_perl/5.43.2/Plack/Test.pm line 38
	Plack::Test::test_psgi("app", CODE(0x588ab59c0410), "mangle_response", CODE(0x588ab710cac0), "app", CODE(0x588abc699320), "client", CODE(0x588ab59c0a70)) called at /home/sand/src/perl/repoperls/installed-perls/host/k93jammy/v5.43.2/6567/lib/site_perl/5.43.2/Catalyst/Test.pm line 293
	Catalyst::Test::_request(HASH(0x588ab598fa80), "/") called at /home/sand/src/perl/repoperls/installed-perls/host/k93jammy/v5.43.2/6567/lib/site_perl/5.43.2/Catalyst/Test.pm line 336
	Catalyst::Test::_local_request("ComponentUI", "/") called at /home/sand/src/perl/repoperls/installed-perls/host/k93jammy/v5.43.2/6567/lib/site_perl/5.43.2/Catalyst/Test.pm line 32
	Catalyst::Test::__ANON__("/") called at t/01app.t line 10
Class::MOP::load_class is deprecated at /home/sand/src/perl/repoperls/installed-perls/host/k93jammy/v5.43.2/6567/lib/site_perl/5.43.2/x86_64-linux/Class/MOP.pm line 69.
	Class::MOP::load_class("Reaction::UI::Widget::SiteLayout") called at /tmp/loop_over_bdir-1721494-QTfThW/Reaction-0.002005-0/blib/lib/Reaction/UI/Skin.pm line 181
	eval {...} called at /tmp/loop_over_bdir-1721494-QTfThW/Reaction-0.002005-0/blib/lib/Reaction/UI/Skin.pm line 181
	Reaction::UI::Skin::widget_class_for(Reaction::UI::Skin=HASH(0x588abc7e80d0), Reaction::UI::LayoutSet::TT=HASH(0x588abc867778)) called at /tmp/loop_over_bdir-1721494-QTfThW/Reaction-0.002005-0/blib/lib/Reaction/UI/LayoutSet.pm line 29
	Reaction::UI::LayoutSet::BUILD(Reaction::UI::LayoutSet::TT=HASH(0x588abc867778), HASH(0x588abc867760)) called at constructor Reaction::UI::LayoutSet::TT::new (defined at /tmp/loop_over_bdir-1721494-QTfThW/Reaction-0.002005-0/blib/lib/Reaction/UI/LayoutSet/TT.pm line 43) line 80
	Reaction::UI::LayoutSet::TT::new("Reaction::UI::LayoutSet::TT", "name", "site_layout", "skin", Reaction::UI::Skin=HASH(0x588abc7e80d0), "tt_object", Template=HASH(0x588abb5a9328), "source_file", ...) called at /tmp/loop_over_bdir-1721494-QTfThW/Reaction-0.002005-0/blib/lib/Reaction/UI/Skin.pm line 115
	Reaction::UI::Skin::_create_layout_set(Reaction::UI::Skin=HASH(0x588abc7e80d0), "site_layout", ARRAY(0x588abc8555d8), Reaction::UI::Skin=HASH(0x588abc7e80d0)) called at /tmp/loop_over_bdir-1721494-QTfThW/Reaction-0.002005-0/blib/lib/Reaction/UI/Skin.pm line 110
	Reaction::UI::Skin::create_layout_set(Reaction::UI::Skin=HASH(0x588abc7e80d0), "site_layout") called at /tmp/loop_over_bdir-1721494-QTfThW/Reaction-0.002005-0/blib/lib/Reaction/UI/LayoutSet.pm line 83
	Reaction::UI::LayoutSet::_load_file(Reaction::UI::LayoutSet::TT=HASH(0x588abc8449a8), Path::Class::File=HASH(0x588abc7e9fa8), HASH(0x588abc847800)) called at /tmp/loop_over_bdir-1721494-QTfThW/Reaction-0.002005-0/blib/lib/Reaction/UI/LayoutSet.pm line 27
	Reaction::UI::LayoutSet::BUILD(Reaction::UI::LayoutSet::TT=HASH(0x588abc8449a8), HASH(0x588abc847800)) called at constructor Reaction::UI::LayoutSet::TT::new (defined at /tmp/loop_over_bdir-1721494-QTfThW/Reaction-0.002005-0/blib/lib/Reaction/UI/LayoutSet/TT.pm line 43) line 80
	Reaction::UI::LayoutSet::TT::new("Reaction::UI::LayoutSet::TT", "name", "site_layout", "skin", Reaction::UI::Skin=HASH(0x588abc7fac08), "next_skin", Reaction::UI::Skin=HASH(0x588abc7e80d0), "tt_object", ...) called at /tmp/loop_over_bdir-1721494-QTfThW/Reaction-0.002005-0/blib/lib/Reaction/UI/Skin.pm line 115
	Reaction::UI::Skin::_create_layout_set(Reaction::UI::Skin=HASH(0x588abc7fac08), "site_layout", ARRAY(0x588abc8448d0), Reaction::UI::Skin=HASH(0x588abc7fac08)) called at /tmp/loop_over_bdir-1721494-QTfThW/Reaction-0.002005-0/blib/lib/Reaction/UI/Skin.pm line 110
	Reaction::UI::Skin::create_layout_set(Reaction::UI::Skin=HASH(0x588abc7fac08), "site_layout") called at /tmp/loop_over_bdir-1721494-QTfThW/Reaction-0.002005-0/blib/lib/Reaction/UI/LayoutSet.pm line 83
	Reaction::UI::LayoutSet::_load_file(Reaction::UI::LayoutSet::TT=HASH(0x588abc7fb130), Path::Class::File=HASH(0x588abc7edbc8), HASH(0x588abc7e0408)) called at /tmp/loop_over_bdir-1721494-QTfThW/Reaction-0.002005-0/blib/lib/Reaction/UI/LayoutSet.pm line 27
	Reaction::UI::LayoutSet::BUILD(Reaction::UI::LayoutSet::TT=HASH(0x588abc7fb130), HASH(0x588abc7e0408)) called at constructor Reaction::UI::LayoutSet::TT::new (defined at /tmp/loop_over_bdir-1721494-QTfThW/Reaction-0.002005-0/blib/lib/Reaction/UI/LayoutSet/TT.pm line 43) line 80
	Reaction::UI::LayoutSet::TT::new("Reaction::UI::LayoutSet::TT", "name", "site_layout", "skin", Reaction::UI::Skin=HASH(0x588abc7e00c0), "next_skin", Reaction::UI::Skin=HASH(0x588abc7fac08), "tt_object", ...) called at /tmp/loop_over_bdir-1721494-QTfThW/Reaction-0.002005-0/blib/lib/Reaction/UI/Skin.pm line 115
	Reaction::UI::Skin::_create_layout_set(Reaction::UI::Skin=HASH(0x588abc7e00c0), "site_layout", ARRAY(0x588abc7fab78), Reaction::UI::Skin=HASH(0x588abc7e00c0)) called at /tmp/loop_over_bdir-1721494-QTfThW/Reaction-0.002005-0/blib/lib/Reaction/UI/Skin.pm line 110
	Reaction::UI::Skin::create_layout_set(Reaction::UI::Skin=HASH(0x588abc7e00c0), "site_layout") called at inline delegation in Reaction::UI::View for skin->create_layout_set (attribute declared in /tmp/loop_over_bdir-1721494-QTfThW/Reaction-0.002005-0/blib/lib/Reaction/UI/View.pm at line 22) line 18
	Reaction::UI::View::create_layout_set(ComponentUI::View::Site=HASH(0x588ab895e4f8), "site_layout") called at /tmp/loop_over_bdir-1721494-QTfThW/Reaction-0.002005-0/blib/lib/Reaction/UI/View.pm line 99
	Reaction::UI::View::layout_set_for(ComponentUI::View::Site=HASH(0x588ab895e4f8), Reaction::UI::ViewPort::SiteLayout=HASH(0x588abc7dfa90)) called at /tmp/loop_over_bdir-1721494-QTfThW/Reaction-0.002005-0/blib/lib/Reaction/UI/View.pm line 78
	Reaction::UI::View::render_viewport_args(ComponentUI::View::Site=HASH(0x588ab895e4f8), Reaction::UI::ViewPort::SiteLayout=HASH(0x588abc7dfa90)) called at /tmp/loop_over_bdir-1721494-QTfThW/Reaction-0.002005-0/blib/lib/Reaction/UI/View.pm line 61
	Reaction::UI::View::render_window(ComponentUI::View::Site=HASH(0x588ab895e4f8), Reaction::UI::Window=HASH(0x588abc7db368)) called at /tmp/loop_over_bdir-1721494-QTfThW/Reaction-0.002005-0/blib/lib/Reaction/UI/Window.pm line 74
	Reaction::UI::Window::flush_view(Reaction::UI::Window=HASH(0x588abc7db368)) called at /tmp/loop_over_bdir-1721494-QTfThW/Reaction-0.002005-0/blib/lib/Reaction/UI/Window.pm line 36
	Reaction::UI::Window::flush(Reaction::UI::Window=HASH(0x588abc7db368)) called at /tmp/loop_over_bdir-1721494-QTfThW/Reaction-0.002005-0/blib/lib/Reaction/UI/Controller/Root.pm line 38
	Reaction::UI::Controller::Root::end(ComponentUI::Controller::Root=HASH(0x588abc7d6fa0), ComponentUI=HASH(0x588abc77a118)) called at /home/sand/src/perl/repoperls/installed-perls/host/k93jammy/v5.43.2/6567/lib/site_perl/5.43.2/Catalyst/Action.pm line 374
	Catalyst::Action::execute(Catalyst::Action=HASH(0x588abc5c47b0), ComponentUI::Controller::Root=HASH(0x588abc7d6fa0), ComponentUI=HASH(0x588abc77a118)) called at /home/sand/src/perl/repoperls/installed-perls/host/k93jammy/v5.43.2/6567/lib/site_perl/5.43.2/Catalyst.pm line 2067
	eval {...} called at /home/sand/src/perl/repoperls/installed-perls/host/k93jammy/v5.43.2/6567/lib/site_perl/5.43.2/Catalyst.pm line 2067
	Catalyst::execute(ComponentUI=HASH(0x588abc77a118), "ComponentUI::Controller::Root", Catalyst::Action=HASH(0x588abc5c47b0)) called at /home/sand/src/perl/repoperls/installed-perls/host/k93jammy/v5.43.2/6567/lib/site_perl/5.43.2/Catalyst/Action.pm line 368
	Catalyst::Action::dispatch(Catalyst::Action=HASH(0x588abc5c47b0), ComponentUI=HASH(0x588abc77a118)) called at /home/sand/src/perl/repoperls/installed-perls/host/k93jammy/v5.43.2/6567/lib/site_perl/5.43.2/Catalyst/Controller.pm line 188
	Catalyst::Controller::_END(ComponentUI::Controller::Root=HASH(0x588abc7d6fa0), ComponentUI=HASH(0x588abc77a118)) called at /home/sand/src/perl/repoperls/installed-perls/host/k93jammy/v5.43.2/6567/lib/site_perl/5.43.2/Catalyst/Action.pm line 374
	Catalyst::Action::execute(Catalyst::Action=HASH(0x588abc5c4690), ComponentUI::Controller::Root=HASH(0x588abc7d6fa0), ComponentUI=HASH(0x588abc77a118)) called at /home/sand/src/perl/repoperls/installed-perls/host/k93jammy/v5.43.2/6567/lib/site_perl/5.43.2/Catalyst.pm line 2067
	eval {...} called at /home/sand/src/perl/repoperls/installed-perls/host/k93jammy/v5.43.2/6567/lib/site_perl/5.43.2/Catalyst.pm line 2067
	Catalyst::execute(ComponentUI=HASH(0x588abc77a118), "ComponentUI::Controller::Root", Catalyst::Action=HASH(0x588abc5c4690)) called at /home/sand/src/perl/repoperls/installed-perls/host/k93jammy/v5.43.2/6567/lib/site_perl/5.43.2/Catalyst/Action.pm line 368
	Catalyst::Action::dispatch(Catalyst::Action=HASH(0x588abc5c4690), ComponentUI=HASH(0x588abc77a118)) called at /home/sand/src/perl/repoperls/installed-perls/host/k93jammy/v5.43.2/6567/lib/site_perl/5.43.2/Catalyst/Dispatcher.pm line 261
	Catalyst::Dispatcher::_do_forward(Catalyst::Dispatcher=HASH(0x588ab789bca8), "forward", ComponentUI=HASH(0x588abc77a118), "_END") called at /home/sand/src/perl/repoperls/installed-perls/host/k93jammy/v5.43.2/6567/lib/site_perl/5.43.2/Catalyst/Dispatcher.pm line 241
	Catalyst::Dispatcher::forward(Catalyst::Dispatcher=HASH(0x588ab789bca8), ComponentUI=HASH(0x588abc77a118), "_END") called at /home/sand/src/perl/repoperls/installed-perls/host/k93jammy/v5.43.2/6567/lib/site_perl/5.43.2/Catalyst.pm line 489
	Catalyst::forward(ComponentUI=HASH(0x588abc77a118), "_END") called at /home/sand/src/perl/repoperls/installed-perls/host/k93jammy/v5.43.2/6567/lib/site_perl/5.43.2/Catalyst/Controller.pm line 137
	Catalyst::Controller::_DISPATCH(ComponentUI::Controller::Root=HASH(0x588abc7d6fa0), ComponentUI=HASH(0x588abc77a118)) called at /home/sand/src/perl/repoperls/installed-perls/host/k93jammy/v5.43.2/6567/lib/site_perl/5.43.2/Catalyst/Action.pm line 374
	Catalyst::Action::execute(Catalyst::Action=HASH(0x588abc5c46c0), ComponentUI::Controller::Root=HASH(0x588abc7d6fa0), ComponentUI=HASH(0x588abc77a118)) called at /home/sand/src/perl/repoperls/installed-perls/host/k93jammy/v5.43.2/6567/lib/site_perl/5.43.2/Catalyst.pm line 2067
	eval {...} called at /home/sand/src/perl/repoperls/installed-perls/host/k93jammy/v5.43.2/6567/lib/site_perl/5.43.2/Catalyst.pm line 2067
	Catalyst::execute(ComponentUI=HASH(0x588abc77a118), "ComponentUI::Controller::Root", Catalyst::Action=HASH(0x588abc5c46c0)) called at /home/sand/src/perl/repoperls/installed-perls/host/k93jammy/v5.43.2/6567/lib/site_perl/5.43.2/Catalyst/Action.pm line 368
	Catalyst::Action::dispatch(Catalyst::Action=HASH(0x588abc5c46c0), ComponentUI=HASH(0x588abc77a118)) called at /home/sand/src/perl/repoperls/installed-perls/host/k93jammy/v5.43.2/6567/lib/site_perl/5.43.2/Catalyst/Dispatcher.pm line 261
	Catalyst::Dispatcher::_do_forward(Catalyst::Dispatcher=HASH(0x588ab789bca8), "forward", ComponentUI=HASH(0x588abc77a118), "//_DISPATCH") called at /home/sand/src/perl/repoperls/installed-perls/host/k93jammy/v5.43.2/6567/lib/site_perl/5.43.2/Catalyst/Dispatcher.pm line 241
	Catalyst::Dispatcher::forward(Catalyst::Dispatcher=HASH(0x588ab789bca8), ComponentUI=HASH(0x588abc77a118), "//_DISPATCH") called at /home/sand/src/perl/repoperls/installed-perls/host/k93jammy/v5.43.2/6567/lib/site_perl/5.43.2/Catalyst.pm line 489
	Catalyst::forward(ComponentUI=HASH(0x588abc77a118), "//_DISPATCH") called at /home/sand/src/perl/repoperls/installed-perls/host/k93jammy/v5.43.2/6567/lib/site_perl/5.43.2/Catalyst/Dispatcher.pm line 107
	Catalyst::Dispatcher::dispatch(Catalyst::Dispatcher=HASH(0x588ab789bca8), ComponentUI=HASH(0x588abc77a118)) called at /home/sand/src/perl/repoperls/installed-perls/host/k93jammy/v5.43.2/6567/lib/site_perl/5.43.2/Catalyst.pm line 2013
	Catalyst::dispatch(ComponentUI=HASH(0x588abc77a118)) called at /home/sand/src/perl/repoperls/installed-perls/host/k93jammy/v5.43.2/6567/lib/site_perl/5.43.2/Catalyst/Plugin/Static/Simple.pm line 85
	Class::MOP::Class:::around(CODE(0x588ab7dae3b0), ComponentUI=HASH(0x588abc77a118)) called at /home/sand/src/perl/repoperls/installed-perls/host/k93jammy/v5.43.2/6567/lib/site_perl/5.43.2/x86_64-linux/Class/MOP/Method/Wrapped.pm line 166
	ComponentUI::_wrapped_dispatch(ComponentUI=HASH(0x588abc77a118)) called at /home/sand/src/perl/repoperls/installed-perls/host/k93jammy/v5.43.2/6567/lib/site_perl/5.43.2/x86_64-linux/Class/MOP/Method/Wrapped.pm line 97
	ComponentUI::dispatch(ComponentUI=HASH(0x588abc77a118)) called at /home/sand/src/perl/repoperls/installed-perls/host/k93jammy/v5.43.2/6567/lib/site_perl/5.43.2/Catalyst.pm line 2419
	Catalyst::try {...} () called at /home/sand/src/perl/repoperls/installed-perls/host/k93jammy/v5.43.2/6567/lib/site_perl/5.43.2/Try/Tiny.pm line 102
	eval {...} called at /home/sand/src/perl/repoperls/installed-perls/host/k93jammy/v5.43.2/6567/lib/site_perl/5.43.2/Try/Tiny.pm line 93
	Try::Tiny::try(CODE(0x588abc778568), Try::Tiny::Catch=REF(0x588abc778370)) called at /home/sand/src/perl/repoperls/installed-perls/host/k93jammy/v5.43.2/6567/lib/site_perl/5.43.2/Catalyst.pm line 2428
	Catalyst::handle_request("ComponentUI", "env", HASH(0x588abc784e58), "response_cb", CODE(0x588abc7783d0)) called at /home/sand/src/perl/repoperls/installed-perls/host/k93jammy/v5.43.2/6567/lib/site_perl/5.43.2/Catalyst/Engine.pm line 808
	Catalyst::Engine::__ANON__(CODE(0x588abc7783d0)) called at /home/sand/src/perl/repoperls/installed-perls/host/k93jammy/v5.43.2/6567/lib/site_perl/5.43.2/Plack/Middleware/HTTPExceptions.pm line 32
	Plack::Middleware::HTTPExceptions::try {...} () called at /home/sand/src/perl/repoperls/installed-perls/host/k93jammy/v5.43.2/6567/lib/site_perl/5.43.2/Try/Tiny.pm line 102
	eval {...} called at /home/sand/src/perl/repoperls/installed-perls/host/k93jammy/v5.43.2/6567/lib/site_perl/5.43.2/Try/Tiny.pm line 93
	Try::Tiny::try(CODE(0x588abc778208), Try::Tiny::Catch=REF(0x588abc777a28)) called at /home/sand/src/perl/repoperls/installed-perls/host/k93jammy/v5.43.2/6567/lib/site_perl/5.43.2/Plack/Middleware/HTTPExceptions.pm line 41
	Plack::Middleware::HTTPExceptions::__ANON__(CODE(0x588abc7857a0)) called at /home/sand/src/perl/repoperls/installed-perls/host/k93jammy/v5.43.2/6567/lib/site_perl/5.43.2/Plack/Util.pm line 339
	Plack::Util::__ANON__(CODE(0x588abc784de0)) called at /home/sand/src/perl/repoperls/installed-perls/host/k93jammy/v5.43.2/6567/lib/site_perl/5.43.2/Plack/Util.pm line 339
	Plack::Util::__ANON__(CODE(0x588abc784cf0)) called at /home/sand/src/perl/repoperls/installed-perls/host/k93jammy/v5.43.2/6567/lib/site_perl/5.43.2/Plack/Util.pm line 339
	Plack::Util::__ANON__(CODE(0x588abc784c78)) called at /home/sand/src/perl/repoperls/installed-perls/host/k93jammy/v5.43.2/6567/lib/site_perl/5.43.2/HTTP/Message/PSGI.pm line 100
	HTTP::Message::PSGI::res_from_psgi(CODE(0x588abc777f80)) called at /home/sand/src/perl/repoperls/installed-perls/host/k93jammy/v5.43.2/6567/lib/site_perl/5.43.2/HTTP/Message/PSGI.pm line 157
	HTTP::Response::from_psgi("HTTP::Response", CODE(0x588abc777f80)) called at /home/sand/src/perl/repoperls/installed-perls/host/k93jammy/v5.43.2/6567/lib/site_perl/5.43.2/Plack/Test/MockHTTP.pm line 24
	Plack::Test::MockHTTP::try {...} () called at /home/sand/src/perl/repoperls/installed-perls/host/k93jammy/v5.43.2/6567/lib/site_perl/5.43.2/Try/Tiny.pm line 100
	eval {...} called at /home/sand/src/perl/repoperls/installed-perls/host/k93jammy/v5.43.2/6567/lib/site_perl/5.43.2/Try/Tiny.pm line 93
	Try::Tiny::try(CODE(0x588ab59c0bc0), Try::Tiny::Catch=REF(0x588abc5d6580)) called at /home/sand/src/perl/repoperls/installed-perls/host/k93jammy/v5.43.2/6567/lib/site_perl/5.43.2/Plack/Test/MockHTTP.pm line 27
	Plack::Test::MockHTTP::request(Plack::Test::MockHTTP=HASH(0x588ab59c0c50), HTTP::Request=HASH(0x588ab59c0860)) called at /home/sand/src/perl/repoperls/installed-perls/host/k93jammy/v5.43.2/6567/lib/site_perl/5.43.2/Plack/Test.pm line 38
	Plack::Test::__ANON__(HTTP::Request=HASH(0x588ab59c0860)) called at /home/sand/src/perl/repoperls/installed-perls/host/k93jammy/v5.43.2/6567/lib/site_perl/5.43.2/Catalyst/Test.pm line 290
	Catalyst::Test::__ANON__(CODE(0x588ab59c0bd8)) called at /home/sand/src/perl/repoperls/installed-perls/host/k93jammy/v5.43.2/6567/lib/site_perl/5.43.2/Plack/Test.pm line 38
	Plack::Test::test_psgi("app", CODE(0x588ab59c0410), "mangle_response", CODE(0x588ab710cac0), "app", CODE(0x588abc699320), "client", CODE(0x588ab59c0a70)) called at /home/sand/src/perl/repoperls/installed-perls/host/k93jammy/v5.43.2/6567/lib/site_perl/5.43.2/Catalyst/Test.pm line 293
	Catalyst::Test::_request(HASH(0x588ab598fa80), "/") called at /home/sand/src/perl/repoperls/installed-perls/host/k93jammy/v5.43.2/6567/lib/site_perl/5.43.2/Catalyst/Test.pm line 336
	Catalyst::Test::_local_request("ComponentUI", "/") called at /home/sand/src/perl/repoperls/installed-perls/host/k93jammy/v5.43.2/6567/lib/site_perl/5.43.2/Catalyst/Test.pm line 32
	Catalyst::Test::__ANON__("/") called at t/01app.t line 10
[debug] remote
t/01app.t ................... ok
Possible attempt to escape whitespace in qw() list at /home/sand/src/perl/repoperls/installed-perls/host/k93jammy/v5.43.2/6567/lib/site_perl/5.43.2/Sub/Quote.pm line 64.
t/04load_all.t .............. ok
t/05reflect_attr_from.t ..... ok
Possible attempt to escape whitespace in qw() list at /home/sand/src/perl/repoperls/installed-perls/host/k93jammy/v5.43.2/6567/lib/site_perl/5.43.2/Sub/Quote.pm line 64.
Class::MOP::load_class is deprecated at /home/sand/src/perl/repoperls/installed-perls/host/k93jammy/v5.43.2/6567/lib/site_perl/5.43.2/x86_64-linux/Class/MOP.pm line 69.
	Class::MOP::load_class("Reaction::InterfaceModel::Object") called at /tmp/loop_over_bdir-1721494-QTfThW/Reaction-0.002005-0/blib/lib/Reaction/InterfaceModel/Reflector/DBIC.pm line 149
	Reaction::InterfaceModel::Reflector::DBIC::reflect_schema(Reaction::InterfaceModel::Reflector::DBIC=HASH(0x5633e4a67960), "model_class", "ComponentUI::TestModel", "schema_class", "RTest::TestDB", "sources", ARRAY(0x5633e4e9b8d0)) called at /tmp/loop_over_bdir-1721494-QTfThW/Reaction-0.002005-0/blib/lib/ComponentUI/TestModel.pm line 10
	require ComponentUI/TestModel.pm called at t/lib/RTest/InterfaceModel/Reflector/DBIC.pm line 6
	RTest::InterfaceModel::Reflector::DBIC::BEGIN() called at t/lib/RTest/InterfaceModel/Reflector/DBIC.pm line 6
	eval {...} called at t/lib/RTest/InterfaceModel/Reflector/DBIC.pm line 6
	require RTest/InterfaceModel/Reflector/DBIC.pm called at t/im_dbic.t line 7
	main::BEGIN() called at t/im_dbic.t line 7
	eval {...} called at t/im_dbic.t line 7
Class::MOP::load_class is deprecated at /home/sand/src/perl/repoperls/installed-perls/host/k93jammy/v5.43.2/6567/lib/site_perl/5.43.2/x86_64-linux/Class/MOP.pm line 69.
	Class::MOP::load_class("Reaction::InterfaceModel::Object") called at /tmp/loop_over_bdir-1721494-QTfThW/Reaction-0.002005-0/blib/lib/Reaction/Class.pm line 123
	Reaction::Class::do_class_sub("Reaction::Class", "ComponentUI::TestModel::Foo", "ComponentUI::TestModel::Foo", "is", "Reaction::InterfaceModel::Object", "which", CODE(0x5633e5f26720)) called at /tmp/loop_over_bdir-1721494-QTfThW/Reaction-0.002005-0/blib/lib/Reaction/Class.pm line 86
	Reaction::Class::("ComponentUI::TestModel::Foo", "is", "Reaction::InterfaceModel::Object", "which", CODE(0x5633e5f26720)) called at /tmp/loop_over_bdir-1721494-QTfThW/Reaction-0.002005-0/blib/lib/ComponentUI/TestModel/Foo.pm line 8
	require ComponentUI/TestModel/Foo.pm called at /home/sand/src/perl/repoperls/installed-perls/host/k93jammy/v5.43.2/6567/lib/site_perl/5.43.2/Module/Runtime.pm line 120
	Module::Runtime::require_module("ComponentUI::TestModel::Foo") called at /home/sand/src/perl/repoperls/installed-perls/host/k93jammy/v5.43.2/6567/lib/site_perl/5.43.2/Class/Load.pm line 174
	Class::Load::try {...} () called at /home/sand/src/perl/repoperls/installed-perls/host/k93jammy/v5.43.2/6567/lib/site_perl/5.43.2/Try/Tiny.pm line 98
	eval {...} called at /home/sand/src/perl/repoperls/installed-perls/host/k93jammy/v5.43.2/6567/lib/site_perl/5.43.2/Try/Tiny.pm line 93
	Try::Tiny::try(CODE(0x5633e49fe998), Try::Tiny::Catch=REF(0x5633e5f19c40)) called at /home/sand/src/perl/repoperls/installed-perls/host/k93jammy/v5.43.2/6567/lib/site_perl/5.43.2/Class/Load.pm line 180
	Class::Load::try_load_class("ComponentUI::TestModel::Foo", undef) called at /home/sand/src/perl/repoperls/installed-perls/host/k93jammy/v5.43.2/6567/lib/site_perl/5.43.2/Class/Load.pm line 35
	Class::Load::load_class("ComponentUI::TestModel::Foo") called at /tmp/loop_over_bdir-1721494-QTfThW/Reaction-0.002005-0/blib/lib/Reaction/InterfaceModel/Reflector/DBIC.pm line 892
	eval {...} called at /tmp/loop_over_bdir-1721494-QTfThW/Reaction-0.002005-0/blib/lib/Reaction/InterfaceModel/Reflector/DBIC.pm line 892
	Reaction::InterfaceModel::Reflector::DBIC::_maybe_load_class(Reaction::InterfaceModel::Reflector::DBIC=HASH(0x5633e4a67960), "ComponentUI::TestModel::Foo") called at /tmp/loop_over_bdir-1721494-QTfThW/Reaction-0.002005-0/blib/lib/Reaction/InterfaceModel/Reflector/DBIC.pm line 876
	Reaction::InterfaceModel::Reflector::DBIC::_load_or_create(Reaction::InterfaceModel::Reflector::DBIC=HASH(0x5633e4a67960), "ComponentUI::TestModel::Foo", "superclasses", ARRAY(0x5633e490a608)) called at /tmp/loop_over_bdir-1721494-QTfThW/Reaction-0.002005-0/blib/lib/Reaction/InterfaceModel/Reflector/DBIC.pm line 448
	Reaction::InterfaceModel::Reflector::DBIC::reflect_source_object(Reaction::InterfaceModel::Reflector::DBIC=HASH(0x5633e4a67960), "schema_class", "RTest::TestDB", "parent_class", "ComponentUI::TestModel", "source_class", "RTest::TestDB::Foo", "source_name", ...) called at /tmp/loop_over_bdir-1721494-QTfThW/Reaction-0.002005-0/blib/lib/Reaction/InterfaceModel/Reflector/DBIC.pm line 323
	Reaction::InterfaceModel::Reflector::DBIC::reflect_source(Reaction::InterfaceModel::Reflector::DBIC=HASH(0x5633e4a67960), "source_name", "Foo", "parent_class", "ComponentUI::TestModel", "schema_class", "RTest::TestDB", "source_class", ...) called at /tmp/loop_over_bdir-1721494-QTfThW/Reaction-0.002005-0/blib/lib/Reaction/InterfaceModel/Reflector/DBIC.pm line 185
	Reaction::InterfaceModel::Reflector::DBIC::reflect_schema(Reaction::InterfaceModel::Reflector::DBIC=HASH(0x5633e4a67960), "model_class", "ComponentUI::TestModel", "schema_class", "RTest::TestDB", "sources", ARRAY(0x5633e4e9b8d0)) called at /tmp/loop_over_bdir-1721494-QTfThW/Reaction-0.002005-0/blib/lib/ComponentUI/TestModel.pm line 10
	require ComponentUI/TestModel.pm called at t/lib/RTest/InterfaceModel/Reflector/DBIC.pm line 6
	RTest::InterfaceModel::Reflector::DBIC::BEGIN() called at t/lib/RTest/InterfaceModel/Reflector/DBIC.pm line 6
	eval {...} called at t/lib/RTest/InterfaceModel/Reflector/DBIC.pm line 6
	require RTest/InterfaceModel/Reflector/DBIC.pm called at t/im_dbic.t line 7
	main::BEGIN() called at t/im_dbic.t line 7
	eval {...} called at t/im_dbic.t line 7
Class::MOP::is_class_loaded is deprecated at /home/sand/src/perl/repoperls/installed-perls/host/k93jammy/v5.43.2/6567/lib/site_perl/5.43.2/x86_64-linux/Class/MOP.pm line 87.
	Class::MOP::is_class_loaded("RTest::TestIM::Foo") called at t/lib/RTest/InterfaceModel/Reflector/DBIC.pm line 74
	RTest::InterfaceModel::Reflector::DBIC::test_reflect_schema(RTest::InterfaceModel::Reflector::DBIC=HASH(0x5633e423e238)) called at /home/sand/src/perl/repoperls/installed-perls/host/k93jammy/v5.43.2/6567/lib/site_perl/5.43.2/Test/Class.pm line 293
	Test::Class::try {...} () called at /home/sand/src/perl/repoperls/installed-perls/host/k93jammy/v5.43.2/6567/lib/site_perl/5.43.2/Try/Tiny.pm line 100
	eval {...} called at /home/sand/src/perl/repoperls/installed-perls/host/k93jammy/v5.43.2/6567/lib/site_perl/5.43.2/Try/Tiny.pm line 93
	Try::Tiny::try(CODE(0x5633e75fd368), Try::Tiny::Catch=REF(0x5633e7593ce0)) called at /home/sand/src/perl/repoperls/installed-perls/host/k93jammy/v5.43.2/6567/lib/site_perl/5.43.2/Test/Class.pm line 293
	Test::Class::_run_method(RTest::InterfaceModel::Reflector::DBIC=HASH(0x5633e423e238), "test_reflect_schema", ARRAY(0x5633e340d808)) called at /home/sand/src/perl/repoperls/installed-perls/host/k93jammy/v5.43.2/6567/lib/site_perl/5.43.2/Test/Class.pm line 402
	Test::Class::runtests("Test::Class", RTest::InterfaceModel::Reflector::DBIC=HASH(0x5633e423e238)) called at t/im_dbic.t line 10
t/im_dbic.t ................. ok
t/ui_focus_stack.t .......... ok
t/ui_view.t ................. ok
Possible attempt to escape whitespace in qw() list at /home/sand/src/perl/repoperls/installed-perls/host/k93jammy/v5.43.2/6567/lib/site_perl/5.43.2/Sub/Quote.pm line 64.
t/ui_viewport.t ............. ok
Attempt to call undefined import method with arguments ("5.80") via package "Catalyst::Runtime" (Perhaps you forgot to load the package?) at /tmp/loop_over_bdir-1721494-QTfThW/Reaction-0.002005-0/blib/lib/ComponentUI.pm line 6.
Possible attempt to escape whitespace in qw() list at /home/sand/src/perl/repoperls/installed-perls/host/k93jammy/v5.43.2/6567/lib/site_perl/5.43.2/Sub/Quote.pm line 64.
Class::MOP::load_class is deprecated at /home/sand/src/perl/repoperls/installed-perls/host/k93jammy/v5.43.2/6567/lib/site_perl/5.43.2/x86_64-linux/Class/MOP.pm line 69.
	Class::MOP::load_class("ComponentUI::TestModel") called at /tmp/loop_over_bdir-1721494-QTfThW/Reaction-0.002005-0/blib/lib/Catalyst/Model/Reaction/InterfaceModel/DBIC.pm line 24
	Catalyst::Model::Reaction::InterfaceModel::DBIC::COMPONENT("ComponentUI::Model::TestModel", "ComponentUI", HASH(0x5ef3defdb7b0)) called at /home/sand/src/perl/repoperls/installed-perls/host/k93jammy/v5.43.2/6567/lib/site_perl/5.43.2/Catalyst.pm line 3240
	eval {...} called at /home/sand/src/perl/repoperls/installed-perls/host/k93jammy/v5.43.2/6567/lib/site_perl/5.43.2/Catalyst.pm line 3241
	Catalyst::setup_component("ComponentUI", "ComponentUI::Model::TestModel") called at /home/sand/src/perl/repoperls/installed-perls/host/k93jammy/v5.43.2/6567/lib/site_perl/5.43.2/Catalyst.pm line 3218
	Catalyst::__ANON__() called at /home/sand/src/perl/repoperls/installed-perls/host/k93jammy/v5.43.2/6567/lib/site_perl/5.43.2/Catalyst.pm line 3065
	Catalyst::setup_components("ComponentUI") called at /home/sand/src/perl/repoperls/installed-perls/host/k93jammy/v5.43.2/6567/lib/site_perl/5.43.2/Catalyst.pm line 1438
	Catalyst::setup("ComponentUI") called at /tmp/loop_over_bdir-1721494-QTfThW/Reaction-0.002005-0/blib/lib/ComponentUI.pm line 32
	require ComponentUI.pm called at /home/sand/src/perl/repoperls/installed-perls/host/k93jammy/v5.43.2/6567/lib/site_perl/5.43.2/Module/Runtime.pm line 120
	Module::Runtime::require_module("ComponentUI") called at /home/sand/src/perl/repoperls/installed-perls/host/k93jammy/v5.43.2/6567/lib/site_perl/5.43.2/Class/Load.pm line 174
	Class::Load::try {...} () called at /home/sand/src/perl/repoperls/installed-perls/host/k93jammy/v5.43.2/6567/lib/site_perl/5.43.2/Try/Tiny.pm line 98
	eval {...} called at /home/sand/src/perl/repoperls/installed-perls/host/k93jammy/v5.43.2/6567/lib/site_perl/5.43.2/Try/Tiny.pm line 93
	Try::Tiny::try(CODE(0x5ef3d8cad918), Try::Tiny::Catch=REF(0x5ef3dadaf030)) called at /home/sand/src/perl/repoperls/installed-perls/host/k93jammy/v5.43.2/6567/lib/site_perl/5.43.2/Class/Load.pm line 180
	Class::Load::try_load_class("ComponentUI", undef) called at /home/sand/src/perl/repoperls/installed-perls/host/k93jammy/v5.43.2/6567/lib/site_perl/5.43.2/Class/Load.pm line 35
	Class::Load::load_class("ComponentUI") called at /home/sand/src/perl/repoperls/installed-perls/host/k93jammy/v5.43.2/6567/lib/site_perl/5.43.2/Test/WWW/Mechanize/Catalyst.pm line 245
	Test::WWW::Mechanize::Catalyst::import("Test::WWW::Mechanize::Catalyst", "ComponentUI") called at t/uncheck_bool_field.t line 6
	main::BEGIN() called at t/uncheck_bool_field.t line 6
	eval {...} called at t/uncheck_bool_field.t line 6
Class::MOP::load_class is deprecated at /home/sand/src/perl/repoperls/installed-perls/host/k93jammy/v5.43.2/6567/lib/site_perl/5.43.2/x86_64-linux/Class/MOP.pm line 69.
	Class::MOP::load_class("Reaction::InterfaceModel::Object") called at /tmp/loop_over_bdir-1721494-QTfThW/Reaction-0.002005-0/blib/lib/Reaction/InterfaceModel/Reflector/DBIC.pm line 149
	Reaction::InterfaceModel::Reflector::DBIC::reflect_schema(Reaction::InterfaceModel::Reflector::DBIC=HASH(0x5ef3dfa94a78), "model_class", "ComponentUI::TestModel", "schema_class", "RTest::TestDB", "sources", ARRAY(0x5ef3dfacadb0)) called at /tmp/loop_over_bdir-1721494-QTfThW/Reaction-0.002005-0/blib/lib/ComponentUI/TestModel.pm line 10
	require ComponentUI/TestModel.pm called at /home/sand/src/perl/repoperls/installed-perls/host/k93jammy/v5.43.2/6567/lib/site_perl/5.43.2/Module/Runtime.pm line 120
	Module::Runtime::require_module("ComponentUI::TestModel") called at /home/sand/src/perl/repoperls/installed-perls/host/k93jammy/v5.43.2/6567/lib/site_perl/5.43.2/Class/Load.pm line 174
	Class::Load::try {...} () called at /home/sand/src/perl/repoperls/installed-perls/host/k93jammy/v5.43.2/6567/lib/site_perl/5.43.2/Try/Tiny.pm line 98
	eval {...} called at /home/sand/src/perl/repoperls/installed-perls/host/k93jammy/v5.43.2/6567/lib/site_perl/5.43.2/Try/Tiny.pm line 93
	Try::Tiny::try(CODE(0x5ef3dc6a3cd0), Try::Tiny::Catch=REF(0x5ef3df59aaa8)) called at /home/sand/src/perl/repoperls/installed-perls/host/k93jammy/v5.43.2/6567/lib/site_perl/5.43.2/Class/Load.pm line 180
	Class::Load::try_load_class("ComponentUI::TestModel", undef) called at /home/sand/src/perl/repoperls/installed-perls/host/k93jammy/v5.43.2/6567/lib/site_perl/5.43.2/Class/Load.pm line 35
	Class::Load::load_class("ComponentUI::TestModel") called at /tmp/loop_over_bdir-1721494-QTfThW/Reaction-0.002005-0/blib/lib/Catalyst/Model/Reaction/InterfaceModel/DBIC.pm line 24
	Catalyst::Model::Reaction::InterfaceModel::DBIC::COMPONENT("ComponentUI::Model::TestModel", "ComponentUI", HASH(0x5ef3defdb7b0)) called at /home/sand/src/perl/repoperls/installed-perls/host/k93jammy/v5.43.2/6567/lib/site_perl/5.43.2/Catalyst.pm line 3240
	eval {...} called at /home/sand/src/perl/repoperls/installed-perls/host/k93jammy/v5.43.2/6567/lib/site_perl/5.43.2/Catalyst.pm line 3241
	Catalyst::setup_component("ComponentUI", "ComponentUI::Model::TestModel") called at /home/sand/src/perl/repoperls/installed-perls/host/k93jammy/v5.43.2/6567/lib/site_perl/5.43.2/Catalyst.pm line 3218
	Catalyst::__ANON__() called at /home/sand/src/perl/repoperls/installed-perls/host/k93jammy/v5.43.2/6567/lib/site_perl/5.43.2/Catalyst.pm line 3065
	Catalyst::setup_components("ComponentUI") called at /home/sand/src/perl/repoperls/installed-perls/host/k93jammy/v5.43.2/6567/lib/site_perl/5.43.2/Catalyst.pm line 1438
	Catalyst::setup("ComponentUI") called at /tmp/loop_over_bdir-1721494-QTfThW/Reaction-0.002005-0/blib/lib/ComponentUI.pm line 32
	require ComponentUI.pm called at /home/sand/src/perl/repoperls/installed-perls/host/k93jammy/v5.43.2/6567/lib/site_perl/5.43.2/Module/Runtime.pm line 120
	Module::Runtime::require_module("ComponentUI") called at /home/sand/src/perl/repoperls/installed-perls/host/k93jammy/v5.43.2/6567/lib/site_perl/5.43.2/Class/Load.pm line 174
	Class::Load::try {...} () called at /home/sand/src/perl/repoperls/installed-perls/host/k93jammy/v5.43.2/6567/lib/site_perl/5.43.2/Try/Tiny.pm line 98
	eval {...} called at /home/sand/src/perl/repoperls/installed-perls/host/k93jammy/v5.43.2/6567/lib/site_perl/5.43.2/Try/Tiny.pm line 93
	Try::Tiny::try(CODE(0x5ef3d8cad918), Try::Tiny::Catch=REF(0x5ef3dadaf030)) called at /home/sand/src/perl/repoperls/installed-perls/host/k93jammy/v5.43.2/6567/lib/site_perl/5.43.2/Class/Load.pm line 180
	Class::Load::try_load_class("ComponentUI", undef) called at /home/sand/src/perl/repoperls/installed-perls/host/k93jammy/v5.43.2/6567/lib/site_perl/5.43.2/Class/Load.pm line 35
	Class::Load::load_class("ComponentUI") called at /home/sand/src/perl/repoperls/installed-perls/host/k93jammy/v5.43.2/6567/lib/site_perl/5.43.2/Test/WWW/Mechanize/Catalyst.pm line 245
	Test::WWW::Mechanize::Catalyst::import("Test::WWW::Mechanize::Catalyst", "ComponentUI") called at t/uncheck_bool_field.t line 6
	main::BEGIN() called at t/uncheck_bool_field.t line 6
	eval {...} called at t/uncheck_bool_field.t line 6
Class::MOP::load_class is deprecated at /home/sand/src/perl/repoperls/installed-perls/host/k93jammy/v5.43.2/6567/lib/site_perl/5.43.2/x86_64-linux/Class/MOP.pm line 69.
	Class::MOP::load_class("Reaction::InterfaceModel::Object") called at /tmp/loop_over_bdir-1721494-QTfThW/Reaction-0.002005-0/blib/lib/Reaction/Class.pm line 123
	Reaction::Class::do_class_sub("Reaction::Class", "ComponentUI::TestModel::Foo", "ComponentUI::TestModel::Foo", "is", "Reaction::InterfaceModel::Object", "which", CODE(0x5ef3dfd820c8)) called at /tmp/loop_over_bdir-1721494-QTfThW/Reaction-0.002005-0/blib/lib/Reaction/Class.pm line 86
	Reaction::Class::("ComponentUI::TestModel::Foo", "is", "Reaction::InterfaceModel::Object", "which", CODE(0x5ef3dfd820c8)) called at /tmp/loop_over_bdir-1721494-QTfThW/Reaction-0.002005-0/blib/lib/ComponentUI/TestModel/Foo.pm line 8
	require ComponentUI/TestModel/Foo.pm called at /home/sand/src/perl/repoperls/installed-perls/host/k93jammy/v5.43.2/6567/lib/site_perl/5.43.2/Module/Runtime.pm line 120
	Module::Runtime::require_module("ComponentUI::TestModel::Foo") called at /home/sand/src/perl/repoperls/installed-perls/host/k93jammy/v5.43.2/6567/lib/site_perl/5.43.2/Class/Load.pm line 174
	Class::Load::try {...} () called at /home/sand/src/perl/repoperls/installed-perls/host/k93jammy/v5.43.2/6567/lib/site_perl/5.43.2/Try/Tiny.pm line 98
	eval {...} called at /home/sand/src/perl/repoperls/installed-perls/host/k93jammy/v5.43.2/6567/lib/site_perl/5.43.2/Try/Tiny.pm line 93
	Try::Tiny::try(CODE(0x5ef3dfd55610), Try::Tiny::Catch=REF(0x5ef3dfd954e8)) called at /home/sand/src/perl/repoperls/installed-perls/host/k93jammy/v5.43.2/6567/lib/site_perl/5.43.2/Class/Load.pm line 180
	Class::Load::try_load_class("ComponentUI::TestModel::Foo", undef) called at /home/sand/src/perl/repoperls/installed-perls/host/k93jammy/v5.43.2/6567/lib/site_perl/5.43.2/Class/Load.pm line 35
	Class::Load::load_class("ComponentUI::TestModel::Foo") called at /tmp/loop_over_bdir-1721494-QTfThW/Reaction-0.002005-0/blib/lib/Reaction/InterfaceModel/Reflector/DBIC.pm line 892
	eval {...} called at /tmp/loop_over_bdir-1721494-QTfThW/Reaction-0.002005-0/blib/lib/Reaction/InterfaceModel/Reflector/DBIC.pm line 892
	Reaction::InterfaceModel::Reflector::DBIC::_maybe_load_class(Reaction::InterfaceModel::Reflector::DBIC=HASH(0x5ef3dfa94a78), "ComponentUI::TestModel::Foo") called at /tmp/loop_over_bdir-1721494-QTfThW/Reaction-0.002005-0/blib/lib/Reaction/InterfaceModel/Reflector/DBIC.pm line 876
	Reaction::InterfaceModel::Reflector::DBIC::_load_or_create(Reaction::InterfaceModel::Reflector::DBIC=HASH(0x5ef3dfa94a78), "ComponentUI::TestModel::Foo", "superclasses", ARRAY(0x5ef3dfcd82b0)) called at /tmp/loop_over_bdir-1721494-QTfThW/Reaction-0.002005-0/blib/lib/Reaction/InterfaceModel/Reflector/DBIC.pm line 448
	Reaction::InterfaceModel::Reflector::DBIC::reflect_source_object(Reaction::InterfaceModel::Reflector::DBIC=HASH(0x5ef3dfa94a78), "parent_domain_model_name", "_rtest_test_db_store", "schema_class", "RTest::TestDB", "parent_class", "ComponentUI::TestModel", "source_class", ...) called at /tmp/loop_over_bdir-1721494-QTfThW/Reaction-0.002005-0/blib/lib/Reaction/InterfaceModel/Reflector/DBIC.pm line 323
	Reaction::InterfaceModel::Reflector::DBIC::reflect_source(Reaction::InterfaceModel::Reflector::DBIC=HASH(0x5ef3dfa94a78), "source_name", "Foo", "parent_class", "ComponentUI::TestModel", "schema_class", "RTest::TestDB", "source_class", ...) called at /tmp/loop_over_bdir-1721494-QTfThW/Reaction-0.002005-0/blib/lib/Reaction/InterfaceModel/Reflector/DBIC.pm line 185
	Reaction::InterfaceModel::Reflector::DBIC::reflect_schema(Reaction::InterfaceModel::Reflector::DBIC=HASH(0x5ef3dfa94a78), "model_class", "ComponentUI::TestModel", "schema_class", "RTest::TestDB", "sources", ARRAY(0x5ef3dfacadb0)) called at /tmp/loop_over_bdir-1721494-QTfThW/Reaction-0.002005-0/blib/lib/ComponentUI/TestModel.pm line 10
	require ComponentUI/TestModel.pm called at /home/sand/src/perl/repoperls/installed-perls/host/k93jammy/v5.43.2/6567/lib/site_perl/5.43.2/Module/Runtime.pm line 120
	Module::Runtime::require_module("ComponentUI::TestModel") called at /home/sand/src/perl/repoperls/installed-perls/host/k93jammy/v5.43.2/6567/lib/site_perl/5.43.2/Class/Load.pm line 174
	Class::Load::try {...} () called at /home/sand/src/perl/repoperls/installed-perls/host/k93jammy/v5.43.2/6567/lib/site_perl/5.43.2/Try/Tiny.pm line 98
	eval {...} called at /home/sand/src/perl/repoperls/installed-perls/host/k93jammy/v5.43.2/6567/lib/site_perl/5.43.2/Try/Tiny.pm line 93
	Try::Tiny::try(CODE(0x5ef3dc6a3cd0), Try::Tiny::Catch=REF(0x5ef3df59aaa8)) called at /home/sand/src/perl/repoperls/installed-perls/host/k93jammy/v5.43.2/6567/lib/site_perl/5.43.2/Class/Load.pm line 180
	Class::Load::try_load_class("ComponentUI::TestModel", undef) called at /home/sand/src/perl/repoperls/installed-perls/host/k93jammy/v5.43.2/6567/lib/site_perl/5.43.2/Class/Load.pm line 35
	Class::Load::load_class("ComponentUI::TestModel") called at /tmp/loop_over_bdir-1721494-QTfThW/Reaction-0.002005-0/blib/lib/Catalyst/Model/Reaction/InterfaceModel/DBIC.pm line 24
	Catalyst::Model::Reaction::InterfaceModel::DBIC::COMPONENT("ComponentUI::Model::TestModel", "ComponentUI", HASH(0x5ef3defdb7b0)) called at /home/sand/src/perl/repoperls/installed-perls/host/k93jammy/v5.43.2/6567/lib/site_perl/5.43.2/Catalyst.pm line 3240
	eval {...} called at /home/sand/src/perl/repoperls/installed-perls/host/k93jammy/v5.43.2/6567/lib/site_perl/5.43.2/Catalyst.pm line 3241
	Catalyst::setup_component("ComponentUI", "ComponentUI::Model::TestModel") called at /home/sand/src/perl/repoperls/installed-perls/host/k93jammy/v5.43.2/6567/lib/site_perl/5.43.2/Catalyst.pm line 3218
	Catalyst::__ANON__() called at /home/sand/src/perl/repoperls/installed-perls/host/k93jammy/v5.43.2/6567/lib/site_perl/5.43.2/Catalyst.pm line 3065
	Catalyst::setup_components("ComponentUI") called at /home/sand/src/perl/repoperls/installed-perls/host/k93jammy/v5.43.2/6567/lib/site_perl/5.43.2/Catalyst.pm line 1438
	Catalyst::setup("ComponentUI") called at /tmp/loop_over_bdir-1721494-QTfThW/Reaction-0.002005-0/blib/lib/ComponentUI.pm line 32
	require ComponentUI.pm called at /home/sand/src/perl/repoperls/installed-perls/host/k93jammy/v5.43.2/6567/lib/site_perl/5.43.2/Module/Runtime.pm line 120
	Module::Runtime::require_module("ComponentUI") called at /home/sand/src/perl/repoperls/installed-perls/host/k93jammy/v5.43.2/6567/lib/site_perl/5.43.2/Class/Load.pm line 174
	Class::Load::try {...} () called at /home/sand/src/perl/repoperls/installed-perls/host/k93jammy/v5.43.2/6567/lib/site_perl/5.43.2/Try/Tiny.pm line 98
	eval {...} called at /home/sand/src/perl/repoperls/installed-perls/host/k93jammy/v5.43.2/6567/lib/site_perl/5.43.2/Try/Tiny.pm line 93
	Try::Tiny::try(CODE(0x5ef3d8cad918), Try::Tiny::Catch=REF(0x5ef3dadaf030)) called at /home/sand/src/perl/repoperls/installed-perls/host/k93jammy/v5.43.2/6567/lib/site_perl/5.43.2/Class/Load.pm line 180
	Class::Load::try_load_class("ComponentUI", undef) called at /home/sand/src/perl/repoperls/installed-perls/host/k93jammy/v5.43.2/6567/lib/site_perl/5.43.2/Class/Load.pm line 35
	Class::Load::load_class("ComponentUI") called at /home/sand/src/perl/repoperls/installed-perls/host/k93jammy/v5.43.2/6567/lib/site_perl/5.43.2/Test/WWW/Mechanize/Catalyst.pm line 245
	Test::WWW::Mechanize::Catalyst::import("Test::WWW::Mechanize::Catalyst", "ComponentUI") called at t/uncheck_bool_field.t line 6
	main::BEGIN() called at t/uncheck_bool_field.t line 6
	eval {...} called at t/uncheck_bool_field.t line 6
Class::MOP::load_class is deprecated at /home/sand/src/perl/repoperls/installed-perls/host/k93jammy/v5.43.2/6567/lib/site_perl/5.43.2/x86_64-linux/Class/MOP.pm line 69.
	Class::MOP::load_class("ComponentUI::RenderingContext::Site") called at /tmp/loop_over_bdir-1721494-QTfThW/Reaction-0.002005-0/blib/lib/Reaction/UI/View.pm line 125
	eval {...} called at /tmp/loop_over_bdir-1721494-QTfThW/Reaction-0.002005-0/blib/lib/Reaction/UI/View.pm line 125
	Reaction::UI::View::find_related_class(ComponentUI::View::Site=HASH(0x5ef3dc5524b8), "RenderingContext") called at /tmp/loop_over_bdir-1721494-QTfThW/Reaction-0.002005-0/blib/lib/Reaction/UI/View.pm line 43
	Reaction::UI::View::_build_rendering_context_class(ComponentUI::View::Site=HASH(0x5ef3dc5524b8)) called at reader Reaction::UI::View::rendering_context_class (defined at /tmp/loop_over_bdir-1721494-QTfThW/Reaction-0.002005-0/blib/lib/Reaction/UI/View.pm line 29) line 8
	Reaction::UI::View::rendering_context_class(ComponentUI::View::Site=HASH(0x5ef3dc5524b8)) called at /tmp/loop_over_bdir-1721494-QTfThW/Reaction-0.002005-0/blib/lib/Reaction/UI/View.pm line 134
	Reaction::UI::View::create_rendering_context(ComponentUI::View::Site=HASH(0x5ef3dc5524b8)) called at /tmp/loop_over_bdir-1721494-QTfThW/Reaction-0.002005-0/blib/lib/Reaction/UI/View.pm line 60
	Reaction::UI::View::render_window(ComponentUI::View::Site=HASH(0x5ef3dc5524b8), Reaction::UI::Window=HASH(0x5ef3e0374938)) called at /tmp/loop_over_bdir-1721494-QTfThW/Reaction-0.002005-0/blib/lib/Reaction/UI/Window.pm line 74
	Reaction::UI::Window::flush_view(Reaction::UI::Window=HASH(0x5ef3e0374938)) called at /tmp/loop_over_bdir-1721494-QTfThW/Reaction-0.002005-0/blib/lib/Reaction/UI/Window.pm line 36
	Reaction::UI::Window::flush(Reaction::UI::Window=HASH(0x5ef3e0374938)) called at /tmp/loop_over_bdir-1721494-QTfThW/Reaction-0.002005-0/blib/lib/Reaction/UI/Controller/Root.pm line 38
	Reaction::UI::Controller::Root::end(ComponentUI::Controller::Root=HASH(0x5ef3e0374a40), ComponentUI=HASH(0x5ef3e0360578)) called at /home/sand/src/perl/repoperls/installed-perls/host/k93jammy/v5.43.2/6567/lib/site_perl/5.43.2/Catalyst/Action.pm line 374
	Catalyst::Action::execute(Catalyst::Action=HASH(0x5ef3e0075158), ComponentUI::Controller::Root=HASH(0x5ef3e0374a40), ComponentUI=HASH(0x5ef3e0360578)) called at /home/sand/src/perl/repoperls/installed-perls/host/k93jammy/v5.43.2/6567/lib/site_perl/5.43.2/Catalyst.pm line 2067
	eval {...} called at /home/sand/src/perl/repoperls/installed-perls/host/k93jammy/v5.43.2/6567/lib/site_perl/5.43.2/Catalyst.pm line 2067
	Catalyst::execute(ComponentUI=HASH(0x5ef3e0360578), "ComponentUI::Controller::Root", Catalyst::Action=HASH(0x5ef3e0075158)) called at /home/sand/src/perl/repoperls/installed-perls/host/k93jammy/v5.43.2/6567/lib/site_perl/5.43.2/Catalyst/Action.pm line 368
	Catalyst::Action::dispatch(Catalyst::Action=HASH(0x5ef3e0075158), ComponentUI=HASH(0x5ef3e0360578)) called at /home/sand/src/perl/repoperls/installed-perls/host/k93jammy/v5.43.2/6567/lib/site_perl/5.43.2/Catalyst/Controller.pm line 188
	Catalyst::Controller::_END(ComponentUI::Controller::TestModel::Baz=HASH(0x5ef3e0335ff0), ComponentUI=HASH(0x5ef3e0360578)) called at /home/sand/src/perl/repoperls/installed-perls/host/k93jammy/v5.43.2/6567/lib/site_perl/5.43.2/Catalyst/Action.pm line 374
	Catalyst::Action::execute(Catalyst::Action=HASH(0x5ef3e0130bb8), ComponentUI::Controller::TestModel::Baz=HASH(0x5ef3e0335ff0), ComponentUI=HASH(0x5ef3e0360578)) called at /home/sand/src/perl/repoperls/installed-perls/host/k93jammy/v5.43.2/6567/lib/site_perl/5.43.2/Catalyst.pm line 2067
	eval {...} called at /home/sand/src/perl/repoperls/installed-perls/host/k93jammy/v5.43.2/6567/lib/site_perl/5.43.2/Catalyst.pm line 2067
	Catalyst::execute(ComponentUI=HASH(0x5ef3e0360578), "ComponentUI::Controller::TestModel::Baz", Catalyst::Action=HASH(0x5ef3e0130bb8)) called at /home/sand/src/perl/repoperls/installed-perls/host/k93jammy/v5.43.2/6567/lib/site_perl/5.43.2/Catalyst/Action.pm line 368
	Catalyst::Action::dispatch(Catalyst::Action=HASH(0x5ef3e0130bb8), ComponentUI=HASH(0x5ef3e0360578)) called at /home/sand/src/perl/repoperls/installed-perls/host/k93jammy/v5.43.2/6567/lib/site_perl/5.43.2/Catalyst/Dispatcher.pm line 261
	Catalyst::Dispatcher::_do_forward(Catalyst::Dispatcher=HASH(0x5ef3db432c40), "forward", ComponentUI=HASH(0x5ef3e0360578), "_END") called at /home/sand/src/perl/repoperls/installed-perls/host/k93jammy/v5.43.2/6567/lib/site_perl/5.43.2/Catalyst/Dispatcher.pm line 241
	Catalyst::Dispatcher::forward(Catalyst::Dispatcher=HASH(0x5ef3db432c40), ComponentUI=HASH(0x5ef3e0360578), "_END") called at /home/sand/src/perl/repoperls/installed-perls/host/k93jammy/v5.43.2/6567/lib/site_perl/5.43.2/Catalyst.pm line 489
	Catalyst::forward(ComponentUI=HASH(0x5ef3e0360578), "_END") called at /home/sand/src/perl/repoperls/installed-perls/host/k93jammy/v5.43.2/6567/lib/site_perl/5.43.2/Catalyst/Controller.pm line 137
	Catalyst::Controller::_DISPATCH(ComponentUI::Controller::TestModel::Baz=HASH(0x5ef3e0335ff0), ComponentUI=HASH(0x5ef3e0360578)) called at /home/sand/src/perl/repoperls/installed-perls/host/k93jammy/v5.43.2/6567/lib/site_perl/5.43.2/Catalyst/Action.pm line 374
	Catalyst::Action::execute(Catalyst::Action=HASH(0x5ef3e01334d0), ComponentUI::Controller::TestModel::Baz=HASH(0x5ef3e0335ff0), ComponentUI=HASH(0x5ef3e0360578)) called at /home/sand/src/perl/repoperls/installed-perls/host/k93jammy/v5.43.2/6567/lib/site_perl/5.43.2/Catalyst.pm line 2067
	eval {...} called at /home/sand/src/perl/repoperls/installed-perls/host/k93jammy/v5.43.2/6567/lib/site_perl/5.43.2/Catalyst.pm line 2067
	Catalyst::execute(ComponentUI=HASH(0x5ef3e0360578), "ComponentUI::Controller::TestModel::Baz", Catalyst::Action=HASH(0x5ef3e01334d0)) called at /home/sand/src/perl/repoperls/installed-perls/host/k93jammy/v5.43.2/6567/lib/site_perl/5.43.2/Catalyst/Action.pm line 368
	Catalyst::Action::dispatch(Catalyst::Action=HASH(0x5ef3e01334d0), ComponentUI=HASH(0x5ef3e0360578)) called at /home/sand/src/perl/repoperls/installed-perls/host/k93jammy/v5.43.2/6567/lib/site_perl/5.43.2/Catalyst/Dispatcher.pm line 261
	Catalyst::Dispatcher::_do_forward(Catalyst::Dispatcher=HASH(0x5ef3db432c40), "forward", ComponentUI=HASH(0x5ef3e0360578), "/testmodel/baz/_DISPATCH") called at /home/sand/src/perl/repoperls/installed-perls/host/k93jammy/v5.43.2/6567/lib/site_perl/5.43.2/Catalyst/Dispatcher.pm line 241
	Catalyst::Dispatcher::forward(Catalyst::Dispatcher=HASH(0x5ef3db432c40), ComponentUI=HASH(0x5ef3e0360578), "/testmodel/baz/_DISPATCH") called at /home/sand/src/perl/repoperls/installed-perls/host/k93jammy/v5.43.2/6567/lib/site_perl/5.43.2/Catalyst.pm line 489
	Catalyst::forward(ComponentUI=HASH(0x5ef3e0360578), "/testmodel/baz/_DISPATCH") called at /home/sand/src/perl/repoperls/installed-perls/host/k93jammy/v5.43.2/6567/lib/site_perl/5.43.2/Catalyst/Dispatcher.pm line 107
	Catalyst::Dispatcher::dispatch(Catalyst::Dispatcher=HASH(0x5ef3db432c40), ComponentUI=HASH(0x5ef3e0360578)) called at /home/sand/src/perl/repoperls/installed-perls/host/k93jammy/v5.43.2/6567/lib/site_perl/5.43.2/Catalyst.pm line 2013
	Catalyst::dispatch(ComponentUI=HASH(0x5ef3e0360578)) called at /home/sand/src/perl/repoperls/installed-perls/host/k93jammy/v5.43.2/6567/lib/site_perl/5.43.2/Catalyst/Plugin/Static/Simple.pm line 85
	Class::MOP::Class:::around(CODE(0x5ef3db8d0a40), ComponentUI=HASH(0x5ef3e0360578)) called at /home/sand/src/perl/repoperls/installed-perls/host/k93jammy/v5.43.2/6567/lib/site_perl/5.43.2/x86_64-linux/Class/MOP/Method/Wrapped.pm line 166
	ComponentUI::_wrapped_dispatch(ComponentUI=HASH(0x5ef3e0360578)) called at /home/sand/src/perl/repoperls/installed-perls/host/k93jammy/v5.43.2/6567/lib/site_perl/5.43.2/x86_64-linux/Class/MOP/Method/Wrapped.pm line 97
	ComponentUI::dispatch(ComponentUI=HASH(0x5ef3e0360578)) called at /home/sand/src/perl/repoperls/installed-perls/host/k93jammy/v5.43.2/6567/lib/site_perl/5.43.2/Catalyst.pm line 2419
	Catalyst::try {...} () called at /home/sand/src/perl/repoperls/installed-perls/host/k93jammy/v5.43.2/6567/lib/site_perl/5.43.2/Try/Tiny.pm line 102
	eval {...} called at /home/sand/src/perl/repoperls/installed-perls/host/k93jammy/v5.43.2/6567/lib/site_perl/5.43.2/Try/Tiny.pm line 93
	Try::Tiny::try(CODE(0x5ef3e035feb8), Try::Tiny::Catch=REF(0x5ef3e0337698)) called at /home/sand/src/perl/repoperls/installed-perls/host/k93jammy/v5.43.2/6567/lib/site_perl/5.43.2/Catalyst.pm line 2428
	Catalyst::handle_request("ComponentUI", "env", HASH(0x5ef3e035b420), "response_cb", CODE(0x5ef3e03376f8)) called at /home/sand/src/perl/repoperls/installed-perls/host/k93jammy/v5.43.2/6567/lib/site_perl/5.43.2/Catalyst/Engine.pm line 808
	Catalyst::Engine::__ANON__(CODE(0x5ef3e03376f8)) called at /home/sand/src/perl/repoperls/installed-perls/host/k93jammy/v5.43.2/6567/lib/site_perl/5.43.2/Plack/Middleware/HTTPExceptions.pm line 32
	Plack::Middleware::HTTPExceptions::try {...} () called at /home/sand/src/perl/repoperls/installed-perls/host/k93jammy/v5.43.2/6567/lib/site_perl/5.43.2/Try/Tiny.pm line 102
	eval {...} called at /home/sand/src/perl/repoperls/installed-perls/host/k93jammy/v5.43.2/6567/lib/site_perl/5.43.2/Try/Tiny.pm line 93
	Try::Tiny::try(CODE(0x5ef3e0337530), Try::Tiny::Catch=REF(0x5ef3e0336d80)) called at /home/sand/src/perl/repoperls/installed-perls/host/k93jammy/v5.43.2/6567/lib/site_perl/5.43.2/Plack/Middleware/HTTPExceptions.pm line 41
	Plack::Middleware::HTTPExceptions::__ANON__(CODE(0x5ef3e0336930)) called at /home/sand/src/perl/repoperls/installed-perls/host/k93jammy/v5.43.2/6567/lib/site_perl/5.43.2/Plack/Util.pm line 339
	Plack::Util::__ANON__(CODE(0x5ef3e035b318)) called at /home/sand/src/perl/repoperls/installed-perls/host/k93jammy/v5.43.2/6567/lib/site_perl/5.43.2/Plack/Util.pm line 339
	Plack::Util::__ANON__(CODE(0x5ef3e035afa0)) called at /home/sand/src/perl/repoperls/installed-perls/host/k93jammy/v5.43.2/6567/lib/site_perl/5.43.2/Plack/Util.pm line 339
	Plack::Util::__ANON__(CODE(0x5ef3e032c5d8)) called at /home/sand/src/perl/repoperls/installed-perls/host/k93jammy/v5.43.2/6567/lib/site_perl/5.43.2/HTTP/Message/PSGI.pm line 100
	HTTP::Message::PSGI::res_from_psgi(CODE(0x5ef3e03372d8)) called at /home/sand/src/perl/repoperls/installed-perls/host/k93jammy/v5.43.2/6567/lib/site_perl/5.43.2/HTTP/Message/PSGI.pm line 157
	HTTP::Response::from_psgi("HTTP::Response", CODE(0x5ef3e03372d8)) called at /home/sand/src/perl/repoperls/installed-perls/host/k93jammy/v5.43.2/6567/lib/site_perl/5.43.2/Plack/Test/MockHTTP.pm line 24
	Plack::Test::MockHTTP::try {...} () called at /home/sand/src/perl/repoperls/installed-perls/host/k93jammy/v5.43.2/6567/lib/site_perl/5.43.2/Try/Tiny.pm line 100
	eval {...} called at /home/sand/src/perl/repoperls/installed-perls/host/k93jammy/v5.43.2/6567/lib/site_perl/5.43.2/Try/Tiny.pm line 93
	Try::Tiny::try(CODE(0x5ef3e0323ef0), Try::Tiny::Catch=REF(0x5ef3e0223680)) called at /home/sand/src/perl/repoperls/installed-perls/host/k93jammy/v5.43.2/6567/lib/site_perl/5.43.2/Plack/Test/MockHTTP.pm line 27
	Plack::Test::MockHTTP::request(Plack::Test::MockHTTP=HASH(0x5ef3e0327dc8), HTTP::Request=HASH(0x5ef3e02f0038)) called at /home/sand/src/perl/repoperls/installed-perls/host/k93jammy/v5.43.2/6567/lib/site_perl/5.43.2/Plack/Test.pm line 38
	Plack::Test::__ANON__(HTTP::Request=HASH(0x5ef3e02f0038)) called at /home/sand/src/perl/repoperls/installed-perls/host/k93jammy/v5.43.2/6567/lib/site_perl/5.43.2/Catalyst/Test.pm line 290
	Catalyst::Test::__ANON__(CODE(0x5ef3e0327d50)) called at /home/sand/src/perl/repoperls/installed-perls/host/k93jammy/v5.43.2/6567/lib/site_perl/5.43.2/Plack/Test.pm line 38
	Plack::Test::test_psgi("app", CODE(0x5ef3e0327918), "mangle_response", CODE(0x5ef3dad815d8), "app", CODE(0x5ef3e03278e8), "client", CODE(0x5ef3e0327be8)) called at /home/sand/src/perl/repoperls/installed-perls/host/k93jammy/v5.43.2/6567/lib/site_perl/5.43.2/Catalyst/Test.pm line 293
	Catalyst::Test::_request(HASH(0x5ef3e0323a88), HTTP::Request=HASH(0x5ef3e02f0038)) called at /home/sand/src/perl/repoperls/installed-perls/host/k93jammy/v5.43.2/6567/lib/site_perl/5.43.2/Catalyst/Test.pm line 336
	Catalyst::Test::_local_request("ComponentUI", HTTP::Request=HASH(0x5ef3e02f0038)) called at /home/sand/src/perl/repoperls/installed-perls/host/k93jammy/v5.43.2/6567/lib/site_perl/5.43.2/Test/WWW/Mechanize/Catalyst.pm line 176
	Test::WWW::Mechanize::Catalyst::_do_catalyst_request(Test::WWW::Mechanize::Catalyst=HASH(0x5ef3d8cd29e8), HTTP::Request=HASH(0x5ef3e02f0038)) called at /home/sand/src/perl/repoperls/installed-perls/host/k93jammy/v5.43.2/6567/lib/site_perl/5.43.2/Test/WWW/Mechanize/Catalyst.pm line 78
	Test::WWW::Mechanize::Catalyst::_make_request(Test::WWW::Mechanize::Catalyst=HASH(0x5ef3d8cd29e8), HTTP::Request=HASH(0x5ef3e02f0038)) called at /home/sand/src/perl/repoperls/installed-perls/host/k93jammy/v5.43.2/6567/lib/site_perl/5.43.2/WWW/Mechanize.pm line 1534
	WWW::Mechanize::request(Test::WWW::Mechanize::Catalyst=HASH(0x5ef3d8cd29e8), HTTP::Request=HASH(0x5ef3e02f0038)) called at /home/sand/src/perl/repoperls/installed-perls/host/k93jammy/v5.43.2/6567/lib/site_perl/5.43.2/LWP/UserAgent.pm line 454
	LWP::UserAgent::get(Test::WWW::Mechanize::Catalyst=HASH(0x5ef3d8cd29e8), "http://localhost/testmodel/baz/id/1/update") called at /home/sand/src/perl/repoperls/installed-perls/host/k93jammy/v5.43.2/6567/lib/site_perl/5.43.2/WWW/Mechanize.pm line 124
	WWW::Mechanize::get(Test::WWW::Mechanize::Catalyst=HASH(0x5ef3d8cd29e8), "http://localhost/testmodel/baz/id/1/update") called at /home/sand/src/perl/repoperls/installed-perls/host/k93jammy/v5.43.2/6567/lib/site_perl/5.43.2/Test/WWW/Mechanize.pm line 192
	Test::WWW::Mechanize::get_ok(Test::WWW::Mechanize::Catalyst=HASH(0x5ef3d8cd29e8), "http://localhost/testmodel/baz/id/1/update") called at t/uncheck_bool_field.t line 9
Class::MOP::is_class_loaded is deprecated at /home/sand/src/perl/repoperls/installed-perls/host/k93jammy/v5.43.2/6567/lib/site_perl/5.43.2/x86_64-linux/Class/MOP.pm line 87.
	Class::MOP::is_class_loaded("ComponentUI::UI::Widget::SiteLayout") called at /tmp/loop_over_bdir-1721494-QTfThW/Reaction-0.002005-0/blib/lib/Reaction/UI/Skin.pm line 178
	Reaction::UI::Skin::widget_class_for(Reaction::UI::Skin=HASH(0x5ef3e07b9378), Reaction::UI::LayoutSet::TT=HASH(0x5ef3e080ddb0)) called at /tmp/loop_over_bdir-1721494-QTfThW/Reaction-0.002005-0/blib/lib/Reaction/UI/LayoutSet.pm line 29
	Reaction::UI::LayoutSet::BUILD(Reaction::UI::LayoutSet::TT=HASH(0x5ef3e080ddb0), HASH(0x5ef3e080dd98)) called at constructor Reaction::UI::LayoutSet::TT::new (defined at /tmp/loop_over_bdir-1721494-QTfThW/Reaction-0.002005-0/blib/lib/Reaction/UI/LayoutSet/TT.pm line 43) line 80
	Reaction::UI::LayoutSet::TT::new("Reaction::UI::LayoutSet::TT", "name", "site_layout", "skin", Reaction::UI::Skin=HASH(0x5ef3e07b9378), "tt_object", Template=HASH(0x5ef3dca4b128), "source_file", ...) called at /tmp/loop_over_bdir-1721494-QTfThW/Reaction-0.002005-0/blib/lib/Reaction/UI/Skin.pm line 115
	Reaction::UI::Skin::_create_layout_set(Reaction::UI::Skin=HASH(0x5ef3e07b9378), "site_layout", ARRAY(0x5ef3e0816e00), Reaction::UI::Skin=HASH(0x5ef3e07b9378)) called at /tmp/loop_over_bdir-1721494-QTfThW/Reaction-0.002005-0/blib/lib/Reaction/UI/Skin.pm line 110
	Reaction::UI::Skin::create_layout_set(Reaction::UI::Skin=HASH(0x5ef3e07b9378), "site_layout") called at /tmp/loop_over_bdir-1721494-QTfThW/Reaction-0.002005-0/blib/lib/Reaction/UI/LayoutSet.pm line 83
	Reaction::UI::LayoutSet::_load_file(Reaction::UI::LayoutSet::TT=HASH(0x5ef3e0087a18), Path::Class::File=HASH(0x5ef3e07aacd8), HASH(0x5ef3e07c23a8)) called at /tmp/loop_over_bdir-1721494-QTfThW/Reaction-0.002005-0/blib/lib/Reaction/UI/LayoutSet.pm line 27
	Reaction::UI::LayoutSet::BUILD(Reaction::UI::LayoutSet::TT=HASH(0x5ef3e0087a18), HASH(0x5ef3e07c23a8)) called at constructor Reaction::UI::LayoutSet::TT::new (defined at /tmp/loop_over_bdir-1721494-QTfThW/Reaction-0.002005-0/blib/lib/Reaction/UI/LayoutSet/TT.pm line 43) line 80
	Reaction::UI::LayoutSet::TT::new("Reaction::UI::LayoutSet::TT", "name", "site_layout", "skin", Reaction::UI::Skin=HASH(0x5ef3e07b8ef8), "next_skin", Reaction::UI::Skin=HASH(0x5ef3e07b9378), "tt_object", ...) called at /tmp/loop_over_bdir-1721494-QTfThW/Reaction-0.002005-0/blib/lib/Reaction/UI/Skin.pm line 115
	Reaction::UI::Skin::_create_layout_set(Reaction::UI::Skin=HASH(0x5ef3e07b8ef8), "site_layout", ARRAY(0x5ef3e07aacf0), Reaction::UI::Skin=HASH(0x5ef3e07b8ef8)) called at /tmp/loop_over_bdir-1721494-QTfThW/Reaction-0.002005-0/blib/lib/Reaction/UI/Skin.pm line 110
	Reaction::UI::Skin::create_layout_set(Reaction::UI::Skin=HASH(0x5ef3e07b8ef8), "site_layout") called at /tmp/loop_over_bdir-1721494-QTfThW/Reaction-0.002005-0/blib/lib/Reaction/UI/LayoutSet.pm line 83
	Reaction::UI::LayoutSet::_load_file(Reaction::UI::LayoutSet::TT=HASH(0x5ef3e0581da8), Path::Class::File=HASH(0x5ef3e079bcf8), HASH(0x5ef3e07b0080)) called at /tmp/loop_over_bdir-1721494-QTfThW/Reaction-0.002005-0/blib/lib/Reaction/UI/LayoutSet.pm line 27
	Reaction::UI::LayoutSet::BUILD(Reaction::UI::LayoutSet::TT=HASH(0x5ef3e0581da8), HASH(0x5ef3e07b0080)) called at constructor Reaction::UI::LayoutSet::TT::new (defined at /tmp/loop_over_bdir-1721494-QTfThW/Reaction-0.002005-0/blib/lib/Reaction/UI/LayoutSet/TT.pm line 43) line 80
	Reaction::UI::LayoutSet::TT::new("Reaction::UI::LayoutSet::TT", "name", "site_layout", "skin", Reaction::UI::Skin=HASH(0x5ef3e079bf68), "next_skin", Reaction::UI::Skin=HASH(0x5ef3e07b8ef8), "tt_object", ...) called at /tmp/loop_over_bdir-1721494-QTfThW/Reaction-0.002005-0/blib/lib/Reaction/UI/Skin.pm line 115
	Reaction::UI::Skin::_create_layout_set(Reaction::UI::Skin=HASH(0x5ef3e079bf68), "site_layout", ARRAY(0x5ef3dbec96d0), Reaction::UI::Skin=HASH(0x5ef3e079bf68)) called at /tmp/loop_over_bdir-1721494-QTfThW/Reaction-0.002005-0/blib/lib/Reaction/UI/Skin.pm line 110
	Reaction::UI::Skin::create_layout_set(Reaction::UI::Skin=HASH(0x5ef3e079bf68), "site_layout") called at inline delegation in Reaction::UI::View for skin->create_layout_set (attribute declared in /tmp/loop_over_bdir-1721494-QTfThW/Reaction-0.002005-0/blib/lib/Reaction/UI/View.pm at line 22) line 18
	Reaction::UI::View::create_layout_set(ComponentUI::View::Site=HASH(0x5ef3dc5524b8), "site_layout") called at /tmp/loop_over_bdir-1721494-QTfThW/Reaction-0.002005-0/blib/lib/Reaction/UI/View.pm line 99
	Reaction::UI::View::layout_set_for(ComponentUI::View::Site=HASH(0x5ef3dc5524b8), Reaction::UI::ViewPort::SiteLayout=HASH(0x5ef3e0375190)) called at /tmp/loop_over_bdir-1721494-QTfThW/Reaction-0.002005-0/blib/lib/Reaction/UI/View.pm line 78
	Reaction::UI::View::render_viewport_args(ComponentUI::View::Site=HASH(0x5ef3dc5524b8), Reaction::UI::ViewPort::SiteLayout=HASH(0x5ef3e0375190)) called at /tmp/loop_over_bdir-1721494-QTfThW/Reaction-0.002005-0/blib/lib/Reaction/UI/View.pm line 61
	Reaction::UI::View::render_window(ComponentUI::View::Site=HASH(0x5ef3dc5524b8), Reaction::UI::Window=HASH(0x5ef3e0374938)) called at /tmp/loop_over_bdir-1721494-QTfThW/Reaction-0.002005-0/blib/lib/Reaction/UI/Window.pm line 74
	Reaction::UI::Window::flush_view(Reaction::UI::Window=HASH(0x5ef3e0374938)) called at /tmp/loop_over_bdir-1721494-QTfThW/Reaction-0.002005-0/blib/lib/Reaction/UI/Window.pm line 36
	Reaction::UI::Window::flush(Reaction::UI::Window=HASH(0x5ef3e0374938)) called at /tmp/loop_over_bdir-1721494-QTfThW/Reaction-0.002005-0/blib/lib/Reaction/UI/Controller/Root.pm line 38
	Reaction::UI::Controller::Root::end(ComponentUI::Controller::Root=HASH(0x5ef3e0374a40), ComponentUI=HASH(0x5ef3e0360578)) called at /home/sand/src/perl/repoperls/installed-perls/host/k93jammy/v5.43.2/6567/lib/site_perl/5.43.2/Catalyst/Action.pm line 374
	Catalyst::Action::execute(Catalyst::Action=HASH(0x5ef3e0075158), ComponentUI::Controller::Root=HASH(0x5ef3e0374a40), ComponentUI=HASH(0x5ef3e0360578)) called at /home/sand/src/perl/repoperls/installed-perls/host/k93jammy/v5.43.2/6567/lib/site_perl/5.43.2/Catalyst.pm line 2067
	eval {...} called at /home/sand/src/perl/repoperls/installed-perls/host/k93jammy/v5.43.2/6567/lib/site_perl/5.43.2/Catalyst.pm line 2067
	Catalyst::execute(ComponentUI=HASH(0x5ef3e0360578), "ComponentUI::Controller::Root", Catalyst::Action=HASH(0x5ef3e0075158)) called at /home/sand/src/perl/repoperls/installed-perls/host/k93jammy/v5.43.2/6567/lib/site_perl/5.43.2/Catalyst/Action.pm line 368
	Catalyst::Action::dispatch(Catalyst::Action=HASH(0x5ef3e0075158), ComponentUI=HASH(0x5ef3e0360578)) called at /home/sand/src/perl/repoperls/installed-perls/host/k93jammy/v5.43.2/6567/lib/site_perl/5.43.2/Catalyst/Controller.pm line 188
	Catalyst::Controller::_END(ComponentUI::Controller::TestModel::Baz=HASH(0x5ef3e0335ff0), ComponentUI=HASH(0x5ef3e0360578)) called at /home/sand/src/perl/repoperls/installed-perls/host/k93jammy/v5.43.2/6567/lib/site_perl/5.43.2/Catalyst/Action.pm line 374
	Catalyst::Action::execute(Catalyst::Action=HASH(0x5ef3e0130bb8), ComponentUI::Controller::TestModel::Baz=HASH(0x5ef3e0335ff0), ComponentUI=HASH(0x5ef3e0360578)) called at /home/sand/src/perl/repoperls/installed-perls/host/k93jammy/v5.43.2/6567/lib/site_perl/5.43.2/Catalyst.pm line 2067
	eval {...} called at /home/sand/src/perl/repoperls/installed-perls/host/k93jammy/v5.43.2/6567/lib/site_perl/5.43.2/Catalyst.pm line 2067
	Catalyst::execute(ComponentUI=HASH(0x5ef3e0360578), "ComponentUI::Controller::TestModel::Baz", Catalyst::Action=HASH(0x5ef3e0130bb8)) called at /home/sand/src/perl/repoperls/installed-perls/host/k93jammy/v5.43.2/6567/lib/site_perl/5.43.2/Catalyst/Action.pm line 368
	Catalyst::Action::dispatch(Catalyst::Action=HASH(0x5ef3e0130bb8), ComponentUI=HASH(0x5ef3e0360578)) called at /home/sand/src/perl/repoperls/installed-perls/host/k93jammy/v5.43.2/6567/lib/site_perl/5.43.2/Catalyst/Dispatcher.pm line 261
	Catalyst::Dispatcher::_do_forward(Catalyst::Dispatcher=HASH(0x5ef3db432c40), "forward", ComponentUI=HASH(0x5ef3e0360578), "_END") called at /home/sand/src/perl/repoperls/installed-perls/host/k93jammy/v5.43.2/6567/lib/site_perl/5.43.2/Catalyst/Dispatcher.pm line 241
	Catalyst::Dispatcher::forward(Catalyst::Dispatcher=HASH(0x5ef3db432c40), ComponentUI=HASH(0x5ef3e0360578), "_END") called at /home/sand/src/perl/repoperls/installed-perls/host/k93jammy/v5.43.2/6567/lib/site_perl/5.43.2/Catalyst.pm line 489
	Catalyst::forward(ComponentUI=HASH(0x5ef3e0360578), "_END") called at /home/sand/src/perl/repoperls/installed-perls/host/k93jammy/v5.43.2/6567/lib/site_perl/5.43.2/Catalyst/Controller.pm line 137
	Catalyst::Controller::_DISPATCH(ComponentUI::Controller::TestModel::Baz=HASH(0x5ef3e0335ff0), ComponentUI=HASH(0x5ef3e0360578)) called at /home/sand/src/perl/repoperls/installed-perls/host/k93jammy/v5.43.2/6567/lib/site_perl/5.43.2/Catalyst/Action.pm line 374
	Catalyst::Action::execute(Catalyst::Action=HASH(0x5ef3e01334d0), ComponentUI::Controller::TestModel::Baz=HASH(0x5ef3e0335ff0), ComponentUI=HASH(0x5ef3e0360578)) called at /home/sand/src/perl/repoperls/installed-perls/host/k93jammy/v5.43.2/6567/lib/site_perl/5.43.2/Catalyst.pm line 2067
	eval {...} called at /home/sand/src/perl/repoperls/installed-perls/host/k93jammy/v5.43.2/6567/lib/site_perl/5.43.2/Catalyst.pm line 2067
	Catalyst::execute(ComponentUI=HASH(0x5ef3e0360578), "ComponentUI::Controller::TestModel::Baz", Catalyst::Action=HASH(0x5ef3e01334d0)) called at /home/sand/src/perl/repoperls/installed-perls/host/k93jammy/v5.43.2/6567/lib/site_perl/5.43.2/Catalyst/Action.pm line 368
	Catalyst::Action::dispatch(Catalyst::Action=HASH(0x5ef3e01334d0), ComponentUI=HASH(0x5ef3e0360578)) called at /home/sand/src/perl/repoperls/installed-perls/host/k93jammy/v5.43.2/6567/lib/site_perl/5.43.2/Catalyst/Dispatcher.pm line 261
	Catalyst::Dispatcher::_do_forward(Catalyst::Dispatcher=HASH(0x5ef3db432c40), "forward", ComponentUI=HASH(0x5ef3e0360578), "/testmodel/baz/_DISPATCH") called at /home/sand/src/perl/repoperls/installed-perls/host/k93jammy/v5.43.2/6567/lib/site_perl/5.43.2/Catalyst/Dispatcher.pm line 241
	Catalyst::Dispatcher::forward(Catalyst::Dispatcher=HASH(0x5ef3db432c40), ComponentUI=HASH(0x5ef3e0360578), "/testmodel/baz/_DISPATCH") called at /home/sand/src/perl/repoperls/installed-perls/host/k93jammy/v5.43.2/6567/lib/site_perl/5.43.2/Catalyst.pm line 489
	Catalyst::forward(ComponentUI=HASH(0x5ef3e0360578), "/testmodel/baz/_DISPATCH") called at /home/sand/src/perl/repoperls/installed-perls/host/k93jammy/v5.43.2/6567/lib/site_perl/5.43.2/Catalyst/Dispatcher.pm line 107
	Catalyst::Dispatcher::dispatch(Catalyst::Dispatcher=HASH(0x5ef3db432c40), ComponentUI=HASH(0x5ef3e0360578)) called at /home/sand/src/perl/repoperls/installed-perls/host/k93jammy/v5.43.2/6567/lib/site_perl/5.43.2/Catalyst.pm line 2013
	Catalyst::dispatch(ComponentUI=HASH(0x5ef3e0360578)) called at /home/sand/src/perl/repoperls/installed-perls/host/k93jammy/v5.43.2/6567/lib/site_perl/5.43.2/Catalyst/Plugin/Static/Simple.pm line 85
	Class::MOP::Class:::around(CODE(0x5ef3db8d0a40), ComponentUI=HASH(0x5ef3e0360578)) called at /home/sand/src/perl/repoperls/installed-perls/host/k93jammy/v5.43.2/6567/lib/site_perl/5.43.2/x86_64-linux/Class/MOP/Method/Wrapped.pm line 166
	ComponentUI::_wrapped_dispatch(ComponentUI=HASH(0x5ef3e0360578)) called at /home/sand/src/perl/repoperls/installed-perls/host/k93jammy/v5.43.2/6567/lib/site_perl/5.43.2/x86_64-linux/Class/MOP/Method/Wrapped.pm line 97
	ComponentUI::dispatch(ComponentUI=HASH(0x5ef3e0360578)) called at /home/sand/src/perl/repoperls/installed-perls/host/k93jammy/v5.43.2/6567/lib/site_perl/5.43.2/Catalyst.pm line 2419
	Catalyst::try {...} () called at /home/sand/src/perl/repoperls/installed-perls/host/k93jammy/v5.43.2/6567/lib/site_perl/5.43.2/Try/Tiny.pm line 102
	eval {...} called at /home/sand/src/perl/repoperls/installed-perls/host/k93jammy/v5.43.2/6567/lib/site_perl/5.43.2/Try/Tiny.pm line 93
	Try::Tiny::try(CODE(0x5ef3e035feb8), Try::Tiny::Catch=REF(0x5ef3e0337698)) called at /home/sand/src/perl/repoperls/installed-perls/host/k93jammy/v5.43.2/6567/lib/site_perl/5.43.2/Catalyst.pm line 2428
	Catalyst::handle_request("ComponentUI", "env", HASH(0x5ef3e035b420), "response_cb", CODE(0x5ef3e03376f8)) called at /home/sand/src/perl/repoperls/installed-perls/host/k93jammy/v5.43.2/6567/lib/site_perl/5.43.2/Catalyst/Engine.pm line 808
	Catalyst::Engine::__ANON__(CODE(0x5ef3e03376f8)) called at /home/sand/src/perl/repoperls/installed-perls/host/k93jammy/v5.43.2/6567/lib/site_perl/5.43.2/Plack/Middleware/HTTPExceptions.pm line 32
	Plack::Middleware::HTTPExceptions::try {...} () called at /home/sand/src/perl/repoperls/installed-perls/host/k93jammy/v5.43.2/6567/lib/site_perl/5.43.2/Try/Tiny.pm line 102
	eval {...} called at /home/sand/src/perl/repoperls/installed-perls/host/k93jammy/v5.43.2/6567/lib/site_perl/5.43.2/Try/Tiny.pm line 93
	Try::Tiny::try(CODE(0x5ef3e0337530), Try::Tiny::Catch=REF(0x5ef3e0336d80)) called at /home/sand/src/perl/repoperls/installed-perls/host/k93jammy/v5.43.2/6567/lib/site_perl/5.43.2/Plack/Middleware/HTTPExceptions.pm line 41
	Plack::Middleware::HTTPExceptions::__ANON__(CODE(0x5ef3e0336930)) called at /home/sand/src/perl/repoperls/installed-perls/host/k93jammy/v5.43.2/6567/lib/site_perl/5.43.2/Plack/Util.pm line 339
	Plack::Util::__ANON__(CODE(0x5ef3e035b318)) called at /home/sand/src/perl/repoperls/installed-perls/host/k93jammy/v5.43.2/6567/lib/site_perl/5.43.2/Plack/Util.pm line 339
	Plack::Util::__ANON__(CODE(0x5ef3e035afa0)) called at /home/sand/src/perl/repoperls/installed-perls/host/k93jammy/v5.43.2/6567/lib/site_perl/5.43.2/Plack/Util.pm line 339
	Plack::Util::__ANON__(CODE(0x5ef3e032c5d8)) called at /home/sand/src/perl/repoperls/installed-perls/host/k93jammy/v5.43.2/6567/lib/site_perl/5.43.2/HTTP/Message/PSGI.pm line 100
	HTTP::Message::PSGI::res_from_psgi(CODE(0x5ef3e03372d8)) called at /home/sand/src/perl/repoperls/installed-perls/host/k93jammy/v5.43.2/6567/lib/site_perl/5.43.2/HTTP/Message/PSGI.pm line 157
	HTTP::Response::from_psgi("HTTP::Response", CODE(0x5ef3e03372d8)) called at /home/sand/src/perl/repoperls/installed-perls/host/k93jammy/v5.43.2/6567/lib/site_perl/5.43.2/Plack/Test/MockHTTP.pm line 24
	Plack::Test::MockHTTP::try {...} () called at /home/sand/src/perl/repoperls/installed-perls/host/k93jammy/v5.43.2/6567/lib/site_perl/5.43.2/Try/Tiny.pm line 100
	eval {...} called at /home/sand/src/perl/repoperls/installed-perls/host/k93jammy/v5.43.2/6567/lib/site_perl/5.43.2/Try/Tiny.pm line 93
	Try::Tiny::try(CODE(0x5ef3e0323ef0), Try::Tiny::Catch=REF(0x5ef3e0223680)) called at /home/sand/src/perl/repoperls/installed-perls/host/k93jammy/v5.43.2/6567/lib/site_perl/5.43.2/Plack/Test/MockHTTP.pm line 27
	Plack::Test::MockHTTP::request(Plack::Test::MockHTTP=HASH(0x5ef3e0327dc8), HTTP::Request=HASH(0x5ef3e02f0038)) called at /home/sand/src/perl/repoperls/installed-perls/host/k93jammy/v5.43.2/6567/lib/site_perl/5.43.2/Plack/Test.pm line 38
	Plack::Test::__ANON__(HTTP::Request=HASH(0x5ef3e02f0038)) called at /home/sand/src/perl/repoperls/installed-perls/host/k93jammy/v5.43.2/6567/lib/site_perl/5.43.2/Catalyst/Test.pm line 290
	Catalyst::Test::__ANON__(CODE(0x5ef3e0327d50)) called at /home/sand/src/perl/repoperls/installed-perls/host/k93jammy/v5.43.2/6567/lib/site_perl/5.43.2/Plack/Test.pm line 38
	Plack::Test::test_psgi("app", CODE(0x5ef3e0327918), "mangle_response", CODE(0x5ef3dad815d8), "app", CODE(0x5ef3e03278e8), "client", CODE(0x5ef3e0327be8)) called at /home/sand/src/perl/repoperls/installed-perls/host/k93jammy/v5.43.2/6567/lib/site_perl/5.43.2/Catalyst/Test.pm line 293
	Catalyst::Test::_request(HASH(0x5ef3e0323a88), HTTP::Request=HASH(0x5ef3e02f0038)) called at /home/sand/src/perl/repoperls/installed-perls/host/k93jammy/v5.43.2/6567/lib/site_perl/5.43.2/Catalyst/Test.pm line 336
	Catalyst::Test::_local_request("ComponentUI", HTTP::Request=HASH(0x5ef3e02f0038)) called at /home/sand/src/perl/repoperls/installed-perls/host/k93jammy/v5.43.2/6567/lib/site_perl/5.43.2/Test/WWW/Mechanize/Catalyst.pm line 176
	Test::WWW::Mechanize::Catalyst::_do_catalyst_request(Test::WWW::Mechanize::Catalyst=HASH(0x5ef3d8cd29e8), HTTP::Request=HASH(0x5ef3e02f0038)) called at /home/sand/src/perl/repoperls/installed-perls/host/k93jammy/v5.43.2/6567/lib/site_perl/5.43.2/Test/WWW/Mechanize/Catalyst.pm line 78
	Test::WWW::Mechanize::Catalyst::_make_request(Test::WWW::Mechanize::Catalyst=HASH(0x5ef3d8cd29e8), HTTP::Request=HASH(0x5ef3e02f0038)) called at /home/sand/src/perl/repoperls/installed-perls/host/k93jammy/v5.43.2/6567/lib/site_perl/5.43.2/WWW/Mechanize.pm line 1534
	WWW::Mechanize::request(Test::WWW::Mechanize::Catalyst=HASH(0x5ef3d8cd29e8), HTTP::Request=HASH(0x5ef3e02f0038)) called at /home/sand/src/perl/repoperls/installed-perls/host/k93jammy/v5.43.2/6567/lib/site_perl/5.43.2/LWP/UserAgent.pm line 454
	LWP::UserAgent::get(Test::WWW::Mechanize::Catalyst=HASH(0x5ef3d8cd29e8), "http://localhost/testmodel/baz/id/1/update") called at /home/sand/src/perl/repoperls/installed-perls/host/k93jammy/v5.43.2/6567/lib/site_perl/5.43.2/WWW/Mechanize.pm line 124
	WWW::Mechanize::get(Test::WWW::Mechanize::Catalyst=HASH(0x5ef3d8cd29e8), "http://localhost/testmodel/baz/id/1/update") called at /home/sand/src/perl/repoperls/installed-perls/host/k93jammy/v5.43.2/6567/lib/site_perl/5.43.2/Test/WWW/Mechanize.pm line 192
	Test::WWW::Mechanize::get_ok(Test::WWW::Mechanize::Catalyst=HASH(0x5ef3d8cd29e8), "http://localhost/testmodel/baz/id/1/update") called at t/uncheck_bool_field.t line 9
Class::MOP::load_class is deprecated at /home/sand/src/perl/repoperls/installed-perls/host/k93jammy/v5.43.2/6567/lib/site_perl/5.43.2/x86_64-linux/Class/MOP.pm line 69.
	Class::MOP::load_class("Reaction::UI::Widget::SiteLayout") called at /tmp/loop_over_bdir-1721494-QTfThW/Reaction-0.002005-0/blib/lib/Reaction/UI/Skin.pm line 181
	eval {...} called at /tmp/loop_over_bdir-1721494-QTfThW/Reaction-0.002005-0/blib/lib/Reaction/UI/Skin.pm line 181
	Reaction::UI::Skin::widget_class_for(Reaction::UI::Skin=HASH(0x5ef3e07b9378), Reaction::UI::LayoutSet::TT=HASH(0x5ef3e080ddb0)) called at /tmp/loop_over_bdir-1721494-QTfThW/Reaction-0.002005-0/blib/lib/Reaction/UI/LayoutSet.pm line 29
	Reaction::UI::LayoutSet::BUILD(Reaction::UI::LayoutSet::TT=HASH(0x5ef3e080ddb0), HASH(0x5ef3e080dd98)) called at constructor Reaction::UI::LayoutSet::TT::new (defined at /tmp/loop_over_bdir-1721494-QTfThW/Reaction-0.002005-0/blib/lib/Reaction/UI/LayoutSet/TT.pm line 43) line 80
	Reaction::UI::LayoutSet::TT::new("Reaction::UI::LayoutSet::TT", "name", "site_layout", "skin", Reaction::UI::Skin=HASH(0x5ef3e07b9378), "tt_object", Template=HASH(0x5ef3dca4b128), "source_file", ...) called at /tmp/loop_over_bdir-1721494-QTfThW/Reaction-0.002005-0/blib/lib/Reaction/UI/Skin.pm line 115
	Reaction::UI::Skin::_create_layout_set(Reaction::UI::Skin=HASH(0x5ef3e07b9378), "site_layout", ARRAY(0x5ef3e0816e00), Reaction::UI::Skin=HASH(0x5ef3e07b9378)) called at /tmp/loop_over_bdir-1721494-QTfThW/Reaction-0.002005-0/blib/lib/Reaction/UI/Skin.pm line 110
	Reaction::UI::Skin::create_layout_set(Reaction::UI::Skin=HASH(0x5ef3e07b9378), "site_layout") called at /tmp/loop_over_bdir-1721494-QTfThW/Reaction-0.002005-0/blib/lib/Reaction/UI/LayoutSet.pm line 83
	Reaction::UI::LayoutSet::_load_file(Reaction::UI::LayoutSet::TT=HASH(0x5ef3e0087a18), Path::Class::File=HASH(0x5ef3e07aacd8), HASH(0x5ef3e07c23a8)) called at /tmp/loop_over_bdir-1721494-QTfThW/Reaction-0.002005-0/blib/lib/Reaction/UI/LayoutSet.pm line 27
	Reaction::UI::LayoutSet::BUILD(Reaction::UI::LayoutSet::TT=HASH(0x5ef3e0087a18), HASH(0x5ef3e07c23a8)) called at constructor Reaction::UI::LayoutSet::TT::new (defined at /tmp/loop_over_bdir-1721494-QTfThW/Reaction-0.002005-0/blib/lib/Reaction/UI/LayoutSet/TT.pm line 43) line 80
	Reaction::UI::LayoutSet::TT::new("Reaction::UI::LayoutSet::TT", "name", "site_layout", "skin", Reaction::UI::Skin=HASH(0x5ef3e07b8ef8), "next_skin", Reaction::UI::Skin=HASH(0x5ef3e07b9378), "tt_object", ...) called at /tmp/loop_over_bdir-1721494-QTfThW/Reaction-0.002005-0/blib/lib/Reaction/UI/Skin.pm line 115
	Reaction::UI::Skin::_create_layout_set(Reaction::UI::Skin=HASH(0x5ef3e07b8ef8), "site_layout", ARRAY(0x5ef3e07aacf0), Reaction::UI::Skin=HASH(0x5ef3e07b8ef8)) called at /tmp/loop_over_bdir-1721494-QTfThW/Reaction-0.002005-0/blib/lib/Reaction/UI/Skin.pm line 110
	Reaction::UI::Skin::create_layout_set(Reaction::UI::Skin=HASH(0x5ef3e07b8ef8), "site_layout") called at /tmp/loop_over_bdir-1721494-QTfThW/Reaction-0.002005-0/blib/lib/Reaction/UI/LayoutSet.pm line 83
	Reaction::UI::LayoutSet::_load_file(Reaction::UI::LayoutSet::TT=HASH(0x5ef3e0581da8), Path::Class::File=HASH(0x5ef3e079bcf8), HASH(0x5ef3e07b0080)) called at /tmp/loop_over_bdir-1721494-QTfThW/Reaction-0.002005-0/blib/lib/Reaction/UI/LayoutSet.pm line 27
	Reaction::UI::LayoutSet::BUILD(Reaction::UI::LayoutSet::TT=HASH(0x5ef3e0581da8), HASH(0x5ef3e07b0080)) called at constructor Reaction::UI::LayoutSet::TT::new (defined at /tmp/loop_over_bdir-1721494-QTfThW/Reaction-0.002005-0/blib/lib/Reaction/UI/LayoutSet/TT.pm line 43) line 80
	Reaction::UI::LayoutSet::TT::new("Reaction::UI::LayoutSet::TT", "name", "site_layout", "skin", Reaction::UI::Skin=HASH(0x5ef3e079bf68), "next_skin", Reaction::UI::Skin=HASH(0x5ef3e07b8ef8), "tt_object", ...) called at /tmp/loop_over_bdir-1721494-QTfThW/Reaction-0.002005-0/blib/lib/Reaction/UI/Skin.pm line 115
	Reaction::UI::Skin::_create_layout_set(Reaction::UI::Skin=HASH(0x5ef3e079bf68), "site_layout", ARRAY(0x5ef3dbec96d0), Reaction::UI::Skin=HASH(0x5ef3e079bf68)) called at /tmp/loop_over_bdir-1721494-QTfThW/Reaction-0.002005-0/blib/lib/Reaction/UI/Skin.pm line 110
	Reaction::UI::Skin::create_layout_set(Reaction::UI::Skin=HASH(0x5ef3e079bf68), "site_layout") called at inline delegation in Reaction::UI::View for skin->create_layout_set (attribute declared in /tmp/loop_over_bdir-1721494-QTfThW/Reaction-0.002005-0/blib/lib/Reaction/UI/View.pm at line 22) line 18
	Reaction::UI::View::create_layout_set(ComponentUI::View::Site=HASH(0x5ef3dc5524b8), "site_layout") called at /tmp/loop_over_bdir-1721494-QTfThW/Reaction-0.002005-0/blib/lib/Reaction/UI/View.pm line 99
	Reaction::UI::View::layout_set_for(ComponentUI::View::Site=HASH(0x5ef3dc5524b8), Reaction::UI::ViewPort::SiteLayout=HASH(0x5ef3e0375190)) called at /tmp/loop_over_bdir-1721494-QTfThW/Reaction-0.002005-0/blib/lib/Reaction/UI/View.pm line 78
	Reaction::UI::View::render_viewport_args(ComponentUI::View::Site=HASH(0x5ef3dc5524b8), Reaction::UI::ViewPort::SiteLayout=HASH(0x5ef3e0375190)) called at /tmp/loop_over_bdir-1721494-QTfThW/Reaction-0.002005-0/blib/lib/Reaction/UI/View.pm line 61
	Reaction::UI::View::render_window(ComponentUI::View::Site=HASH(0x5ef3dc5524b8), Reaction::UI::Window=HASH(0x5ef3e0374938)) called at /tmp/loop_over_bdir-1721494-QTfThW/Reaction-0.002005-0/blib/lib/Reaction/UI/Window.pm line 74
	Reaction::UI::Window::flush_view(Reaction::UI::Window=HASH(0x5ef3e0374938)) called at /tmp/loop_over_bdir-1721494-QTfThW/Reaction-0.002005-0/blib/lib/Reaction/UI/Window.pm line 36
	Reaction::UI::Window::flush(Reaction::UI::Window=HASH(0x5ef3e0374938)) called at /tmp/loop_over_bdir-1721494-QTfThW/Reaction-0.002005-0/blib/lib/Reaction/UI/Controller/Root.pm line 38
	Reaction::UI::Controller::Root::end(ComponentUI::Controller::Root=HASH(0x5ef3e0374a40), ComponentUI=HASH(0x5ef3e0360578)) called at /home/sand/src/perl/repoperls/installed-perls/host/k93jammy/v5.43.2/6567/lib/site_perl/5.43.2/Catalyst/Action.pm line 374
	Catalyst::Action::execute(Catalyst::Action=HASH(0x5ef3e0075158), ComponentUI::Controller::Root=HASH(0x5ef3e0374a40), ComponentUI=HASH(0x5ef3e0360578)) called at /home/sand/src/perl/repoperls/installed-perls/host/k93jammy/v5.43.2/6567/lib/site_perl/5.43.2/Catalyst.pm line 2067
	eval {...} called at /home/sand/src/perl/repoperls/installed-perls/host/k93jammy/v5.43.2/6567/lib/site_perl/5.43.2/Catalyst.pm line 2067
	Catalyst::execute(ComponentUI=HASH(0x5ef3e0360578), "ComponentUI::Controller::Root", Catalyst::Action=HASH(0x5ef3e0075158)) called at /home/sand/src/perl/repoperls/installed-perls/host/k93jammy/v5.43.2/6567/lib/site_perl/5.43.2/Catalyst/Action.pm line 368
	Catalyst::Action::dispatch(Catalyst::Action=HASH(0x5ef3e0075158), ComponentUI=HASH(0x5ef3e0360578)) called at /home/sand/src/perl/repoperls/installed-perls/host/k93jammy/v5.43.2/6567/lib/site_perl/5.43.2/Catalyst/Controller.pm line 188
	Catalyst::Controller::_END(ComponentUI::Controller::TestModel::Baz=HASH(0x5ef3e0335ff0), ComponentUI=HASH(0x5ef3e0360578)) called at /home/sand/src/perl/repoperls/installed-perls/host/k93jammy/v5.43.2/6567/lib/site_perl/5.43.2/Catalyst/Action.pm line 374
	Catalyst::Action::execute(Catalyst::Action=HASH(0x5ef3e0130bb8), ComponentUI::Controller::TestModel::Baz=HASH(0x5ef3e0335ff0), ComponentUI=HASH(0x5ef3e0360578)) called at /home/sand/src/perl/repoperls/installed-perls/host/k93jammy/v5.43.2/6567/lib/site_perl/5.43.2/Catalyst.pm line 2067
	eval {...} called at /home/sand/src/perl/repoperls/installed-perls/host/k93jammy/v5.43.2/6567/lib/site_perl/5.43.2/Catalyst.pm line 2067
	Catalyst::execute(ComponentUI=HASH(0x5ef3e0360578), "ComponentUI::Controller::TestModel::Baz", Catalyst::Action=HASH(0x5ef3e0130bb8)) called at /home/sand/src/perl/repoperls/installed-perls/host/k93jammy/v5.43.2/6567/lib/site_perl/5.43.2/Catalyst/Action.pm line 368
	Catalyst::Action::dispatch(Catalyst::Action=HASH(0x5ef3e0130bb8), ComponentUI=HASH(0x5ef3e0360578)) called at /home/sand/src/perl/repoperls/installed-perls/host/k93jammy/v5.43.2/6567/lib/site_perl/5.43.2/Catalyst/Dispatcher.pm line 261
	Catalyst::Dispatcher::_do_forward(Catalyst::Dispatcher=HASH(0x5ef3db432c40), "forward", ComponentUI=HASH(0x5ef3e0360578), "_END") called at /home/sand/src/perl/repoperls/installed-perls/host/k93jammy/v5.43.2/6567/lib/site_perl/5.43.2/Catalyst/Dispatcher.pm line 241
	Catalyst::Dispatcher::forward(Catalyst::Dispatcher=HASH(0x5ef3db432c40), ComponentUI=HASH(0x5ef3e0360578), "_END") called at /home/sand/src/perl/repoperls/installed-perls/host/k93jammy/v5.43.2/6567/lib/site_perl/5.43.2/Catalyst.pm line 489
	Catalyst::forward(ComponentUI=HASH(0x5ef3e0360578), "_END") called at /home/sand/src/perl/repoperls/installed-perls/host/k93jammy/v5.43.2/6567/lib/site_perl/5.43.2/Catalyst/Controller.pm line 137
	Catalyst::Controller::_DISPATCH(ComponentUI::Controller::TestModel::Baz=HASH(0x5ef3e0335ff0), ComponentUI=HASH(0x5ef3e0360578)) called at /home/sand/src/perl/repoperls/installed-perls/host/k93jammy/v5.43.2/6567/lib/site_perl/5.43.2/Catalyst/Action.pm line 374
	Catalyst::Action::execute(Catalyst::Action=HASH(0x5ef3e01334d0), ComponentUI::Controller::TestModel::Baz=HASH(0x5ef3e0335ff0), ComponentUI=HASH(0x5ef3e0360578)) called at /home/sand/src/perl/repoperls/installed-perls/host/k93jammy/v5.43.2/6567/lib/site_perl/5.43.2/Catalyst.pm line 2067
	eval {...} called at /home/sand/src/perl/repoperls/installed-perls/host/k93jammy/v5.43.2/6567/lib/site_perl/5.43.2/Catalyst.pm line 2067
	Catalyst::execute(ComponentUI=HASH(0x5ef3e0360578), "ComponentUI::Controller::TestModel::Baz", Catalyst::Action=HASH(0x5ef3e01334d0)) called at /home/sand/src/perl/repoperls/installed-perls/host/k93jammy/v5.43.2/6567/lib/site_perl/5.43.2/Catalyst/Action.pm line 368
	Catalyst::Action::dispatch(Catalyst::Action=HASH(0x5ef3e01334d0), ComponentUI=HASH(0x5ef3e0360578)) called at /home/sand/src/perl/repoperls/installed-perls/host/k93jammy/v5.43.2/6567/lib/site_perl/5.43.2/Catalyst/Dispatcher.pm line 261
	Catalyst::Dispatcher::_do_forward(Catalyst::Dispatcher=HASH(0x5ef3db432c40), "forward", ComponentUI=HASH(0x5ef3e0360578), "/testmodel/baz/_DISPATCH") called at /home/sand/src/perl/repoperls/installed-perls/host/k93jammy/v5.43.2/6567/lib/site_perl/5.43.2/Catalyst/Dispatcher.pm line 241
	Catalyst::Dispatcher::forward(Catalyst::Dispatcher=HASH(0x5ef3db432c40), ComponentUI=HASH(0x5ef3e0360578), "/testmodel/baz/_DISPATCH") called at /home/sand/src/perl/repoperls/installed-perls/host/k93jammy/v5.43.2/6567/lib/site_perl/5.43.2/Catalyst.pm line 489
	Catalyst::forward(ComponentUI=HASH(0x5ef3e0360578), "/testmodel/baz/_DISPATCH") called at /home/sand/src/perl/repoperls/installed-perls/host/k93jammy/v5.43.2/6567/lib/site_perl/5.43.2/Catalyst/Dispatcher.pm line 107
	Catalyst::Dispatcher::dispatch(Catalyst::Dispatcher=HASH(0x5ef3db432c40), ComponentUI=HASH(0x5ef3e0360578)) called at /home/sand/src/perl/repoperls/installed-perls/host/k93jammy/v5.43.2/6567/lib/site_perl/5.43.2/Catalyst.pm line 2013
	Catalyst::dispatch(ComponentUI=HASH(0x5ef3e0360578)) called at /home/sand/src/perl/repoperls/installed-perls/host/k93jammy/v5.43.2/6567/lib/site_perl/5.43.2/Catalyst/Plugin/Static/Simple.pm line 85
	Class::MOP::Class:::around(CODE(0x5ef3db8d0a40), ComponentUI=HASH(0x5ef3e0360578)) called at /home/sand/src/perl/repoperls/installed-perls/host/k93jammy/v5.43.2/6567/lib/site_perl/5.43.2/x86_64-linux/Class/MOP/Method/Wrapped.pm line 166
	ComponentUI::_wrapped_dispatch(ComponentUI=HASH(0x5ef3e0360578)) called at /home/sand/src/perl/repoperls/installed-perls/host/k93jammy/v5.43.2/6567/lib/site_perl/5.43.2/x86_64-linux/Class/MOP/Method/Wrapped.pm line 97
	ComponentUI::dispatch(ComponentUI=HASH(0x5ef3e0360578)) called at /home/sand/src/perl/repoperls/installed-perls/host/k93jammy/v5.43.2/6567/lib/site_perl/5.43.2/Catalyst.pm line 2419
	Catalyst::try {...} () called at /home/sand/src/perl/repoperls/installed-perls/host/k93jammy/v5.43.2/6567/lib/site_perl/5.43.2/Try/Tiny.pm line 102
	eval {...} called at /home/sand/src/perl/repoperls/installed-perls/host/k93jammy/v5.43.2/6567/lib/site_perl/5.43.2/Try/Tiny.pm line 93
	Try::Tiny::try(CODE(0x5ef3e035feb8), Try::Tiny::Catch=REF(0x5ef3e0337698)) called at /home/sand/src/perl/repoperls/installed-perls/host/k93jammy/v5.43.2/6567/lib/site_perl/5.43.2/Catalyst.pm line 2428
	Catalyst::handle_request("ComponentUI", "env", HASH(0x5ef3e035b420), "response_cb", CODE(0x5ef3e03376f8)) called at /home/sand/src/perl/repoperls/installed-perls/host/k93jammy/v5.43.2/6567/lib/site_perl/5.43.2/Catalyst/Engine.pm line 808
	Catalyst::Engine::__ANON__(CODE(0x5ef3e03376f8)) called at /home/sand/src/perl/repoperls/installed-perls/host/k93jammy/v5.43.2/6567/lib/site_perl/5.43.2/Plack/Middleware/HTTPExceptions.pm line 32
	Plack::Middleware::HTTPExceptions::try {...} () called at /home/sand/src/perl/repoperls/installed-perls/host/k93jammy/v5.43.2/6567/lib/site_perl/5.43.2/Try/Tiny.pm line 102
	eval {...} called at /home/sand/src/perl/repoperls/installed-perls/host/k93jammy/v5.43.2/6567/lib/site_perl/5.43.2/Try/Tiny.pm line 93
	Try::Tiny::try(CODE(0x5ef3e0337530), Try::Tiny::Catch=REF(0x5ef3e0336d80)) called at /home/sand/src/perl/repoperls/installed-perls/host/k93jammy/v5.43.2/6567/lib/site_perl/5.43.2/Plack/Middleware/HTTPExceptions.pm line 41
	Plack::Middleware::HTTPExceptions::__ANON__(CODE(0x5ef3e0336930)) called at /home/sand/src/perl/repoperls/installed-perls/host/k93jammy/v5.43.2/6567/lib/site_perl/5.43.2/Plack/Util.pm line 339
	Plack::Util::__ANON__(CODE(0x5ef3e035b318)) called at /home/sand/src/perl/repoperls/installed-perls/host/k93jammy/v5.43.2/6567/lib/site_perl/5.43.2/Plack/Util.pm line 339
	Plack::Util::__ANON__(CODE(0x5ef3e035afa0)) called at /home/sand/src/perl/repoperls/installed-perls/host/k93jammy/v5.43.2/6567/lib/site_perl/5.43.2/Plack/Util.pm line 339
	Plack::Util::__ANON__(CODE(0x5ef3e032c5d8)) called at /home/sand/src/perl/repoperls/installed-perls/host/k93jammy/v5.43.2/6567/lib/site_perl/5.43.2/HTTP/Message/PSGI.pm line 100
	HTTP::Message::PSGI::res_from_psgi(CODE(0x5ef3e03372d8)) called at /home/sand/src/perl/repoperls/installed-perls/host/k93jammy/v5.43.2/6567/lib/site_perl/5.43.2/HTTP/Message/PSGI.pm line 157
	HTTP::Response::from_psgi("HTTP::Response", CODE(0x5ef3e03372d8)) called at /home/sand/src/perl/repoperls/installed-perls/host/k93jammy/v5.43.2/6567/lib/site_perl/5.43.2/Plack/Test/MockHTTP.pm line 24
	Plack::Test::MockHTTP::try {...} () called at /home/sand/src/perl/repoperls/installed-perls/host/k93jammy/v5.43.2/6567/lib/site_perl/5.43.2/Try/Tiny.pm line 100
	eval {...} called at /home/sand/src/perl/repoperls/installed-perls/host/k93jammy/v5.43.2/6567/lib/site_perl/5.43.2/Try/Tiny.pm line 93
	Try::Tiny::try(CODE(0x5ef3e0323ef0), Try::Tiny::Catch=REF(0x5ef3e0223680)) called at /home/sand/src/perl/repoperls/installed-perls/host/k93jammy/v5.43.2/6567/lib/site_perl/5.43.2/Plack/Test/MockHTTP.pm line 27
	Plack::Test::MockHTTP::request(Plack::Test::MockHTTP=HASH(0x5ef3e0327dc8), HTTP::Request=HASH(0x5ef3e02f0038)) called at /home/sand/src/perl/repoperls/installed-perls/host/k93jammy/v5.43.2/6567/lib/site_perl/5.43.2/Plack/Test.pm line 38
	Plack::Test::__ANON__(HTTP::Request=HASH(0x5ef3e02f0038)) called at /home/sand/src/perl/repoperls/installed-perls/host/k93jammy/v5.43.2/6567/lib/site_perl/5.43.2/Catalyst/Test.pm line 290
	Catalyst::Test::__ANON__(CODE(0x5ef3e0327d50)) called at /home/sand/src/perl/repoperls/installed-perls/host/k93jammy/v5.43.2/6567/lib/site_perl/5.43.2/Plack/Test.pm line 38
	Plack::Test::test_psgi("app", CODE(0x5ef3e0327918), "mangle_response", CODE(0x5ef3dad815d8), "app", CODE(0x5ef3e03278e8), "client", CODE(0x5ef3e0327be8)) called at /home/sand/src/perl/repoperls/installed-perls/host/k93jammy/v5.43.2/6567/lib/site_perl/5.43.2/Catalyst/Test.pm line 293
	Catalyst::Test::_request(HASH(0x5ef3e0323a88), HTTP::Request=HASH(0x5ef3e02f0038)) called at /home/sand/src/perl/repoperls/installed-perls/host/k93jammy/v5.43.2/6567/lib/site_perl/5.43.2/Catalyst/Test.pm line 336
	Catalyst::Test::_local_request("ComponentUI", HTTP::Request=HASH(0x5ef3e02f0038)) called at /home/sand/src/perl/repoperls/installed-perls/host/k93jammy/v5.43.2/6567/lib/site_perl/5.43.2/Test/WWW/Mechanize/Catalyst.pm line 176
	Test::WWW::Mechanize::Catalyst::_do_catalyst_request(Test::WWW::Mechanize::Catalyst=HASH(0x5ef3d8cd29e8), HTTP::Request=HASH(0x5ef3e02f0038)) called at /home/sand/src/perl/repoperls/installed-perls/host/k93jammy/v5.43.2/6567/lib/site_perl/5.43.2/Test/WWW/Mechanize/Catalyst.pm line 78
	Test::WWW::Mechanize::Catalyst::_make_request(Test::WWW::Mechanize::Catalyst=HASH(0x5ef3d8cd29e8), HTTP::Request=HASH(0x5ef3e02f0038)) called at /home/sand/src/perl/repoperls/installed-perls/host/k93jammy/v5.43.2/6567/lib/site_perl/5.43.2/WWW/Mechanize.pm line 1534
	WWW::Mechanize::request(Test::WWW::Mechanize::Catalyst=HASH(0x5ef3d8cd29e8), HTTP::Request=HASH(0x5ef3e02f0038)) called at /home/sand/src/perl/repoperls/installed-perls/host/k93jammy/v5.43.2/6567/lib/site_perl/5.43.2/LWP/UserAgent.pm line 454
	LWP::UserAgent::get(Test::WWW::Mechanize::Catalyst=HASH(0x5ef3d8cd29e8), "http://localhost/testmodel/baz/id/1/update") called at /home/sand/src/perl/repoperls/installed-perls/host/k93jammy/v5.43.2/6567/lib/site_perl/5.43.2/WWW/Mechanize.pm line 124
	WWW::Mechanize::get(Test::WWW::Mechanize::Catalyst=HASH(0x5ef3d8cd29e8), "http://localhost/testmodel/baz/id/1/update") called at /home/sand/src/perl/repoperls/installed-perls/host/k93jammy/v5.43.2/6567/lib/site_perl/5.43.2/Test/WWW/Mechanize.pm line 192
	Test::WWW::Mechanize::get_ok(Test::WWW::Mechanize::Catalyst=HASH(0x5ef3d8cd29e8), "http://localhost/testmodel/baz/id/1/update") called at t/uncheck_bool_field.t line 9
t/uncheck_bool_field.t ...... ok
All tests successful.
Files=9, Tests=604, 14 wallclock secs ( 0.08 usr  0.03 sys + 11.59 cusr  0.86 csys = 12.56 CPU)
Result: PASS

------------------------------
PREREQUISITES
------------------------------

Prerequisite modules loaded:

requires:

    Module                                  Need      Have    
    --------------------------------------- --------- --------
    aliased                                 0.22      0.34    
    Catalyst                                5.80002   5.90132 
    Catalyst::Component::ACCEPT_CONTEXT     0.05      0.07    
    Catalyst::Component::InstancePerContext 0.001001  0.001001
    Catalyst::Model::DBIC::Schema           0.23      0.66    
    Catalyst::Plugin::ConfigLoader          0.23      0.35    
    Catalyst::Plugin::I18N                  0.09      0.10    
    Catalyst::Plugin::Static::Simple        0.21      0.37    
    Catalyst::View::TT                      0.29      0.46    
    Class::MOP                              0.81      2.4000  
    Config::General                         2.42      2.67    
    Crypt::Eksblowfish::Bcrypt              0.005     0.009   
    DateTime                                0.47      1.66    
    DateTime::Event::Recurrence             0.16      0.19    
    DateTime::Span                          0         0.3900  
    DBIx::Class                             0.08100   0.082844
    DBIx::Class::IntrospectableM2M          0.001001  0.001002
    Devel::Declare                          0.005000  0.006022
    Email::Valid                            0.181     1.204   
    ExtUtils::MakeMaker                     6.11      7.76    
    File::ShareDir                          1.00      1.118   
    File::Spec                              3.29      3.94    
    JSON                                    0         4.10    
    metaclass                               0.81      2.4000  
    Method::Signatures::Simple              0.03      1.07    
    Moose                                   0.74      2.4000  
    MooseX::MethodAttributes                0.18      0.32    
    MooseX::Role::Parameterized             0.24      1.11    
    MooseX::Types                           0.10      0.51    
    MooseX::Types::Common                   0.001000  0.001015
    MooseX::Types::DateTime                 0.03      0.13    
    MooseX::Types::URI                      0.02      0.10    
    namespace::clean                        0.11      0.27    
    Path::Class::Dir                        0         0.37    
    Path::Class::File                       0         0.37    
    perl                                    5.008001  5.043002
    Scalar::Util                            1.19      1.70    
    signatures                              0.05      0.14    
    SQL::Translator                         0.11002   1.66    
    Sub::Exporter                           0.982     0.991   
    Sub::Name                               0.04      0.28    
    Template                                2.20      3.102   
    Test::Class                             0.31      0.52    
    Test::Memory::Cycle                     1.04      1.06    
    Test::WWW::Mechanize::Catalyst          0.51      0.62    
    Time::ParseDate                         2006.0814 2015.103
    URI                                     1.37      5.32    

build_requires:

    Module                                  Need      Have    
    --------------------------------------- --------- --------
    ExtUtils::MakeMaker                     6.42      7.76    
    SQL::Translator                         0.11002   1.66    
    Test::Class                             0.31      0.52    
    Test::Memory::Cycle                     1.04      1.06    
    Test::WWW::Mechanize::Catalyst          0.51      0.62    

configure_requires:

    Module                                  Need      Have    
    --------------------------------------- --------- --------
    ExtUtils::MakeMaker                     6.42      7.76    


------------------------------
ENVIRONMENT AND OTHER CONTEXT
------------------------------

Environment variables:

    AUTOMATED_TESTING = 1
    LANG = en_US.UTF-8
    LC_ADDRESS = de_DE.UTF-8
    LC_IDENTIFICATION = de_DE.UTF-8
    LC_MEASUREMENT = de_DE.UTF-8
    LC_MONETARY = de_DE.UTF-8
    LC_NAME = de_DE.UTF-8
    LC_NUMERIC = de_DE.UTF-8
    LC_PAPER = de_DE.UTF-8
    LC_TELEPHONE = de_DE.UTF-8
    LC_TIME = de_DE.UTF-8
    PATH = /home/sand/bin:/usr/local/bin:/usr/local/sbin:/usr/sbin:/usr/bin:/sbin:/bin:/usr/games:/usr/local/games:/snap/bin:/usr/local/perl/bin:/usr/X11/bin
    PERL5LIB = /tmp/loop_over_bdir-1721494-QTfThW/shishi-0.0.1-0/blib/arch:/tmp/loop_over_bdir-1721494-QTfThW/shishi-0.0.1-0/blib/lib
    PERL5OPT = 
    PERL5_CPANPLUS_IS_RUNNING = 1721505
    PERL5_CPAN_IS_RUNNING = 1721505
    PERL_CANARY_STABILITY_NOPROMPT = 1
    PERL_MM_USE_DEFAULT = 1
    PERL_USE_UNSAFE_INC = 1
    SHELL = /usr/bin/zsh
    TERM = screen

Perl special variables (and OS-specific diagnostics, for MSWin32):

    $^X = /tmp/basesmoker-reloperl-Cfju/bin/perl
    $UID/$EUID = 1005 / 1005
    $GID = 1005 1005
    $EGID = 1005 1005

Perl module toolchain versions installed:

    Module              Have    
    ------------------- --------
    CPAN                2.38    
    CPAN::Meta          2.150010
    Cwd                 3.94    
    ExtUtils::CBuilder  0.280242
    ExtUtils::Command   7.76    
    ExtUtils::Install   2.22    
    ExtUtils::MakeMaker 7.76    
    ExtUtils::Manifest  1.75    
    ExtUtils::ParseXS   3.59    
    File::Spec          3.94    
    JSON                4.10    
    JSON::PP            4.16    
    Module::Build       0.4234  
    Module::Signature   0.93    
    Parse::CPAN::Meta   2.150010
    Test2               1.302214
    Test::Harness       3.52    
    Test::More          1.302214
    YAML                1.31    
    YAML::Syck          1.34    
    version             0.9933  


--

Summary of my perl5 (revision 5 version 43 subversion 2) configuration:
  Commit id: 7afd3f158f75d5730469889406f8f98c681d58c1
  Platform:
    osname=linux
    osvers=6.8.0-64-generic
    archname=x86_64-linux
    uname='linux k93jammy 6.8.0-64-generic #67~22.04.1-ubuntu smp preempt_dynamic tue jun 24 15:19:46 utc 2 x86_64 x86_64 x86_64 gnulinux '
    config_args='-Dprefix=/home/sand/src/perl/repoperls/installed-perls/host/k93jammy/v5.43.2/6567 -Dmyhostname=k93jammy -Dinstallusrbinperl=n -Uversiononly -Dusedevel -des -Ui_db -Dlibswanted=cl pthread socket inet nsl gdbm dbm malloc dl ld sun m crypt sec util c cposix posix ucb BSD gdbm_compat -Uuseithreads -Uuselongdouble -DEBUGGING=-g'
    hint=recommended
    useposix=true
    d_sigaction=define
    useithreads=undef
    usemultiplicity=undef
    use64bitint=define
    use64bitall=define
    uselongdouble=undef
    usemymalloc=n
    default_inc_excludes_dot=define
  Compiler:
    cc='cc'
    ccflags ='-fwrapv -fno-strict-aliasing -pipe -fstack-protector-strong -I/usr/local/include -D_LARGEFILE_SOURCE -D_FILE_OFFSET_BITS=64'
    optimize='-O2 -g'
    cppflags='-fwrapv -fno-strict-aliasing -pipe -fstack-protector-strong -I/usr/local/include'
    ccversion=''
    gccversion='11.4.0'
    gccosandvers=''
    intsize=4
    longsize=8
    ptrsize=8
    doublesize=8
    byteorder=12345678
    doublekind=3
    d_longlong=define
    longlongsize=8
    d_longdbl=define
    longdblsize=16
    longdblkind=3
    ivtype='long'
    ivsize=8
    nvtype='double'
    nvsize=8
    Off_t='off_t'
    lseeksize=8
    alignbytes=8
    prototype=define
  Linker and Libraries:
    ld='cc'
    ldflags =' -fstack-protector-strong -L/usr/local/lib'
    libpth=/usr/local/lib /usr/lib/x86_64-linux-gnu /usr/lib /usr/lib64
    libs=-lpthread -lnsl -ldl -lm -lcrypt -lutil -lc
    perllibs=-lpthread -lnsl -ldl -lm -lcrypt -lutil -lc
    libc=/lib/x86_64-linux-gnu/libc.so.6
    so=so
    useshrplib=false
    libperl=libperl.a
    gnulibc_version='2.35'
  Dynamic Linking:
    dlsrc=dl_dlopen.xs
    dlext=so
    d_dlsymun=undef
    ccdlflags='-Wl,-E'
    cccdlflags='-fPIC'
    lddlflags='-shared -O2 -g -L/usr/local/lib -fstack-protector-strong'


Characteristics of this binary (from libperl): 
  Compile-time options:
    HAS_LONG_DOUBLE
    HAS_STRTOLD
    HAS_TIMES
    PERLIO_LAYERS
    PERL_COPY_ON_WRITE
    PERL_DONT_CREATE_GVSV
    PERL_HASH_FUNC_SIPHASH13
    PERL_HASH_USE_SBOX32
    PERL_MALLOC_WRAP
    PERL_OP_PARENT
    PERL_PRESERVE_IVUV
    PERL_USE_DEVEL
    PERL_USE_SAFE_PUTENV
    USE_64_BIT_ALL
    USE_64_BIT_INT
    USE_LARGE_FILES
    USE_LOCALE
    USE_LOCALE_COLLATE
    USE_LOCALE_CTYPE
    USE_LOCALE_NUMERIC
    USE_LOCALE_TIME
    USE_PERLIO
    USE_PERL_ATOF
  Built under linux
  Compiled at Aug 25 2025 00:04:02
  %ENV:
    PERL5LIB="/tmp/loop_over_bdir-1721494-QTfThW/shishi-0.0.1-0/blib/arch:/tmp/loop_over_bdir-1721494-QTfThW/shishi-0.0.1-0/blib/lib"
    PERL5OPT=""
    PERL5_CPANPLUS_IS_RUNNING="1721505"
    PERL5_CPAN_IS_RUNNING="1721505"
    PERL_CANARY_STABILITY_NOPROMPT="1"
    PERL_MM_USE_DEFAULT="1"
    PERL_USE_UNSAFE_INC="1"
  @INC:
    /tmp/loop_over_bdir-1721494-QTfThW/shishi-0.0.1-0/blib/arch
    /tmp/loop_over_bdir-1721494-QTfThW/shishi-0.0.1-0/blib/lib
    /home/sand/src/perl/repoperls/installed-perls/host/k93jammy/v5.43.2/6567/lib/site_perl/5.43.2/x86_64-linux
    /home/sand/src/perl/repoperls/installed-perls/host/k93jammy/v5.43.2/6567/lib/site_perl/5.43.2
    /home/sand/src/perl/repoperls/installed-perls/host/k93jammy/v5.43.2/6567/lib/5.43.2/x86_64-linux
    /home/sand/src/perl/repoperls/installed-perls/host/k93jammy/v5.43.2/6567/lib/5.43.2
    .