HTTP-Upload-FlowJs v0.02 Perl 5 v5.34.3 x86_64-linux

Status
Pass
From
Slaven Rezić
Dist
HTTP-Upload-FlowJs v0.02
Platform
Perl 5 v5.34.3 x86_64-linux
Date
2024-09-08 13:28:00
ID
2b1dfe8c-6de6-11ef-a9f0-f5366e8775ea
This distribution has been tested as part of the CPAN Testers
project, supporting the Perl programming language.  See
http://wiki.cpantesters.org/ for more information or email
questions to cpan-testers-discuss@perl.org


--
Dear Max Maischein,

This is a computer-generated report for HTTP-Upload-FlowJs-0.02
on perl 5.34.3, created by CPAN-Reporter-1.2019.

Thank you for uploading your work to CPAN.  Congratulations!
All tests were successful.

Sections of this report:

    * Tester comments
    * Program output
    * Prerequisites
    * Environment and other context

------------------------------
TESTER COMMENTS
------------------------------

Additional comments from tester:

none provided

------------------------------
PROGRAM OUTPUT
------------------------------

Output from '/usr/bin/make test':

PERL_DL_NONLAZY=1 "/opt/perl-5.34.3/bin/perl" "-MExtUtils::Command::MM" "-MTest::Harness" "-e" "undef *Test::Harness::Switches; test_harness(0, 'blib/lib', 'blib/arch')" t/00-load.t t/002_http_upload_disallowedContentType.t t/003_http_upload_flowjs.t t/004_js-config.t
# Testing HTTP::Upload::FlowJs 0.02, Perl 5.034003
# Carp 1.52
# Carp::Heavy 1.52
# Class::XSAccessor 1.19
# Class::XSAccessor::Heavy 1.19
# Config 5.034003
# Data::Dumper 2.179
# Encode 3.21
# Encode::Alias 2.25
# Encode::Config 2.05
# Encode::Encoding 2.08
# Encode::MIME::Name 1.03
# Exporter 5.78
# Exporter::Heavy 5.78
# Fcntl 1.14
# File::Glob 1.33
# Filter::Simple 0.96
# Filter::Util::Call 1.6
# Filter::signatures 0.19
# HTTP::Upload::FlowJs 0.02
# IO 1.55
# IO::Handle 1.55
# JSON 4.10
# JSON::XS 4.03
# List::Util 1.63
# MIME::Detect 0.12
# MIME::Detect::Buffer <unknown>
# MIME::Detect::Type 0.12
# Method::Generate::Accessor <unknown>
# Method::Generate::Constructor <unknown>
# Moo 2.005005
# Moo::Object <unknown>
# Moo::_Utils <unknown>
# Moo::sification <unknown>
# POSIX 1.97
# PerlIO 1.11
# Scalar::Util 1.63
# SelectSaver 1.02
# Storable 3.25
# Sub::Defer 2.006008
# Sub::Quote 2.006008
# Sub::Util 1.63
# Symbol 1.09
# Test::Builder 1.302198
# Test::Builder::Formatter 1.302198
# Test::Builder::Module 1.302198
# Test::Builder::TodoDiag 1.302198
# Test::More 1.302198
# Test2::API 1.302198
# Test2::API::Context 1.302198
# Test2::API::Instance 1.302198
# Test2::API::Stack 1.302198
# Test2::Event 1.302198
# Test2::Event::Bail 1.302198
# Test2::Event::Diag 1.302198
# Test2::Event::Exception 1.302198
# Test2::Event::Fail 1.302198
# Test2::Event::Note 1.302198
# Test2::Event::Ok 1.302198
# Test2::Event::Pass 1.302198
# Test2::Event::Plan 1.302198
# Test2::Event::Skip 1.302198
# Test2::Event::Subtest 1.302198
# Test2::Event::V2 1.302198
# Test2::Event::Waiting 1.302198
# Test2::EventFacet 1.302198
# Test2::EventFacet::About 1.302198
# Test2::EventFacet::Amnesty 1.302198
# Test2::EventFacet::Assert 1.302198
# Test2::EventFacet::Control 1.302198
# Test2::EventFacet::Error 1.302198
# Test2::EventFacet::Hub 1.302198
# Test2::EventFacet::Info 1.302198
# Test2::EventFacet::Meta 1.302198
# Test2::EventFacet::Parent 1.302198
# Test2::EventFacet::Plan 1.302198
# Test2::EventFacet::Trace 1.302198
# Test2::Formatter 1.302198
# Test2::Formatter::TAP 1.302198
# Test2::Hub 1.302198
# Test2::Hub::Interceptor 1.302198
# Test2::Hub::Interceptor::Terminator 1.302198
# Test2::Hub::Subtest 1.302198
# Test2::Util 1.302198
# Test2::Util::ExternalMeta 1.302198
# Test2::Util::Facets2Legacy 1.302198
# Test2::Util::HashBase 1.302198
# Test2::Util::Trace 1.302198
# Text::Balanced 2.06
# Text::CleanFragment 0.07
# Text::Unidecode 1.30
# Tie::Hash 1.05
# Time::HiRes 1.9767
# Types::Serialiser 1.01
# XML::LibXML 2.0209
# XML::LibXML::AttributeHash 2.0209
# XML::LibXML::Boolean 2.0209
# XML::LibXML::Error 2.0209
# XML::LibXML::Literal 2.0209
# XML::LibXML::NodeList 2.0209
# XML::LibXML::Number 2.0209
# XML::LibXML::XPathContext 2.0209
# XML::SAX::Exception 1.09
# XSLoader 0.30
# XString 0.005
# attributes 0.33
# base 2.27
# bytes 1.08
# common::sense 3.75
# constant 1.33
# experimental 0.032
# feature 1.64
# integer 1.01
# mro 1.25_001
# overload 1.33
# overloading 0.02
# parent 0.238
# strict 1.12
# utf8 1.24
# vars 1.05
# version 0.9932
# version::regex 0.9932
# version::vxs 0.9932
# warnings 1.51
# warnings::register 1.04
t/00-load.t ................................ ok
t/002_http_upload_disallowedContentType.t .. ok
# Uploading sequence: 4 1 2 3
# Uploaded chunk 4
# Uploaded chunk 1
# Uploaded chunk 2
# Uploaded chunk 3
# []
# Cleaning up /var/tmp/cpansmoker-1023/2024090805/QxNtHvDtCt
t/003_http_upload_flowjs.t ................. ok
# Cleaning up /var/tmp/cpansmoker-1023/2024090805/H03h1X9cDC
t/004_js-config.t .......................... ok
All tests successful.
Files=4, Tests=96,  1 wallclock secs ( 0.03 usr  0.01 sys +  1.12 cusr  0.07 csys =  1.23 CPU)
Result: PASS

------------------------------
PREREQUISITES
------------------------------

Prerequisite modules loaded:

requires:

    Module              Need     Have    
    ------------------- -------- --------
    Carp                0        1.52    
    Data::Dumper        0        2.179   
    Filter::signatures  0.10     0.19    
    JSON                0        4.10    
    MIME::Detect        0        0.12    
    perl                5.010    5.034003
    Test::More          0        1.302198
    Text::CleanFragment 0        0.07    

build_requires:

    Module              Need     Have    
    ------------------- -------- --------
    ExtUtils::MakeMaker 0        7.70    
    Test::More          1.302007 1.302198

configure_requires:

    Module              Need     Have    
    ------------------- -------- --------
    ExtUtils::MakeMaker 0        7.70    


------------------------------
ENVIRONMENT AND OTHER CONTEXT
------------------------------

Environment variables:

    LANG = en_US.UTF-8
    PATH = /usr/local/bin:/usr/bin:/bin:/usr/local/sbin:/usr/sbin:/sbin:/home/cpansand/bin/linux-gnu:/home/cpansand/bin/sh:/home/cpansand/bin:/usr/games:/home/cpansand/devel:/home/eserte/src/srezic-misc/scripts
    PERL5LIB = /home/cpansand/.local/share/.cpan/build/2024090805/MIME-Detect-0.12-1/blib/arch:/home/cpansand/.local/share/.cpan/build/2024090805/MIME-Detect-0.12-1/blib/lib:/home/cpansand/.local/share/.cpan/build/2024090805/experimental-0.032-1/blib/arch:/home/cpansand/.local/share/.cpan/build/2024090805/experimental-0.032-1/blib/lib:/home/cpansand/.local/share/.cpan/build/2024090805/Filter-signatures-0.19-2/blib/arch:/home/cpansand/.local/share/.cpan/build/2024090805/Filter-signatures-0.19-2/blib/lib
    PERL5OPT = 
    PERL5_CPANPLUS_IS_RUNNING = 1737021
    PERL5_CPAN_IS_RUNNING = 1737021
    PERL5_CPAN_IS_RUNNING_IN_RECURSION = 1736269,1737021
    PERLDOC = -MPod::Perldoc::ToTextOverstrike
    PERL_BATCH = yes
    PERL_CANARY_STABILITY_NOPROMPT = 1
    PERL_CPAN_REPORTER_CONFIG = /var/tmp/cpansmoker-1023/2024090805/cpanreporter_000_config.ini
    PERL_EXTUTILS_AUTOINSTALL = --defaultdeps
    PERL_USE_UNSAFE_INC = 1
    SHELL = /usr/bin/zsh
    TERM = screen
    TMPDIR = /var/tmp/cpansmoker-1023/2024090805

Perl special variables (and OS-specific diagnostics, for MSWin32):

    $^X = /opt/perl-5.34.3/bin/perl
    $UID/$EUID = 1023 / 1023
    $GID = 1023 1023
    $EGID = 1023 1023

Perl module toolchain versions installed:

    Module              Have    
    ------------------- --------
    CPAN                2.28    
    CPAN::Meta          2.150010
    Cwd                 3.80    
    ExtUtils::CBuilder  0.280236
    ExtUtils::Command   7.70    
    ExtUtils::Install   2.20    
    ExtUtils::MakeMaker 7.70    
    ExtUtils::Manifest  1.75    
    ExtUtils::ParseXS   3.51    
    File::Spec          3.80    
    JSON                4.10    
    JSON::PP            4.16    
    Module::Build       0.4234  
    Module::Signature   0.88    
    Parse::CPAN::Meta   2.150010
    Test2               1.302198
    Test::Harness       3.50    
    Test::More          1.302198
    YAML                1.31    
    YAML::Syck          1.34    
    version             0.9932  


--

Summary of my perl5 (revision 5 version 34 subversion 3) configuration:
   
  Platform:
    osname=linux
    osvers=5.10.0-26-amd64
    archname=x86_64-linux
    uname='linux cloud7.bbbike.org 5.10.0-26-amd64 #1 smp debian 5.10.197-1 (2023-09-29) x86_64 gnulinux '
    config_args='-ds -e -Dprefix=/opt/perl-5.34.3 -Dcf_email=srezic@cpan.org'
    hint=recommended
    useposix=true
    d_sigaction=define
    useithreads=undef
    usemultiplicity=undef
    use64bitint=define
    use64bitall=define
    uselongdouble=undef
    usemymalloc=n
    default_inc_excludes_dot=define
  Compiler:
    cc='cc'
    ccflags ='-fwrapv -fno-strict-aliasing -pipe -fstack-protector-strong -I/usr/local/include -D_LARGEFILE_SOURCE -D_FILE_OFFSET_BITS=64 -D_FORTIFY_SOURCE=2'
    optimize='-O2'
    cppflags='-fwrapv -fno-strict-aliasing -pipe -fstack-protector-strong -I/usr/local/include'
    ccversion=''
    gccversion='10.2.1 20210110'
    gccosandvers=''
    intsize=4
    longsize=8
    ptrsize=8
    doublesize=8
    byteorder=12345678
    doublekind=3
    d_longlong=define
    longlongsize=8
    d_longdbl=define
    longdblsize=16
    longdblkind=3
    ivtype='long'
    ivsize=8
    nvtype='double'
    nvsize=8
    Off_t='off_t'
    lseeksize=8
    alignbytes=8
    prototype=define
  Linker and Libraries:
    ld='cc'
    ldflags =' -fstack-protector-strong -L/usr/local/lib'
    libpth=/usr/local/lib /usr/lib/x86_64-linux-gnu /usr/lib /usr/lib64
    libs=-lpthread -lnsl -lgdbm -ldb -ldl -lm -lcrypt -lutil -lc
    perllibs=-lpthread -lnsl -ldl -lm -lcrypt -lutil -lc
    libc=libc-2.31.so
    so=so
    useshrplib=false
    libperl=libperl.a
    gnulibc_version='2.31'
  Dynamic Linking:
    dlsrc=dl_dlopen.xs
    dlext=so
    d_dlsymun=undef
    ccdlflags='-Wl,-E'
    cccdlflags='-fPIC'
    lddlflags='-shared -O2 -L/usr/local/lib -fstack-protector-strong'


Characteristics of this binary (from libperl): 
  Compile-time options:
    HAS_TIMES
    PERLIO_LAYERS
    PERL_COPY_ON_WRITE
    PERL_DONT_CREATE_GVSV
    PERL_MALLOC_WRAP
    PERL_OP_PARENT
    PERL_PRESERVE_IVUV
    USE_64_BIT_ALL
    USE_64_BIT_INT
    USE_LARGE_FILES
    USE_LOCALE
    USE_LOCALE_COLLATE
    USE_LOCALE_CTYPE
    USE_LOCALE_NUMERIC
    USE_LOCALE_TIME
    USE_PERLIO
    USE_PERL_ATOF
  Built under linux
  Compiled at Jan  1 2024 09:35:28
  %ENV:
    PERL5LIB="/home/cpansand/.local/share/.cpan/build/2024090805/MIME-Detect-0.12-1/blib/arch:/home/cpansand/.local/share/.cpan/build/2024090805/MIME-Detect-0.12-1/blib/lib:/home/cpansand/.local/share/.cpan/build/2024090805/experimental-0.032-1/blib/arch:/home/cpansand/.local/share/.cpan/build/2024090805/experimental-0.032-1/blib/lib:/home/cpansand/.local/share/.cpan/build/2024090805/Filter-signatures-0.19-2/blib/arch:/home/cpansand/.local/share/.cpan/build/2024090805/Filter-signatures-0.19-2/blib/lib"
    PERL5OPT=""
    PERL5_CPANPLUS_IS_RUNNING="1737021"
    PERL5_CPAN_IS_RUNNING="1737021"
    PERL5_CPAN_IS_RUNNING_IN_RECURSION="1736269,1737021"
    PERLDOC="-MPod::Perldoc::ToTextOverstrike"
    PERL_BATCH="yes"
    PERL_CANARY_STABILITY_NOPROMPT="1"
    PERL_CPAN_REPORTER_CONFIG="/var/tmp/cpansmoker-1023/2024090805/cpanreporter_000_config.ini"
    PERL_EXTUTILS_AUTOINSTALL="--defaultdeps"
    PERL_USE_UNSAFE_INC="1"
  @INC:
    /home/cpansand/.local/share/.cpan/build/2024090805/MIME-Detect-0.12-1/blib/arch
    /home/cpansand/.local/share/.cpan/build/2024090805/MIME-Detect-0.12-1/blib/lib
    /home/cpansand/.local/share/.cpan/build/2024090805/experimental-0.032-1/blib/arch
    /home/cpansand/.local/share/.cpan/build/2024090805/experimental-0.032-1/blib/lib
    /home/cpansand/.local/share/.cpan/build/2024090805/Filter-signatures-0.19-2/blib/arch
    /home/cpansand/.local/share/.cpan/build/2024090805/Filter-signatures-0.19-2/blib/lib
    /opt/perl-5.34.3/lib/site_perl/5.34.3/x86_64-linux
    /opt/perl-5.34.3/lib/site_perl/5.34.3
    /opt/perl-5.34.3/lib/5.34.3/x86_64-linux
    /opt/perl-5.34.3/lib/5.34.3
    .