Git-Wrapper v0.048 Perl 5 v5.16.3 x86_64-linux-thread-multi

Status
Pass
From
Joachim Schrod
Dist
Git-Wrapper v0.048
Platform
Perl 5 v5.16.3 x86_64-linux-thread-multi
Date
2019-04-25 15:02:39
ID
2b0f9ea0-676b-11e9-8dbb-add4a649028e
This distribution has been tested as part of the CPAN Testers
project, supporting the Perl programming language.  See
http://wiki.cpantesters.org/ for more information or email
questions to cpan-testers-discuss@perl.org


--
Dear John SJ Anderson,

This is a computer-generated report for Git-Wrapper-0.048
on perl 5.16.3, created by CPAN-Reporter-1.2018.

Thank you for uploading your work to CPAN.  Congratulations!
All tests were successful.

Sections of this report:

    * Tester comments
    * Program output
    * Prerequisites
    * Environment and other context

------------------------------
TESTER COMMENTS
------------------------------

Additional comments from tester:

none provided

------------------------------
PROGRAM OUTPUT
------------------------------

Output from '/usr/bin/make test':

PERL_DL_NONLAZY=1 "/opt/perl-5.16.3/bin/perl" "-MExtUtils::Command::MM" "-MTest::Harness" "-e" "undef *Test::Harness::Switches; test_harness(0, 'blib/lib', 'blib/arch')" t/*.t
# Testing Git::Wrapper 0.048
t/00-load.t .............. ok
t/author-err.t ........... skipped: these tests are for testing by the author
t/author-pod-coverage.t .. skipped: these tests are for testing by the author
t/author-pod-syntax.t .... skipped: these tests are for testing by the author
# Testing git version: 2.11.0
t/basic.t ................ ok
t/git_binary.t ........... ok
t/parse_args.t ........... ok
# Testing git version: 2.11.0
t/path_class.t ........... ok
All tests successful.
Files=8, Tests=75,  0 wallclock secs ( 0.03 usr  0.00 sys +  0.29 cusr  0.02 csys =  0.34 CPU)
Result: PASS

------------------------------
PREREQUISITES
------------------------------

Prerequisite modules loaded:

requires:

    Module              Need Have    
    ------------------- ---- --------
    File::chdir         0    0.1010  
    File::Temp          0    0.2306  
    IPC::Cmd            0    0.76    
    IPC::Open3          0    1.12    
    overload            0    1.18    
    Scalar::Util        0    1.50    
    Sort::Versions      0    1.62    
    strict              0    1.07    
    Symbol              0    1.07    
    warnings            0    1.13    

build_requires:

    Module              Need Have    
    ------------------- ---- --------
    Cwd                 0    3.74    
    ExtUtils::MakeMaker 0    7.34    
    File::Path          0    2.08_01 
    File::Spec          0    3.74    
    File::Temp          0    0.2306  
    IO::File            0    1.39    
    POSIX               0    1.30    
    Sort::Versions      0    1.62    
    Test::Deep          0    1.128   
    Test::Exception     0    0.43    
    Test::More          0    1.302136

configure_requires:

    Module              Need Have    
    ------------------- ---- --------
    Devel::CheckBin     0    0.04    
    ExtUtils::MakeMaker 0    7.34    
    File::Spec          0    3.74    

opt_build_requires:

    Module              Need Have    
    ------------------- ---- --------
    Path::Class         0.26 0.37    


------------------------------
ENVIRONMENT AND OTHER CONTEXT
------------------------------

Environment variables:

    LANG = C
    LANGUAGE = en_US:en
    LC_CTYPE = en_US
    PATH = .:/home/schrod/bin/x86_64-linux:/home/schrod/bin:/usr/local/bin/X11:/usr/local/bin:/usr/local/sbin:/opt/JXplorer/bin:/opt/TET/bin:/opt/apache-maven/bin:/opt/eclipse-4.6/bin:/opt/eclipse.galileo/bin:/opt/java-8/bin:/opt/jboss/bin:/opt/perl-5.16.3/bin:/opt/squirrel-sql/bin:/opt/texlive/bin:/opt/xemacs/bin:/bin:/usr/bin:/usr/sbin:/sbin:/usr/games
    PERL5LIB = /software/CPAN/build/Test-Fork-0.02-0/blib/arch:/software/CPAN/build/Test-Fork-0.02-0/blib/lib
    PERL5OPT = 
    PERL5_CPANPLUS_IS_RUNNING = 5655
    PERL5_CPAN_IS_RUNNING = 5655
    PERLDOC_PAGER = less -R
    PERL_USE_UNSAFE_INC = 1
    SHELL = /bin/bash
    TERM = xterm

Perl special variables (and OS-specific diagnostics, for MSWin32):

    $^X = /opt/perl-5.16.3/bin/perl
    $UID/$EUID = 1014 / 1014
    $GID = 2000 4 201 500 504 506 507 508 1005 1016 1019 2000
    $EGID = 2000 4 201 500 504 506 507 508 1005 1016 1019 2000

Perl module toolchain versions installed:

    Module              Have    
    ------------------- --------
    CPAN                2.26    
    CPAN::Meta          2.150010
    Cwd                 3.74    
    ExtUtils::CBuilder  0.280230
    ExtUtils::Command   7.34    
    ExtUtils::Install   2.06    
    ExtUtils::MakeMaker 7.34    
    ExtUtils::Manifest  1.70    
    ExtUtils::ParseXS   3.16    
    File::Spec          3.74    
    JSON                2.97001 
    JSON::PP            2.97001 
    Module::Build       0.4224  
    Module::Signature   0.81    
    Parse::CPAN::Meta   2.150010
    Test::Harness       3.42    
    Test::More          1.302136
    YAML                1.26    
    YAML::Syck          n/a     
    version             0.99    


--

Summary of my perl5 (revision 5 version 16 subversion 3) configuration:
   
  Platform:
    osname=linux, osvers=4.9.0-6-amd64, archname=x86_64-linux-thread-multi
    uname='linux n-pussy 4.9.0-6-amd64 #1 smp debian 4.9.88-1+deb9u1 (2018-05-07) x86_64 gnulinux '
    config_args='-e'
    hint=previous, useposix=true, d_sigaction=define
    useithreads=define, usemultiplicity=define
    useperlio=define, d_sfio=undef, uselargefiles=define, usesocks=undef
    use64bitint=define, use64bitall=define, uselongdouble=undef
    usemymalloc=n, bincompat5005=undef
  Compiler:
    cc='cc', ccflags ='-D_REENTRANT -D_GNU_SOURCE -fwrapv -fno-strict-aliasing -pipe -fstack-protector -I/usr/local/include -D_LARGEFILE_SOURCE -D_FILE_OFFSET_BITS=64',
    optimize='-O2',
    cppflags='-D_REENTRANT -D_GNU_SOURCE -fwrapv -fno-strict-aliasing -pipe -fstack-protector -I/usr/local/include -D_REENTRANT -D_GNU_SOURCE -fwrapv -fno-strict-aliasing -pipe -fstack-protector -I/usr/local/include -D_LARGEFILE_SOURCE -D_FILE_OFFSET_BITS=64'
    ccversion='', gccversion='6.3.0 20170516', gccosandvers=''
    intsize=4, longsize=8, ptrsize=8, doublesize=8, byteorder=12345678
    d_longlong=define, longlongsize=8, d_longdbl=define, longdblsize=16
    ivtype='long', ivsize=8, nvtype='double', nvsize=8, Off_t='off_t', lseeksize=8
    alignbytes=8, prototype=define
  Linker and Libraries:
    ld='cc', ldflags =' -fstack-protector -L/usr/local/lib'
    libpth=/usr/local/lib /lib/x86_64-linux-gnu /lib/../lib /usr/lib/x86_64-linux-gnu /usr/lib/../lib /lib /usr/lib
    libs=-lnsl -lgdbm -ldb -ldl -lm -lcrypt -lutil -lpthread -lc -lgdbm_compat
    perllibs=-lnsl -ldl -lm -lcrypt -lutil -lpthread -lc
    libc=, so=so, useshrplib=false, libperl=libperl.a
    gnulibc_version='2.24'
  Dynamic Linking:
    dlsrc=dl_dlopen.xs, dlext=so, d_dlsymun=undef, ccdlflags='-Wl,-E'
    cccdlflags='-fPIC', lddlflags='-shared -O2 -L/usr/local/lib -fstack-protector'


Characteristics of this binary (from libperl): 
  Compile-time options: HAS_TIMES MULTIPLICITY PERLIO_LAYERS
                        PERL_DONT_CREATE_GVSV PERL_IMPLICIT_CONTEXT
                        PERL_MALLOC_WRAP PERL_PRESERVE_IVUV USE_64_BIT_ALL
                        USE_64_BIT_INT USE_ITHREADS USE_LARGE_FILES
                        USE_LOCALE USE_LOCALE_COLLATE USE_LOCALE_CTYPE
                        USE_LOCALE_NUMERIC USE_PERLIO USE_PERL_ATOF
                        USE_REENTRANT_API
  Built under linux
  Compiled at Jun 26 2018 01:03:43
  %ENV:
    PERL5LIB="/software/CPAN/build/Test-Fork-0.02-0/blib/arch:/software/CPAN/build/Test-Fork-0.02-0/blib/lib"
    PERL5OPT=""
    PERL5_CPANPLUS_IS_RUNNING="5655"
    PERL5_CPAN_IS_RUNNING="5655"
    PERLDOC_PAGER="less -R"
    PERL_USE_UNSAFE_INC="1"
  @INC:
    /software/CPAN/build/Test-Fork-0.02-0/blib/arch
    /software/CPAN/build/Test-Fork-0.02-0/blib/lib
    /opt/perl-5.16.3/lib/site_perl/5.16.3/x86_64-linux-thread-multi
    /opt/perl-5.16.3/lib/site_perl/5.16.3
    /opt/perl-5.16.3/lib/5.16.3/x86_64-linux-thread-multi
    /opt/perl-5.16.3/lib/5.16.3
    .