Report for Dist-Zilla-Plugin-CheckLib-0.006

Back
From: metabase:user:314402c4-2aae-11df-837a-5e0a49663a4f
Subject: PASS Dist-Zilla-Plugin-CheckLib-0.006 v5.22.2 GNU/Linux
Date: 2017-02-04T19:00:17Z

This distribution has been tested as part of the CPAN Testers
project, supporting the Perl programming language.  See
http://wiki.cpantesters.org/ for more information or email
questions to cpan-testers-discuss@perl.org


--
Dear Karen Etheridge,

This is a computer-generated report for Dist-Zilla-Plugin-CheckLib-0.006
on perl 5.22.2, created by CPAN-Reporter-1.2018.

Thank you for uploading your work to CPAN.  Congratulations!
All tests were successful.

Sections of this report:

    * Tester comments
    * Program output
    * Prerequisites
    * Environment and other context

------------------------------
TESTER COMMENTS
------------------------------

Additional comments from tester:

none provided

------------------------------
PROGRAM OUTPUT
------------------------------

Output from '/usr/bin/make test':

PERL_DL_NONLAZY=1 "/opt/perl-5.22.2/bin/perl5.22.2" "-MExtUtils::Command::MM" "-MTest::Harness" "-e" "undef *Test::Harness::Switches; test_harness(0, 'blib/lib', 'blib/arch')" t/*.t
# 
# Versions for all modules listed in MYMETA.json (including optional ones):
# 
# === Configure Requires ===
# 
#     Module              Want Have
#     ------------------- ---- ----
#     ExtUtils::MakeMaker  any 7.24
# 
# === Build Requires ===
# 
#     Module              Want Have
#     ------------------- ---- ----
#     ExtUtils::MakeMaker  any 7.24
# 
# === Test Requires ===
# 
#     Module              Want     Have
#     ------------------- ---- --------
#     ExtUtils::MakeMaker  any     7.24
#     File::Spec           any     3.62
#     Path::Tiny           any    0.100
#     Test::DZil           any    6.008
#     Test::Deep           any    1.126
#     Test::Fatal          any    0.014
#     Test::More           any 1.302075
#     Test::Requires       any     0.10
#     if                   any   0.0606
# 
# === Test Recommends ===
# 
#     Module         Want     Have
#     ---------- -------- --------
#     CPAN::Meta 2.120900 2.150010
# 
# === Runtime Requires ===
# 
#     Module                                             Want   Have
#     ---------------------------------------------- -------- ------
#     Devel::CheckLib                                     any   1.07
#     Dist::Zilla::Plugin::MetaResources             4.300039  6.008
#     Dist::Zilla::Plugin::ModuleBuildTiny              0.007  0.015
#     Dist::Zilla::Plugin::ModuleBuildTiny::Fallback    0.006  0.023
#     Dist::Zilla::Role::FileMunger                       any  6.008
#     Dist::Zilla::Role::InstallTool                      any  6.008
#     Dist::Zilla::Role::PrereqSource                     any  6.008
#     Moose                                               any 2.2000
#     Scalar::Util                                        any   1.47
#     namespace::autoclean                                any   0.28
#     strict                                              any   1.09
#     warnings                                            any   1.34
# 
# === Other Modules ===
# 
#     Module                                         Want     Have
#     ---------------------------------------------- ---- --------
#     CPAN::Meta::Validator                           any 2.150010
#     Dist::Zilla::Plugin::MakeMaker                  any    6.008
#     Dist::Zilla::Plugin::MakeMaker::Awesome         any     0.38
#     Dist::Zilla::Plugin::MakeMaker::Fallback        any    0.023
#     Dist::Zilla::Plugin::ModuleBuildTiny            any    0.015
#     Dist::Zilla::Plugin::ModuleBuildTiny::Fallback  any    0.023
#     ExtUtils::MakeMaker                             any     7.24
#     Module::Build                                   any   0.4220
#     Module::Build::Tiny                             any    0.039
# 
t/00-report-prereqs.t ............ ok
t/01-basic.t ..................... ok
t/02-module-build.t .............. ok
t/03-module-build-tiny.t ......... ok
t/04-makemaker-awesome.t ......... ok
t/05-makemaker-fallback.t ........ ok
t/06-modulebuildtiny-fallback.t .. ok
All tests successful.
Files=7, Tests=31, 13 wallclock secs ( 0.10 usr  0.04 sys + 11.89 cusr  1.24 csys = 13.27 CPU)
Result: PASS

------------------------------
PREREQUISITES
------------------------------

Prerequisite modules loaded:

requires:

    Module                                         Need     Have    
    ---------------------------------------------- -------- --------
    Devel::CheckLib                                0        1.07    
    Dist::Zilla::Plugin::MetaResources             4.300039 6.008   
    Dist::Zilla::Plugin::ModuleBuildTiny           0.007    0.015   
    Dist::Zilla::Plugin::ModuleBuildTiny::Fallback 0.006    0.023   
    Dist::Zilla::Role::FileMunger                  0        6.008   
    Dist::Zilla::Role::InstallTool                 0        6.008   
    Dist::Zilla::Role::PrereqSource                0        6.008   
    Moose                                          0        2.2000  
    namespace::autoclean                           0        0.28    
    perl                                           5.009005 5.022002
    Scalar::Util                                   0        1.47    
    strict                                         0        1.09    
    warnings                                       0        1.34    

build_requires:

    Module                                         Need     Have    
    ---------------------------------------------- -------- --------
    ExtUtils::MakeMaker                            0        7.24    
    File::Spec                                     0        3.62    
    if                                             0        0.0606  
    Path::Tiny                                     0        0.100   
    Test::Deep                                     0        1.126   
    Test::DZil                                     0        6.008   
    Test::Fatal                                    0        0.014   
    Test::More                                     0        1.302075
    Test::Requires                                 0        0.10    

configure_requires:

    Module                                         Need     Have    
    ---------------------------------------------- -------- --------
    ExtUtils::MakeMaker                            0        7.24    
    perl                                           5.006    5.022002

opt_build_requires:

    Module                                         Need     Have    
    ---------------------------------------------- -------- --------
    CPAN::Meta                                     2.120900 2.150010


------------------------------
ENVIRONMENT AND OTHER CONTEXT
------------------------------

Environment variables:

    LANG = en_US.UTF-8
    PATH = /usr/local/bin:/usr/bin:/bin:/usr/local/sbin:/usr/sbin:/sbin:/home/cpansand/bin/linux-gnu:/home/cpansand/bin/sh:/home/cpansand/bin:/usr/games:/home/cpansand/devel:/home/eserte/src/srezic-misc/scripts
    PERL5LIB = 
    PERL5OPT = 
    PERL5_CPANPLUS_IS_RUNNING = 13412
    PERL5_CPAN_IS_RUNNING = 13412
    PERL5_CPAN_IS_RUNNING_IN_RECURSION = 32048,13412
    PERLDOC = -MPod::Perldoc::ToTextOverstrike
    PERL_BATCH = yes
    PERL_CANARY_STABILITY_NOPROMPT = 1
    PERL_CPAN_REPORTER_CONFIG = /var/tmp/cpansmoker-1002/2017020318/cpanreporter_000_config.ini
    PERL_EXTUTILS_AUTOINSTALL = --defaultdeps
    SHELL = /bin/zsh
    TERM = screen
    TMPDIR = /var/tmp/cpansmoker-1002/2017020318

Perl special variables (and OS-specific diagnostics, for MSWin32):

    $^X = /opt/perl-5.22.2/bin/perl5.22.2
    $UID/$EUID = 1002 / 1002
    $GID = 1002 1002
    $EGID = 1002 1002

Perl module toolchain versions installed:

    Module              Have    
    ------------------- --------
    CPAN                2.14    
    CPAN::Meta          2.150010
    Cwd                 3.62    
    ExtUtils::CBuilder  0.280224
    ExtUtils::Command   7.24    
    ExtUtils::Install   2.04    
    ExtUtils::MakeMaker 7.24    
    ExtUtils::Manifest  1.70    
    ExtUtils::ParseXS   3.30    
    File::Spec          3.62    
    JSON                2.90    
    JSON::PP            2.27400 
    Module::Build       0.4220  
    Module::Signature   0.81    
    Parse::CPAN::Meta   2.150010
    Test::Harness       3.36    
    Test::More          1.302075
    YAML                1.21    
    YAML::Syck          1.29    
    version             0.9917  


--

Summary of my perl5 (revision 5 version 22 subversion 2) configuration:
   
  Platform:
    osname=linux, osvers=4.4.0-59-generic, archname=x86_64-linux
    uname='linux prod3.bbbike.org 4.4.0-59-generic #80-ubuntu smp fri jan 6 17:47:47 utc 2017 x86_64 x86_64 x86_64 gnulinux '
    config_args='-ds -e -Dprefix=/opt/perl-5.22.2 -Dcf_email=srezic@cpan.org'
    hint=recommended, useposix=true, d_sigaction=define
    useithreads=undef, usemultiplicity=undef
    use64bitint=define, use64bitall=define, uselongdouble=undef
    usemymalloc=n, bincompat5005=undef
  Compiler:
    cc='cc', ccflags ='-fwrapv -fno-strict-aliasing -pipe -fstack-protector-strong -I/usr/local/include -D_LARGEFILE_SOURCE -D_FILE_OFFSET_BITS=64',
    optimize='-O2',
    cppflags='-fwrapv -fno-strict-aliasing -pipe -fstack-protector-strong -I/usr/local/include'
    ccversion='', gccversion='5.4.0 20160609', gccosandvers=''
    intsize=4, longsize=8, ptrsize=8, doublesize=8, byteorder=12345678, doublekind=3
    d_longlong=define, longlongsize=8, d_longdbl=define, longdblsize=16, longdblkind=3
    ivtype='long', ivsize=8, nvtype='double', nvsize=8, Off_t='off_t', lseeksize=8
    alignbytes=8, prototype=define
  Linker and Libraries:
    ld='cc', ldflags =' -fstack-protector-strong -L/usr/local/lib'
    libpth=/usr/local/lib /usr/lib/gcc/x86_64-linux-gnu/5/include-fixed /usr/include/x86_64-linux-gnu /usr/lib /lib/x86_64-linux-gnu /lib/../lib /usr/lib/x86_64-linux-gnu /usr/lib/../lib /lib
    libs=-lpthread -lnsl -lgdbm -ldb -ldl -lm -lcrypt -lutil -lc -lgdbm_compat
    perllibs=-lpthread -lnsl -ldl -lm -lcrypt -lutil -lc
    libc=libc-2.23.so, so=so, useshrplib=false, libperl=libperl.a
    gnulibc_version='2.23'
  Dynamic Linking:
    dlsrc=dl_dlopen.xs, dlext=so, d_dlsymun=undef, ccdlflags='-Wl,-E'
    cccdlflags='-fPIC', lddlflags='-shared -O2 -L/usr/local/lib -fstack-protector-strong'


Characteristics of this binary (from libperl): 
  Compile-time options: HAS_TIMES PERLIO_LAYERS PERL_DONT_CREATE_GVSV
                        PERL_HASH_FUNC_ONE_AT_A_TIME_HARD PERL_MALLOC_WRAP
                        PERL_NEW_COPY_ON_WRITE PERL_PRESERVE_IVUV
                        USE_64_BIT_ALL USE_64_BIT_INT USE_LARGE_FILES
                        USE_LOCALE USE_LOCALE_COLLATE USE_LOCALE_CTYPE
                        USE_LOCALE_NUMERIC USE_LOCALE_TIME USE_PERLIO
                        USE_PERL_ATOF
  Built under linux
  Compiled at Jan 14 2017 19:54:11
  %ENV:
    PERL5LIB=""
    PERL5OPT=""
    PERL5_CPANPLUS_IS_RUNNING="13412"
    PERL5_CPAN_IS_RUNNING="13412"
    PERL5_CPAN_IS_RUNNING_IN_RECURSION="32048,13412"
    PERLDOC="-MPod::Perldoc::ToTextOverstrike"
    PERL_BATCH="yes"
    PERL_CANARY_STABILITY_NOPROMPT="1"
    PERL_CPAN_REPORTER_CONFIG="/var/tmp/cpansmoker-1002/2017020318/cpanreporter_000_config.ini"
    PERL_EXTUTILS_AUTOINSTALL="--defaultdeps"
  @INC:
    /opt/perl-5.22.2/lib/site_perl/5.22.2/x86_64-linux
    /opt/perl-5.22.2/lib/site_perl/5.22.2
    /opt/perl-5.22.2/lib/5.22.2/x86_64-linux
    /opt/perl-5.22.2/lib/5.22.2
    .