Dist-Zilla-Plugin-InstallGuide v1.200014 Perl 5 v5.39.9 x86_64-linux
- Status
- Pass
- From
- John SJ Anderson
- Dist
-
Dist-Zilla-Plugin-InstallGuide v1.200014
- Platform
- Perl 5 v5.39.9 x86_64-linux
- Date
- 2024-03-20 19:00:49
- ID
- 2acb936c-e6ec-11ee-a3cf-eaa8350654e4
This distribution has been tested as part of the CPAN Testers
project, supporting the Perl programming language. See
http://wiki.cpantesters.org/ for more information or email
questions to cpan-testers-discuss@perl.org
--
Dear ETHER,
This is a computer-generated report for Dist-Zilla-Plugin-InstallGuide-1.200014
on perl 5.39.9, created by App::cpanminus::reporter 0.21 (1.7047).
Thank you for uploading your work to CPAN. Congratulations!
All tests were successful.
Sections of this report:
* Tester comments
* Program output
* Prerequisites
* Environment and other context
------------------------------
TESTER COMMENTS
------------------------------
Additional comments from tester:
none provided
------------------------------
PROGRAM OUTPUT
------------------------------
Output from '':
Building and testing Dist-Zilla-Plugin-InstallGuide-1.200014
cp lib/Dist/Zilla/Plugin/InstallGuide.pm blib/lib/Dist/Zilla/Plugin/InstallGuide.pm
#
# Versions for all modules listed in MYMETA.json (including optional ones):
#
# === Configure Requires ===
#
# Module Want Have
# ------------------- ----- -----
# ExtUtils::MakeMaker any 7.70
# Module::Build::Tiny 0.034 0.047
#
# === Test Requires ===
#
# Module Want Have
# ---------------- ---- --------
# File::Spec any 3.90
# Module::Metadata any 1.000038
# Path::Tiny any 0.144
# Test::DZil any 6.031
# Test::Fatal any 0.017
# Test::More any 1.302198
# if any 0.0610
#
# === Test Recommends ===
#
# Module Want Have
# ---------- -------- --------
# CPAN::Meta 2.120900 2.150010
#
# === Runtime Requires ===
#
# Module Want Have
# --------------------------------- ---- ------
# Dist::Zilla::File::InMemory any 6.031
# Dist::Zilla::Role::FileGatherer any 6.031
# Dist::Zilla::Role::FileMunger any 6.031
# Dist::Zilla::Role::ModuleMetadata any 0.006
# Dist::Zilla::Role::TextTemplate any 6.031
# List::Util 1.33 1.63
# Moose any 2.2207
# namespace::autoclean any 0.29
# strict any 1.13
# warnings any 1.68
#
# === Other Modules ===
#
# Module Have
# --------------- ------
# Encode 3.21
# File::Temp 0.2311
# JSON::PP 4.16
# Module::Runtime 0.016
# Pod::Coverage 0.23
# Sub::Name 0.27
# YAML 1.31
# autodie 2.37
#
t/00-report-prereqs.t .. ok
t/01-basic.t ........... ok
t/zzz-check-breaks.t ... ok
All tests successful.
Files=3, Tests=13, 1 wallclock secs ( 0.01 usr 0.00 sys + 0.89 cusr 0.09 csys = 0.99 CPU)
Result: PASS
------------------------------
PREREQUISITES
------------------------------
Prerequisite modules loaded:
runtime:
Module Need Have
--------------------------------- ----- --------
Dist::Zilla::File::InMemory 0 6.031
Dist::Zilla::Role::FileGatherer 0 6.031
Dist::Zilla::Role::FileMunger 0 6.031
Dist::Zilla::Role::ModuleMetadata 0 0.006
Dist::Zilla::Role::TextTemplate 0 6.031
List::Util 1.33 1.63
Moose 0 2.2207
namespace::autoclean 0 0.29
perl 5.008 5.039009
strict 0 1.13
warnings 0 1.68
configure:
Module Need Have
--------------------------------- ----- --------
ExtUtils::MakeMaker 0 7.70
Module::Build::Tiny 0.034 0.047
perl 5.008 5.039009
------------------------------
ENVIRONMENT AND OTHER CONTEXT
------------------------------
Environment variables:
LANG = en_US.UTF-8
LC_ALL = en_US.UTF-8
LC_TERMINAL = iTerm2
LC_TERMINAL_VERSION = 3.4.23
PATH = /opt/plenv/versions/5.39.9/bin:/opt/plenv/libexec:/opt/plenv/plugins/Perl-Build/bin:/opt/plenv/shims:/home/genehack/bin:/opt/plenv/shims:/opt/plenv/bin:/opt/git/bin:/opt/emacs/bin:/opt/local/bin:/usr/local/bin:/usr/bin:/bin:/usr/games:/opt/rust/cargo/bin
PERL_CPANM_OPT = --skip-installed --prompt
SHELL = /usr/bin/zsh
TERM = screen-256color
Perl special variables (and OS-specific diagnostics, for MSWin32):
EGID = 1000 24 25 29 30 44 46 100 106 1000
EUID = 1000
EXECUTABLE_NAME = /opt/plenv/versions/5.39.9/bin/perl5.39.9
GID = 1000 24 25 29 30 44 46 100 106 1000
UID = 1000
Perl module toolchain versions installed:
Module Have
------------------- --------
CPAN 2.36
CPAN::Meta 2.150010
Cwd 3.90
ExtUtils::CBuilder 0.280240
ExtUtils::Command 7.70
ExtUtils::Install 2.22
ExtUtils::MakeMaker 7.70
ExtUtils::Manifest 1.75
ExtUtils::ParseXS 3.51
File::Spec 3.90
JSON 4.10
JSON::PP 4.16
Module::Build 0.4234
Module::Signature n/a
Parse::CPAN::Meta 2.150010
Test::Harness 3.48
Test::More 1.302198
YAML 1.31
YAML::Syck n/a
version 0.9930
--
Summary of my perl5 (revision 5 version 39 subversion 9) configuration:
Platform:
osname=linux
osvers=6.1.0-18-amd64
archname=x86_64-linux
uname='linux beeves 6.1.0-18-amd64 #1 smp preempt_dynamic debian 6.1.76-1 (2024-02-01) x86_64 gnulinux '
config_args='-Dprefix=/opt/plenv/versions/5.39.9 -de -Dversiononly -Dusedevel -A'eval:scriptdir=/opt/plenv/versions/5.39.9/bin''
hint=recommended
useposix=true
d_sigaction=define
useithreads=undef
usemultiplicity=undef
use64bitint=define
use64bitall=define
uselongdouble=undef
usemymalloc=n
default_inc_excludes_dot=define
Compiler:
cc='cc'
ccflags ='-fwrapv -fno-strict-aliasing -pipe -fstack-protector-strong -I/usr/local/include -D_LARGEFILE_SOURCE -D_FILE_OFFSET_BITS=64 -D_FORTIFY_SOURCE=2'
optimize='-O2'
cppflags='-fwrapv -fno-strict-aliasing -pipe -fstack-protector-strong -I/usr/local/include'
ccversion=''
gccversion='12.2.0'
gccosandvers=''
intsize=4
longsize=8
ptrsize=8
doublesize=8
byteorder=12345678
doublekind=3
d_longlong=define
longlongsize=8
d_longdbl=define
longdblsize=16
longdblkind=3
ivtype='long'
ivsize=8
nvtype='double'
nvsize=8
Off_t='off_t'
lseeksize=8
alignbytes=8
prototype=define
Linker and Libraries:
ld='cc'
ldflags =' -fstack-protector-strong -L/usr/local/lib'
libpth=/usr/local/lib /usr/lib/x86_64-linux-gnu /usr/lib /usr/lib64
libs=-lpthread -ldl -lm -lcrypt -lutil -lc
perllibs=-lpthread -ldl -lm -lcrypt -lutil -lc
libc=/lib/x86_64-linux-gnu/libc.so.6
so=so
useshrplib=false
libperl=libperl.a
gnulibc_version='2.36'
Dynamic Linking:
dlsrc=dl_dlopen.xs
dlext=so
d_dlsymun=undef
ccdlflags='-Wl,-E'
cccdlflags='-fPIC'
lddlflags='-shared -O2 -L/usr/local/lib -fstack-protector-strong'
Characteristics of this binary (from libperl):
Compile-time options:
HAS_LONG_DOUBLE
HAS_STRTOLD
HAS_TIMES
PERLIO_LAYERS
PERL_COPY_ON_WRITE
PERL_DONT_CREATE_GVSV
PERL_HASH_FUNC_SIPHASH13
PERL_HASH_USE_SBOX32
PERL_MALLOC_WRAP
PERL_OP_PARENT
PERL_PRESERVE_IVUV
PERL_USE_DEVEL
PERL_USE_SAFE_PUTENV
USE_64_BIT_ALL
USE_64_BIT_INT
USE_LARGE_FILES
USE_LOCALE
USE_LOCALE_COLLATE
USE_LOCALE_CTYPE
USE_LOCALE_NUMERIC
USE_LOCALE_TIME
USE_PERLIO
USE_PERL_ATOF
Built under linux
Compiled at Mar 20 2024 10:52:55
%ENV:
PERL_CPANM_OPT="--skip-installed --prompt"
@INC:
/opt/plenv/versions/5.39.9/lib/perl5/site_perl/5.39.9/x86_64-linux
/opt/plenv/versions/5.39.9/lib/perl5/site_perl/5.39.9
/opt/plenv/versions/5.39.9/lib/perl5/5.39.9/x86_64-linux
/opt/plenv/versions/5.39.9/lib/perl5/5.39.9