Spreadsheet-ParseXLSX v0.36 Perl 5 v5.40.1 MSWin32-x64-multi-thread

Status
Pass
From
twata
Dist
Spreadsheet-ParseXLSX v0.36
Platform
Perl 5 v5.40.1 MSWin32-x64-multi-thread
Date
2025-01-26 12:59:02
ID
2ac9f43d-6ebc-1014-b1ef-fad3e83435ea
This distribution has been tested as part of the CPAN Testers
project, supporting the Perl programming language.  See
http://wiki.cpantesters.org/ for more information or email
questions to cpan-testers-discuss@perl.org


--
Dear Michael Daum,

This is a computer-generated report for Spreadsheet-ParseXLSX-0.36
on perl 5.40.1, created by CPAN-Reporter-1.2020.

Thank you for uploading your work to CPAN.  Congratulations!
All tests were successful.

Sections of this report:

    * Tester comments
    * Program output
    * Prerequisites
    * Environment and other context

------------------------------
TESTER COMMENTS
------------------------------

Additional comments from tester:

none provided

------------------------------
PROGRAM OUTPUT
------------------------------

Output from 'C:\strawberry-perl-5.40.1.1-64bit-portable\c\bin\gmake.exe test':

"C:\strawberry-perl-5.40.1.1-64bit-portable\perl\bin\perl.exe" "-MExtUtils::Command::MM" "-MTest::Harness" "-e" "undef *Test::Harness::Switches; test_harness(0, 'blib\lib', 'blib\arch')" t/*.t
t/00-compile.t ............. ok
t/author-critic.t .......... skipped: these tests are for testing by the author
t/author-eol.t ............. skipped: these tests are for testing by the author
t/author-no-tabs.t ......... skipped: these tests are for testing by the author
t/author-pod-coverage.t .... skipped: these tests are for testing by the author
t/author-pod-syntax.t ...... skipped: these tests are for testing by the author
t/basic.t .................. ok
t/bug-10.t ................. ok
t/bug-11.t ................. ok
t/bug-12.t ................. ok
t/bug-13.t ................. ok
t/bug-14.t ................. ok
t/bug-15.t ................. ok
t/bug-16.t ................. ok
t/bug-17.t ................. ok
t/bug-2.t .................. ok
t/bug-29.t ................. ok
t/bug-3.t .................. ok
t/bug-32.t ................. ok
t/bug-38.t ................. ok
t/bug-4.t .................. ok
t/bug-41.t ................. ok
t/bug-5.t .................. ok
t/bug-57.t ................. ok
t/bug-6-2.t ................ ok
t/bug-6.t .................. ok
t/bug-61.t ................. ok
t/bug-7.t .................. ok
t/bug-72.t ................. ok
t/bug-8.t .................. ok
t/bug-md-10.t .............. ok
t/bug-md-11.t .............. ok
t/bug-md-7.t ............... ok
t/cell-to-row-col.t ........ ok
t/column-formats.t ......... ok
t/encryption.t ............. ok
t/garbage-collect.t ........ ok
t/hidden-row-and-column.t .. ok
t/hidden-sheet.t ........... ok
t/hyperlinks.t ............. ok
t/page-Setup.t ............. ok
t/rich.t ................... ok
t/tab-color.t .............. ok
t/target-abspath.t ......... ok
All tests successful.

Test Summary Report
-------------------
t/hyperlinks.t           (Wstat: 0 Tests: 58 Failed: 0)
  TODO passed:   47-49, 51-53, 55-57
Files=44, Tests=1288, 149 wallclock secs ( 0.31 usr +  0.08 sys =  0.39 CPU)
Result: PASS

------------------------------
PREREQUISITES
------------------------------

Prerequisite modules loaded:

requires:

    Module                             Need  Have    
    ---------------------------------- ----- --------
    Archive::Zip                       1.34  1.68    
    Crypt::Mode::CBC                   0     0.084   
    Crypt::Mode::ECB                   0     0.084   
    Digest::SHA                        0     6.04    
    Encode                             0     3.21    
    File::Temp                         0     0.2311  
    Graphics::ColorUtils               0     0.17    
    MIME::Base64                       0     3.16_01 
    OLE::Storage_Lite                  0     0.22    
    perl                               5.010 5.040001
    Scalar::Util                       0     1.68    
    Spreadsheet::ParseExcel            0     0.66    
    Spreadsheet::ParseExcel::Cell      0     0.66    
    Spreadsheet::ParseExcel::Worksheet 0     0.66    
    XML::Twig                          0     3.53    

build_requires:

    Module                             Need  Have    
    ---------------------------------- ----- --------
    Data::Dumper                       0     2.189   
    ExtUtils::MakeMaker                0     7.70    
    File::Spec                         0     3.91    
    IO::Handle                         0     1.55    
    IPC::Open3                         0     1.22    
    Spreadsheet::ParseExcel::Utility   0     0.66    
    Test::More                         0.88  1.302209

configure_requires:

    Module                             Need  Have    
    ---------------------------------- ----- --------
    ExtUtils::MakeMaker                0     7.70    


------------------------------
ENVIRONMENT AND OTHER CONTEXT
------------------------------

Environment variables:

    COMSPEC = C:\WINDOWS\system32\cmd.exe
    LC_ALL = C
    NONINTERACTIVE_TESTING = 1
    NUMBER_OF_PROCESSORS = 4
    PATH = C:\strawberry-perl-5.40.1.1-64bit-portable\perl\site\bin;C:\strawberry-perl-5.40.1.1-64bit-portable\perl\bin;C:\strawberry-perl-5.40.1.1-64bit-portable\c\bin;C:\WINDOWS\system32;C:\WINDOWS;C:\WINDOWS\System32\Wbem;C:\WINDOWS\System32\WindowsPowerShell\v1.0
    PERL5LIB = 
    PERL5OPT = 
    PERL5_CPANPLUS_IS_RUNNING = 10100
    PERL5_CPAN_IS_RUNNING = 10100
    PERL_MM_USE_DEFAULT = 1
    PERL_USE_UNSAFE_INC = 1
    PROCESSOR_IDENTIFIER = Intel64 Family 6 Model 58 Stepping 9, GenuineIntel
    TEMP = C:\Users\USER\AppData\Local\Temp
    TERM = dumb

Perl special variables (and OS-specific diagnostics, for MSWin32):

    $^X = C:\strawberry-perl-5.40.1.1-64bit-portable\perl\bin\perl.exe
    $UID/$EUID = 0 / 0
    $GID = 0
    $EGID = 0
    Win32::GetOSName = Win8.1
    Win32::GetOSVersion = , 6, 3, 9600, 2, 0, 0, 256, 1
    Win32::FsType = NTFS
    Win32::IsAdminUser = 0

Perl module toolchain versions installed:

    Module              Have    
    ------------------- --------
    CPAN                2.38    
    CPAN::Meta          2.150010
    Cwd                 3.91    
    ExtUtils::CBuilder  0.280240
    ExtUtils::Command   7.70    
    ExtUtils::Install   2.22    
    ExtUtils::MakeMaker 7.70    
    ExtUtils::Manifest  1.75    
    ExtUtils::ParseXS   3.51    
    File::Spec          3.91    
    JSON                4.10    
    JSON::PP            4.16    
    Module::Build       0.4234  
    Module::Signature   n/a     
    Parse::CPAN::Meta   2.150010
    Test2               1.302209
    Test::Harness       3.50    
    Test::More          1.302209
    YAML                1.31    
    YAML::Syck          1.34    
    version             0.9933  


--

Summary of my perl5 (revision 5 version 40 subversion 1) configuration:
   
  Platform:
    osname=MSWin32
    osvers=10.0.22631.4751
    archname=MSWin32-x64-multi-thread
    uname='Win32 strawberry-perl 5.40.1.1 # 10:38:39 Thu January 23 2025 x64'
    config_args='undef'
    hint=recommended
    useposix=true
    d_sigaction=undef
    useithreads=define
    usemultiplicity=define
    use64bitint=define
    use64bitall=undef
    uselongdouble=undef
    usemymalloc=n
    default_inc_excludes_dot=define
  Compiler:
    cc='gcc'
    ccflags ='-std=c99 -DWIN32 -DWIN64 -DPERL_TEXTMODE_SCRIPTS -DMULTIPLICITY -DPERL_IMPLICIT_SYS -DUSE_PERLIO -D__USE_MINGW_ANSI_STDIO -fwrapv -fno-strict-aliasing -mms-bitfields'
    optimize='-O2'
    cppflags='-DWIN32'
    ccversion=''
    gccversion='13.2.0'
    gccosandvers=''
    intsize=4
    longsize=4
    ptrsize=8
    doublesize=8
    byteorder=12345678
    doublekind=3
    d_longlong=define
    longlongsize=8
    d_longdbl=define
    longdblsize=16
    longdblkind=3
    ivtype='long long'
    ivsize=8
    nvtype='double'
    nvsize=8
    Off_t='long long'
    lseeksize=8
    alignbytes=8
    prototype=define
  Linker and Libraries:
    ld='g++.exe'
    ldflags ='-s -L"C:\strawberry-perl-5.40.1.1-64bit-portable\perl\lib\CORE" -L"C:\strawberry-perl-5.40.1.1-64bit-portable\c\lib"'
    libpth=C:\strawberry-perl-5.40.1.1-64bit-portable\c\lib C:\strawberry-perl-5.40.1.1-64bit-portable\c\x86_64-w64-mingw32\lib C:\strawberry-perl-5.40.1.1-64bit-portable\c\lib\gcc\x86_64-w64-mingw32\13.1.0
    libs= -lmoldname -lkernel32 -luser32 -lgdi32 -lwinspool -lcomdlg32 -ladvapi32 -lshell32 -lole32 -loleaut32 -lnetapi32 -luuid -lws2_32 -lmpr -lwinmm -lversion -lodbc32 -lodbccp32 -lcomctl32
    perllibs= -lmoldname -lkernel32 -luser32 -lgdi32 -lwinspool -lcomdlg32 -ladvapi32 -lshell32 -lole32 -loleaut32 -lnetapi32 -luuid -lws2_32 -lmpr -lwinmm -lversion -lodbc32 -lodbccp32 -lcomctl32
    libc=-lucrt
    so=dll
    useshrplib=true
    libperl=libperl540.a
    gnulibc_version=''
  Dynamic Linking:
    dlsrc=dl_win32.xs
    dlext=xs.dll
    d_dlsymun=undef
    ccdlflags=' '
    cccdlflags=' '
    lddlflags='-mdll -s -L"C:\strawberry-perl-5.40.1.1-64bit-portable\perl\lib\CORE" -L"C:\strawberry-perl-5.40.1.1-64bit-portable\c\lib"'


Characteristics of this binary (from libperl): 
  Compile-time options:
    HAS_LONG_DOUBLE
    HAS_TIMES
    HAVE_INTERP_INTERN
    MULTIPLICITY
    PERLIO_LAYERS
    PERL_COPY_ON_WRITE
    PERL_DONT_CREATE_GVSV
    PERL_HASH_FUNC_SIPHASH13
    PERL_HASH_USE_SBOX32
    PERL_IMPLICIT_SYS
    PERL_MALLOC_WRAP
    PERL_OP_PARENT
    PERL_PRESERVE_IVUV
    PERL_USE_SAFE_PUTENV
    USE_64_BIT_INT
    USE_ITHREADS
    USE_LARGE_FILES
    USE_LOCALE
    USE_LOCALE_COLLATE
    USE_LOCALE_CTYPE
    USE_LOCALE_NUMERIC
    USE_LOCALE_TIME
    USE_PERLIO
    USE_PERL_ATOF
    USE_THREAD_SAFE_LOCALE
  Built under MSWin32
  Compiled at Jan 23 2025 21:38:54
  %ENV:
    PERL5_CPANPLUS_IS_RUNNING="10100"
    PERL5_CPAN_IS_RUNNING="10100"
    PERL_MM_USE_DEFAULT="1"
    PERL_USE_UNSAFE_INC="1"
  @INC:
    C:/strawberry-perl-5.40.1.1-64bit-portable/perl/site/lib/MSWin32-x64-multi-thread
    C:/strawberry-perl-5.40.1.1-64bit-portable/perl/site/lib
    C:/strawberry-perl-5.40.1.1-64bit-portable/perl/vendor/lib
    C:/strawberry-perl-5.40.1.1-64bit-portable/perl/lib
    .