Report for Pod-PseudoPod-XHTML-1.02

Back
From: metabase:user:314402c4-2aae-11df-837a-5e0a49663a4f
Subject: PASS Pod-PseudoPod-XHTML-1.02 v5.19.11 GNU/Linux
Date: 2014-05-14T11:44:54Z

This distribution has been tested as part of the CPAN Testers
project, supporting the Perl programming language.  See
http://wiki.cpantesters.org/ for more information or email
questions to cpan-testers-discuss@perl.org


--
Dear Alan Young,

This is a computer-generated report for Pod-PseudoPod-XHTML-1.02
on perl 5.19.11, created by CPAN-Reporter-1.2011.

Thank you for uploading your work to CPAN.  Congratulations!
All tests were successful.

Sections of this report:

    * Tester comments
    * Program output
    * Prerequisites
    * Environment and other context

------------------------------
TESTER COMMENTS
------------------------------

Additional comments from tester:

none provided

------------------------------
PROGRAM OUTPUT
------------------------------

Output from './Build test':

t/00-compile.t ................. ok
# Testing Pod::PseudoPod::XHTML 1.02, Perl 5.019011, /bbbike/perl-5.19.11t/bin/perl5.19.11
t/00-load.t .................... ok
# Testing with Perl 5.019011, /bbbike/perl-5.19.11t/bin/perl5.19.11
#     Carp version is 1.3301
#     English version is 1.09
#     File::Find version is 1.27
#     File::Temp version is 0.2304
#     Module::Build version is 0.4205
#     Path::Class version is 0.33
#     Pod::PseudoPod::HTML version is 0.18
#     Scalar::Util version is 1.38
#     Test::More version is 1.001002
#     Test::NoWarnings version is 1.04
#     Test::Perl::Critic::Progressive version is 0.03
#     Try::Tiny version is 0.22
#     base version is 2.22
#     strict version is 1.08
#     warnings version is 1.23
t/000-report-versions.t ........ ok
t/author-critic.t .............. skipped: these tests are for testing by the author
t/author-critic_progressive.t .. skipped: these tests are for testing by the author
t/author-pod-spell.t ........... skipped: these tests are for testing by the author
t/manifest.t ................... skipped: Author tests not required for installation
t/release-distmeta.t ........... skipped: these tests are for release candidate testing
t/release-eol.t ................ skipped: these tests are for release candidate testing
t/release-has-version.t ........ skipped: these tests are for release candidate testing
t/release-kwalitee.t ........... skipped: these tests are for release candidate testing
t/release-no-tabs.t ............ skipped: these tests are for release candidate testing
t/release-pod-coverage.t ....... skipped: these tests are for release candidate testing
t/release-pod-syntax.t ......... skipped: these tests are for release candidate testing
t/release-synopsis.t ........... skipped: these tests are for release candidate testing
t/release-unused-vars.t ........ skipped: these tests are for release candidate testing
t/xhtml.t ...................... ok
All tests successful.
Files=17, Tests=52,  1 wallclock secs ( 0.06 usr  0.11 sys +  0.95 cusr  0.19 csys =  1.31 CPU)
Result: PASS

------------------------------
PREREQUISITES
------------------------------

Prerequisite modules loaded:

requires:

    Module                          Need   Have    
    ------------------------------- ------ --------
    base                            0      2.22    
    Carp                            0      1.3301  
    Pod::PseudoPod::HTML            0      0.18    
    strict                          0      1.08    
    warnings                        0      1.23    

build_requires:

    Module                          Need   Have    
    ------------------------------- ------ --------
    English                         0      1.09    
    File::Find                      0      1.27    
    File::Temp                      0      0.2304  
    Module::Build                   0.3601 0.4205  
    Path::Class                     0      0.33    
    perl                            5.004  5.019011
    Scalar::Util                    0      1.38    
    Test::More                      0.94   1.001002
    Test::NoWarnings                0      1.04    
    Test::Perl::Critic::Progressive 0      0.03    
    Try::Tiny                       0      0.22    

configure_requires:

    Module                          Need   Have    
    ------------------------------- ------ --------
    Module::Build                   0.3601 0.4205  


------------------------------
ENVIRONMENT AND OTHER CONTEXT
------------------------------

Environment variables:

    DBIC_NO_WARN_BAD_PERL = 1
    LANG = C
    PATH = /usr/local/bin:/usr/bin:/bin:/usr/local/sbin:/usr/sbin:/sbin:/home/eserte/bin/linux-gnu:/home/eserte/bin/sh:/home/eserte/bin:/usr/games:/home/eserte/devel:/home/eserte/src/srezic-misc/scripts
    PERL = /bbbike/perl-5.19.11t/bin/perl5.19.11
    PERL5LIB = 
    PERL5OPT = 
    PERL5_CPANPLUS_IS_RUNNING = 7498
    PERL5_CPAN_IS_RUNNING = 7498
    PERL5_CPAN_IS_RUNNING_IN_RECURSION = 7420,7498
    PERLDOC = -MPod::Perldoc::ToTextOverstrike
    PERL_BATCH = yes
    PERL_CPAN_REPORTER_CONFIG = /var/tmp/cpansmoker-1001/xpMiceWoBn_config.ini
    PERL_EXTUTILS_AUTOINSTALL = --defaultdeps
    PERL_HTML_DISPLAY_CLASS = HTML::Display::Mozilla
    PERL_PARALLEL_SMOKER = yes
    SHELL = /bin/zsh
    TERM = screen
    TMPDIR = /var/tmp/cpansmoker-1001

Perl special variables (and OS-specific diagnostics, for MSWin32):

    $^X = /bbbike/perl-5.19.11t/bin/perl5.19.11
    $UID/$EUID = 1001 / 1001
    $GID = 1001 109 1001
    $EGID = 1001 109 1001

Perl module toolchain versions installed:

    Module              Have    
    ------------------- --------
    CPAN                2.05    
    CPAN::Meta          2.140640
    Cwd                 3.47    
    ExtUtils::CBuilder  0.280216
    ExtUtils::Command   1.18    
    ExtUtils::Install   1.67    
    ExtUtils::MakeMaker 6.94    
    ExtUtils::Manifest  1.63    
    ExtUtils::ParseXS   3.24    
    File::Spec          3.47    
    JSON                2.90    
    JSON::PP            2.27203 
    Module::Build       0.4205  
    Module::Signature   n/a     
    Parse::CPAN::Meta   1.4414  
    Test::Harness       3.30    
    Test::More          1.001002
    YAML                0.90    
    YAML::Syck          1.27    
    version             0.9908  


--

Summary of my perl5 (revision 5 version 19 subversion 11) configuration:
   
  Platform:
    osname=linux, osvers=3.2.0-4-amd64, archname=x86_64-linux-thread-multi
    uname='linux eserte 3.2.0-4-amd64 #1 smp debian 3.2.57-3 x86_64 gnulinux '
    config_args='-ds -e -Dprefix=/opt/perl-5.19.11t -Dusedevel -Dusemallocwrap=no -Dusethreads'
    hint=recommended, useposix=true, d_sigaction=define
    useithreads=define, usemultiplicity=define
    use64bitint=define, use64bitall=define, uselongdouble=undef
    usemymalloc=n, bincompat5005=undef
  Compiler:
    cc='cc', ccflags ='-D_REENTRANT -D_GNU_SOURCE -fwrapv -fno-strict-aliasing -pipe -fstack-protector -I/usr/local/include -D_LARGEFILE_SOURCE -D_FILE_OFFSET_BITS=64',
    optimize='-O2',
    cppflags='-D_REENTRANT -D_GNU_SOURCE -fwrapv -fno-strict-aliasing -pipe -fstack-protector -I/usr/local/include'
    ccversion='', gccversion='4.7.2', gccosandvers=''
    intsize=4, longsize=8, ptrsize=8, doublesize=8, byteorder=12345678
    d_longlong=define, longlongsize=8, d_longdbl=define, longdblsize=16
    ivtype='long', ivsize=8, nvtype='double', nvsize=8, Off_t='off_t', lseeksize=8
    alignbytes=8, prototype=define
  Linker and Libraries:
    ld='cc', ldflags =' -fstack-protector -L/usr/local/lib'
    libpth=/usr/local/lib /usr/lib/gcc/x86_64-linux-gnu/4.7/include-fixed /usr/include/x86_64-linux-gnu /usr/lib /lib/x86_64-linux-gnu /lib/../lib /usr/lib/x86_64-linux-gnu /usr/lib/../lib /lib
    libs=-lnsl -ldb -ldl -lm -lcrypt -lutil -lpthread -lc
    perllibs=-lnsl -ldl -lm -lcrypt -lutil -lpthread -lc
    libc=libc-2.13.so, so=so, useshrplib=false, libperl=libperl.a
    gnulibc_version='2.13'
  Dynamic Linking:
    dlsrc=dl_dlopen.xs, dlext=so, d_dlsymun=undef, ccdlflags='-Wl,-E'
    cccdlflags='-fPIC', lddlflags='-shared -O2 -L/usr/local/lib -fstack-protector'


Characteristics of this binary (from libperl): 
  Compile-time options: HAS_TIMES MULTIPLICITY PERLIO_LAYERS
                        PERL_DONT_CREATE_GVSV
                        PERL_HASH_FUNC_ONE_AT_A_TIME_HARD
                        PERL_IMPLICIT_CONTEXT PERL_NEW_COPY_ON_WRITE
                        PERL_PRESERVE_IVUV PERL_USE_DEVEL USE_64_BIT_ALL
                        USE_64_BIT_INT USE_ITHREADS USE_LARGE_FILES
                        USE_LOCALE USE_LOCALE_COLLATE USE_LOCALE_CTYPE
                        USE_LOCALE_NUMERIC USE_PERLIO USE_PERL_ATOF
                        USE_REENTRANT_API
  Built under linux
  Compiled at May 14 2014 07:15:46
  %ENV:
    PERL="/bbbike/perl-5.19.11t/bin/perl5.19.11"
    PERL5LIB=""
    PERL5OPT=""
    PERL5_CPANPLUS_IS_RUNNING="7498"
    PERL5_CPAN_IS_RUNNING="7498"
    PERL5_CPAN_IS_RUNNING_IN_RECURSION="7420,7498"
    PERLDOC="-MPod::Perldoc::ToTextOverstrike"
    PERL_BATCH="yes"
    PERL_CPAN_REPORTER_CONFIG="/var/tmp/cpansmoker-1001/xpMiceWoBn_config.ini"
    PERL_EXTUTILS_AUTOINSTALL="--defaultdeps"
    PERL_HTML_DISPLAY_CLASS="HTML::Display::Mozilla"
    PERL_PARALLEL_SMOKER="yes"
  @INC:
    /opt/perl-5.19.11t/lib/site_perl/5.19.11/x86_64-linux-thread-multi
    /opt/perl-5.19.11t/lib/site_perl/5.19.11
    /opt/perl-5.19.11t/lib/5.19.11/x86_64-linux-thread-multi
    /opt/perl-5.19.11t/lib/5.19.11
    .