MozRepl v0.06 Perl 5 v5.22.4 x86_64-linux

Status
Pass
From
Ferruccio Zamuner
Dist
MozRepl v0.06
Platform
Perl 5 v5.22.4 x86_64-linux
Date
2019-03-18 10:39:53
ID
2a7ad118-496a-11e9-9f1d-a19aa406399e
This distribution has been tested as part of the CPAN Testers
project, supporting the Perl programming language.  See
http://wiki.cpantesters.org/ for more information or email
questions to cpan-testers-discuss@perl.org


--
Dear Toru Yamaguchi,

This is a computer-generated report for MozRepl-0.06
on perl 5.22.4, created by CPAN-Reporter-1.2018.

Thank you for uploading your work to CPAN.  Congratulations!
All tests were successful.

Sections of this report:

    * Tester comments
    * Program output
    * Prerequisites
    * Environment and other context

------------------------------
TESTER COMMENTS
------------------------------

Additional comments from tester:

none provided

------------------------------
PROGRAM OUTPUT
------------------------------

Output from '/usr/bin/make test':

"/home/ferz/perl5/perlbrew/perls/perl-5.22.2/bin/perl" "-Iinc" Makefile.PL --config= --installdeps=Data::JavaScript::Anon,0,Module::Pluggable::Fast,0,Net::Telnet,0,Template::Provider::FromDATA,0
PERL_DL_NONLAZY=1 "/home/ferz/perl5/perlbrew/perls/perl-5.22.2/bin/perl" "-MExtUtils::Command::MM" "-MTest::Harness" "-e" "undef *Test::Harness::Switches; test_harness(0, 'inc', 'blib/lib', 'blib/arch')" t/00-load.t t/10-plugin-repl-enter.t t/11-plugin-repl-search.t t/12-plugin-repl-inspect.t t/13-plugin-repl-load.t t/14-plugin-repl-rename.t t/15-plugin-repl-print.t t/16-plugin-repl-home.t t/17-plugin-repl-back.t t/18-plugin-repl-util-help_url_for.t t/19-plugin-repl-util-doc_for.t t/20-plugin-json.t t/pod-coverage.t t/pod.t
# Testing MozRepl 0.06
t/00-load.t ........................... ok
[DEBUG] MozRepl logging enabled
[DEBUG] 
---- Client arguments ----
.----------------------+------------------------------------------.
| client_arg_name      | client_arg_value                         |
+----------------------+------------------------------------------+
| host                 | localhost                                |
| port                 | 4242                                     |
| timeout              | 10                                       |
| extra_client_args    | {}                                       |
'----------------------+------------------------------------------'
t/10-plugin-repl-enter.t .............. ok
[DEBUG] MozRepl logging enabled
[DEBUG] 
---- Client arguments ----
.----------------------+------------------------------------------.
| client_arg_name      | client_arg_value                         |
+----------------------+------------------------------------------+
| host                 | localhost                                |
| port                 | 4242                                     |
| timeout              | 10                                       |
| extra_client_args    | {}                                       |
'----------------------+------------------------------------------'
t/11-plugin-repl-search.t ............. ok
[DEBUG] MozRepl logging enabled
[DEBUG] 
---- Client arguments ----
.----------------------+------------------------------------------.
| client_arg_name      | client_arg_value                         |
+----------------------+------------------------------------------+
| host                 | localhost                                |
| port                 | 4242                                     |
| timeout              | 10                                       |
| extra_client_args    | {}                                       |
'----------------------+------------------------------------------'
t/12-plugin-repl-inspect.t ............ ok
[DEBUG] MozRepl logging enabled
[DEBUG] 
---- Client arguments ----
.----------------------+------------------------------------------.
| client_arg_name      | client_arg_value                         |
+----------------------+------------------------------------------+
| host                 | localhost                                |
| port                 | 4242                                     |
| timeout              | 10                                       |
| extra_client_args    | {}                                       |
'----------------------+------------------------------------------'
t/13-plugin-repl-load.t ............... ok
[DEBUG] MozRepl logging enabled
[DEBUG] 
---- Client arguments ----
.----------------------+------------------------------------------.
| client_arg_name      | client_arg_value                         |
+----------------------+------------------------------------------+
| host                 | localhost                                |
| port                 | 4242                                     |
| timeout              | 10                                       |
| extra_client_args    | {}                                       |
'----------------------+------------------------------------------'
t/14-plugin-repl-rename.t ............. ok
[DEBUG] MozRepl logging enabled
[DEBUG] 
---- Client arguments ----
.----------------------+------------------------------------------.
| client_arg_name      | client_arg_value                         |
+----------------------+------------------------------------------+
| host                 | localhost                                |
| port                 | 4242                                     |
| timeout              | 10                                       |
| extra_client_args    | {}                                       |
'----------------------+------------------------------------------'
t/15-plugin-repl-print.t .............. ok
[DEBUG] MozRepl logging enabled
[DEBUG] 
---- Client arguments ----
.----------------------+------------------------------------------.
| client_arg_name      | client_arg_value                         |
+----------------------+------------------------------------------+
| host                 | localhost                                |
| port                 | 4242                                     |
| timeout              | 10                                       |
| extra_client_args    | {}                                       |
'----------------------+------------------------------------------'
t/16-plugin-repl-home.t ............... ok
[DEBUG] MozRepl logging enabled
[DEBUG] 
---- Client arguments ----
.----------------------+------------------------------------------.
| client_arg_name      | client_arg_value                         |
+----------------------+------------------------------------------+
| host                 | localhost                                |
| port                 | 4242                                     |
| timeout              | 10                                       |
| extra_client_args    | {}                                       |
'----------------------+------------------------------------------'
t/17-plugin-repl-back.t ............... ok
[DEBUG] MozRepl logging enabled
[DEBUG] 
---- Client arguments ----
.----------------------+------------------------------------------.
| client_arg_name      | client_arg_value                         |
+----------------------+------------------------------------------+
| host                 | localhost                                |
| port                 | 4242                                     |
| timeout              | 10                                       |
| extra_client_args    | {}                                       |
'----------------------+------------------------------------------'
t/18-plugin-repl-util-help_url_for.t .. ok
[DEBUG] MozRepl logging enabled
[DEBUG] 
---- Client arguments ----
.----------------------+------------------------------------------.
| client_arg_name      | client_arg_value                         |
+----------------------+------------------------------------------+
| host                 | localhost                                |
| port                 | 4242                                     |
| timeout              | 10                                       |
| extra_client_args    | {}                                       |
'----------------------+------------------------------------------'
t/19-plugin-repl-util-doc_for.t ....... ok
[DEBUG] MozRepl logging enabled
[DEBUG] 
---- Client arguments ----
.----------------------+------------------------------------------.
| client_arg_name      | client_arg_value                         |
+----------------------+------------------------------------------+
| host                 | localhost                                |
| port                 | 4242                                     |
| timeout              | 10                                       |
| extra_client_args    | {}                                       |
'----------------------+------------------------------------------'
t/20-plugin-json.t .................... ok
t/pod-coverage.t ...................... ok
t/pod.t ............................... ok
All tests successful.
Files=14, Tests=74,  1 wallclock secs ( 0.08 usr  0.03 sys +  1.54 cusr  0.13 csys =  1.78 CPU)
Result: PASS

------------------------------
PREREQUISITES
------------------------------

Prerequisite modules loaded:

requires:

    Module                       Need Have   
    ---------------------------- ---- -------
    Carp::Clan                   0    6.06   
    Class::Accessor::Fast        0    0.34   
    Class::Data::Inheritable     0    0.08   
    Data::Dump                   0    1.23   
    Data::JavaScript::Anon       0    1.03   
    File::Spec                   0    3.56_02
    Module::Pluggable::Fast      0    0.19   
    Net::Telnet                  0    3.04   
    Template                     0    2.26   
    Template::Provider::FromDATA 0    0.13   
    Text::SimpleTable            0    2.03   
    UNIVERSAL::require           0    0.18   
    URI                          0    1.71   

build_requires:

    Module                       Need Have   
    ---------------------------- ---- -------
    ExtUtils::MakeMaker          0    7.04_02


------------------------------
ENVIRONMENT AND OTHER CONTEXT
------------------------------

Environment variables:

    LANG = en_US.UTF-8
    LC_ADDRESS = it_IT.UTF-8
    LC_IDENTIFICATION = it_IT.UTF-8
    LC_MEASUREMENT = it_IT.UTF-8
    LC_MONETARY = it_IT.UTF-8
    LC_NAME = it_IT.UTF-8
    LC_NUMERIC = it_IT.UTF-8
    LC_PAPER = it_IT.UTF-8
    LC_TELEPHONE = it_IT.UTF-8
    LC_TIME = it_IT.UTF-8
    NONINTERACTIVE_TESTING = 1
    PATH = /home/ferz/perl5/perlbrew/bin:/home/ferz/perl5/perlbrew/perls/perl-5.22.2/bin:/usr/local/sbin:/usr/local/bin:/usr/sbin:/usr/bin:/sbin:/bin:/usr/games:/usr/local/games:/snap/bin
    PERL5LIB = 
    PERL5OPT = 
    PERL5_CPANPLUS_IS_RUNNING = 4433
    PERL5_CPAN_IS_RUNNING = 4433
    PERLBREW_LIB = 
    PERLBREW_MANPATH = /home/ferz/perl5/perlbrew/perls/perl-5.22.2/man
    PERLBREW_PATH = /home/ferz/perl5/perlbrew/bin:/home/ferz/perl5/perlbrew/perls/perl-5.22.2/bin
    PERLBREW_PERL = perl-5.22.2
    PERLBREW_ROOT = /home/ferz/perl5/perlbrew
    PERLBREW_SKIP_INIT = 1
    PERLBREW_VERSION = 0.82
    PERL_LOCAL_LIB_ROOT = 
    PERL_MM_USE_DEFAULT = 1
    SHELL = /bin/bash
    TERM = xterm-256color

Perl special variables (and OS-specific diagnostics, for MSWin32):

    $^X = /home/ferz/perl5/perlbrew/perls/perl-5.22.2/bin/perl
    $UID/$EUID = 1000 / 1000
    $GID = 1000 4 24 27 30 46 112 124 1000
    $EGID = 1000 4 24 27 30 46 112 124 1000

Perl module toolchain versions installed:

    Module              Have      
    ------------------- ----------
    CPAN                2.11_01   
    CPAN::Meta          2.150001  
    Cwd                 3.56_02   
    ExtUtils::CBuilder  0.280221  
    ExtUtils::Command   1.20_01   
    ExtUtils::Install   2.04      
    ExtUtils::MakeMaker 7.04_02   
    ExtUtils::Manifest  1.70      
    ExtUtils::ParseXS   3.28      
    File::Spec          3.56_02   
    JSON                2.90      
    JSON::PP            2.27300_01
    Module::Build       0.4218    
    Module::Signature   0.81      
    Parse::CPAN::Meta   1.4414_001
    Test::Harness       3.35_01   
    Test::More          1.302140  
    YAML                1.18      
    YAML::Syck          1.29      
    version             0.9909    


--

Summary of my perl5 (revision 5 version 22 subversion 4) configuration:
   
  Platform:
    osname=linux, osvers=4.4.0-93-generic, archname=x86_64-linux
    uname='linux ferz-svf1521g1ew 4.4.0-93-generic #116-ubuntu smp fri aug 11 21:17:51 utc 2017 x86_64 x86_64 x86_64 gnulinux '
    config_args='-de -Dprefix=/home/ferz/perl5/perlbrew/perls/perl-5.22.2 -Aeval:scriptdir=/home/ferz/perl5/perlbrew/perls/perl-5.22.2/bin'
    hint=recommended, useposix=true, d_sigaction=define
    useithreads=undef, usemultiplicity=undef
    use64bitint=define, use64bitall=define, uselongdouble=undef
    usemymalloc=n, bincompat5005=undef
  Compiler:
    cc='cc', ccflags ='-fwrapv -fno-strict-aliasing -pipe -fstack-protector-strong -I/usr/local/include -D_LARGEFILE_SOURCE -D_FILE_OFFSET_BITS=64',
    optimize='-O2',
    cppflags='-fwrapv -fno-strict-aliasing -pipe -fstack-protector-strong -I/usr/local/include'
    ccversion='', gccversion='5.4.0 20160609', gccosandvers=''
    intsize=4, longsize=8, ptrsize=8, doublesize=8, byteorder=12345678, doublekind=3
    d_longlong=define, longlongsize=8, d_longdbl=define, longdblsize=16, longdblkind=3
    ivtype='long', ivsize=8, nvtype='double', nvsize=8, Off_t='off_t', lseeksize=8
    alignbytes=8, prototype=define
  Linker and Libraries:
    ld='cc', ldflags =' -fstack-protector-strong -L/usr/local/lib'
    libpth=/usr/local/lib /usr/lib/gcc/x86_64-linux-gnu/5/include-fixed /usr/include/x86_64-linux-gnu /usr/lib /lib/x86_64-linux-gnu /lib/../lib /usr/lib/x86_64-linux-gnu /usr/lib/../lib /lib
    libs=-lpthread -lnsl -ldb -ldl -lm -lcrypt -lutil -lc
    perllibs=-lpthread -lnsl -ldl -lm -lcrypt -lutil -lc
    libc=libc-2.23.so, so=so, useshrplib=false, libperl=libperl.a
    gnulibc_version='2.23'
  Dynamic Linking:
    dlsrc=dl_dlopen.xs, dlext=so, d_dlsymun=undef, ccdlflags='-Wl,-E'
    cccdlflags='-fPIC', lddlflags='-shared -O2 -L/usr/local/lib -fstack-protector-strong'


Characteristics of this binary (from libperl): 
  Compile-time options: HAS_TIMES PERLIO_LAYERS PERL_DONT_CREATE_GVSV
                        PERL_HASH_FUNC_ONE_AT_A_TIME_HARD PERL_MALLOC_WRAP
                        PERL_NEW_COPY_ON_WRITE PERL_PRESERVE_IVUV
                        USE_64_BIT_ALL USE_64_BIT_INT USE_LARGE_FILES
                        USE_LOCALE USE_LOCALE_COLLATE USE_LOCALE_CTYPE
                        USE_LOCALE_NUMERIC USE_LOCALE_TIME USE_PERLIO
                        USE_PERL_ATOF
  Locally applied patches:
	Devel::PatchPerl 1.38
  Built under linux
  Compiled at Sep 17 2017 10:31:12
  %ENV:
    PERL5LIB=""
    PERL5OPT=""
    PERL5_CPANPLUS_IS_RUNNING="4433"
    PERL5_CPAN_IS_RUNNING="4433"
    PERLBREW_LIB=""
    PERLBREW_MANPATH="/home/ferz/perl5/perlbrew/perls/perl-5.22.2/man"
    PERLBREW_PATH="/home/ferz/perl5/perlbrew/bin:/home/ferz/perl5/perlbrew/perls/perl-5.22.2/bin"
    PERLBREW_PERL="perl-5.22.2"
    PERLBREW_ROOT="/home/ferz/perl5/perlbrew"
    PERLBREW_SKIP_INIT="1"
    PERLBREW_VERSION="0.82"
    PERL_LOCAL_LIB_ROOT=""
    PERL_MM_USE_DEFAULT="1"
  @INC:
    /home/ferz/perl5/perlbrew/perls/perl-5.22.2/lib/site_perl/5.22.4/x86_64-linux
    /home/ferz/perl5/perlbrew/perls/perl-5.22.2/lib/site_perl/5.22.4
    /home/ferz/perl5/perlbrew/perls/perl-5.22.2/lib/5.22.4/x86_64-linux
    /home/ferz/perl5/perlbrew/perls/perl-5.22.2/lib/5.22.4
    /home/ferz/perl5/perlbrew/perls/perl-5.22.2/lib/site_perl/5.22.3/x86_64-linux
    /home/ferz/perl5/perlbrew/perls/perl-5.22.2/lib/site_perl/5.22.3
    /home/ferz/perl5/perlbrew/perls/perl-5.22.2/lib/site_perl/5.22.2/x86_64-linux
    /home/ferz/perl5/perlbrew/perls/perl-5.22.2/lib/site_perl/5.22.2
    /home/ferz/perl5/perlbrew/perls/perl-5.22.2/lib/site_perl
    .