SQL-SplitStatement v1.00023 Perl 5 v5.39.10 x86_64-linux
- Status
- Pass
- From
- Carlos Guevara
- Dist
-
SQL-SplitStatement v1.00023
- Platform
- Perl 5 v5.39.10 x86_64-linux
- Date
- 2024-04-20 14:56:28
- ID
- 2a79a3c0-ff26-11ee-aaa9-d2a03fd86a3d
This distribution has been tested as part of the CPAN Testers
project, supporting the Perl programming language. See
http://wiki.cpantesters.org/ for more information or email
questions to cpan-testers-discuss@perl.org
--
Dear Avishai Goldman,
This is a computer-generated report for SQL-SplitStatement-1.00023
on perl 5.39.10, created by CPAN-Reporter-1.2019.
Thank you for uploading your work to CPAN. Congratulations!
All tests were successful.
Sections of this report:
* Tester comments
* Program output
* Prerequisites
* Environment and other context
------------------------------
TESTER COMMENTS
------------------------------
Additional comments from tester:
this report is from an automated smoke testing program
and was not reviewed by a human for accuracy
------------------------------
PROGRAM OUTPUT
------------------------------
Output from '/usr/bin/make test':
PERL_DL_NONLAZY=1 "/home/cpan/bin/perl/bin/perl5.39.10" "-MExtUtils::Command::MM" "-MTest::Harness" "-e" "undef *Test::Harness::Switches; test_harness(0, 'blib/lib', 'blib/arch')" t/*.t t/basic/*.t t/mysql/*.t t/postgres/*.t t/proc/*.t
t/00-compile.t .............................. ok
# Testing SQL::SplitStatement 1.00023, Perl 5.039010, /home/cpan/bin/perl/bin/perl5.39.10
t/00-load.t ................................. ok
#
# Versions for all modules listed in MYMETA.json (including optional ones):
#
# === Configure Requires ===
#
# Module Want Have
# ------------------- ---- ----
# ExtUtils::MakeMaker any 7.70
#
# === Build Requires ===
#
# Module Want Have
# ------------------- ---- ----
# ExtUtils::MakeMaker any 7.70
#
# === Test Requires ===
#
# Module Want Have
# ------------------- ---- --------
# ExtUtils::MakeMaker any 7.70
# File::Find any 1.44
# File::Spec any 3.90
# File::Temp any 0.2311
# Test::Differences 0.68 0.71
# Test::Exception 0.27 0.43
# Test::More 0.7 1.302198
#
# === Test Recommends ===
#
# Module Want Have
# ---------- -------- --------
# CPAN::Meta 2.120900 2.150010
#
# === Runtime Requires ===
#
# Module Want Have
# --------------------- ---- ----------
# Carp any 1.54
# Class::Accessor::Fast any 0.51
# Exporter any 5.78
# Getopt::Long any 2.57
# List::MoreUtils any 0.430
# Pod::Usage any 2.03
# Regexp::Common any 2017060201
# base any 2.27
# constant any 1.33
# strict any 1.13
# warnings any 1.69
#
t/00-report-prereqs.t ....................... ok
t/80-examples.t ............................. ok
t/81-examples_procedural.t .................. ok
t/82-synopsis.t ............................. ok
t/92-postgresql_pagila.t .................... ok
t/94-exception.t ............................ ok
t/95-script.t ............................... skipped: please install Test::Script::Run to run these tests
t/basic/comments.t .......................... ok
t/basic/empty_statements.t .................. ok
t/basic/hard.t .............................. ok
t/basic/keywords_as_unquoted_identifiers.t .. ok
t/basic/nested_blocks.t ..................... ok
t/basic/placeholders.t ...................... ok
t/basic/placeholders_empty.t ................ ok
t/basic/simple.t ............................ ok
t/basic/slash_terminates.t .................. ok
t/basic/transactions.t ...................... ok
t/basic/transactions_and_proc.t ............. ok
t/mysql/delimiter.t ......................... ok
t/mysql/mixed.t ............................. ok
t/mysql/replace.t ........................... ok
t/mysql/sakila.t ............................ ok
t/postgres/dollar_quoted.t .................. ok
t/postgres/dollar_quoted_w_tranactions.t .... ok
t/postgres/pl_perl.t ........................ ok
t/proc/grant.t .............................. ok
t/proc/plsql_alias.t ........................ ok
t/proc/plsql_function_inside_package.t ...... ok
t/proc/plsql_mixed.t ........................ ok
t/proc/plsql_mixed_endings.t ................ ok
t/proc/plsql_nested_functions.t ............. ok
t/proc/plsql_package.t ...................... ok
t/proc/plsql_RTbug_57971.t .................. ok
t/proc/plsql_slash_endings.t ................ ok
All tests successful.
Files=36, Tests=290, 5 wallclock secs ( 0.10 usr 0.02 sys + 4.19 cusr 0.50 csys = 4.81 CPU)
Result: PASS
------------------------------
PREREQUISITES
------------------------------
Prerequisite modules loaded:
requires:
Module Need Have
--------------------- ---- ----------
base 0 2.27
Carp 0 1.54
Class::Accessor::Fast 0 0.51
constant 0 1.33
Exporter 0 5.78
Getopt::Long 0 2.57
List::MoreUtils 0 0.430
Pod::Usage 0 2.03
Regexp::Common 0 2017060201
strict 0 1.13
warnings 0 1.69
build_requires:
Module Need Have
--------------------- ---- ----------
ExtUtils::MakeMaker 0 7.70
File::Find 0 1.44
File::Spec 0 3.90
File::Temp 0 0.2311
Test::Differences 0.68 0.71
Test::Exception 0.27 0.43
Test::More 0.7 1.302198
configure_requires:
Module Need Have
--------------------- ---- ----------
ExtUtils::MakeMaker 0 7.70
------------------------------
ENVIRONMENT AND OTHER CONTEXT
------------------------------
Environment variables:
AUTOMATED_TESTING = 1
DATE_MANIP_TEST_DM5 = 1
LANG = C.UTF-8
LC_COLLATE = C
NONINTERACTIVE_TESTING = 1
NO_NETWORK_TESTING = 1
PATH = /home/cpan/bin/perl/bin:/usr/local/sbin:/usr/local/bin:/usr/sbin:/usr/bin:/sbin:/bin
PERL5LIB =
PERL5OPT =
PERL5_CPANPLUS_IS_RUNNING = 25106
PERL5_CPAN_IS_RUNNING = 25106
PERL_MM_USE_DEFAULT = 1
PERL_USE_UNSAFE_INC = 1
SHELL = /bin/bash
TERM = screen
Perl special variables (and OS-specific diagnostics, for MSWin32):
$^X = /home/cpan/bin/perl/bin/perl5.39.10
$UID/$EUID = 1001 / 1001
$GID = 1001 1001
$EGID = 1001 1001
Perl module toolchain versions installed:
Module Have
------------------- --------
CPAN 2.36
CPAN::Meta 2.150010
Cwd 3.90
ExtUtils::CBuilder 0.280240
ExtUtils::Command 7.70
ExtUtils::Install 2.22
ExtUtils::MakeMaker 7.70
ExtUtils::Manifest 1.75
ExtUtils::ParseXS 3.51
File::Spec 3.90
JSON 4.10
JSON::PP 4.16
Module::Build 0.4234
Module::Signature n/a
Parse::CPAN::Meta 2.150010
Test2 1.302198
Test::Harness 3.48
Test::More 1.302198
YAML 1.31
YAML::Syck 1.34
version 0.9930
--
Summary of my perl5 (revision 5 version 39 subversion 10) configuration:
Commit id: f936cd91ee430786a1bb6068a4a7c8362610dd5f
Platform:
osname=linux
osvers=6.6.28-0-lts
archname=x86_64-linux
uname='linux cjg-alpine3 6.6.28-0-lts #1-alpine smp preempt_dynamic thu, 18 apr 2024 10:17:08 +0000 x86_64 linux '
config_args='-des -Dprefix=/home/cpan/bin/perl -Dscriptdir=/home/cpan/bin/perl/bin -Dusedevel -Duse64bitall'
hint=recommended
useposix=true
d_sigaction=define
useithreads=undef
usemultiplicity=undef
use64bitint=define
use64bitall=define
uselongdouble=undef
usemymalloc=n
default_inc_excludes_dot=define
Compiler:
cc='cc'
ccflags ='-D_GNU_SOURCE -fwrapv -fno-strict-aliasing -pipe -fstack-protector-strong -D_LARGEFILE_SOURCE -D_FILE_OFFSET_BITS=64'
optimize='-O2'
cppflags='-D_GNU_SOURCE -fwrapv -fno-strict-aliasing -pipe -fstack-protector-strong'
ccversion=''
gccversion='13.2.1 20231014'
gccosandvers=''
intsize=4
longsize=8
ptrsize=8
doublesize=8
byteorder=12345678
doublekind=3
d_longlong=define
longlongsize=8
d_longdbl=define
longdblsize=16
longdblkind=3
ivtype='long'
ivsize=8
nvtype='double'
nvsize=8
Off_t='off_t'
lseeksize=8
alignbytes=8
prototype=define
Linker and Libraries:
ld='cc'
ldflags =' -fstack-protector-strong -L/usr/local/lib'
libpth=/usr/lib /usr/local/lib /lib
libs=-lpthread -ldb -ldl -lm -lcrypt -lutil -lc
perllibs=-lpthread -ldl -lm -lcrypt -lutil -lc
libc=/usr/lib/libc.a
so=so
useshrplib=false
libperl=libperl.a
gnulibc_version=''
Dynamic Linking:
dlsrc=dl_dlopen.xs
dlext=so
d_dlsymun=undef
ccdlflags='-Wl,-E'
cccdlflags='-fPIC'
lddlflags='-shared -O2 -L/usr/local/lib -fstack-protector-strong'
Characteristics of this binary (from libperl):
Compile-time options:
HAS_LONG_DOUBLE
HAS_STRTOLD
HAS_TIMES
PERLIO_LAYERS
PERL_COPY_ON_WRITE
PERL_DONT_CREATE_GVSV
PERL_HASH_FUNC_SIPHASH13
PERL_HASH_USE_SBOX32
PERL_MALLOC_WRAP
PERL_OP_PARENT
PERL_PRESERVE_IVUV
PERL_USE_DEVEL
PERL_USE_SAFE_PUTENV
USE_64_BIT_ALL
USE_64_BIT_INT
USE_LARGE_FILES
USE_LOCALE
USE_LOCALE_COLLATE
USE_LOCALE_CTYPE
USE_LOCALE_NUMERIC
USE_LOCALE_TIME
USE_PERLIO
USE_PERL_ATOF
Built under linux
Compiled at Apr 20 2024 01:41:40
%ENV:
PERL5LIB=""
PERL5OPT=""
PERL5_CPANPLUS_IS_RUNNING="25106"
PERL5_CPAN_IS_RUNNING="25106"
PERL_MM_USE_DEFAULT="1"
PERL_USE_UNSAFE_INC="1"
@INC:
/home/cpan/bin/perl/lib/site_perl/5.39.10/x86_64-linux
/home/cpan/bin/perl/lib/site_perl/5.39.10
/home/cpan/bin/perl/lib/5.39.10/x86_64-linux
/home/cpan/bin/perl/lib/5.39.10
.