MooseX-Types-Set-Object v0.05 Perl 5 v5.24.3 x86_64-linux

Status
Pass
From
Slaven Rezić (SREZIC)
Dist
MooseX-Types-Set-Object v0.05
Platform
Perl 5 v5.24.3 x86_64-linux
Date
2018-03-24 15:43:57
ID
2a4f3b4e-2f7a-11e8-8c01-f83ec73b748c
This distribution has been tested as part of the CPAN Testers
project, supporting the Perl programming language.  See
http://wiki.cpantesters.org/ for more information or email
questions to cpan-testers-discuss@perl.org


--
Dear Karen Etheridge,

This is a computer-generated report for MooseX-Types-Set-Object-0.05
on perl 5.24.3, created by CPAN-Reporter-1.2018.

Thank you for uploading your work to CPAN.  Congratulations!
All tests were successful.

Sections of this report:

    * Tester comments
    * Program output
    * Prerequisites
    * Environment and other context

------------------------------
TESTER COMMENTS
------------------------------

Additional comments from tester:

none provided

------------------------------
PROGRAM OUTPUT
------------------------------

Output from './Build test':

# 
# Versions for all modules listed in MYMETA.json (including optional ones):
# 
# === Configure Requires ===
# 
#     Module               Want  Have
#     ------------------- ----- -----
#     Module::Build::Tiny 0.007 0.039
# 
# === Test Requires ===
# 
#     Module              Want     Have
#     ------------------- ---- --------
#     ExtUtils::MakeMaker  any     7.34
#     File::Spec           any     3.74
#     Moose               0.50   2.2010
#     Test::Fatal          any    0.014
#     Test::More          0.88 1.302133
#     Test::use::ok        any 1.302133
#     ok                   any 1.302133
#     strict               any     1.11
#     warnings             any     1.36
# 
# === Test Recommends ===
# 
#     Module         Want     Have
#     ---------- -------- --------
#     CPAN::Meta 2.120900 2.150010
# 
# === Runtime Requires ===
# 
#     Module               Want   Have
#     -------------------- ---- ------
#     Moose                0.50 2.2010
#     MooseX::Types         any   0.50
#     MooseX::Types::Moose  any   0.50
#     Set::Object           any   1.39
#     if                    any 0.0606
# 
# === Other Modules ===
# 
#     Module               Have
#     -------------------- ----
#     Dist::CheckConflicts 0.11
#     Pod::Coverage        0.23
# 
t/00-report-prereqs.t .. ok
t/basic.t .............. ok
t/parameterized.t ...... skipped: parameterization does not work -- see code removed in commit 262e683 for what should happen
t/zzz-check-breaks.t ... ok
All tests successful.
Files=4, Tests=11,  3 wallclock secs ( 0.03 usr  0.03 sys +  2.40 cusr  0.53 csys =  2.99 CPU)
Result: PASS

------------------------------
PREREQUISITES
------------------------------

Prerequisite modules loaded:

requires:

    Module               Need     Have    
    -------------------- -------- --------
    if                   0        0.0606  
    Moose                0.50     2.2010  
    MooseX::Types        0        0.50    
    MooseX::Types::Moose 0        0.50    
    perl                 5.006    5.024003
    Set::Object          0        1.39    

build_requires:

    Module               Need     Have    
    -------------------- -------- --------
    ExtUtils::MakeMaker  0        7.34    
    File::Spec           0        3.74    
    Moose                0.50     2.2010  
    ok                   0        1.302133
    perl                 5.006    5.024003
    strict               0        1.11    
    Test::Fatal          0        0.014   
    Test::More           0.88     1.302133
    Test::use::ok        0        1.302133
    warnings             0        1.36    

configure_requires:

    Module               Need     Have    
    -------------------- -------- --------
    Module::Build::Tiny  0.007    0.039   
    perl                 5.006    5.024003

opt_build_requires:

    Module               Need     Have    
    -------------------- -------- --------
    CPAN::Meta           2.120900 2.150010


------------------------------
ENVIRONMENT AND OTHER CONTEXT
------------------------------

Environment variables:

    LANG = C
    PATH = /usr/local/bin:/usr/bin:/bin:/usr/local/sbin:/usr/sbin:/sbin:/home/cpansand/bin/linux-gnu:/home/cpansand/bin/sh:/home/cpansand/bin:/usr/games:/home/cpansand/devel:/home/eserte/src/srezic-misc/scripts
    PERL5LIB = /home/cpansand/.cpan/build/2018032415/MooseX-YAML-0.04-2/blib/arch:/home/cpansand/.cpan/build/2018032415/MooseX-YAML-0.04-2/blib/lib:/home/cpansand/.cpan/build/2018032415/MooseX-Blessed-Reconstruct-1.00-2/blib/arch:/home/cpansand/.cpan/build/2018032415/MooseX-Blessed-Reconstruct-1.00-2/blib/lib:/home/cpansand/.cpan/build/2018032415/Cache-Ref-0.04-2/blib/arch:/home/cpansand/.cpan/build/2018032415/Cache-Ref-0.04-2/blib/lib
    PERL5OPT = 
    PERL5_CPANPLUS_IS_RUNNING = 4498
    PERL5_CPAN_IS_RUNNING = 4498
    PERL5_CPAN_IS_RUNNING_IN_RECURSION = 1315,4498
    PERLDOC = -MPod::Perldoc::ToTextOverstrike
    PERL_BATCH = yes
    PERL_CANARY_STABILITY_NOPROMPT = 1
    PERL_CPAN_REPORTER_CONFIG = /var/tmp/cpansmoker-1023/2018032412/cpanreporter_001_config.ini
    PERL_EXTUTILS_AUTOINSTALL = --defaultdeps
    SHELL = /usr/bin/zsh
    TERM = screen
    TMPDIR = /var/tmp/cpansmoker-1023/2018032412

Perl special variables (and OS-specific diagnostics, for MSWin32):

    $^X = /opt/perl-5.24.3/bin/perl
    $UID/$EUID = 1023 / 1023
    $GID = 1023 1023
    $EGID = 1023 1023

Perl module toolchain versions installed:

    Module              Have    
    ------------------- --------
    CPAN                2.16    
    CPAN::Meta          2.150010
    Cwd                 3.74    
    ExtUtils::CBuilder  0.280230
    ExtUtils::Command   7.34    
    ExtUtils::Install   2.06    
    ExtUtils::MakeMaker 7.34    
    ExtUtils::Manifest  1.70    
    ExtUtils::ParseXS   3.31    
    File::Spec          3.74    
    JSON                2.97001 
    JSON::PP            2.95    
    Module::Build       0.4224  
    Module::Signature   0.81    
    Parse::CPAN::Meta   2.150010
    Test::Harness       3.42    
    Test::More          1.302133
    YAML                1.24    
    YAML::Syck          1.30    
    version             0.9916  


--

Summary of my perl5 (revision 5 version 24 subversion 3) configuration:
   
  Platform:
    osname=linux, osvers=4.9.0-3-amd64, archname=x86_64-linux
    uname='linux debian9 4.9.0-3-amd64 #1 smp debian 4.9.30-2+deb9u5 (2017-09-19) x86_64 gnulinux '
    config_args='-ds -e -Dprefix=/opt/perl-5.24.3 -Dcf_email=srezic@cpan.org'
    hint=recommended, useposix=true, d_sigaction=define
    useithreads=undef, usemultiplicity=undef
    use64bitint=define, use64bitall=define, uselongdouble=undef
    usemymalloc=n, bincompat5005=undef
  Compiler:
    cc='cc', ccflags ='-fwrapv -fno-strict-aliasing -pipe -fstack-protector-strong -I/usr/local/include -D_LARGEFILE_SOURCE -D_FILE_OFFSET_BITS=64 -D_FORTIFY_SOURCE=2',
    optimize='-O2',
    cppflags='-fwrapv -fno-strict-aliasing -pipe -fstack-protector-strong -I/usr/local/include'
    ccversion='', gccversion='6.3.0 20170516', gccosandvers=''
    intsize=4, longsize=8, ptrsize=8, doublesize=8, byteorder=12345678, doublekind=3
    d_longlong=define, longlongsize=8, d_longdbl=define, longdblsize=16, longdblkind=3
    ivtype='long', ivsize=8, nvtype='double', nvsize=8, Off_t='off_t', lseeksize=8
    alignbytes=8, prototype=define
  Linker and Libraries:
    ld='cc', ldflags =' -fstack-protector-strong -L/usr/local/lib'
    libpth=/usr/local/lib /usr/lib/gcc/x86_64-linux-gnu/6/include-fixed /usr/include/x86_64-linux-gnu /usr/lib /lib/x86_64-linux-gnu /lib/../lib /usr/lib/x86_64-linux-gnu /usr/lib/../lib /lib
    libs=-lpthread -lnsl -lgdbm -ldb -ldl -lm -lcrypt -lutil -lc -lgdbm_compat
    perllibs=-lpthread -lnsl -ldl -lm -lcrypt -lutil -lc
    libc=libc-2.24.so, so=so, useshrplib=false, libperl=libperl.a
    gnulibc_version='2.24'
  Dynamic Linking:
    dlsrc=dl_dlopen.xs, dlext=so, d_dlsymun=undef, ccdlflags='-Wl,-E'
    cccdlflags='-fPIC', lddlflags='-shared -O2 -L/usr/local/lib -fstack-protector-strong'


Characteristics of this binary (from libperl): 
  Compile-time options: HAS_TIMES PERLIO_LAYERS PERL_COPY_ON_WRITE
                        PERL_DONT_CREATE_GVSV
                        PERL_HASH_FUNC_ONE_AT_A_TIME_HARD PERL_MALLOC_WRAP
                        PERL_PRESERVE_IVUV USE_64_BIT_ALL USE_64_BIT_INT
                        USE_LARGE_FILES USE_LOCALE USE_LOCALE_COLLATE
                        USE_LOCALE_CTYPE USE_LOCALE_NUMERIC USE_LOCALE_TIME
                        USE_PERLIO USE_PERL_ATOF
  Built under linux
  Compiled at Nov  4 2017 07:45:02
  %ENV:
    PERL5LIB="/home/cpansand/.cpan/build/2018032415/MooseX-YAML-0.04-2/blib/arch:/home/cpansand/.cpan/build/2018032415/MooseX-YAML-0.04-2/blib/lib:/home/cpansand/.cpan/build/2018032415/MooseX-Blessed-Reconstruct-1.00-2/blib/arch:/home/cpansand/.cpan/build/2018032415/MooseX-Blessed-Reconstruct-1.00-2/blib/lib:/home/cpansand/.cpan/build/2018032415/Cache-Ref-0.04-2/blib/arch:/home/cpansand/.cpan/build/2018032415/Cache-Ref-0.04-2/blib/lib"
    PERL5OPT=""
    PERL5_CPANPLUS_IS_RUNNING="4498"
    PERL5_CPAN_IS_RUNNING="4498"
    PERL5_CPAN_IS_RUNNING_IN_RECURSION="1315,4498"
    PERLDOC="-MPod::Perldoc::ToTextOverstrike"
    PERL_BATCH="yes"
    PERL_CANARY_STABILITY_NOPROMPT="1"
    PERL_CPAN_REPORTER_CONFIG="/var/tmp/cpansmoker-1023/2018032412/cpanreporter_001_config.ini"
    PERL_EXTUTILS_AUTOINSTALL="--defaultdeps"
  @INC:
    /home/cpansand/.cpan/build/2018032415/MooseX-YAML-0.04-2/blib/arch
    /home/cpansand/.cpan/build/2018032415/MooseX-YAML-0.04-2/blib/lib
    /home/cpansand/.cpan/build/2018032415/MooseX-Blessed-Reconstruct-1.00-2/blib/arch
    /home/cpansand/.cpan/build/2018032415/MooseX-Blessed-Reconstruct-1.00-2/blib/lib
    /home/cpansand/.cpan/build/2018032415/Cache-Ref-0.04-2/blib/arch
    /home/cpansand/.cpan/build/2018032415/Cache-Ref-0.04-2/blib/lib
    /opt/perl-5.24.3/lib/site_perl/5.24.3/x86_64-linux
    /opt/perl-5.24.3/lib/site_perl/5.24.3
    /opt/perl-5.24.3/lib/5.24.3/x86_64-linux
    /opt/perl-5.24.3/lib/5.24.3
    .