Report for Perl-Dist-1.16

Back
From: metabase:user:314402c4-2aae-11df-837a-5e0a49663a4f
Subject: PASS Perl-Dist-1.16 v5.16.0 RC0 GNU/Linux
Date: 2012-05-14T19:36:56Z

This distribution has been tested as part of the CPAN Testers
project, supporting the Perl programming language.  See
http://wiki.cpantesters.org/ for more information or email
questions to cpan-testers-discuss@perl.org


--
Dear Adam Kennedy,

This is a computer-generated report for Perl-Dist-1.16
on perl 5.16.0, created by CPAN-Reporter-1.2006.

Thank you for uploading your work to CPAN.  Congratulations!
All tests were successful.

Sections of this report:

    * Tester comments
    * Program output
    * Prerequisites
    * Environment and other context

------------------------------
TESTER COMMENTS
------------------------------

Additional comments from tester:

none provided

------------------------------
PROGRAM OUTPUT
------------------------------

Output from '/usr/bin/make test':

PERL_DL_NONLAZY=1 /bbbike/ctps/5160RC0linux/install/perl-5.16.0-RC0/bin/perl "-MExtUtils::Command::MM" "-e" "test_harness(0, 'inc', 'blib/lib', 'blib/arch')" t/*.t
t/01_compile.t ............ ok
t/03_inno_file.t .......... ok
t/04_inno_icon.t .......... ok
t/05_inno_registry.t ...... ok
t/06_inno_script.t ........ skipped: Not on Win32
t/07_inno_system.t ........ ok
t/08_inno_distribution.t .. ok
t/09_asset_file.t ......... ok
t/10_asset_module.t ....... ok
t/11_machine.t ............ ok
t/12_util_toolchain.t ..... ok
t/13_dist_new.t ........... skipped: Not on Win32
t/14_vanilla_new.t ........ skipped: Not on Win32
t/15_vanilla_run.t ........ skipped: Not on Win32
t/16_perl_588.t ........... skipped: Not on Win32
t/17_perl_589.t ........... skipped: Not on Win32
t/18_perl_5100.t .......... skipped: Not on Win32
t/19_portable.t ........... skipped: Not on Win32
t/97_meta.t ............... skipped: Author tests not required for installation
t/98_pod.t ................ skipped: Author tests not required for installation
t/99_pmv.t ................ skipped: Author tests not required for installation
All tests successful.
Files=21, Tests=139, 17 wallclock secs ( 0.04 usr  0.07 sys +  4.83 cusr  0.95 csys =  5.89 CPU)
Result: PASS

------------------------------
PREREQUISITES
------------------------------

Prerequisite modules loaded:

requires:

    Module                    Need   Have   
    ------------------------- ------ -------
    Archive::Tar              1.42   1.84   
    Archive::Zip              1.26   1.30   
    CPAN                      1.9301 1.9800 
    ExtUtils::MakeMaker       6.42   6.63_02
    File::Copy::Recursive     0.38   0.38   
    File::Find::Rule          0.30   0.33   
    File::HomeDir             0.82   0.99   
    File::Path                2.07   2.08_01
    File::PathList            1.04   1.04   
    File::pushd               1.00   1.002  
    File::Remove              1.42   1.52   
    File::ShareDir            1.00   1.03   
    File::Spec                3.29   3.39_02
    File::Temp                0.21   0.22   
    HTTP::Status              5.817  6.03   
    IO::Capture               0.05   0.05   
    IPC::Run3                 0.042  0.045  
    LWP::Online               1.07   1.08   
    LWP::UserAgent            5.823  6.04   
    LWP::UserAgent::WithCache 0.06   0.12   
    Module::CoreList          2.17   2.66   
    Object::Tiny              1.06   1.08   
    PAR::Dist                 0.42   0.48   
    Params::Util              0.35   1.07   
    Portable::Dist            0.02   1.05   
    Probe::Perl               0.01   0.01   
    Process                   0.25   0.30   
    Process::Delegatable      0.25   0.30   
    Process::Storable         0.25   0.30   
    Storable                  2.17   2.34   
    Template                  2.20   2.24   
    Test::LongString          0.11   0.15   
    Test::More                0.86   0.98   
    Test::Script              1.03   1.07   
    URI::file                 1.37   4.21   
    YAML::Tiny                1.36   1.51   

build_requires:

    Module                    Need   Have   
    ------------------------- ------ -------
    ExtUtils::MakeMaker       0      6.63_02

configure_requires:

    Module                    Need   Have   
    ------------------------- ------ -------
    ExtUtils::MakeMaker       6.42   6.63_02


------------------------------
ENVIRONMENT AND OTHER CONTEXT
------------------------------

Environment variables:

    DBIC_NO_WARN_BAD_PERL = 1
    LANG = C
    PATH = /usr/local/bin:/usr/bin:/bin:/usr/local/sbin:/usr/sbin:/sbin:/home/eserte/bin/linux-gnu:/home/eserte/bin/sh:/home/eserte/bin:/usr/X11R6/bin:/usr/X11/bin:/usr/games:/home/eserte/devel:/home/eserte/work/cpan-testers-parallelsmoker/utils
    PERL5LIB = 
    PERL5OPT = 
    PERL5_CPANPLUS_IS_RUNNING = 13571
    PERL5_CPAN_IS_RUNNING = 13571
    PERL5_CPAN_IS_RUNNING_IN_RECURSION = 23838,13571
    PERLDOC = -MPod::Perldoc::ToTextOverstrike
    PERL_BATCH = yes
    PERL_CPAN_REPORTER_DIR = /home/eserte/var/ctps/5160RC0linux/config/perl-5.16.0-RC0/cpanreporter
    PERL_EXTUTILS_AUTOINSTALL = --defaultdeps
    PERL_HTML_DISPLAY_CLASS = HTML::Display::Mozilla
    PERL_PARALLEL_SMOKER = yes
    PERL_TEST_UNPATCHED = 1
    SHELL = /usr/bin/zsh
    TERM = screen
    TMPDIR = /var/tmp/cpansmoker-1001

Perl special variables (and OS-specific diagnostics, for MSWin32):

    $^X = /bbbike/ctps/5160RC0linux/install/perl-5.16.0-RC0/bin/perl
    $UID/$EUID = 1001 / 1001
    $GID = 1001 1001
    $EGID = 1001 1001

Perl module toolchain versions installed:

    Module              Have    
    ------------------- --------
    CPAN                1.9800  
    CPAN::Meta          2.120921
    Cwd                 3.39_02 
    ExtUtils::CBuilder  0.280206
    ExtUtils::Command   1.17    
    ExtUtils::Install   1.58    
    ExtUtils::MakeMaker 6.63_02 
    ExtUtils::Manifest  1.61    
    ExtUtils::ParseXS   3.16    
    File::Spec          3.39_02 
    JSON                2.53    
    JSON::PP            2.27200 
    Module::Build       0.40    
    Module::Signature   0.68    
    Parse::CPAN::Meta   1.4404  
    Test::Harness       3.23    
    Test::More          0.98    
    YAML                0.81    
    YAML::Syck          1.20    
    version             0.99    


--

Summary of my perl5 (revision 5 version 16 subversion 0) configuration:
   
  Platform:
    osname=linux, osvers=2.6.32-5-xen-amd64, archname=x86_64-linux
    uname='linux eserte 2.6.32-5-xen-amd64 #1 smp sat may 5 04:18:09 utc 2012 x86_64 gnulinux '
    config_args='-ds -e -Uversiononly -Dinstallusrbinperl=n -Dusedevel -Dprefix=/home/eserte/var/ctps/5160RC0linux/install/perl-5.16.0-RC0'
    hint=recommended, useposix=true, d_sigaction=define
    useithreads=undef, usemultiplicity=undef
    useperlio=define, d_sfio=undef, uselargefiles=define, usesocks=undef
    use64bitint=define, use64bitall=define, uselongdouble=undef
    usemymalloc=n, bincompat5005=undef
  Compiler:
    cc='cc', ccflags ='-fno-strict-aliasing -pipe -fstack-protector -I/usr/local/include -D_LARGEFILE_SOURCE -D_FILE_OFFSET_BITS=64',
    optimize='-O2',
    cppflags='-fno-strict-aliasing -pipe -fstack-protector -I/usr/local/include'
    ccversion='', gccversion='4.4.5', gccosandvers=''
    intsize=4, longsize=8, ptrsize=8, doublesize=8, byteorder=12345678
    d_longlong=define, longlongsize=8, d_longdbl=define, longdblsize=16
    ivtype='long', ivsize=8, nvtype='double', nvsize=8, Off_t='off_t', lseeksize=8
    alignbytes=8, prototype=define
  Linker and Libraries:
    ld='cc', ldflags =' -fstack-protector -L/usr/local/lib'
    libpth=/usr/local/lib /lib/../lib /usr/lib/../lib /lib /usr/lib /lib64 /usr/lib64
    libs=-lnsl -ldb -ldl -lm -lcrypt -lutil -lc
    perllibs=-lnsl -ldl -lm -lcrypt -lutil -lc
    libc=/lib/libc-2.11.3.so, so=so, useshrplib=false, libperl=libperl.a
    gnulibc_version='2.11.3'
  Dynamic Linking:
    dlsrc=dl_dlopen.xs, dlext=so, d_dlsymun=undef, ccdlflags='-Wl,-E'
    cccdlflags='-fPIC', lddlflags='-shared -O2 -L/usr/local/lib -fstack-protector'


Characteristics of this binary (from libperl): 
  Compile-time options: HAS_TIMES PERLIO_LAYERS PERL_DONT_CREATE_GVSV
                        PERL_MALLOC_WRAP PERL_PRESERVE_IVUV PERL_USE_DEVEL
                        USE_64_BIT_ALL USE_64_BIT_INT USE_LARGE_FILES
                        USE_LOCALE USE_LOCALE_COLLATE USE_LOCALE_CTYPE
                        USE_LOCALE_NUMERIC USE_PERLIO USE_PERL_ATOF
  Locally applied patches:
	RC0
  Built under linux
  Compiled at May 11 2012 20:52:16
  %ENV:
    PERL5LIB=""
    PERL5OPT=""
    PERL5_CPANPLUS_IS_RUNNING="13571"
    PERL5_CPAN_IS_RUNNING="13571"
    PERL5_CPAN_IS_RUNNING_IN_RECURSION="23838,13571"
    PERLDOC="-MPod::Perldoc::ToTextOverstrike"
    PERL_BATCH="yes"
    PERL_CPAN_REPORTER_DIR="/home/eserte/var/ctps/5160RC0linux/config/perl-5.16.0-RC0/cpanreporter"
    PERL_EXTUTILS_AUTOINSTALL="--defaultdeps"
    PERL_HTML_DISPLAY_CLASS="HTML::Display::Mozilla"
    PERL_PARALLEL_SMOKER="yes"
    PERL_TEST_UNPATCHED="1"
  @INC:
    /home/eserte/var/ctps/5160RC0linux/install/perl-5.16.0-RC0/lib/site_perl/5.16.0/x86_64-linux
    /home/eserte/var/ctps/5160RC0linux/install/perl-5.16.0-RC0/lib/site_perl/5.16.0
    /home/eserte/var/ctps/5160RC0linux/install/perl-5.16.0-RC0/lib/5.16.0/x86_64-linux
    /home/eserte/var/ctps/5160RC0linux/install/perl-5.16.0-RC0/lib/5.16.0
    .