Report for HTTP-Session2-1.08

Back
From: metabase:user:314402c4-2aae-11df-837a-5e0a49663a4f
Subject: PASS HTTP-Session2-1.08 v5.21.2 GNU/Linux
Date: 2014-08-06T17:00:27Z

This distribution has been tested as part of the CPAN Testers
project, supporting the Perl programming language.  See
http://wiki.cpantesters.org/ for more information or email
questions to cpan-testers-discuss@perl.org


--
Dear Tokuhiro Matsuno,

This is a computer-generated report for HTTP-Session2-1.08
on perl 5.21.2, created by CPAN-Reporter-1.2011.

Thank you for uploading your work to CPAN.  Congratulations!
All tests were successful.

Sections of this report:

    * Tester comments
    * Program output
    * Prerequisites
    * Environment and other context

------------------------------
TESTER COMMENTS
------------------------------

Additional comments from tester:

none provided

------------------------------
PROGRAM OUTPUT
------------------------------

Output from './Build test':

t/00_compile.t .............. ok
Secret string too short at /tmpfs/.cpan-build/HTTP-Session2-1.08-0U53L8/blib/lib/HTTP/Session2/Base.pm line 79.
	HTTP::Session2::Base::__ANON__(HTTP::Session2::ServerStore=HASH(0x2251318), "s3cret") called at t/01_server_side.t line 23
	main::__ANON__("client -> server: request without cookie", CODE(0x2748610)) called at t/01_server_side.t line 25
	main::__ANON__() called at /opt/perl-5.21.2/lib/5.21.2/Test/Builder.pm line 258
	Test::Builder::__ANON__() called at /opt/perl-5.21.2/lib/5.21.2/Test/Builder.pm line 263
	eval {...} called at /opt/perl-5.21.2/lib/5.21.2/Test/Builder.pm line 263
	Test::Builder::subtest(Test::Builder=HASH(0x2267e30), "First request", CODE(0x2700bd8)) called at /opt/perl-5.21.2/lib/5.21.2/Test/More.pm line 770
	Test::More::subtest("First request", CODE(0x2700bd8)) called at t/01_server_side.t line 11
	main::scenario("First request", CODE(0x2700bd8)) called at t/01_server_side.t line 31
Secret string too short at /tmpfs/.cpan-build/HTTP-Session2-1.08-0U53L8/blib/lib/HTTP/Session2/Base.pm line 79.
	HTTP::Session2::Base::__ANON__(HTTP::Session2::ServerStore=HASH(0x2251300), "s3cret") called at t/01_server_side.t line 40
	main::__ANON__("client -> server: request without cookie", CODE(0x2748838)) called at t/01_server_side.t line 42
	main::__ANON__() called at /opt/perl-5.21.2/lib/5.21.2/Test/Builder.pm line 258
	Test::Builder::__ANON__() called at /opt/perl-5.21.2/lib/5.21.2/Test/Builder.pm line 263
	eval {...} called at /opt/perl-5.21.2/lib/5.21.2/Test/Builder.pm line 263
	Test::Builder::subtest(Test::Builder=HASH(0x2267e30), "Store something without login", CODE(0x2730bb0)) called at /opt/perl-5.21.2/lib/5.21.2/Test/More.pm line 770
	Test::More::subtest("Store something without login", CODE(0x2730bb0)) called at t/01_server_side.t line 11
	main::scenario("Store something without login", CODE(0x2730bb0)) called at t/01_server_side.t line 58
Secret string too short at /tmpfs/.cpan-build/HTTP-Session2-1.08-0U53L8/blib/lib/HTTP/Session2/Base.pm line 79.
	HTTP::Session2::Base::__ANON__(HTTP::Session2::ServerStore=HASH(0x2747c08), "s3cret") called at t/01_server_side.t line 70
	main::__ANON__("client -> server: request without cookie", CODE(0x275dee8)) called at t/01_server_side.t line 72
	main::__ANON__() called at /opt/perl-5.21.2/lib/5.21.2/Test/Builder.pm line 258
	Test::Builder::__ANON__() called at /opt/perl-5.21.2/lib/5.21.2/Test/Builder.pm line 263
	eval {...} called at /opt/perl-5.21.2/lib/5.21.2/Test/Builder.pm line 263
	Test::Builder::subtest(Test::Builder=HASH(0x2267e30), "Login", CODE(0x27393f0)) called at /opt/perl-5.21.2/lib/5.21.2/Test/More.pm line 770
	Test::More::subtest("Login", CODE(0x27393f0)) called at t/01_server_side.t line 11
	main::scenario("Login", CODE(0x27393f0)) called at t/01_server_side.t line 96
Secret string too short at /tmpfs/.cpan-build/HTTP-Session2-1.08-0U53L8/blib/lib/HTTP/Session2/Base.pm line 79.
	HTTP::Session2::Base::__ANON__(HTTP::Session2::ServerStore=HASH(0x277b1e8), "s3cret") called at t/01_server_side.t line 108
	main::__ANON__("client -> server: request without cookie", CODE(0x275de58)) called at t/01_server_side.t line 110
	main::__ANON__() called at /opt/perl-5.21.2/lib/5.21.2/Test/Builder.pm line 258
	Test::Builder::__ANON__() called at /opt/perl-5.21.2/lib/5.21.2/Test/Builder.pm line 263
	eval {...} called at /opt/perl-5.21.2/lib/5.21.2/Test/Builder.pm line 263
	Test::Builder::subtest(Test::Builder=HASH(0x2267e30), "In a login session", CODE(0x2739d98)) called at /opt/perl-5.21.2/lib/5.21.2/Test/More.pm line 770
	Test::More::subtest("In a login session", CODE(0x2739d98)) called at t/01_server_side.t line 11
	main::scenario("In a login session", CODE(0x2739d98)) called at t/01_server_side.t line 124
Secret string too short at /tmpfs/.cpan-build/HTTP-Session2-1.08-0U53L8/blib/lib/HTTP/Session2/Base.pm line 79.
	HTTP::Session2::Base::__ANON__(HTTP::Session2::ServerStore=HASH(0x275dfa8), "s3cret") called at t/01_server_side.t line 131
	main::__ANON__("client -> server: request without cookie", CODE(0x2251c30)) called at t/01_server_side.t line 138
	main::__ANON__() called at /opt/perl-5.21.2/lib/5.21.2/Test/Builder.pm line 258
	Test::Builder::__ANON__() called at /opt/perl-5.21.2/lib/5.21.2/Test/Builder.pm line 263
	eval {...} called at /opt/perl-5.21.2/lib/5.21.2/Test/Builder.pm line 263
	Test::Builder::subtest(Test::Builder=HASH(0x2267e30), "Logout", CODE(0x27480b8)) called at /opt/perl-5.21.2/lib/5.21.2/Test/More.pm line 770
	Test::More::subtest("Logout", CODE(0x27480b8)) called at t/01_server_side.t line 11
	main::scenario("Logout", CODE(0x27480b8)) called at t/01_server_side.t line 153
t/01_server_side.t .......... ok
Secret string too short at /tmpfs/.cpan-build/HTTP-Session2-1.08-0U53L8/blib/lib/HTTP/Session2/Base.pm line 79.
	HTTP::Session2::Base::__ANON__(HTTP::Session2::ClientStore=HASH(0x2c43fb8), "s3cret") called at t/02_client_side.t line 17
	main::__ANON__("client -> server: request without cookie", CODE(0x2c33ac0)) called at t/02_client_side.t line 22
	main::__ANON__() called at /opt/perl-5.21.2/lib/5.21.2/Test/Builder.pm line 258
	Test::Builder::__ANON__() called at /opt/perl-5.21.2/lib/5.21.2/Test/Builder.pm line 263
	eval {...} called at /opt/perl-5.21.2/lib/5.21.2/Test/Builder.pm line 263
	Test::Builder::subtest(Test::Builder=HASH(0x274ec70), "First request", CODE(0x2a99ef8)) called at /opt/perl-5.21.2/lib/5.21.2/Test/More.pm line 770
	Test::More::subtest("First request", CODE(0x2a99ef8)) called at t/02_client_side.t line 9
	main::scenario("First request", CODE(0x2a99ef8)) called at t/02_client_side.t line 28
Secret string too short at /tmpfs/.cpan-build/HTTP-Session2-1.08-0U53L8/blib/lib/HTTP/Session2/Base.pm line 79.
	HTTP::Session2::Base::__ANON__(HTTP::Session2::ClientStore=HASH(0x2c43e98), "s3cret") called at t/02_client_side.t line 33
	main::__ANON__("client -> server: request without cookie", CODE(0x2c43fa0)) called at t/02_client_side.t line 38
	main::__ANON__() called at /opt/perl-5.21.2/lib/5.21.2/Test/Builder.pm line 258
	Test::Builder::__ANON__() called at /opt/perl-5.21.2/lib/5.21.2/Test/Builder.pm line 263
	eval {...} called at /opt/perl-5.21.2/lib/5.21.2/Test/Builder.pm line 263
	Test::Builder::subtest(Test::Builder=HASH(0x274ec70), "Store something without login", CODE(0x2ccb998)) called at /opt/perl-5.21.2/lib/5.21.2/Test/More.pm line 770
	Test::More::subtest("Store something without login", CODE(0x2ccb998)) called at t/02_client_side.t line 9
	main::scenario("Store something without login", CODE(0x2ccb998)) called at t/02_client_side.t line 54
Do not use HTTP::Session2::ClientStore. Use HTTP::Session2::ServerStore or HTTP::Session2::ClientStore2 instead. at /tmpfs/.cpan-build/HTTP-Session2-1.08-0U53L8/blib/lib/HTTP/Session2/ClientStore.pm line 25.
Secret string too short at /tmpfs/.cpan-build/HTTP-Session2-1.08-0U53L8/blib/lib/HTTP/Session2/Base.pm line 79.
	HTTP::Session2::Base::__ANON__(HTTP::Session2::ClientStore=HASH(0x2c43e98), "s3cret") called at t/02_client_side.t line 60
	main::__ANON__("client -> server: request without cookie", CODE(0x2c4a7b0)) called at t/02_client_side.t line 66
	main::__ANON__() called at /opt/perl-5.21.2/lib/5.21.2/Test/Builder.pm line 258
	Test::Builder::__ANON__() called at /opt/perl-5.21.2/lib/5.21.2/Test/Builder.pm line 263
	eval {...} called at /opt/perl-5.21.2/lib/5.21.2/Test/Builder.pm line 263
	Test::Builder::subtest(Test::Builder=HASH(0x274ec70), "Login", CODE(0x2ccbda0)) called at /opt/perl-5.21.2/lib/5.21.2/Test/More.pm line 770
	Test::More::subtest("Login", CODE(0x2ccbda0)) called at t/02_client_side.t line 9
	main::scenario("Login", CODE(0x2ccbda0)) called at t/02_client_side.t line 86
Do not use HTTP::Session2::ClientStore. Use HTTP::Session2::ServerStore or HTTP::Session2::ClientStore2 instead. at /tmpfs/.cpan-build/HTTP-Session2-1.08-0U53L8/blib/lib/HTTP/Session2/ClientStore.pm line 35.
Do not use HTTP::Session2::ClientStore. Use HTTP::Session2::ServerStore or HTTP::Session2::ClientStore2 instead. at /tmpfs/.cpan-build/HTTP-Session2-1.08-0U53L8/blib/lib/HTTP/Session2/ClientStore.pm line 25.
Secret string too short at /tmpfs/.cpan-build/HTTP-Session2-1.08-0U53L8/blib/lib/HTTP/Session2/Base.pm line 79.
	HTTP::Session2::Base::__ANON__(HTTP::Session2::ClientStore=HASH(0x2c4a918), "s3cret") called at t/02_client_side.t line 92
	main::__ANON__("client -> server: request without cookie", CODE(0x2c4a780)) called at t/02_client_side.t line 98
	main::__ANON__() called at /opt/perl-5.21.2/lib/5.21.2/Test/Builder.pm line 258
	Test::Builder::__ANON__() called at /opt/perl-5.21.2/lib/5.21.2/Test/Builder.pm line 263
	eval {...} called at /opt/perl-5.21.2/lib/5.21.2/Test/Builder.pm line 263
	Test::Builder::subtest(Test::Builder=HASH(0x274ec70), "In a login session", CODE(0x2c32e18)) called at /opt/perl-5.21.2/lib/5.21.2/Test/More.pm line 770
	Test::More::subtest("In a login session", CODE(0x2c32e18)) called at t/02_client_side.t line 9
	main::scenario("In a login session", CODE(0x2c32e18)) called at t/02_client_side.t line 107
Do not use HTTP::Session2::ClientStore. Use HTTP::Session2::ServerStore or HTTP::Session2::ClientStore2 instead. at /tmpfs/.cpan-build/HTTP-Session2-1.08-0U53L8/blib/lib/HTTP/Session2/ClientStore.pm line 35.
Do not use HTTP::Session2::ClientStore. Use HTTP::Session2::ServerStore or HTTP::Session2::ClientStore2 instead. at /tmpfs/.cpan-build/HTTP-Session2-1.08-0U53L8/blib/lib/HTTP/Session2/ClientStore.pm line 25.
Secret string too short at /tmpfs/.cpan-build/HTTP-Session2-1.08-0U53L8/blib/lib/HTTP/Session2/Base.pm line 79.
	HTTP::Session2::Base::__ANON__(HTTP::Session2::ClientStore=HASH(0x2c44090), "s3cret") called at t/02_client_side.t line 112
	main::__ANON__("client -> server: request without cookie", CODE(0x2c33a48)) called at t/02_client_side.t line 118
	main::__ANON__() called at /opt/perl-5.21.2/lib/5.21.2/Test/Builder.pm line 258
	Test::Builder::__ANON__() called at /opt/perl-5.21.2/lib/5.21.2/Test/Builder.pm line 263
	eval {...} called at /opt/perl-5.21.2/lib/5.21.2/Test/Builder.pm line 263
	Test::Builder::subtest(Test::Builder=HASH(0x274ec70), "Logout", CODE(0x2c33580)) called at /opt/perl-5.21.2/lib/5.21.2/Test/More.pm line 770
	Test::More::subtest("Logout", CODE(0x2c33580)) called at t/02_client_side.t line 9
	main::scenario("Logout", CODE(0x2c33580)) called at t/02_client_side.t line 131
t/02_client_side.t .......... ok
Secret string too short at /tmpfs/.cpan-build/HTTP-Session2-1.08-0U53L8/blib/lib/HTTP/Session2/Base.pm line 79.
	HTTP::Session2::Base::__ANON__(HTTP::Session2::ServerStore=HASH(0x29c3fb8), "s3cret") called at t/03_mech.t line 121
	main::server_session(HASH(0x29c3910)) called at t/03_mech.t line 17
	main::__ANON__(HASH(0x29c3910)) called at /opt/perl-5.21.2/lib/site_perl/5.21.2/Test/WWW/Mechanize/PSGI.pm line 39
	Test::WWW::Mechanize::PSGI::try {...} () called at /opt/perl-5.21.2/lib/site_perl/5.21.2/Try/Tiny.pm line 81
	eval {...} called at /opt/perl-5.21.2/lib/site_perl/5.21.2/Try/Tiny.pm line 72
	Try::Tiny::try(CODE(0x29a1fb8), Try::Tiny::Catch=REF(0x1c6ef48)) called at /opt/perl-5.21.2/lib/site_perl/5.21.2/Test/WWW/Mechanize/PSGI.pm line 46
	Test::WWW::Mechanize::PSGI::simple_request(Test::WWW::Mechanize::PSGI=HASH(0x2866460), HTTP::Request=HASH(0x293f3f0), undef, undef) called at /opt/perl-5.21.2/lib/site_perl/5.21.2/LWP/UserAgent.pm line 282
	LWP::UserAgent::request(Test::WWW::Mechanize::PSGI=HASH(0x2866460), HTTP::Request=HASH(0x293f3f0)) called at /opt/perl-5.21.2/lib/site_perl/5.21.2/WWW/Mechanize.pm line 2598
	WWW::Mechanize::_make_request(Test::WWW::Mechanize::PSGI=HASH(0x2866460), HTTP::Request=HASH(0x293f3f0)) called at /opt/perl-5.21.2/lib/site_perl/5.21.2/WWW/Mechanize.pm line 2312
	WWW::Mechanize::request(Test::WWW::Mechanize::PSGI=HASH(0x2866460), HTTP::Request=HASH(0x293f3f0)) called at /opt/perl-5.21.2/lib/site_perl/5.21.2/LWP/UserAgent.pm line 411
	LWP::UserAgent::get(Test::WWW::Mechanize::PSGI=HASH(0x2866460), "/") called at /opt/perl-5.21.2/lib/site_perl/5.21.2/WWW/Mechanize.pm line 407
	WWW::Mechanize::get(Test::WWW::Mechanize::PSGI=HASH(0x2866460), "/") called at /opt/perl-5.21.2/lib/site_perl/5.21.2/Test/WWW/Mechanize.pm line 159
	Test::WWW::Mechanize::get_ok(Test::WWW::Mechanize::PSGI=HASH(0x2866460), "/") called at t/03_mech.t line 74
Secret string too short at /tmpfs/.cpan-build/HTTP-Session2-1.08-0U53L8/blib/lib/HTTP/Session2/Base.pm line 79.
	HTTP::Session2::Base::__ANON__(HTTP::Session2::ServerStore=HASH(0x29ca208), "s3cret") called at t/03_mech.t line 121
	main::server_session(HASH(0x29c9db8)) called at t/03_mech.t line 17
	main::__ANON__(HASH(0x29c9db8)) called at /opt/perl-5.21.2/lib/site_perl/5.21.2/Test/WWW/Mechanize/PSGI.pm line 39
	Test::WWW::Mechanize::PSGI::try {...} () called at /opt/perl-5.21.2/lib/site_perl/5.21.2/Try/Tiny.pm line 81
	eval {...} called at /opt/perl-5.21.2/lib/site_perl/5.21.2/Try/Tiny.pm line 72
	Try::Tiny::try(CODE(0x29c9dd0), Try::Tiny::Catch=REF(0x29c3d78)) called at /opt/perl-5.21.2/lib/site_perl/5.21.2/Test/WWW/Mechanize/PSGI.pm line 46
	Test::WWW::Mechanize::PSGI::simple_request(Test::WWW::Mechanize::PSGI=HASH(0x2866460), HTTP::Request=HASH(0x29c40d8), undef, undef) called at /opt/perl-5.21.2/lib/site_perl/5.21.2/LWP/UserAgent.pm line 282
	LWP::UserAgent::request(Test::WWW::Mechanize::PSGI=HASH(0x2866460), HTTP::Request=HASH(0x29c40d8)) called at /opt/perl-5.21.2/lib/site_perl/5.21.2/WWW/Mechanize.pm line 2598
	WWW::Mechanize::_make_request(Test::WWW::Mechanize::PSGI=HASH(0x2866460), HTTP::Request=HASH(0x29c40d8)) called at /opt/perl-5.21.2/lib/site_perl/5.21.2/WWW/Mechanize.pm line 2312
	WWW::Mechanize::request(Test::WWW::Mechanize::PSGI=HASH(0x2866460), HTTP::Request=HASH(0x29c40d8)) called at /opt/perl-5.21.2/lib/site_perl/5.21.2/LWP/UserAgent.pm line 419
	LWP::UserAgent::post(Test::WWW::Mechanize::PSGI=HASH(0x2866460), "/wishlist?foo", HASH(0x2567228)) called at /opt/perl-5.21.2/lib/site_perl/5.21.2/Test/WWW/Mechanize.pm line 236
	Test::WWW::Mechanize::post_ok(Test::WWW::Mechanize::PSGI=HASH(0x2866460), "/wishlist?foo") called at t/03_mech.t line 75
Secret string too short at /tmpfs/.cpan-build/HTTP-Session2-1.08-0U53L8/blib/lib/HTTP/Session2/Base.pm line 79.
	HTTP::Session2::Base::__ANON__(HTTP::Session2::ServerStore=HASH(0x29d6850), "s3cret") called at t/03_mech.t line 121
	main::server_session(HASH(0x29ca310)) called at t/03_mech.t line 17
	main::__ANON__(HASH(0x29ca310)) called at /opt/perl-5.21.2/lib/site_perl/5.21.2/Test/WWW/Mechanize/PSGI.pm line 39
	Test::WWW::Mechanize::PSGI::try {...} () called at /opt/perl-5.21.2/lib/site_perl/5.21.2/Try/Tiny.pm line 81
	eval {...} called at /opt/perl-5.21.2/lib/site_perl/5.21.2/Try/Tiny.pm line 72
	Try::Tiny::try(CODE(0x29c9da0), Try::Tiny::Catch=REF(0x29ca088)) called at /opt/perl-5.21.2/lib/site_perl/5.21.2/Test/WWW/Mechanize/PSGI.pm line 46
	Test::WWW::Mechanize::PSGI::simple_request(Test::WWW::Mechanize::PSGI=HASH(0x2866460), HTTP::Request=HASH(0x29c3aa8), undef, undef) called at /opt/perl-5.21.2/lib/site_perl/5.21.2/LWP/UserAgent.pm line 282
	LWP::UserAgent::request(Test::WWW::Mechanize::PSGI=HASH(0x2866460), HTTP::Request=HASH(0x29c3aa8)) called at /opt/perl-5.21.2/lib/site_perl/5.21.2/WWW/Mechanize.pm line 2598
	WWW::Mechanize::_make_request(Test::WWW::Mechanize::PSGI=HASH(0x2866460), HTTP::Request=HASH(0x29c3aa8)) called at /opt/perl-5.21.2/lib/site_perl/5.21.2/WWW/Mechanize.pm line 2312
	WWW::Mechanize::request(Test::WWW::Mechanize::PSGI=HASH(0x2866460), HTTP::Request=HASH(0x29c3aa8)) called at /opt/perl-5.21.2/lib/site_perl/5.21.2/LWP/UserAgent.pm line 411
	LWP::UserAgent::get(Test::WWW::Mechanize::PSGI=HASH(0x2866460), "http://localhost/wishlist") called at /opt/perl-5.21.2/lib/site_perl/5.21.2/WWW/Mechanize.pm line 407
	WWW::Mechanize::get(Test::WWW::Mechanize::PSGI=HASH(0x2866460), "/wishlist") called at /opt/perl-5.21.2/lib/site_perl/5.21.2/Test/WWW/Mechanize.pm line 159
	Test::WWW::Mechanize::get_ok(Test::WWW::Mechanize::PSGI=HASH(0x2866460), "/wishlist") called at t/03_mech.t line 76
Secret string too short at /tmpfs/.cpan-build/HTTP-Session2-1.08-0U53L8/blib/lib/HTTP/Session2/Base.pm line 79.
	HTTP::Session2::Base::__ANON__(HTTP::Session2::ServerStore=HASH(0x29d6d60), "s3cret") called at t/03_mech.t line 121
	main::server_session(HASH(0x29d6bc8)) called at t/03_mech.t line 17
	main::__ANON__(HASH(0x29d6bc8)) called at /opt/perl-5.21.2/lib/site_perl/5.21.2/Test/WWW/Mechanize/PSGI.pm line 39
	Test::WWW::Mechanize::PSGI::try {...} () called at /opt/perl-5.21.2/lib/site_perl/5.21.2/Try/Tiny.pm line 81
	eval {...} called at /opt/perl-5.21.2/lib/site_perl/5.21.2/Try/Tiny.pm line 72
	Try::Tiny::try(CODE(0x29d69b8), Try::Tiny::Catch=REF(0x29d66b8)) called at /opt/perl-5.21.2/lib/site_perl/5.21.2/Test/WWW/Mechanize/PSGI.pm line 46
	Test::WWW::Mechanize::PSGI::simple_request(Test::WWW::Mechanize::PSGI=HASH(0x2866460), HTTP::Request=HASH(0x29ca058), undef, undef) called at /opt/perl-5.21.2/lib/site_perl/5.21.2/LWP/UserAgent.pm line 282
	LWP::UserAgent::request(Test::WWW::Mechanize::PSGI=HASH(0x2866460), HTTP::Request=HASH(0x29ca058)) called at /opt/perl-5.21.2/lib/site_perl/5.21.2/WWW/Mechanize.pm line 2598
	WWW::Mechanize::_make_request(Test::WWW::Mechanize::PSGI=HASH(0x2866460), HTTP::Request=HASH(0x29ca058)) called at /opt/perl-5.21.2/lib/site_perl/5.21.2/WWW/Mechanize.pm line 2312
	WWW::Mechanize::request(Test::WWW::Mechanize::PSGI=HASH(0x2866460), HTTP::Request=HASH(0x29ca058)) called at /opt/perl-5.21.2/lib/site_perl/5.21.2/LWP/UserAgent.pm line 419
	LWP::UserAgent::post(Test::WWW::Mechanize::PSGI=HASH(0x2866460), "/wishlist?bar") called at t/03_mech.t line 78
Secret string too short at /tmpfs/.cpan-build/HTTP-Session2-1.08-0U53L8/blib/lib/HTTP/Session2/Base.pm line 79.
	HTTP::Session2::Base::__ANON__(HTTP::Session2::ServerStore=HASH(0x29d71e0), "s3cret") called at t/03_mech.t line 121
	main::server_session(HASH(0x29d67f0)) called at t/03_mech.t line 17
	main::__ANON__(HASH(0x29d67f0)) called at /opt/perl-5.21.2/lib/site_perl/5.21.2/Test/WWW/Mechanize/PSGI.pm line 39
	Test::WWW::Mechanize::PSGI::try {...} () called at /opt/perl-5.21.2/lib/site_perl/5.21.2/Try/Tiny.pm line 81
	eval {...} called at /opt/perl-5.21.2/lib/site_perl/5.21.2/Try/Tiny.pm line 72
	Try::Tiny::try(CODE(0x29d6988), Try::Tiny::Catch=REF(0x29d69e8)) called at /opt/perl-5.21.2/lib/site_perl/5.21.2/Test/WWW/Mechanize/PSGI.pm line 46
	Test::WWW::Mechanize::PSGI::simple_request(Test::WWW::Mechanize::PSGI=HASH(0x2866460), HTTP::Request=HASH(0x29d6940), undef, undef) called at /opt/perl-5.21.2/lib/site_perl/5.21.2/LWP/UserAgent.pm line 282
	LWP::UserAgent::request(Test::WWW::Mechanize::PSGI=HASH(0x2866460), HTTP::Request=HASH(0x29d6940)) called at /opt/perl-5.21.2/lib/site_perl/5.21.2/WWW/Mechanize.pm line 2598
	WWW::Mechanize::_make_request(Test::WWW::Mechanize::PSGI=HASH(0x2866460), HTTP::Request=HASH(0x29d6940)) called at /opt/perl-5.21.2/lib/site_perl/5.21.2/WWW/Mechanize.pm line 2312
	WWW::Mechanize::request(Test::WWW::Mechanize::PSGI=HASH(0x2866460), HTTP::Request=HASH(0x29d6940)) called at /opt/perl-5.21.2/lib/site_perl/5.21.2/LWP/UserAgent.pm line 419
	LWP::UserAgent::post(Test::WWW::Mechanize::PSGI=HASH(0x2866460), "/wishlist?bar", HASH(0x2567228)) called at /opt/perl-5.21.2/lib/site_perl/5.21.2/Test/WWW/Mechanize.pm line 236
	Test::WWW::Mechanize::post_ok(Test::WWW::Mechanize::PSGI=HASH(0x2866460), "/wishlist?bar") called at t/03_mech.t line 81
Secret string too short at /tmpfs/.cpan-build/HTTP-Session2-1.08-0U53L8/blib/lib/HTTP/Session2/Base.pm line 79.
	HTTP::Session2::Base::__ANON__(HTTP::Session2::ServerStore=HASH(0x29d75a0), "s3cret") called at t/03_mech.t line 121
	main::server_session(HASH(0x29ca598)) called at t/03_mech.t line 17
	main::__ANON__(HASH(0x29ca598)) called at /opt/perl-5.21.2/lib/site_perl/5.21.2/Test/WWW/Mechanize/PSGI.pm line 39
	Test::WWW::Mechanize::PSGI::try {...} () called at /opt/perl-5.21.2/lib/site_perl/5.21.2/Try/Tiny.pm line 81
	eval {...} called at /opt/perl-5.21.2/lib/site_perl/5.21.2/Try/Tiny.pm line 72
	Try::Tiny::try(CODE(0x29d7288), Try::Tiny::Catch=REF(0x29d6e98)) called at /opt/perl-5.21.2/lib/site_perl/5.21.2/Test/WWW/Mechanize/PSGI.pm line 46
	Test::WWW::Mechanize::PSGI::simple_request(Test::WWW::Mechanize::PSGI=HASH(0x2866460), HTTP::Request=HASH(0x29d6bc8), undef, undef) called at /opt/perl-5.21.2/lib/site_perl/5.21.2/LWP/UserAgent.pm line 282
	LWP::UserAgent::request(Test::WWW::Mechanize::PSGI=HASH(0x2866460), HTTP::Request=HASH(0x29d6bc8)) called at /opt/perl-5.21.2/lib/site_perl/5.21.2/WWW/Mechanize.pm line 2598
	WWW::Mechanize::_make_request(Test::WWW::Mechanize::PSGI=HASH(0x2866460), HTTP::Request=HASH(0x29d6bc8)) called at /opt/perl-5.21.2/lib/site_perl/5.21.2/WWW/Mechanize.pm line 2312
	WWW::Mechanize::request(Test::WWW::Mechanize::PSGI=HASH(0x2866460), HTTP::Request=HASH(0x29d6bc8)) called at /opt/perl-5.21.2/lib/site_perl/5.21.2/LWP/UserAgent.pm line 411
	LWP::UserAgent::get(Test::WWW::Mechanize::PSGI=HASH(0x2866460), "http://localhost/wishlist") called at /opt/perl-5.21.2/lib/site_perl/5.21.2/WWW/Mechanize.pm line 407
	WWW::Mechanize::get(Test::WWW::Mechanize::PSGI=HASH(0x2866460), "/wishlist") called at /opt/perl-5.21.2/lib/site_perl/5.21.2/Test/WWW/Mechanize.pm line 159
	Test::WWW::Mechanize::get_ok(Test::WWW::Mechanize::PSGI=HASH(0x2866460), "/wishlist") called at t/03_mech.t line 82
Secret string too short at /tmpfs/.cpan-build/HTTP-Session2-1.08-0U53L8/blib/lib/HTTP/Session2/Base.pm line 79.
	HTTP::Session2::Base::__ANON__(HTTP::Session2::ServerStore=HASH(0x29da180), "s3cret") called at t/03_mech.t line 121
	main::server_session(HASH(0x29d7318)) called at t/03_mech.t line 17
	main::__ANON__(HASH(0x29d7318)) called at /opt/perl-5.21.2/lib/site_perl/5.21.2/Test/WWW/Mechanize/PSGI.pm line 39
	Test::WWW::Mechanize::PSGI::try {...} () called at /opt/perl-5.21.2/lib/site_perl/5.21.2/Try/Tiny.pm line 81
	eval {...} called at /opt/perl-5.21.2/lib/site_perl/5.21.2/Try/Tiny.pm line 72
	Try::Tiny::try(CODE(0x29d71c8), Try::Tiny::Catch=REF(0x29d73c0)) called at /opt/perl-5.21.2/lib/site_perl/5.21.2/Test/WWW/Mechanize/PSGI.pm line 46
	Test::WWW::Mechanize::PSGI::simple_request(Test::WWW::Mechanize::PSGI=HASH(0x2866460), HTTP::Request=HASH(0x29d7180), undef, undef) called at /opt/perl-5.21.2/lib/site_perl/5.21.2/LWP/UserAgent.pm line 282
	LWP::UserAgent::request(Test::WWW::Mechanize::PSGI=HASH(0x2866460), HTTP::Request=HASH(0x29d7180)) called at /opt/perl-5.21.2/lib/site_perl/5.21.2/WWW/Mechanize.pm line 2598
	WWW::Mechanize::_make_request(Test::WWW::Mechanize::PSGI=HASH(0x2866460), HTTP::Request=HASH(0x29d7180)) called at /opt/perl-5.21.2/lib/site_perl/5.21.2/WWW/Mechanize.pm line 2312
	WWW::Mechanize::request(Test::WWW::Mechanize::PSGI=HASH(0x2866460), HTTP::Request=HASH(0x29d7180)) called at /opt/perl-5.21.2/lib/site_perl/5.21.2/LWP/UserAgent.pm line 419
	LWP::UserAgent::post(Test::WWW::Mechanize::PSGI=HASH(0x2866460), "/account/login?john", HASH(0x2567228)) called at /opt/perl-5.21.2/lib/site_perl/5.21.2/Test/WWW/Mechanize.pm line 236
	Test::WWW::Mechanize::post_ok(Test::WWW::Mechanize::PSGI=HASH(0x2866460), "/account/login?john") called at t/03_mech.t line 84
Secret string too short at /tmpfs/.cpan-build/HTTP-Session2-1.08-0U53L8/blib/lib/HTTP/Session2/Base.pm line 79.
	HTTP::Session2::Base::__ANON__(HTTP::Session2::ServerStore=HASH(0x29da498), "s3cret") called at t/03_mech.t line 121
	main::server_session(HASH(0x29ca628)) called at t/03_mech.t line 17
	main::__ANON__(HASH(0x29ca628)) called at /opt/perl-5.21.2/lib/site_perl/5.21.2/Test/WWW/Mechanize/PSGI.pm line 39
	Test::WWW::Mechanize::PSGI::try {...} () called at /opt/perl-5.21.2/lib/site_perl/5.21.2/Try/Tiny.pm line 81
	eval {...} called at /opt/perl-5.21.2/lib/site_perl/5.21.2/Try/Tiny.pm line 72
	Try::Tiny::try(CODE(0x29d73c0), Try::Tiny::Catch=REF(0x29da060)) called at /opt/perl-5.21.2/lib/site_perl/5.21.2/Test/WWW/Mechanize/PSGI.pm line 46
	Test::WWW::Mechanize::PSGI::simple_request(Test::WWW::Mechanize::PSGI=HASH(0x2866460), HTTP::Request=HASH(0x29da1c8), undef, undef) called at /opt/perl-5.21.2/lib/site_perl/5.21.2/LWP/UserAgent.pm line 282
	LWP::UserAgent::request(Test::WWW::Mechanize::PSGI=HASH(0x2866460), HTTP::Request=HASH(0x29da1c8)) called at /opt/perl-5.21.2/lib/site_perl/5.21.2/WWW/Mechanize.pm line 2598
	WWW::Mechanize::_make_request(Test::WWW::Mechanize::PSGI=HASH(0x2866460), HTTP::Request=HASH(0x29da1c8)) called at /opt/perl-5.21.2/lib/site_perl/5.21.2/WWW/Mechanize.pm line 2312
	WWW::Mechanize::request(Test::WWW::Mechanize::PSGI=HASH(0x2866460), HTTP::Request=HASH(0x29da1c8)) called at /opt/perl-5.21.2/lib/site_perl/5.21.2/LWP/UserAgent.pm line 411
	LWP::UserAgent::get(Test::WWW::Mechanize::PSGI=HASH(0x2866460), "http://localhost/wishlist") called at /opt/perl-5.21.2/lib/site_perl/5.21.2/WWW/Mechanize.pm line 407
	WWW::Mechanize::get(Test::WWW::Mechanize::PSGI=HASH(0x2866460), "/wishlist") called at /opt/perl-5.21.2/lib/site_perl/5.21.2/Test/WWW/Mechanize.pm line 159
	Test::WWW::Mechanize::get_ok(Test::WWW::Mechanize::PSGI=HASH(0x2866460), "/wishlist", "Wishlist is still available") called at t/03_mech.t line 85
Secret string too short at /tmpfs/.cpan-build/HTTP-Session2-1.08-0U53L8/blib/lib/HTTP/Session2/Base.pm line 79.
	HTTP::Session2::Base::__ANON__(HTTP::Session2::ServerStore=HASH(0x29da5d0), "s3cret") called at t/03_mech.t line 121
	main::server_session(HASH(0x29d7498)) called at t/03_mech.t line 17
	main::__ANON__(HASH(0x29d7498)) called at /opt/perl-5.21.2/lib/site_perl/5.21.2/Test/WWW/Mechanize/PSGI.pm line 39
	Test::WWW::Mechanize::PSGI::try {...} () called at /opt/perl-5.21.2/lib/site_perl/5.21.2/Try/Tiny.pm line 81
	eval {...} called at /opt/perl-5.21.2/lib/site_perl/5.21.2/Try/Tiny.pm line 72
	Try::Tiny::try(CODE(0x29da198), Try::Tiny::Catch=REF(0x29da408)) called at /opt/perl-5.21.2/lib/site_perl/5.21.2/Test/WWW/Mechanize/PSGI.pm line 46
	Test::WWW::Mechanize::PSGI::simple_request(Test::WWW::Mechanize::PSGI=HASH(0x2866460), HTTP::Request=HASH(0x29da3c0), undef, undef) called at /opt/perl-5.21.2/lib/site_perl/5.21.2/LWP/UserAgent.pm line 282
	LWP::UserAgent::request(Test::WWW::Mechanize::PSGI=HASH(0x2866460), HTTP::Request=HASH(0x29da3c0)) called at /opt/perl-5.21.2/lib/site_perl/5.21.2/WWW/Mechanize.pm line 2598
	WWW::Mechanize::_make_request(Test::WWW::Mechanize::PSGI=HASH(0x2866460), HTTP::Request=HASH(0x29da3c0)) called at /opt/perl-5.21.2/lib/site_perl/5.21.2/WWW/Mechanize.pm line 2312
	WWW::Mechanize::request(Test::WWW::Mechanize::PSGI=HASH(0x2866460), HTTP::Request=HASH(0x29da3c0)) called at /opt/perl-5.21.2/lib/site_perl/5.21.2/LWP/UserAgent.pm line 419
	LWP::UserAgent::post(Test::WWW::Mechanize::PSGI=HASH(0x2866460), "/wishlist?baz") called at t/03_mech.t line 87
Secret string too short at /tmpfs/.cpan-build/HTTP-Session2-1.08-0U53L8/blib/lib/HTTP/Session2/Base.pm line 79.
	HTTP::Session2::Base::__ANON__(HTTP::Session2::ServerStore=HASH(0x29dfc90), "s3cret") called at t/03_mech.t line 121
	main::server_session(HASH(0x29da978)) called at t/03_mech.t line 17
	main::__ANON__(HASH(0x29da978)) called at /opt/perl-5.21.2/lib/site_perl/5.21.2/Test/WWW/Mechanize/PSGI.pm line 39
	Test::WWW::Mechanize::PSGI::try {...} () called at /opt/perl-5.21.2/lib/site_perl/5.21.2/Try/Tiny.pm line 81
	eval {...} called at /opt/perl-5.21.2/lib/site_perl/5.21.2/Try/Tiny.pm line 72
	Try::Tiny::try(CODE(0x29ca520), Try::Tiny::Catch=REF(0x29da888)) called at /opt/perl-5.21.2/lib/site_perl/5.21.2/Test/WWW/Mechanize/PSGI.pm line 46
	Test::WWW::Mechanize::PSGI::simple_request(Test::WWW::Mechanize::PSGI=HASH(0x2866460), HTTP::Request=HASH(0x29daa20), undef, undef) called at /opt/perl-5.21.2/lib/site_perl/5.21.2/LWP/UserAgent.pm line 282
	LWP::UserAgent::request(Test::WWW::Mechanize::PSGI=HASH(0x2866460), HTTP::Request=HASH(0x29daa20)) called at /opt/perl-5.21.2/lib/site_perl/5.21.2/WWW/Mechanize.pm line 2598
	WWW::Mechanize::_make_request(Test::WWW::Mechanize::PSGI=HASH(0x2866460), HTTP::Request=HASH(0x29daa20)) called at /opt/perl-5.21.2/lib/site_perl/5.21.2/WWW/Mechanize.pm line 2312
	WWW::Mechanize::request(Test::WWW::Mechanize::PSGI=HASH(0x2866460), HTTP::Request=HASH(0x29daa20)) called at /opt/perl-5.21.2/lib/site_perl/5.21.2/LWP/UserAgent.pm line 419
	LWP::UserAgent::post(Test::WWW::Mechanize::PSGI=HASH(0x2866460), "/wishlist?baz", HASH(0x2567228)) called at /opt/perl-5.21.2/lib/site_perl/5.21.2/Test/WWW/Mechanize.pm line 236
	Test::WWW::Mechanize::post_ok(Test::WWW::Mechanize::PSGI=HASH(0x2866460), "/wishlist?baz") called at t/03_mech.t line 90
Secret string too short at /tmpfs/.cpan-build/HTTP-Session2-1.08-0U53L8/blib/lib/HTTP/Session2/Base.pm line 79.
	HTTP::Session2::Base::__ANON__(HTTP::Session2::ServerStore=HASH(0x29e01b8), "s3cret") called at t/03_mech.t line 121
	main::server_session(HASH(0x29da960)) called at t/03_mech.t line 17
	main::__ANON__(HASH(0x29da960)) called at /opt/perl-5.21.2/lib/site_perl/5.21.2/Test/WWW/Mechanize/PSGI.pm line 39
	Test::WWW::Mechanize::PSGI::try {...} () called at /opt/perl-5.21.2/lib/site_perl/5.21.2/Try/Tiny.pm line 81
	eval {...} called at /opt/perl-5.21.2/lib/site_perl/5.21.2/Try/Tiny.pm line 72
	Try::Tiny::try(CODE(0x29dfb10), Try::Tiny::Catch=REF(0x29dac78)) called at /opt/perl-5.21.2/lib/site_perl/5.21.2/Test/WWW/Mechanize/PSGI.pm line 46
	Test::WWW::Mechanize::PSGI::simple_request(Test::WWW::Mechanize::PSGI=HASH(0x2866460), HTTP::Request=HASH(0x29d70a8), undef, undef) called at /opt/perl-5.21.2/lib/site_perl/5.21.2/LWP/UserAgent.pm line 282
	LWP::UserAgent::request(Test::WWW::Mechanize::PSGI=HASH(0x2866460), HTTP::Request=HASH(0x29d70a8)) called at /opt/perl-5.21.2/lib/site_perl/5.21.2/WWW/Mechanize.pm line 2598
	WWW::Mechanize::_make_request(Test::WWW::Mechanize::PSGI=HASH(0x2866460), HTTP::Request=HASH(0x29d70a8)) called at /opt/perl-5.21.2/lib/site_perl/5.21.2/WWW/Mechanize.pm line 2312
	WWW::Mechanize::request(Test::WWW::Mechanize::PSGI=HASH(0x2866460), HTTP::Request=HASH(0x29d70a8)) called at /opt/perl-5.21.2/lib/site_perl/5.21.2/LWP/UserAgent.pm line 411
	LWP::UserAgent::get(Test::WWW::Mechanize::PSGI=HASH(0x2866460), "http://localhost/wishlist") called at /opt/perl-5.21.2/lib/site_perl/5.21.2/WWW/Mechanize.pm line 407
	WWW::Mechanize::get(Test::WWW::Mechanize::PSGI=HASH(0x2866460), "/wishlist") called at /opt/perl-5.21.2/lib/site_perl/5.21.2/Test/WWW/Mechanize.pm line 159
	Test::WWW::Mechanize::get_ok(Test::WWW::Mechanize::PSGI=HASH(0x2866460), "/wishlist", "Wishlist is still available") called at t/03_mech.t line 91
Secret string too short at /tmpfs/.cpan-build/HTTP-Session2-1.08-0U53L8/blib/lib/HTTP/Session2/Base.pm line 79.
	HTTP::Session2::Base::__ANON__(HTTP::Session2::ServerStore=HASH(0x29e0740), "s3cret") called at t/03_mech.t line 121
	main::server_session(HASH(0x29daae0)) called at t/03_mech.t line 17
	main::__ANON__(HASH(0x29daae0)) called at /opt/perl-5.21.2/lib/site_perl/5.21.2/Test/WWW/Mechanize/PSGI.pm line 39
	Test::WWW::Mechanize::PSGI::try {...} () called at /opt/perl-5.21.2/lib/site_perl/5.21.2/Try/Tiny.pm line 81
	eval {...} called at /opt/perl-5.21.2/lib/site_perl/5.21.2/Try/Tiny.pm line 72
	Try::Tiny::try(CODE(0x29dfa50), Try::Tiny::Catch=REF(0x29dff00)) called at /opt/perl-5.21.2/lib/site_perl/5.21.2/Test/WWW/Mechanize/PSGI.pm line 46
	Test::WWW::Mechanize::PSGI::simple_request(Test::WWW::Mechanize::PSGI=HASH(0x2866460), HTTP::Request=HASH(0x29da888), undef, undef) called at /opt/perl-5.21.2/lib/site_perl/5.21.2/LWP/UserAgent.pm line 282
	LWP::UserAgent::request(Test::WWW::Mechanize::PSGI=HASH(0x2866460), HTTP::Request=HASH(0x29da888)) called at /opt/perl-5.21.2/lib/site_perl/5.21.2/WWW/Mechanize.pm line 2598
	WWW::Mechanize::_make_request(Test::WWW::Mechanize::PSGI=HASH(0x2866460), HTTP::Request=HASH(0x29da888)) called at /opt/perl-5.21.2/lib/site_perl/5.21.2/WWW/Mechanize.pm line 2312
	WWW::Mechanize::request(Test::WWW::Mechanize::PSGI=HASH(0x2866460), HTTP::Request=HASH(0x29da888)) called at /opt/perl-5.21.2/lib/site_perl/5.21.2/LWP/UserAgent.pm line 411
	LWP::UserAgent::get(Test::WWW::Mechanize::PSGI=HASH(0x2866460), "http://localhost/my/name") called at /opt/perl-5.21.2/lib/site_perl/5.21.2/WWW/Mechanize.pm line 407
	WWW::Mechanize::get(Test::WWW::Mechanize::PSGI=HASH(0x2866460), "/my/name") called at /opt/perl-5.21.2/lib/site_perl/5.21.2/Test/WWW/Mechanize.pm line 159
	Test::WWW::Mechanize::get_ok(Test::WWW::Mechanize::PSGI=HASH(0x2866460), "/my/name") called at t/03_mech.t line 93
Secret string too short at /tmpfs/.cpan-build/HTTP-Session2-1.08-0U53L8/blib/lib/HTTP/Session2/Base.pm line 79.
	HTTP::Session2::Base::__ANON__(HTTP::Session2::ServerStore=HASH(0x29e3c40), "s3cret") called at t/03_mech.t line 121
	main::server_session(HASH(0x29e3b98)) called at t/03_mech.t line 17
	main::__ANON__(HASH(0x29e3b98)) called at /opt/perl-5.21.2/lib/site_perl/5.21.2/Test/WWW/Mechanize/PSGI.pm line 39
	Test::WWW::Mechanize::PSGI::try {...} () called at /opt/perl-5.21.2/lib/site_perl/5.21.2/Try/Tiny.pm line 81
	eval {...} called at /opt/perl-5.21.2/lib/site_perl/5.21.2/Try/Tiny.pm line 72
	Try::Tiny::try(CODE(0x29e0890), Try::Tiny::Catch=REF(0x29e0428)) called at /opt/perl-5.21.2/lib/site_perl/5.21.2/Test/WWW/Mechanize/PSGI.pm line 46
	Test::WWW::Mechanize::PSGI::simple_request(Test::WWW::Mechanize::PSGI=HASH(0x2866460), HTTP::Request=HASH(0x29daa68), undef, undef) called at /opt/perl-5.21.2/lib/site_perl/5.21.2/LWP/UserAgent.pm line 282
	LWP::UserAgent::request(Test::WWW::Mechanize::PSGI=HASH(0x2866460), HTTP::Request=HASH(0x29daa68)) called at /opt/perl-5.21.2/lib/site_perl/5.21.2/WWW/Mechanize.pm line 2598
	WWW::Mechanize::_make_request(Test::WWW::Mechanize::PSGI=HASH(0x2866460), HTTP::Request=HASH(0x29daa68)) called at /opt/perl-5.21.2/lib/site_perl/5.21.2/WWW/Mechanize.pm line 2312
	WWW::Mechanize::request(Test::WWW::Mechanize::PSGI=HASH(0x2866460), HTTP::Request=HASH(0x29daa68)) called at /opt/perl-5.21.2/lib/site_perl/5.21.2/LWP/UserAgent.pm line 419
	LWP::UserAgent::post(Test::WWW::Mechanize::PSGI=HASH(0x2866460), "/account/logout?john") called at t/03_mech.t line 97
Secret string too short at /tmpfs/.cpan-build/HTTP-Session2-1.08-0U53L8/blib/lib/HTTP/Session2/Base.pm line 79.
	HTTP::Session2::Base::__ANON__(HTTP::Session2::ClientStore=HASH(0x29d6868), "s3cret") called at t/03_mech.t line 127
	main::client_session(HASH(0x18bf888)) called at t/03_mech.t line 17
	main::__ANON__(HASH(0x18bf888)) called at /opt/perl-5.21.2/lib/site_perl/5.21.2/Test/WWW/Mechanize/PSGI.pm line 39
	Test::WWW::Mechanize::PSGI::try {...} () called at /opt/perl-5.21.2/lib/site_perl/5.21.2/Try/Tiny.pm line 81
	eval {...} called at /opt/perl-5.21.2/lib/site_perl/5.21.2/Try/Tiny.pm line 72
	Try::Tiny::try(CODE(0x29d6c28), Try::Tiny::Catch=REF(0x29e3a30)) called at /opt/perl-5.21.2/lib/site_perl/5.21.2/Test/WWW/Mechanize/PSGI.pm line 46
	Test::WWW::Mechanize::PSGI::simple_request(Test::WWW::Mechanize::PSGI=HASH(0x29c4348), HTTP::Request=HASH(0x18b58d0), undef, undef) called at /opt/perl-5.21.2/lib/site_perl/5.21.2/LWP/UserAgent.pm line 282
	LWP::UserAgent::request(Test::WWW::Mechanize::PSGI=HASH(0x29c4348), HTTP::Request=HASH(0x18b58d0)) called at /opt/perl-5.21.2/lib/site_perl/5.21.2/WWW/Mechanize.pm line 2598
	WWW::Mechanize::_make_request(Test::WWW::Mechanize::PSGI=HASH(0x29c4348), HTTP::Request=HASH(0x18b58d0)) called at /opt/perl-5.21.2/lib/site_perl/5.21.2/WWW/Mechanize.pm line 2312
	WWW::Mechanize::request(Test::WWW::Mechanize::PSGI=HASH(0x29c4348), HTTP::Request=HASH(0x18b58d0)) called at /opt/perl-5.21.2/lib/site_perl/5.21.2/LWP/UserAgent.pm line 411
	LWP::UserAgent::get(Test::WWW::Mechanize::PSGI=HASH(0x29c4348), "/") called at /opt/perl-5.21.2/lib/site_perl/5.21.2/WWW/Mechanize.pm line 407
	WWW::Mechanize::get(Test::WWW::Mechanize::PSGI=HASH(0x29c4348), "/") called at /opt/perl-5.21.2/lib/site_perl/5.21.2/Test/WWW/Mechanize.pm line 159
	Test::WWW::Mechanize::get_ok(Test::WWW::Mechanize::PSGI=HASH(0x29c4348), "/") called at t/03_mech.t line 74
Secret string too short at /tmpfs/.cpan-build/HTTP-Session2-1.08-0U53L8/blib/lib/HTTP/Session2/Base.pm line 79.
	HTTP::Session2::Base::__ANON__(HTTP::Session2::ClientStore=HASH(0x29da0f0), "s3cret") called at t/03_mech.t line 127
	main::client_session(HASH(0x29d6d48)) called at t/03_mech.t line 17
	main::__ANON__(HASH(0x29d6d48)) called at /opt/perl-5.21.2/lib/site_perl/5.21.2/Test/WWW/Mechanize/PSGI.pm line 39
	Test::WWW::Mechanize::PSGI::try {...} () called at /opt/perl-5.21.2/lib/site_perl/5.21.2/Try/Tiny.pm line 81
	eval {...} called at /opt/perl-5.21.2/lib/site_perl/5.21.2/Try/Tiny.pm line 72
	Try::Tiny::try(CODE(0x29d6f58), Try::Tiny::Catch=REF(0x29ca820)) called at /opt/perl-5.21.2/lib/site_perl/5.21.2/Test/WWW/Mechanize/PSGI.pm line 46
	Test::WWW::Mechanize::PSGI::simple_request(Test::WWW::Mechanize::PSGI=HASH(0x29c4348), HTTP::Request=HASH(0x29ca8b0), undef, undef) called at /opt/perl-5.21.2/lib/site_perl/5.21.2/LWP/UserAgent.pm line 282
	LWP::UserAgent::request(Test::WWW::Mechanize::PSGI=HASH(0x29c4348), HTTP::Request=HASH(0x29ca8b0)) called at /opt/perl-5.21.2/lib/site_perl/5.21.2/WWW/Mechanize.pm line 2598
	WWW::Mechanize::_make_request(Test::WWW::Mechanize::PSGI=HASH(0x29c4348), HTTP::Request=HASH(0x29ca8b0)) called at /opt/perl-5.21.2/lib/site_perl/5.21.2/WWW/Mechanize.pm line 2312
	WWW::Mechanize::request(Test::WWW::Mechanize::PSGI=HASH(0x29c4348), HTTP::Request=HASH(0x29ca8b0)) called at /opt/perl-5.21.2/lib/site_perl/5.21.2/LWP/UserAgent.pm line 419
	LWP::UserAgent::post(Test::WWW::Mechanize::PSGI=HASH(0x29c4348), "/wishlist?foo", HASH(0x2567228)) called at /opt/perl-5.21.2/lib/site_perl/5.21.2/Test/WWW/Mechanize.pm line 236
	Test::WWW::Mechanize::post_ok(Test::WWW::Mechanize::PSGI=HASH(0x29c4348), "/wishlist?foo") called at t/03_mech.t line 75
Do not use HTTP::Session2::ClientStore. Use HTTP::Session2::ServerStore or HTTP::Session2::ClientStore2 instead. at /tmpfs/.cpan-build/HTTP-Session2-1.08-0U53L8/blib/lib/HTTP/Session2/ClientStore.pm line 25.
Secret string too short at /tmpfs/.cpan-build/HTTP-Session2-1.08-0U53L8/blib/lib/HTTP/Session2/Base.pm line 79.
	HTTP::Session2::Base::__ANON__(HTTP::Session2::ClientStore=HASH(0x29d73c0), "s3cret") called at t/03_mech.t line 127
	main::client_session(HASH(0x29d7198)) called at t/03_mech.t line 17
	main::__ANON__(HASH(0x29d7198)) called at /opt/perl-5.21.2/lib/site_perl/5.21.2/Test/WWW/Mechanize/PSGI.pm line 39
	Test::WWW::Mechanize::PSGI::try {...} () called at /opt/perl-5.21.2/lib/site_perl/5.21.2/Try/Tiny.pm line 81
	eval {...} called at /opt/perl-5.21.2/lib/site_perl/5.21.2/Try/Tiny.pm line 72
	Try::Tiny::try(CODE(0x29d9d18), Try::Tiny::Catch=REF(0x29d67f0)) called at /opt/perl-5.21.2/lib/site_perl/5.21.2/Test/WWW/Mechanize/PSGI.pm line 46
	Test::WWW::Mechanize::PSGI::simple_request(Test::WWW::Mechanize::PSGI=HASH(0x29c4348), HTTP::Request=HASH(0x29c3c58), undef, undef) called at /opt/perl-5.21.2/lib/site_perl/5.21.2/LWP/UserAgent.pm line 282
	LWP::UserAgent::request(Test::WWW::Mechanize::PSGI=HASH(0x29c4348), HTTP::Request=HASH(0x29c3c58)) called at /opt/perl-5.21.2/lib/site_perl/5.21.2/WWW/Mechanize.pm line 2598
	WWW::Mechanize::_make_request(Test::WWW::Mechanize::PSGI=HASH(0x29c4348), HTTP::Request=HASH(0x29c3c58)) called at /opt/perl-5.21.2/lib/site_perl/5.21.2/WWW/Mechanize.pm line 2312
	WWW::Mechanize::request(Test::WWW::Mechanize::PSGI=HASH(0x29c4348), HTTP::Request=HASH(0x29c3c58)) called at /opt/perl-5.21.2/lib/site_perl/5.21.2/LWP/UserAgent.pm line 411
	LWP::UserAgent::get(Test::WWW::Mechanize::PSGI=HASH(0x29c4348), "http://localhost/wishlist") called at /opt/perl-5.21.2/lib/site_perl/5.21.2/WWW/Mechanize.pm line 407
	WWW::Mechanize::get(Test::WWW::Mechanize::PSGI=HASH(0x29c4348), "/wishlist") called at /opt/perl-5.21.2/lib/site_perl/5.21.2/Test/WWW/Mechanize.pm line 159
	Test::WWW::Mechanize::get_ok(Test::WWW::Mechanize::PSGI=HASH(0x29c4348), "/wishlist") called at t/03_mech.t line 76
Do not use HTTP::Session2::ClientStore. Use HTTP::Session2::ServerStore or HTTP::Session2::ClientStore2 instead. at /tmpfs/.cpan-build/HTTP-Session2-1.08-0U53L8/blib/lib/HTTP/Session2/ClientStore.pm line 35.
Secret string too short at /tmpfs/.cpan-build/HTTP-Session2-1.08-0U53L8/blib/lib/HTTP/Session2/Base.pm line 79.
	HTTP::Session2::Base::__ANON__(HTTP::Session2::ClientStore=HASH(0x29dab40), "s3cret") called at t/03_mech.t line 127
	main::client_session(HASH(0x29da6f0)) called at t/03_mech.t line 17
	main::__ANON__(HASH(0x29da6f0)) called at /opt/perl-5.21.2/lib/site_perl/5.21.2/Test/WWW/Mechanize/PSGI.pm line 39
	Test::WWW::Mechanize::PSGI::try {...} () called at /opt/perl-5.21.2/lib/site_perl/5.21.2/Try/Tiny.pm line 81
	eval {...} called at /opt/perl-5.21.2/lib/site_perl/5.21.2/Try/Tiny.pm line 72
	Try::Tiny::try(CODE(0x29d67f0), Try::Tiny::Catch=REF(0x29d71b0)) called at /opt/perl-5.21.2/lib/site_perl/5.21.2/Test/WWW/Mechanize/PSGI.pm line 46
	Test::WWW::Mechanize::PSGI::simple_request(Test::WWW::Mechanize::PSGI=HASH(0x29c4348), HTTP::Request=HASH(0x29d7150), undef, undef) called at /opt/perl-5.21.2/lib/site_perl/5.21.2/LWP/UserAgent.pm line 282
	LWP::UserAgent::request(Test::WWW::Mechanize::PSGI=HASH(0x29c4348), HTTP::Request=HASH(0x29d7150)) called at /opt/perl-5.21.2/lib/site_perl/5.21.2/WWW/Mechanize.pm line 2598
	WWW::Mechanize::_make_request(Test::WWW::Mechanize::PSGI=HASH(0x29c4348), HTTP::Request=HASH(0x29d7150)) called at /opt/perl-5.21.2/lib/site_perl/5.21.2/WWW/Mechanize.pm line 2312
	WWW::Mechanize::request(Test::WWW::Mechanize::PSGI=HASH(0x29c4348), HTTP::Request=HASH(0x29d7150)) called at /opt/perl-5.21.2/lib/site_perl/5.21.2/LWP/UserAgent.pm line 419
	LWP::UserAgent::post(Test::WWW::Mechanize::PSGI=HASH(0x29c4348), "/wishlist?bar") called at t/03_mech.t line 78
Do not use HTTP::Session2::ClientStore. Use HTTP::Session2::ServerStore or HTTP::Session2::ClientStore2 instead. at /tmpfs/.cpan-build/HTTP-Session2-1.08-0U53L8/blib/lib/HTTP/Session2/ClientStore.pm line 35.
Secret string too short at /tmpfs/.cpan-build/HTTP-Session2-1.08-0U53L8/blib/lib/HTTP/Session2/Base.pm line 79.
	HTTP::Session2::Base::__ANON__(HTTP::Session2::ClientStore=HASH(0x29da780), "s3cret") called at t/03_mech.t line 127
	main::client_session(HASH(0x29da7f8)) called at t/03_mech.t line 17
	main::__ANON__(HASH(0x29da7f8)) called at /opt/perl-5.21.2/lib/site_perl/5.21.2/Test/WWW/Mechanize/PSGI.pm line 39
	Test::WWW::Mechanize::PSGI::try {...} () called at /opt/perl-5.21.2/lib/site_perl/5.21.2/Try/Tiny.pm line 81
	eval {...} called at /opt/perl-5.21.2/lib/site_perl/5.21.2/Try/Tiny.pm line 72
	Try::Tiny::try(CODE(0x29dfc30), Try::Tiny::Catch=REF(0x29da8d0)) called at /opt/perl-5.21.2/lib/site_perl/5.21.2/Test/WWW/Mechanize/PSGI.pm line 46
	Test::WWW::Mechanize::PSGI::simple_request(Test::WWW::Mechanize::PSGI=HASH(0x29c4348), HTTP::Request=HASH(0x29da048), undef, undef) called at /opt/perl-5.21.2/lib/site_perl/5.21.2/LWP/UserAgent.pm line 282
	LWP::UserAgent::request(Test::WWW::Mechanize::PSGI=HASH(0x29c4348), HTTP::Request=HASH(0x29da048)) called at /opt/perl-5.21.2/lib/site_perl/5.21.2/WWW/Mechanize.pm line 2598
	WWW::Mechanize::_make_request(Test::WWW::Mechanize::PSGI=HASH(0x29c4348), HTTP::Request=HASH(0x29da048)) called at /opt/perl-5.21.2/lib/site_perl/5.21.2/WWW/Mechanize.pm line 2312
	WWW::Mechanize::request(Test::WWW::Mechanize::PSGI=HASH(0x29c4348), HTTP::Request=HASH(0x29da048)) called at /opt/perl-5.21.2/lib/site_perl/5.21.2/LWP/UserAgent.pm line 419
	LWP::UserAgent::post(Test::WWW::Mechanize::PSGI=HASH(0x29c4348), "/wishlist?bar", HASH(0x2567228)) called at /opt/perl-5.21.2/lib/site_perl/5.21.2/Test/WWW/Mechanize.pm line 236
	Test::WWW::Mechanize::post_ok(Test::WWW::Mechanize::PSGI=HASH(0x29c4348), "/wishlist?bar") called at t/03_mech.t line 81
Do not use HTTP::Session2::ClientStore. Use HTTP::Session2::ServerStore or HTTP::Session2::ClientStore2 instead. at /tmpfs/.cpan-build/HTTP-Session2-1.08-0U53L8/blib/lib/HTTP/Session2/ClientStore.pm line 35.
Do not use HTTP::Session2::ClientStore. Use HTTP::Session2::ServerStore or HTTP::Session2::ClientStore2 instead. at /tmpfs/.cpan-build/HTTP-Session2-1.08-0U53L8/blib/lib/HTTP/Session2/ClientStore.pm line 25.
Secret string too short at /tmpfs/.cpan-build/HTTP-Session2-1.08-0U53L8/blib/lib/HTTP/Session2/Base.pm line 79.
	HTTP::Session2::Base::__ANON__(HTTP::Session2::ClientStore=HASH(0x29e0230), "s3cret") called at t/03_mech.t line 127
	main::client_session(HASH(0x29daa50)) called at t/03_mech.t line 17
	main::__ANON__(HASH(0x29daa50)) called at /opt/perl-5.21.2/lib/site_perl/5.21.2/Test/WWW/Mechanize/PSGI.pm line 39
	Test::WWW::Mechanize::PSGI::try {...} () called at /opt/perl-5.21.2/lib/site_perl/5.21.2/Try/Tiny.pm line 81
	eval {...} called at /opt/perl-5.21.2/lib/site_perl/5.21.2/Try/Tiny.pm line 72
	Try::Tiny::try(CODE(0x29dfba0), Try::Tiny::Catch=REF(0x29ca190)) called at /opt/perl-5.21.2/lib/site_perl/5.21.2/Test/WWW/Mechanize/PSGI.pm line 46
	Test::WWW::Mechanize::PSGI::simple_request(Test::WWW::Mechanize::PSGI=HASH(0x29c4348), HTTP::Request=HASH(0x29ca4d8), undef, undef) called at /opt/perl-5.21.2/lib/site_perl/5.21.2/LWP/UserAgent.pm line 282
	LWP::UserAgent::request(Test::WWW::Mechanize::PSGI=HASH(0x29c4348), HTTP::Request=HASH(0x29ca4d8)) called at /opt/perl-5.21.2/lib/site_perl/5.21.2/WWW/Mechanize.pm line 2598
	WWW::Mechanize::_make_request(Test::WWW::Mechanize::PSGI=HASH(0x29c4348), HTTP::Request=HASH(0x29ca4d8)) called at /opt/perl-5.21.2/lib/site_perl/5.21.2/WWW/Mechanize.pm line 2312
	WWW::Mechanize::request(Test::WWW::Mechanize::PSGI=HASH(0x29c4348), HTTP::Request=HASH(0x29ca4d8)) called at /opt/perl-5.21.2/lib/site_perl/5.21.2/LWP/UserAgent.pm line 411
	LWP::UserAgent::get(Test::WWW::Mechanize::PSGI=HASH(0x29c4348), "http://localhost/wishlist") called at /opt/perl-5.21.2/lib/site_perl/5.21.2/WWW/Mechanize.pm line 407
	WWW::Mechanize::get(Test::WWW::Mechanize::PSGI=HASH(0x29c4348), "/wishlist") called at /opt/perl-5.21.2/lib/site_perl/5.21.2/Test/WWW/Mechanize.pm line 159
	Test::WWW::Mechanize::get_ok(Test::WWW::Mechanize::PSGI=HASH(0x29c4348), "/wishlist") called at t/03_mech.t line 82
Do not use HTTP::Session2::ClientStore. Use HTTP::Session2::ServerStore or HTTP::Session2::ClientStore2 instead. at /tmpfs/.cpan-build/HTTP-Session2-1.08-0U53L8/blib/lib/HTTP/Session2/ClientStore.pm line 35.
Secret string too short at /tmpfs/.cpan-build/HTTP-Session2-1.08-0U53L8/blib/lib/HTTP/Session2/Base.pm line 79.
	HTTP::Session2::Base::__ANON__(HTTP::Session2::ClientStore=HASH(0x28bf828), "s3cret") called at t/03_mech.t line 127
	main::client_session(HASH(0x29da330)) called at t/03_mech.t line 17
	main::__ANON__(HASH(0x29da330)) called at /opt/perl-5.21.2/lib/site_perl/5.21.2/Test/WWW/Mechanize/PSGI.pm line 39
	Test::WWW::Mechanize::PSGI::try {...} () called at /opt/perl-5.21.2/lib/site_perl/5.21.2/Try/Tiny.pm line 81
	eval {...} called at /opt/perl-5.21.2/lib/site_perl/5.21.2/Try/Tiny.pm line 72
	Try::Tiny::try(CODE(0x29e03c8), Try::Tiny::Catch=REF(0x29e01e8)) called at /opt/perl-5.21.2/lib/site_perl/5.21.2/Test/WWW/Mechanize/PSGI.pm line 46
	Test::WWW::Mechanize::PSGI::simple_request(Test::WWW::Mechanize::PSGI=HASH(0x29c4348), HTTP::Request=HASH(0x29d7078), undef, undef) called at /opt/perl-5.21.2/lib/site_perl/5.21.2/LWP/UserAgent.pm line 282
	LWP::UserAgent::request(Test::WWW::Mechanize::PSGI=HASH(0x29c4348), HTTP::Request=HASH(0x29d7078)) called at /opt/perl-5.21.2/lib/site_perl/5.21.2/WWW/Mechanize.pm line 2598
	WWW::Mechanize::_make_request(Test::WWW::Mechanize::PSGI=HASH(0x29c4348), HTTP::Request=HASH(0x29d7078)) called at /opt/perl-5.21.2/lib/site_perl/5.21.2/WWW/Mechanize.pm line 2312
	WWW::Mechanize::request(Test::WWW::Mechanize::PSGI=HASH(0x29c4348), HTTP::Request=HASH(0x29d7078)) called at /opt/perl-5.21.2/lib/site_perl/5.21.2/LWP/UserAgent.pm line 419
	LWP::UserAgent::post(Test::WWW::Mechanize::PSGI=HASH(0x29c4348), "/account/login?john", HASH(0x2567228)) called at /opt/perl-5.21.2/lib/site_perl/5.21.2/Test/WWW/Mechanize.pm line 236
	Test::WWW::Mechanize::post_ok(Test::WWW::Mechanize::PSGI=HASH(0x29c4348), "/account/login?john") called at t/03_mech.t line 84
Do not use HTTP::Session2::ClientStore. Use HTTP::Session2::ServerStore or HTTP::Session2::ClientStore2 instead. at /tmpfs/.cpan-build/HTTP-Session2-1.08-0U53L8/blib/lib/HTTP/Session2/ClientStore.pm line 35.
Do not use HTTP::Session2::ClientStore. Use HTTP::Session2::ServerStore or HTTP::Session2::ClientStore2 instead. at /tmpfs/.cpan-build/HTTP-Session2-1.08-0U53L8/blib/lib/HTTP/Session2/ClientStore.pm line 35.
Do not use HTTP::Session2::ClientStore. Use HTTP::Session2::ServerStore or HTTP::Session2::ClientStore2 instead. at /tmpfs/.cpan-build/HTTP-Session2-1.08-0U53L8/blib/lib/HTTP/Session2/ClientStore.pm line 25.
Secret string too short at /tmpfs/.cpan-build/HTTP-Session2-1.08-0U53L8/blib/lib/HTTP/Session2/Base.pm line 79.
	HTTP::Session2::Base::__ANON__(HTTP::Session2::ClientStore=HASH(0x29e3b38), "s3cret") called at t/03_mech.t line 127
	main::client_session(HASH(0x29ca250)) called at t/03_mech.t line 17
	main::__ANON__(HASH(0x29ca250)) called at /opt/perl-5.21.2/lib/site_perl/5.21.2/Test/WWW/Mechanize/PSGI.pm line 39
	Test::WWW::Mechanize::PSGI::try {...} () called at /opt/perl-5.21.2/lib/site_perl/5.21.2/Try/Tiny.pm line 81
	eval {...} called at /opt/perl-5.21.2/lib/site_perl/5.21.2/Try/Tiny.pm line 72
	Try::Tiny::try(CODE(0x29dfa38), Try::Tiny::Catch=REF(0x28847d0)) called at /opt/perl-5.21.2/lib/site_perl/5.21.2/Test/WWW/Mechanize/PSGI.pm line 46
	Test::WWW::Mechanize::PSGI::simple_request(Test::WWW::Mechanize::PSGI=HASH(0x29c4348), HTTP::Request=HASH(0x29da918), undef, undef) called at /opt/perl-5.21.2/lib/site_perl/5.21.2/LWP/UserAgent.pm line 282
	LWP::UserAgent::request(Test::WWW::Mechanize::PSGI=HASH(0x29c4348), HTTP::Request=HASH(0x29da918)) called at /opt/perl-5.21.2/lib/site_perl/5.21.2/WWW/Mechanize.pm line 2598
	WWW::Mechanize::_make_request(Test::WWW::Mechanize::PSGI=HASH(0x29c4348), HTTP::Request=HASH(0x29da918)) called at /opt/perl-5.21.2/lib/site_perl/5.21.2/WWW/Mechanize.pm line 2312
	WWW::Mechanize::request(Test::WWW::Mechanize::PSGI=HASH(0x29c4348), HTTP::Request=HASH(0x29da918)) called at /opt/perl-5.21.2/lib/site_perl/5.21.2/LWP/UserAgent.pm line 411
	LWP::UserAgent::get(Test::WWW::Mechanize::PSGI=HASH(0x29c4348), "http://localhost/wishlist") called at /opt/perl-5.21.2/lib/site_perl/5.21.2/WWW/Mechanize.pm line 407
	WWW::Mechanize::get(Test::WWW::Mechanize::PSGI=HASH(0x29c4348), "/wishlist") called at /opt/perl-5.21.2/lib/site_perl/5.21.2/Test/WWW/Mechanize.pm line 159
	Test::WWW::Mechanize::get_ok(Test::WWW::Mechanize::PSGI=HASH(0x29c4348), "/wishlist", "Wishlist is still available") called at t/03_mech.t line 85
Do not use HTTP::Session2::ClientStore. Use HTTP::Session2::ServerStore or HTTP::Session2::ClientStore2 instead. at /tmpfs/.cpan-build/HTTP-Session2-1.08-0U53L8/blib/lib/HTTP/Session2/ClientStore.pm line 35.
Secret string too short at /tmpfs/.cpan-build/HTTP-Session2-1.08-0U53L8/blib/lib/HTTP/Session2/Base.pm line 79.
	HTTP::Session2::Base::__ANON__(HTTP::Session2::ClientStore=HASH(0x29e3cd0), "s3cret") called at t/03_mech.t line 127
	main::client_session(HASH(0x29e05a8)) called at t/03_mech.t line 17
	main::__ANON__(HASH(0x29e05a8)) called at /opt/perl-5.21.2/lib/site_perl/5.21.2/Test/WWW/Mechanize/PSGI.pm line 39
	Test::WWW::Mechanize::PSGI::try {...} () called at /opt/perl-5.21.2/lib/site_perl/5.21.2/Try/Tiny.pm line 81
	eval {...} called at /opt/perl-5.21.2/lib/site_perl/5.21.2/Try/Tiny.pm line 72
	Try::Tiny::try(CODE(0x29e01e8), Try::Tiny::Catch=REF(0x29da7e0)) called at /opt/perl-5.21.2/lib/site_perl/5.21.2/Test/WWW/Mechanize/PSGI.pm line 46
	Test::WWW::Mechanize::PSGI::simple_request(Test::WWW::Mechanize::PSGI=HASH(0x29c4348), HTTP::Request=HASH(0x29da798), undef, undef) called at /opt/perl-5.21.2/lib/site_perl/5.21.2/LWP/UserAgent.pm line 282
	LWP::UserAgent::request(Test::WWW::Mechanize::PSGI=HASH(0x29c4348), HTTP::Request=HASH(0x29da798)) called at /opt/perl-5.21.2/lib/site_perl/5.21.2/WWW/Mechanize.pm line 2598
	WWW::Mechanize::_make_request(Test::WWW::Mechanize::PSGI=HASH(0x29c4348), HTTP::Request=HASH(0x29da798)) called at /opt/perl-5.21.2/lib/site_perl/5.21.2/WWW/Mechanize.pm line 2312
	WWW::Mechanize::request(Test::WWW::Mechanize::PSGI=HASH(0x29c4348), HTTP::Request=HASH(0x29da798)) called at /opt/perl-5.21.2/lib/site_perl/5.21.2/LWP/UserAgent.pm line 419
	LWP::UserAgent::post(Test::WWW::Mechanize::PSGI=HASH(0x29c4348), "/wishlist?baz") called at t/03_mech.t line 87
Do not use HTTP::Session2::ClientStore. Use HTTP::Session2::ServerStore or HTTP::Session2::ClientStore2 instead. at /tmpfs/.cpan-build/HTTP-Session2-1.08-0U53L8/blib/lib/HTTP/Session2/ClientStore.pm line 35.
Secret string too short at /tmpfs/.cpan-build/HTTP-Session2-1.08-0U53L8/blib/lib/HTTP/Session2/Base.pm line 79.
	HTTP::Session2::Base::__ANON__(HTTP::Session2::ClientStore=HASH(0x29d9e20), "s3cret") called at t/03_mech.t line 127
	main::client_session(HASH(0x29e0530)) called at t/03_mech.t line 17
	main::__ANON__(HASH(0x29e0530)) called at /opt/perl-5.21.2/lib/site_perl/5.21.2/Test/WWW/Mechanize/PSGI.pm line 39
	Test::WWW::Mechanize::PSGI::try {...} () called at /opt/perl-5.21.2/lib/site_perl/5.21.2/Try/Tiny.pm line 81
	eval {...} called at /opt/perl-5.21.2/lib/site_perl/5.21.2/Try/Tiny.pm line 72
	Try::Tiny::try(CODE(0x28bf750), Try::Tiny::Catch=REF(0x29e3fb8)) called at /opt/perl-5.21.2/lib/site_perl/5.21.2/Test/WWW/Mechanize/PSGI.pm line 46
	Test::WWW::Mechanize::PSGI::simple_request(Test::WWW::Mechanize::PSGI=HASH(0x29c4348), HTTP::Request=HASH(0x18b5840), undef, undef) called at /opt/perl-5.21.2/lib/site_perl/5.21.2/LWP/UserAgent.pm line 282
	LWP::UserAgent::request(Test::WWW::Mechanize::PSGI=HASH(0x29c4348), HTTP::Request=HASH(0x18b5840)) called at /opt/perl-5.21.2/lib/site_perl/5.21.2/WWW/Mechanize.pm line 2598
	WWW::Mechanize::_make_request(Test::WWW::Mechanize::PSGI=HASH(0x29c4348), HTTP::Request=HASH(0x18b5840)) called at /opt/perl-5.21.2/lib/site_perl/5.21.2/WWW/Mechanize.pm line 2312
	WWW::Mechanize::request(Test::WWW::Mechanize::PSGI=HASH(0x29c4348), HTTP::Request=HASH(0x18b5840)) called at /opt/perl-5.21.2/lib/site_perl/5.21.2/LWP/UserAgent.pm line 419
	LWP::UserAgent::post(Test::WWW::Mechanize::PSGI=HASH(0x29c4348), "/wishlist?baz", HASH(0x2567228)) called at /opt/perl-5.21.2/lib/site_perl/5.21.2/Test/WWW/Mechanize.pm line 236
	Test::WWW::Mechanize::post_ok(Test::WWW::Mechanize::PSGI=HASH(0x29c4348), "/wishlist?baz") called at t/03_mech.t line 90
Do not use HTTP::Session2::ClientStore. Use HTTP::Session2::ServerStore or HTTP::Session2::ClientStore2 instead. at /tmpfs/.cpan-build/HTTP-Session2-1.08-0U53L8/blib/lib/HTTP/Session2/ClientStore.pm line 35.
Do not use HTTP::Session2::ClientStore. Use HTTP::Session2::ServerStore or HTTP::Session2::ClientStore2 instead. at /tmpfs/.cpan-build/HTTP-Session2-1.08-0U53L8/blib/lib/HTTP/Session2/ClientStore.pm line 25.
Secret string too short at /tmpfs/.cpan-build/HTTP-Session2-1.08-0U53L8/blib/lib/HTTP/Session2/Base.pm line 79.
	HTTP::Session2::Base::__ANON__(HTTP::Session2::ClientStore=HASH(0x29e4240), "s3cret") called at t/03_mech.t line 127
	main::client_session(HASH(0x29e4468)) called at t/03_mech.t line 17
	main::__ANON__(HASH(0x29e4468)) called at /opt/perl-5.21.2/lib/site_perl/5.21.2/Test/WWW/Mechanize/PSGI.pm line 39
	Test::WWW::Mechanize::PSGI::try {...} () called at /opt/perl-5.21.2/lib/site_perl/5.21.2/Try/Tiny.pm line 81
	eval {...} called at /opt/perl-5.21.2/lib/site_perl/5.21.2/Try/Tiny.pm line 72
	Try::Tiny::try(CODE(0x29d9f70), Try::Tiny::Catch=REF(0x29e3fe8)) called at /opt/perl-5.21.2/lib/site_perl/5.21.2/Test/WWW/Mechanize/PSGI.pm line 46
	Test::WWW::Mechanize::PSGI::simple_request(Test::WWW::Mechanize::PSGI=HASH(0x29c4348), HTTP::Request=HASH(0x2870ad8), undef, undef) called at /opt/perl-5.21.2/lib/site_perl/5.21.2/LWP/UserAgent.pm line 282
	LWP::UserAgent::request(Test::WWW::Mechanize::PSGI=HASH(0x29c4348), HTTP::Request=HASH(0x2870ad8)) called at /opt/perl-5.21.2/lib/site_perl/5.21.2/WWW/Mechanize.pm line 2598
	WWW::Mechanize::_make_request(Test::WWW::Mechanize::PSGI=HASH(0x29c4348), HTTP::Request=HASH(0x2870ad8)) called at /opt/perl-5.21.2/lib/site_perl/5.21.2/WWW/Mechanize.pm line 2312
	WWW::Mechanize::request(Test::WWW::Mechanize::PSGI=HASH(0x29c4348), HTTP::Request=HASH(0x2870ad8)) called at /opt/perl-5.21.2/lib/site_perl/5.21.2/LWP/UserAgent.pm line 411
	LWP::UserAgent::get(Test::WWW::Mechanize::PSGI=HASH(0x29c4348), "http://localhost/wishlist") called at /opt/perl-5.21.2/lib/site_perl/5.21.2/WWW/Mechanize.pm line 407
	WWW::Mechanize::get(Test::WWW::Mechanize::PSGI=HASH(0x29c4348), "/wishlist") called at /opt/perl-5.21.2/lib/site_perl/5.21.2/Test/WWW/Mechanize.pm line 159
	Test::WWW::Mechanize::get_ok(Test::WWW::Mechanize::PSGI=HASH(0x29c4348), "/wishlist", "Wishlist is still available") called at t/03_mech.t line 91
Do not use HTTP::Session2::ClientStore. Use HTTP::Session2::ServerStore or HTTP::Session2::ClientStore2 instead. at /tmpfs/.cpan-build/HTTP-Session2-1.08-0U53L8/blib/lib/HTTP/Session2/ClientStore.pm line 35.
Secret string too short at /tmpfs/.cpan-build/HTTP-Session2-1.08-0U53L8/blib/lib/HTTP/Session2/Base.pm line 79.
	HTTP::Session2::Base::__ANON__(HTTP::Session2::ClientStore=HASH(0x29e48d0), "s3cret") called at t/03_mech.t line 127
	main::client_session(HASH(0x29e4900)) called at t/03_mech.t line 17
	main::__ANON__(HASH(0x29e4900)) called at /opt/perl-5.21.2/lib/site_perl/5.21.2/Test/WWW/Mechanize/PSGI.pm line 39
	Test::WWW::Mechanize::PSGI::try {...} () called at /opt/perl-5.21.2/lib/site_perl/5.21.2/Try/Tiny.pm line 81
	eval {...} called at /opt/perl-5.21.2/lib/site_perl/5.21.2/Try/Tiny.pm line 72
	Try::Tiny::try(CODE(0x29ca448), Try::Tiny::Catch=REF(0x29e0470)) called at /opt/perl-5.21.2/lib/site_perl/5.21.2/Test/WWW/Mechanize/PSGI.pm line 46
	Test::WWW::Mechanize::PSGI::simple_request(Test::WWW::Mechanize::PSGI=HASH(0x29c4348), HTTP::Request=HASH(0x29e43a8), undef, undef) called at /opt/perl-5.21.2/lib/site_perl/5.21.2/LWP/UserAgent.pm line 282
	LWP::UserAgent::request(Test::WWW::Mechanize::PSGI=HASH(0x29c4348), HTTP::Request=HASH(0x29e43a8)) called at /opt/perl-5.21.2/lib/site_perl/5.21.2/WWW/Mechanize.pm line 2598
	WWW::Mechanize::_make_request(Test::WWW::Mechanize::PSGI=HASH(0x29c4348), HTTP::Request=HASH(0x29e43a8)) called at /opt/perl-5.21.2/lib/site_perl/5.21.2/WWW/Mechanize.pm line 2312
	WWW::Mechanize::request(Test::WWW::Mechanize::PSGI=HASH(0x29c4348), HTTP::Request=HASH(0x29e43a8)) called at /opt/perl-5.21.2/lib/site_perl/5.21.2/LWP/UserAgent.pm line 411
	LWP::UserAgent::get(Test::WWW::Mechanize::PSGI=HASH(0x29c4348), "http://localhost/my/name") called at /opt/perl-5.21.2/lib/site_perl/5.21.2/WWW/Mechanize.pm line 407
	WWW::Mechanize::get(Test::WWW::Mechanize::PSGI=HASH(0x29c4348), "/my/name") called at /opt/perl-5.21.2/lib/site_perl/5.21.2/Test/WWW/Mechanize.pm line 159
	Test::WWW::Mechanize::get_ok(Test::WWW::Mechanize::PSGI=HASH(0x29c4348), "/my/name") called at t/03_mech.t line 93
Do not use HTTP::Session2::ClientStore. Use HTTP::Session2::ServerStore or HTTP::Session2::ClientStore2 instead. at /tmpfs/.cpan-build/HTTP-Session2-1.08-0U53L8/blib/lib/HTTP/Session2/ClientStore.pm line 35.
Secret string too short at /tmpfs/.cpan-build/HTTP-Session2-1.08-0U53L8/blib/lib/HTTP/Session2/Base.pm line 79.
	HTTP::Session2::Base::__ANON__(HTTP::Session2::ClientStore=HASH(0x29ebfa8), "s3cret") called at t/03_mech.t line 127
	main::client_session(HASH(0x29e42b8)) called at t/03_mech.t line 17
	main::__ANON__(HASH(0x29e42b8)) called at /opt/perl-5.21.2/lib/site_perl/5.21.2/Test/WWW/Mechanize/PSGI.pm line 39
	Test::WWW::Mechanize::PSGI::try {...} () called at /opt/perl-5.21.2/lib/site_perl/5.21.2/Try/Tiny.pm line 81
	eval {...} called at /opt/perl-5.21.2/lib/site_perl/5.21.2/Try/Tiny.pm line 72
	Try::Tiny::try(CODE(0x29ebd20), Try::Tiny::Catch=REF(0x29e4708)) called at /opt/perl-5.21.2/lib/site_perl/5.21.2/Test/WWW/Mechanize/PSGI.pm line 46
	Test::WWW::Mechanize::PSGI::simple_request(Test::WWW::Mechanize::PSGI=HASH(0x29c4348), HTTP::Request=HASH(0x29e4108), undef, undef) called at /opt/perl-5.21.2/lib/site_perl/5.21.2/LWP/UserAgent.pm line 282
	LWP::UserAgent::request(Test::WWW::Mechanize::PSGI=HASH(0x29c4348), HTTP::Request=HASH(0x29e4108)) called at /opt/perl-5.21.2/lib/site_perl/5.21.2/WWW/Mechanize.pm line 2598
	WWW::Mechanize::_make_request(Test::WWW::Mechanize::PSGI=HASH(0x29c4348), HTTP::Request=HASH(0x29e4108)) called at /opt/perl-5.21.2/lib/site_perl/5.21.2/WWW/Mechanize.pm line 2312
	WWW::Mechanize::request(Test::WWW::Mechanize::PSGI=HASH(0x29c4348), HTTP::Request=HASH(0x29e4108)) called at /opt/perl-5.21.2/lib/site_perl/5.21.2/LWP/UserAgent.pm line 419
	LWP::UserAgent::post(Test::WWW::Mechanize::PSGI=HASH(0x29c4348), "/account/logout?john") called at t/03_mech.t line 97
Do not use HTTP::Session2::ClientStore. Use HTTP::Session2::ServerStore or HTTP::Session2::ClientStore2 instead. at /tmpfs/.cpan-build/HTTP-Session2-1.08-0U53L8/blib/lib/HTTP/Session2/ClientStore.pm line 35.
Do not use HTTP::Session2::ClientStore. Use HTTP::Session2::ServerStore or HTTP::Session2::ClientStore2 instead. at /tmpfs/.cpan-build/HTTP-Session2-1.08-0U53L8/blib/lib/HTTP/Session2/ClientStore.pm line 35.
t/03_mech.t ................. ok
Do not use HTTP::Session2::ClientStore. Use HTTP::Session2::ServerStore or HTTP::Session2::ClientStore2 instead. at /tmpfs/.cpan-build/HTTP-Session2-1.08-0U53L8/blib/lib/HTTP/Session2/ClientStore.pm line 25.
t/04_plack_response.t ....... ok
Secret string too short at /tmpfs/.cpan-build/HTTP-Session2-1.08-0U53L8/blib/lib/HTTP/Session2/Base.pm line 79.
	HTTP::Session2::Base::__ANON__(HTTP::Session2::ClientStore=HASH(0x1019098), "s3cret") called at t/05_keep_me_signed_in.t line 15
Do not use HTTP::Session2::ClientStore. Use HTTP::Session2::ServerStore or HTTP::Session2::ClientStore2 instead. at /tmpfs/.cpan-build/HTTP-Session2-1.08-0U53L8/blib/lib/HTTP/Session2/ClientStore.pm line 25.
t/05_keep_me_signed_in.t .... ok
Secret string too short at /tmpfs/.cpan-build/HTTP-Session2-1.08-0U53L8/blib/lib/HTTP/Session2/Base.pm line 79.
	HTTP::Session2::Base::__ANON__(HTTP::Session2::Base=HASH(0x2136738), "i am secret") called at t/06_base_abstract.t line 7
t/06_base_abstract.t ........ ok
Secret string too short at /tmpfs/.cpan-build/HTTP-Session2-1.08-0U53L8/blib/lib/HTTP/Session2/Base.pm line 79.
	HTTP::Session2::Base::__ANON__(HTTP::Session2::ClientStore=HASH(0x24ad348), "secret") called at t/07_client_store.t line 23
	main::__ANON__() called at /opt/perl-5.21.2/lib/5.21.2/Test/Builder.pm line 258
	Test::Builder::__ANON__() called at /opt/perl-5.21.2/lib/5.21.2/Test/Builder.pm line 263
	eval {...} called at /opt/perl-5.21.2/lib/5.21.2/Test/Builder.pm line 263
	Test::Builder::subtest(Test::Builder=HASH(0x1b7b6f8), "get/set/remove", CODE(0x20e76d8)) called at /opt/perl-5.21.2/lib/5.21.2/Test/More.pm line 770
	Test::More::subtest("get/set/remove", CODE(0x20e76d8)) called at t/07_client_store.t line 31
Secret string too short at /tmpfs/.cpan-build/HTTP-Session2-1.08-0U53L8/blib/lib/HTTP/Session2/Base.pm line 79.
	HTTP::Session2::Base::__ANON__(HTTP::Session2::ClientStore=HASH(0x24ac520), "secret") called at t/07_client_store.t line 35
	main::__ANON__() called at /opt/perl-5.21.2/lib/5.21.2/Test/Builder.pm line 258
	Test::Builder::__ANON__() called at /opt/perl-5.21.2/lib/5.21.2/Test/Builder.pm line 263
	eval {...} called at /opt/perl-5.21.2/lib/5.21.2/Test/Builder.pm line 263
	Test::Builder::subtest(Test::Builder=HASH(0x1b7b6f8), "validate_token", CODE(0x2494cd8)) called at /opt/perl-5.21.2/lib/5.21.2/Test/More.pm line 770
	Test::More::subtest("validate_token", CODE(0x2494cd8)) called at t/07_client_store.t line 71
Do not use HTTP::Session2::ClientStore. Use HTTP::Session2::ServerStore or HTTP::Session2::ClientStore2 instead. at /tmpfs/.cpan-build/HTTP-Session2-1.08-0U53L8/blib/lib/HTTP/Session2/ClientStore.pm line 25.
Secret string too short at /tmpfs/.cpan-build/HTTP-Session2-1.08-0U53L8/blib/lib/HTTP/Session2/Base.pm line 79.
	HTTP::Session2::Base::__ANON__(HTTP::Session2::ClientStore=HASH(0x1b65280), "secret") called at t/07_client_store.t line 51
	main::__ANON__() called at /opt/perl-5.21.2/lib/5.21.2/Test/Builder.pm line 258
	Test::Builder::__ANON__() called at /opt/perl-5.21.2/lib/5.21.2/Test/Builder.pm line 263
	eval {...} called at /opt/perl-5.21.2/lib/5.21.2/Test/Builder.pm line 263
	Test::Builder::subtest(Test::Builder=HASH(0x1b7b6f8), "bad", CODE(0x1b64d10)) called at /opt/perl-5.21.2/lib/5.21.2/Test/More.pm line 770
	Test::More::subtest("bad", CODE(0x1b64d10)) called at t/07_client_store.t line 57
	main::__ANON__() called at /opt/perl-5.21.2/lib/5.21.2/Test/Builder.pm line 258
	Test::Builder::__ANON__() called at /opt/perl-5.21.2/lib/5.21.2/Test/Builder.pm line 263
	eval {...} called at /opt/perl-5.21.2/lib/5.21.2/Test/Builder.pm line 263
	Test::Builder::subtest(Test::Builder=HASH(0x1b7b6f8), "validate_token", CODE(0x2494cd8)) called at /opt/perl-5.21.2/lib/5.21.2/Test/More.pm line 770
	Test::More::subtest("validate_token", CODE(0x2494cd8)) called at t/07_client_store.t line 71
Do not use HTTP::Session2::ClientStore. Use HTTP::Session2::ServerStore or HTTP::Session2::ClientStore2 instead. at /tmpfs/.cpan-build/HTTP-Session2-1.08-0U53L8/blib/lib/HTTP/Session2/ClientStore.pm line 35.
Secret string too short at /tmpfs/.cpan-build/HTTP-Session2-1.08-0U53L8/blib/lib/HTTP/Session2/Base.pm line 79.
	HTTP::Session2::Base::__ANON__(HTTP::Session2::ClientStore=HASH(0x24b7848), "secret") called at t/07_client_store.t line 65
	main::__ANON__() called at /opt/perl-5.21.2/lib/5.21.2/Test/Builder.pm line 258
	Test::Builder::__ANON__() called at /opt/perl-5.21.2/lib/5.21.2/Test/Builder.pm line 263
	eval {...} called at /opt/perl-5.21.2/lib/5.21.2/Test/Builder.pm line 263
	Test::Builder::subtest(Test::Builder=HASH(0x1b7b6f8), "good", CODE(0x1b64d10)) called at /opt/perl-5.21.2/lib/5.21.2/Test/More.pm line 770
	Test::More::subtest("good", CODE(0x1b64d10)) called at t/07_client_store.t line 70
	main::__ANON__() called at /opt/perl-5.21.2/lib/5.21.2/Test/Builder.pm line 258
	Test::Builder::__ANON__() called at /opt/perl-5.21.2/lib/5.21.2/Test/Builder.pm line 263
	eval {...} called at /opt/perl-5.21.2/lib/5.21.2/Test/Builder.pm line 263
	Test::Builder::subtest(Test::Builder=HASH(0x1b7b6f8), "validate_token", CODE(0x2494cd8)) called at /opt/perl-5.21.2/lib/5.21.2/Test/More.pm line 770
	Test::More::subtest("validate_token", CODE(0x2494cd8)) called at t/07_client_store.t line 71
Do not use HTTP::Session2::ClientStore. Use HTTP::Session2::ServerStore or HTTP::Session2::ClientStore2 instead. at /tmpfs/.cpan-build/HTTP-Session2-1.08-0U53L8/blib/lib/HTTP/Session2/ClientStore.pm line 35.
Secret string too short at /tmpfs/.cpan-build/HTTP-Session2-1.08-0U53L8/blib/lib/HTTP/Session2/Base.pm line 79.
	HTTP::Session2::Base::__ANON__(HTTP::Session2::ClientStore=HASH(0x1b649f8), "secret") called at t/07_client_store.t line 76
	main::__ANON__() called at /opt/perl-5.21.2/lib/5.21.2/Test/Builder.pm line 258
	Test::Builder::__ANON__() called at /opt/perl-5.21.2/lib/5.21.2/Test/Builder.pm line 263
	eval {...} called at /opt/perl-5.21.2/lib/5.21.2/Test/Builder.pm line 263
	Test::Builder::subtest(Test::Builder=HASH(0x1b7b6f8), "ignore_old", CODE(0x24ac9e8)) called at /opt/perl-5.21.2/lib/5.21.2/Test/More.pm line 770
	Test::More::subtest("ignore_old", CODE(0x24ac9e8)) called at t/07_client_store.t line 106
Do not use HTTP::Session2::ClientStore. Use HTTP::Session2::ServerStore or HTTP::Session2::ClientStore2 instead. at /tmpfs/.cpan-build/HTTP-Session2-1.08-0U53L8/blib/lib/HTTP/Session2/ClientStore.pm line 25.
Secret string too short at /tmpfs/.cpan-build/HTTP-Session2-1.08-0U53L8/blib/lib/HTTP/Session2/Base.pm line 79.
	HTTP::Session2::Base::__ANON__(HTTP::Session2::ClientStore=HASH(0x24b7bd8), "secret") called at t/07_client_store.t line 87
	main::__ANON__() called at /opt/perl-5.21.2/lib/5.21.2/Test/Builder.pm line 258
	Test::Builder::__ANON__() called at /opt/perl-5.21.2/lib/5.21.2/Test/Builder.pm line 263
	eval {...} called at /opt/perl-5.21.2/lib/5.21.2/Test/Builder.pm line 263
	Test::Builder::subtest(Test::Builder=HASH(0x1b7b6f8), "ignore_old disabled", CODE(0x24b7e48)) called at /opt/perl-5.21.2/lib/5.21.2/Test/More.pm line 770
	Test::More::subtest("ignore_old disabled", CODE(0x24b7e48)) called at t/07_client_store.t line 95
	main::__ANON__() called at /opt/perl-5.21.2/lib/5.21.2/Test/Builder.pm line 258
	Test::Builder::__ANON__() called at /opt/perl-5.21.2/lib/5.21.2/Test/Builder.pm line 263
	eval {...} called at /opt/perl-5.21.2/lib/5.21.2/Test/Builder.pm line 263
	Test::Builder::subtest(Test::Builder=HASH(0x1b7b6f8), "ignore_old", CODE(0x24ac9e8)) called at /opt/perl-5.21.2/lib/5.21.2/Test/More.pm line 770
	Test::More::subtest("ignore_old", CODE(0x24ac9e8)) called at t/07_client_store.t line 106
Do not use HTTP::Session2::ClientStore. Use HTTP::Session2::ServerStore or HTTP::Session2::ClientStore2 instead. at /tmpfs/.cpan-build/HTTP-Session2-1.08-0U53L8/blib/lib/HTTP/Session2/ClientStore.pm line 35.
Secret string too short at /tmpfs/.cpan-build/HTTP-Session2-1.08-0U53L8/blib/lib/HTTP/Session2/Base.pm line 79.
	HTTP::Session2::Base::__ANON__(HTTP::Session2::ClientStore=HASH(0x1b65190), "secret") called at t/07_client_store.t line 97
	main::__ANON__() called at /opt/perl-5.21.2/lib/5.21.2/Test/Builder.pm line 258
	Test::Builder::__ANON__() called at /opt/perl-5.21.2/lib/5.21.2/Test/Builder.pm line 263
	eval {...} called at /opt/perl-5.21.2/lib/5.21.2/Test/Builder.pm line 263
	Test::Builder::subtest(Test::Builder=HASH(0x1b7b6f8), "ignore_old enabled", CODE(0x24b7e48)) called at /opt/perl-5.21.2/lib/5.21.2/Test/More.pm line 770
	Test::More::subtest("ignore_old enabled", CODE(0x24b7e48)) called at t/07_client_store.t line 105
	main::__ANON__() called at /opt/perl-5.21.2/lib/5.21.2/Test/Builder.pm line 258
	Test::Builder::__ANON__() called at /opt/perl-5.21.2/lib/5.21.2/Test/Builder.pm line 263
	eval {...} called at /opt/perl-5.21.2/lib/5.21.2/Test/Builder.pm line 263
	Test::Builder::subtest(Test::Builder=HASH(0x1b7b6f8), "ignore_old", CODE(0x24ac9e8)) called at /opt/perl-5.21.2/lib/5.21.2/Test/More.pm line 770
	Test::More::subtest("ignore_old", CODE(0x24ac9e8)) called at t/07_client_store.t line 106
t/07_client_store.t ......... ok
Secret string too short at /tmpfs/.cpan-build/HTTP-Session2-1.08-0U53L8/blib/lib/HTTP/Session2/Base.pm line 79.
	HTTP::Session2::Base::__ANON__(HTTP::Session2::Expired=HASH(0x13c9b70), 33333) called at t/08_expired.t line 7
t/08_expired.t .............. ok
# /dev/urandom available
# /dev/urandom(1): 7nwzaEynJNggVylHT0JHR0pu2VTdUK2
# /dev/urandom(2): Sk5g2fxBApMs91wfB_ZsR9ZMdtkigls
# perl:            0bb3ac56295ee230da6728191a7ab3a
t/09_random.t ............... ok
t/11_secret_string.t ........ ok
Secret string too short at /tmpfs/.cpan-build/HTTP-Session2-1.08-0U53L8/blib/lib/HTTP/Session2/Base.pm line 79.
	HTTP::Session2::Base::__ANON__(HTTP::Session2::ClientStore2=HASH(0x25df8f8), "s3cret") called at t/client_store2/01_basic.t line 24
	main::__ANON__("client -> server: request without cookie", CODE(0x25df0e8)) called at t/client_store2/01_basic.t line 30
	main::__ANON__() called at /opt/perl-5.21.2/lib/5.21.2/Test/Builder.pm line 258
	Test::Builder::__ANON__() called at /opt/perl-5.21.2/lib/5.21.2/Test/Builder.pm line 263
	eval {...} called at /opt/perl-5.21.2/lib/5.21.2/Test/Builder.pm line 263
	Test::Builder::subtest(Test::Builder=HASH(0x202ade0), "First request", CODE(0x1ff2340)) called at /opt/perl-5.21.2/lib/5.21.2/Test/More.pm line 770
	Test::More::subtest("First request", CODE(0x1ff2340)) called at t/client_store2/01_basic.t line 9
	main::scenario("First request", CODE(0x1ff2340)) called at t/client_store2/01_basic.t line 36
Secret string too short at /tmpfs/.cpan-build/HTTP-Session2-1.08-0U53L8/blib/lib/HTTP/Session2/Base.pm line 79.
	HTTP::Session2::Base::__ANON__(HTTP::Session2::ClientStore2=HASH(0x25df6a0), "s3cret") called at t/client_store2/01_basic.t line 41
	main::__ANON__("client -> server: request without cookie", CODE(0x25df7c0)) called at t/client_store2/01_basic.t line 47
	main::__ANON__() called at /opt/perl-5.21.2/lib/5.21.2/Test/Builder.pm line 258
	Test::Builder::__ANON__() called at /opt/perl-5.21.2/lib/5.21.2/Test/Builder.pm line 263
	eval {...} called at /opt/perl-5.21.2/lib/5.21.2/Test/Builder.pm line 263
	Test::Builder::subtest(Test::Builder=HASH(0x202ade0), "Store something without login", CODE(0x1ff2340)) called at /opt/perl-5.21.2/lib/5.21.2/Test/More.pm line 770
	Test::More::subtest("Store something without login", CODE(0x1ff2340)) called at t/client_store2/01_basic.t line 9
	main::scenario("Store something without login", CODE(0x1ff2340)) called at t/client_store2/01_basic.t line 63
Secret string too short at /tmpfs/.cpan-build/HTTP-Session2-1.08-0U53L8/blib/lib/HTTP/Session2/Base.pm line 79.
	HTTP::Session2::Base::__ANON__(HTTP::Session2::ClientStore2=HASH(0x25dee30), "s3cret") called at t/client_store2/01_basic.t line 69
	main::__ANON__("client -> server: request without cookie", CODE(0x25eba40)) called at t/client_store2/01_basic.t line 76
	main::__ANON__() called at /opt/perl-5.21.2/lib/5.21.2/Test/Builder.pm line 258
	Test::Builder::__ANON__() called at /opt/perl-5.21.2/lib/5.21.2/Test/Builder.pm line 263
	eval {...} called at /opt/perl-5.21.2/lib/5.21.2/Test/Builder.pm line 263
	Test::Builder::subtest(Test::Builder=HASH(0x202ade0), "Login", CODE(0x1ff2340)) called at /opt/perl-5.21.2/lib/5.21.2/Test/More.pm line 770
	Test::More::subtest("Login", CODE(0x1ff2340)) called at t/client_store2/01_basic.t line 9
	main::scenario("Login", CODE(0x1ff2340)) called at t/client_store2/01_basic.t line 96
Ciphertext does not begin with a valid header for 'salt' header mode at /tmpfs/.cpan-build/HTTP-Session2-1.08-0U53L8/blib/lib/HTTP/Session2/ClientStore2.pm line 81.
Ciphertext does not begin with a valid header for 'salt' header mode at /tmpfs/.cpan-build/HTTP-Session2-1.08-0U53L8/blib/lib/HTTP/Session2/ClientStore2.pm line 81.
Secret string too short at /tmpfs/.cpan-build/HTTP-Session2-1.08-0U53L8/blib/lib/HTTP/Session2/Base.pm line 79.
	HTTP::Session2::Base::__ANON__(HTTP::Session2::ClientStore2=HASH(0x260ce80), "s3cret") called at t/client_store2/01_basic.t line 102
	main::__ANON__("client -> server: request without cookie", CODE(0x25ebab8)) called at t/client_store2/01_basic.t line 109
	main::__ANON__() called at /opt/perl-5.21.2/lib/5.21.2/Test/Builder.pm line 258
	Test::Builder::__ANON__() called at /opt/perl-5.21.2/lib/5.21.2/Test/Builder.pm line 263
	eval {...} called at /opt/perl-5.21.2/lib/5.21.2/Test/Builder.pm line 263
	Test::Builder::subtest(Test::Builder=HASH(0x202ade0), "In a login session", CODE(0x1ff2340)) called at /opt/perl-5.21.2/lib/5.21.2/Test/More.pm line 770
	Test::More::subtest("In a login session", CODE(0x1ff2340)) called at t/client_store2/01_basic.t line 9
	main::scenario("In a login session", CODE(0x1ff2340)) called at t/client_store2/01_basic.t line 118
Ciphertext does not begin with a valid header for 'salt' header mode at /tmpfs/.cpan-build/HTTP-Session2-1.08-0U53L8/blib/lib/HTTP/Session2/ClientStore2.pm line 81.
Secret string too short at /tmpfs/.cpan-build/HTTP-Session2-1.08-0U53L8/blib/lib/HTTP/Session2/Base.pm line 79.
	HTTP::Session2::Base::__ANON__(HTTP::Session2::ClientStore2=HASH(0x25df0b8), "s3cret") called at t/client_store2/01_basic.t line 123
	main::__ANON__("client -> server: request without cookie", CODE(0x25e3758)) called at t/client_store2/01_basic.t line 130
	main::__ANON__() called at /opt/perl-5.21.2/lib/5.21.2/Test/Builder.pm line 258
	Test::Builder::__ANON__() called at /opt/perl-5.21.2/lib/5.21.2/Test/Builder.pm line 263
	eval {...} called at /opt/perl-5.21.2/lib/5.21.2/Test/Builder.pm line 263
	Test::Builder::subtest(Test::Builder=HASH(0x202ade0), "Logout", CODE(0x1ff2340)) called at /opt/perl-5.21.2/lib/5.21.2/Test/More.pm line 770
	Test::More::subtest("Logout", CODE(0x1ff2340)) called at t/client_store2/01_basic.t line 9
	main::scenario("Logout", CODE(0x1ff2340)) called at t/client_store2/01_basic.t line 143
Ciphertext does not begin with a valid header for 'salt' header mode at /tmpfs/.cpan-build/HTTP-Session2-1.08-0U53L8/blib/lib/HTTP/Session2/ClientStore2.pm line 81.
t/client_store2/01_basic.t .. ok
t/client_store2/02_mech.t ... ok
t/client_store2/03_colon.t .. ok
All tests successful.
Files=14, Tests=83,  1 wallclock secs ( 0.04 usr  0.09 sys +  0.94 cusr  0.18 csys =  1.25 CPU)
Result: PASS

------------------------------
PREREQUISITES
------------------------------

Prerequisite modules loaded:

requires:

    Module                     Need     Have    
    -------------------------- -------- --------
    Cookie::Baker              0        0.03    
    Crypt::CBC                 0        2.33    
    Data::MessagePack          0        0.48    
    Digest::HMAC               0        1.03    
    Digest::SHA                0        5.92    
    Digest::SHA1               0        2.13    
    MIME::Base64               3.11     3.14    
    Mouse                      0        2.3.0   
    parent                     0        0.228   
    perl                       5.008005 5.021002
    Time::HiRes                0        1.9726  

build_requires:

    Module                     Need     Have    
    -------------------------- -------- --------
    Crypt::Rijndael            0        1.12    
    Plack::Request             0        1.0030  
    Plack::Response            0        1.0030  
    Test::More                 0.98     1.001003
    Test::WWW::Mechanize::PSGI 0        0.35    

configure_requires:

    Module                     Need     Have    
    -------------------------- -------- --------
    Module::Build              0.38     0.4206  


------------------------------
ENVIRONMENT AND OTHER CONTEXT
------------------------------

Environment variables:

    DBIC_NO_WARN_BAD_PERL = 1
    LANG = C
    LC_ALL = de_DE.UTF-8
    PATH = /usr/local/bin:/usr/bin:/bin:/usr/local/sbin:/usr/sbin:/sbin:/home/eserte/bin/linux-gnu:/home/eserte/bin/sh:/home/eserte/bin:/usr/games:/home/eserte/devel:/home/eserte/src/srezic-misc/scripts
    PERL5LIB = 
    PERL5OPT = 
    PERL5_CPANPLUS_IS_RUNNING = 32067
    PERL5_CPAN_IS_RUNNING = 32067
    PERL5_CPAN_IS_RUNNING_IN_RECURSION = 31070,32067
    PERLDOC = -MPod::Perldoc::ToTextOverstrike
    PERL_BATCH = yes
    PERL_CPAN_REPORTER_CONFIG = /var/tmp/cpansmoker-1001/QMNHdUpmO7_config.ini
    PERL_EXTUTILS_AUTOINSTALL = --defaultdeps
    PERL_HTML_DISPLAY_CLASS = HTML::Display::Mozilla
    PERL_PARALLEL_SMOKER = yes
    SHELL = /bin/zsh
    TERM = screen
    TMPDIR = /var/tmp/cpansmoker-1001

Perl special variables (and OS-specific diagnostics, for MSWin32):

    $^X = /opt/perl-5.21.2/bin/perl5.21.2
    $UID/$EUID = 1001 / 1001
    $GID = 1001 109 1001
    $EGID = 1001 109 1001

Perl module toolchain versions installed:

    Module              Have    
    ------------------- --------
    CPAN                2.05    
    CPAN::Meta          2.141520
    Cwd                 3.49    
    ExtUtils::CBuilder  0.280216
    ExtUtils::Command   1.18    
    ExtUtils::Install   1.68    
    ExtUtils::MakeMaker 6.98    
    ExtUtils::Manifest  1.64    
    ExtUtils::ParseXS   3.25    
    File::Spec          3.49    
    JSON                2.90    
    JSON::PP            2.27203 
    Module::Build       0.4206  
    Module::Signature   0.73    
    Parse::CPAN::Meta   1.4414  
    Test::Harness       3.32    
    Test::More          1.001003
    YAML                0.98    
    YAML::Syck          1.27    
    version             0.9908  


--

Summary of my perl5 (revision 5 version 21 subversion 2) configuration:
   
  Platform:
    osname=linux, osvers=3.2.0-4-amd64, archname=x86_64-linux
    uname='linux eserte 3.2.0-4-amd64 #1 smp debian 3.2.57-3+deb7u2 x86_64 gnulinux '
    config_args='-ds -e -Dprefix=/opt/perl-5.21.2 -Dusedevel -Dusemallocwrap=no'
    hint=recommended, useposix=true, d_sigaction=define
    useithreads=undef, usemultiplicity=undef
    use64bitint=define, use64bitall=define, uselongdouble=undef
    usemymalloc=n, bincompat5005=undef
  Compiler:
    cc='cc', ccflags ='-fwrapv -fno-strict-aliasing -pipe -fstack-protector -I/usr/local/include -D_LARGEFILE_SOURCE -D_FILE_OFFSET_BITS=64 -D_FORTIFY_SOURCE=2',
    optimize='-O2',
    cppflags='-fwrapv -fno-strict-aliasing -pipe -fstack-protector -I/usr/local/include'
    ccversion='', gccversion='4.7.2', gccosandvers=''
    intsize=4, longsize=8, ptrsize=8, doublesize=8, byteorder=12345678
    d_longlong=define, longlongsize=8, d_longdbl=define, longdblsize=16
    ivtype='long', ivsize=8, nvtype='double', nvsize=8, Off_t='off_t', lseeksize=8
    alignbytes=8, prototype=define
  Linker and Libraries:
    ld='cc', ldflags =' -fstack-protector -L/usr/local/lib'
    libpth=/usr/local/lib /usr/lib/gcc/x86_64-linux-gnu/4.7/include-fixed /usr/include/x86_64-linux-gnu /usr/lib /lib/x86_64-linux-gnu /lib/../lib /usr/lib/x86_64-linux-gnu /usr/lib/../lib /lib
    libs=-lnsl -ldb -ldl -lm -lcrypt -lutil -lc
    perllibs=-lnsl -ldl -lm -lcrypt -lutil -lc
    libc=libc-2.13.so, so=so, useshrplib=false, libperl=libperl.a
    gnulibc_version='2.13'
  Dynamic Linking:
    dlsrc=dl_dlopen.xs, dlext=so, d_dlsymun=undef, ccdlflags='-Wl,-E'
    cccdlflags='-fPIC', lddlflags='-shared -O2 -L/usr/local/lib -fstack-protector'


Characteristics of this binary (from libperl): 
  Compile-time options: HAS_TIMES PERLIO_LAYERS PERL_DONT_CREATE_GVSV
                        PERL_HASH_FUNC_ONE_AT_A_TIME_HARD
                        PERL_NEW_COPY_ON_WRITE PERL_PRESERVE_IVUV
                        PERL_USE_DEVEL USE_64_BIT_ALL USE_64_BIT_INT
                        USE_LARGE_FILES USE_LOCALE USE_LOCALE_COLLATE
                        USE_LOCALE_CTYPE USE_LOCALE_NUMERIC USE_LOCALE_TIME
                        USE_PERLIO USE_PERL_ATOF
  Built under linux
  Compiled at Jul 21 2014 05:22:36
  %ENV:
    PERL5LIB=""
    PERL5OPT=""
    PERL5_CPANPLUS_IS_RUNNING="32067"
    PERL5_CPAN_IS_RUNNING="32067"
    PERL5_CPAN_IS_RUNNING_IN_RECURSION="31070,32067"
    PERLDOC="-MPod::Perldoc::ToTextOverstrike"
    PERL_BATCH="yes"
    PERL_CPAN_REPORTER_CONFIG="/var/tmp/cpansmoker-1001/QMNHdUpmO7_config.ini"
    PERL_EXTUTILS_AUTOINSTALL="--defaultdeps"
    PERL_HTML_DISPLAY_CLASS="HTML::Display::Mozilla"
    PERL_PARALLEL_SMOKER="yes"
  @INC:
    /opt/perl-5.21.2/lib/site_perl/5.21.2/x86_64-linux
    /opt/perl-5.21.2/lib/site_perl/5.21.2
    /opt/perl-5.21.2/lib/5.21.2/x86_64-linux
    /opt/perl-5.21.2/lib/5.21.2
    .