Dist-Zilla-Plugin-ModuleBuildTiny-Fallback v0.027 Perl 5 v5.20.1 i686-linux-thread-multi-64int-ld

Status
Pass
From
Chris Williams (BINGOS)
Dist
Dist-Zilla-Plugin-ModuleBuildTiny-Fallback v0.027
Platform
Perl 5 v5.20.1 i686-linux-thread-multi-64int-ld
Date
2025-02-02 23:12:25
ID
2a2c20b4-e1bb-11ef-98b0-b3c3213a625c
This distribution has been tested as part of the CPAN Testers
project, supporting the Perl programming language.  See
http://wiki.cpantesters.org/ for more information or email
questions to cpan-testers-discuss@perl.org


--

Dear Karen Etheridge,

This is a computer-generated error report created automatically by
CPANPLUS, version 0.9914. Testers personal comments may appear
at the end of this report.


Thank you for uploading your work to CPAN.  Congratulations!
All tests were successful.

TEST RESULTS:

Below is the error stack from stage 'make test':

# 
# Versions for all modules listed in MYMETA.json (including optional ones):
# 
# === Configure Requires ===
# 
#     Module               Want  Have
#     ------------------- ----- -----
#     ExtUtils::MakeMaker   any  7.70
#     Module::Build::Tiny 0.034 0.051
# 
# === Test Requires ===
# 
#     Module                         Want     Have
#     ----------------------------- ----- --------
#     Dist::Zilla::Role::FileMunger   any    6.032
#     File::Spec                      any     3.75
#     File::pushd                     any    1.016
#     Module::Metadata                any 1.000038
#     Path::Tiny                    0.062    0.146
#     Test::DZil                      any    6.032
#     Test::Deep                      any    1.204
#     Test::Fatal                     any    0.017
#     Test::More                     0.96 1.302209
#     Test::Needs                     any 0.002010
#     Test::Warnings                  any    0.038
#     if                              any   0.0603
# 
# === Test Recommends ===
# 
#     Module         Want     Have
#     ---------- -------- --------
#     CPAN::Meta 2.120900 2.150010
# 
# === Runtime Requires ===
# 
#     Module                                Want     Have
#     ------------------------------------ ----- --------
#     Dist::Zilla::Plugin::ModuleBuild       any    6.032
#     Dist::Zilla::Plugin::ModuleBuildTiny   any    0.017
#     Dist::Zilla::Role::AfterBuild          any    6.032
#     Dist::Zilla::Role::BeforeBuild         any    6.032
#     Dist::Zilla::Role::BuildPL             any    6.032
#     Dist::Zilla::Role::FileGatherer        any    6.032
#     Dist::Zilla::Role::PrereqSource        any    6.032
#     List::Util                            1.33     1.68
#     Moose                                  any   2.2207
#     Moose::Util                            any   2.2207
#     Path::Tiny                           0.062    0.146
#     Scalar::Util                           any     1.68
#     Types::Standard                        any 2.006000
#     namespace::autoclean                   any     0.31
#     strict                                 any     1.08
#     warnings                               any     1.23
# 
# === Other Modules ===
# 
#     Module                           Have
#     ----------------------------- -------
#     Data::Dumper                    2.151
#     Dist::Zilla::Plugin::CheckBin missing
#     Encode                           3.21
#     File::Temp                     0.2311
#     JSON::PP                         4.07
#     Log::Dispatch                    2.71
#     Module::Build                  0.4234
#     Module::Build::Tiny             0.051
#     Module::Runtime                 0.016
#     Pod::Coverage                 missing
#     Sub::Name                        0.28
#     YAML                          missing
#     autodie                          2.23
# 
t/00-report-prereqs.t ...... ok
t/01-basic.t ............... ok
t/02-two-plugins.t ......... ok
t/03-arguments.t ........... ok
t/04-additional-content.t .. skipped: Need Dist::Zilla::Plugin::CheckBin 0.004
t/05-preamble.t ............ ok
t/06-prereq-failures.t ..... ok
t/07-sharedir.t ............ ok
t/zzz-check-breaks.t ....... ok
All tests successful.
Files=9, Tests=41, 17 wallclock secs ( 0.04 usr  0.00 sys +  6.08 cusr  0.37 csys =  6.49 CPU)
Result: PASS


PREREQUISITES:

Here is a list of prerequisites you specified and versions we
managed to load:

	  Module Name                        Have     Want
	  Dist::Zilla::Plugin::ModuleBuild    6.032        0
	  Dist::Zilla::Plugin::ModuleBuildTiny    0.017        0
	  Dist::Zilla::Role::AfterBuild     6.032        0
	  Dist::Zilla::Role::BeforeBuild    6.032        0
	  Dist::Zilla::Role::BuildPL        6.032        0
	  Dist::Zilla::Role::FileGatherer    6.032        0
	  Dist::Zilla::Role::FileMunger     6.032        0
	  Dist::Zilla::Role::PrereqSource    6.032        0
	  File::Spec                         3.75        0
	  File::pushd                       1.016        0
	  List::Util                         1.68     1.33
	  Module::Metadata               1.000038        0
	  Moose                            2.2207        0
	  Moose::Util                      2.2207        0
	  Path::Tiny                        0.146    0.062
	  Scalar::Util                       1.68        0
	  Test::DZil                        6.032        0
	  Test::Deep                        1.204        0
	  Test::Fatal                       0.017        0
	  Test::More                     1.302209     0.96
	  Test::Needs                    0.002010        0
	  Test::Warnings                    0.038        0
	  Types::Standard                2.006000        0
	  if                               0.0603        0
	  namespace::autoclean               0.31        0
	  strict                             1.08        0
	  warnings                           1.23        0

Perl module toolchain versions installed:
	Module Name                        Have
	CPANPLUS                         0.9914
	CPANPLUS::Dist::Build              0.90
	Cwd                                3.75
	ExtUtils::CBuilder             0.280236
	ExtUtils::Command                  7.70
	ExtUtils::Install                  2.22
	ExtUtils::MakeMaker                7.70
	ExtUtils::Manifest                 1.75
	ExtUtils::ParseXS                  3.51
	File::Spec                         3.75
	Module::Build                    0.4234
	Pod::Parser                        1.62
	Pod::Simple                        3.28
	Test2                          1.302209
	Test::Harness                      3.48
	Test::More                     1.302209
	version                          0.9932

******************************** NOTE ********************************
The comments above are created mechanically, possibly without manual
checking by the sender.  As there are many people performing automatic
tests on each upload to CPAN, it is likely that you will receive
identical messages about the same problem.

If you believe that the message is mistaken, please reply to the first
one with correction and/or additional informations, and do not take
it personally.  We appreciate your patience. :)
**********************************************************************

Additional comments:


This report was machine-generated by CPANPLUS::Dist::YACSmoke 1.08.
Powered by minismokebox version 0.68

CPANPLUS is prefering Build.PL

------------------------------
ENVIRONMENT AND OTHER CONTEXT
------------------------------

Environment variables:

    AUTOMATED_TESTING = 1
    LANG = en_GB.UTF-8
    LANGUAGE = en_GB:en
    NONINTERACTIVE_TESTING = 1
    PATH = /usr/local/bin:/usr/bin:/bin:/usr/local/games:/usr/games
    PERL5LIB = /home/cpan/pit/jail/eLNPv4dcAE/lib/perl5:/home/cpan/pit/rel-ld/conf/perl-5.20.1/.cpanplus/5.20.1/build/nMO7toaHMG/Dist-Zilla-Plugin-MinimumPerl-1.006/blib/lib:/home/cpan/pit/rel-ld/conf/perl-5.20.1/.cpanplus/5.20.1/build/nMO7toaHMG/Dist-Zilla-Plugin-MinimumPerl-1.006/blib/arch:/home/cpan/pit/rel-ld/conf/perl-5.20.1/.cpanplus/5.20.1/build/Vn1GkCdwS3/Dist-Zilla-Plugin-ModuleBuildTiny-Fallback-0.027/blib/lib:/home/cpan/pit/rel-ld/conf/perl-5.20.1/.cpanplus/5.20.1/build/Vn1GkCdwS3/Dist-Zilla-Plugin-ModuleBuildTiny-Fallback-0.027/blib/arch
    PERL5_CPANPLUS_IS_RUNNING = 11120
    PERL5_CPANPLUS_IS_VERSION = 0.9914
    PERL5_MINISMOKEBOX = 0.68
    PERL5_YACSMOKE_BASE = /home/cpan/pit/rel-ld/conf/perl-5.20.1
    PERL_EXTUTILS_AUTOINSTALL = --defaultdeps
    PERL_LOCAL_LIB_ROOT = /home/cpan/pit/jail/eLNPv4dcAE
    PERL_MB_OPT = --install_base "/home/cpan/pit/jail/eLNPv4dcAE"
    PERL_MM_OPT = INSTALL_BASE=/home/cpan/pit/jail/eLNPv4dcAE
    PERL_MM_USE_DEFAULT = 1
    PERL_USE_UNSAFE_INC = 0
    SHELL = /bin/bash
    TERM = screen.xterm-256color

Perl special variables (and OS-specific diagnostics, for MSWin32):

    Perl: $^X = /home/cpan/pit/rel-ld/perl-5.20.1/bin/perl
    UID:  $<  = 1001
    EUID: $>  = 1001
    GID:  $(  = 1001 1001
    EGID: $)  = 1001 1001


-------------------------------


--

Summary of my perl5 (revision 5 version 20 subversion 1) configuration:
   
  Platform:
    osname=linux, osvers=5.10.0-12-686, archname=i686-linux-thread-multi-64int-ld
    uname='linux dagobah 5.10.0-12-686 #1 smp debian 5.10.103-1 (2022-03-07) i686 gnulinux '
    config_args='-des -Dprefix=/home/cpan/pit/rel-ld/perl-5.20.1 -Dusethreads -Duse64bitint -Duselongdouble'
    hint=recommended, useposix=true, d_sigaction=define
    useithreads=define, usemultiplicity=define
    use64bitint=define, use64bitall=undef, uselongdouble=define
    usemymalloc=n, bincompat5005=undef
  Compiler:
    cc='cc', ccflags ='-D_REENTRANT -D_GNU_SOURCE -fwrapv -fno-strict-aliasing -pipe -fstack-protector -I/usr/local/include -D_LARGEFILE_SOURCE -D_FILE_OFFSET_BITS=64',
    optimize='-O2',
    cppflags='-D_REENTRANT -D_GNU_SOURCE -fwrapv -fno-strict-aliasing -pipe -fstack-protector -I/usr/local/include'
    ccversion='', gccversion='10.2.1 20210110', gccosandvers=''
    intsize=4, longsize=4, ptrsize=4, doublesize=8, byteorder=12345678
    d_longlong=define, longlongsize=8, d_longdbl=define, longdblsize=12
    ivtype='long long', ivsize=8, nvtype='long double', nvsize=12, Off_t='off_t', lseeksize=8
    alignbytes=4, prototype=define
  Linker and Libraries:
    ld='cc', ldflags =' -fstack-protector -L/usr/local/lib'
    libpth=/usr/local/lib /usr/include/i386-linux-gnu /usr/lib /lib/i386-linux-gnu /lib/../lib /usr/lib/i386-linux-gnu /usr/lib/../lib /lib /lib64 /usr/lib64
    libs=-lnsl -lgdbm -ldl -lm -lcrypt -lutil -lpthread -lc
    perllibs=-lnsl -ldl -lm -lcrypt -lutil -lpthread -lc
    libc=libc-2.31.so, so=so, useshrplib=false, libperl=libperl.a
    gnulibc_version='2.31'
  Dynamic Linking:
    dlsrc=dl_dlopen.xs, dlext=so, d_dlsymun=undef, ccdlflags='-Wl,-E'
    cccdlflags='-fPIC', lddlflags='-shared -O2 -L/usr/local/lib -fstack-protector'


Characteristics of this binary (from libperl): 
  Compile-time options: HAS_TIMES MULTIPLICITY PERLIO_LAYERS
                        PERL_DONT_CREATE_GVSV
                        PERL_HASH_FUNC_ONE_AT_A_TIME_HARD
                        PERL_IMPLICIT_CONTEXT PERL_MALLOC_WRAP
                        PERL_NEW_COPY_ON_WRITE PERL_PRESERVE_IVUV
                        USE_64_BIT_INT USE_ITHREADS USE_LARGE_FILES
                        USE_LOCALE USE_LOCALE_COLLATE USE_LOCALE_CTYPE
                        USE_LOCALE_NUMERIC USE_LONG_DOUBLE USE_PERLIO
                        USE_PERL_ATOF USE_REENTRANT_API
  Locally applied patches:
	Devel::PatchPerl 2.08
  Built under linux
  Compiled at Mar 19 2022 23:05:27
  %ENV:
    PERL5LIB="/home/cpan/pit/jail/eLNPv4dcAE/lib/perl5:/home/cpan/pit/rel-ld/conf/perl-5.20.1/.cpanplus/5.20.1/build/nMO7toaHMG/Dist-Zilla-Plugin-MinimumPerl-1.006/blib/lib:/home/cpan/pit/rel-ld/conf/perl-5.20.1/.cpanplus/5.20.1/build/nMO7toaHMG/Dist-Zilla-Plugin-MinimumPerl-1.006/blib/arch:/home/cpan/pit/rel-ld/conf/perl-5.20.1/.cpanplus/5.20.1/build/Vn1GkCdwS3/Dist-Zilla-Plugin-ModuleBuildTiny-Fallback-0.027/blib/lib:/home/cpan/pit/rel-ld/conf/perl-5.20.1/.cpanplus/5.20.1/build/Vn1GkCdwS3/Dist-Zilla-Plugin-ModuleBuildTiny-Fallback-0.027/blib/arch"
    PERL5_CPANPLUS_IS_RUNNING="11120"
    PERL5_CPANPLUS_IS_VERSION="0.9914"
    PERL5_MINISMOKEBOX="0.68"
    PERL5_YACSMOKE_BASE="/home/cpan/pit/rel-ld/conf/perl-5.20.1"
    PERL_EXTUTILS_AUTOINSTALL="--defaultdeps"
    PERL_LOCAL_LIB_ROOT="/home/cpan/pit/jail/eLNPv4dcAE"
    PERL_MB_OPT="--install_base "/home/cpan/pit/jail/eLNPv4dcAE""
    PERL_MM_OPT="INSTALL_BASE=/home/cpan/pit/jail/eLNPv4dcAE"
    PERL_MM_USE_DEFAULT="1"
    PERL_USE_UNSAFE_INC="0"
  @INC:
    /home/cpan/pit/jail/eLNPv4dcAE/lib/perl5/5.20.1/i686-linux-thread-multi-64int-ld
    /home/cpan/pit/jail/eLNPv4dcAE/lib/perl5/5.20.1
    /home/cpan/pit/jail/eLNPv4dcAE/lib/perl5/i686-linux-thread-multi-64int-ld
    /home/cpan/pit/jail/eLNPv4dcAE/lib/perl5
    /home/cpan/pit/rel-ld/conf/perl-5.20.1/.cpanplus/5.20.1/build/nMO7toaHMG/Dist-Zilla-Plugin-MinimumPerl-1.006/blib/lib
    /home/cpan/pit/rel-ld/conf/perl-5.20.1/.cpanplus/5.20.1/build/nMO7toaHMG/Dist-Zilla-Plugin-MinimumPerl-1.006/blib/arch
    /home/cpan/pit/rel-ld/conf/perl-5.20.1/.cpanplus/5.20.1/build/Vn1GkCdwS3/Dist-Zilla-Plugin-ModuleBuildTiny-Fallback-0.027/blib/lib
    /home/cpan/pit/rel-ld/conf/perl-5.20.1/.cpanplus/5.20.1/build/Vn1GkCdwS3/Dist-Zilla-Plugin-ModuleBuildTiny-Fallback-0.027/blib/arch
    /home/cpan/pit/rel-ld/perl-5.20.1/lib/site_perl/5.20.1/i686-linux-thread-multi-64int-ld
    /home/cpan/pit/rel-ld/perl-5.20.1/lib/site_perl/5.20.1
    /home/cpan/pit/rel-ld/perl-5.20.1/lib/5.20.1/i686-linux-thread-multi-64int-ld
    /home/cpan/pit/rel-ld/perl-5.20.1/lib/5.20.1
    .