LWP-Protocol-https v6.14 Perl 5 v5.40.2 x86_64-linux-thread-multi-ld
- Status
- Pass
- From
- Lukas Mai
- Dist
-
LWP-Protocol-https v6.14
- Platform
- Perl 5 v5.40.2 x86_64-linux-thread-multi-ld
- Date
- 2025-04-19 08:56:21
- ID
- 2a1c1f12-1cfc-11f0-aba7-f46d256c507b
This distribution has been tested as part of the CPAN Testers
project, supporting the Perl programming language. See
http://wiki.cpantesters.org/ for more information or email
questions to cpan-testers-discuss@perl.org
--
Dear Olaf Alders,
This is a computer-generated report for LWP-Protocol-https-6.14
on perl 5.40.2, created by CPAN-Reporter-1.2020.
Thank you for uploading your work to CPAN. Congratulations!
All tests were successful.
Sections of this report:
* Tester comments
* Program output
* Prerequisites
* Environment and other context
------------------------------
TESTER COMMENTS
------------------------------
Additional comments from tester:
none provided
------------------------------
PROGRAM OUTPUT
------------------------------
Output from '/usr/bin/make test':
PERL_DL_NONLAZY=1 "/home/mauke/perl5/perlbrew/perls/perl-5.40.2/bin/perl" "-MExtUtils::Command::MM" "-MTest::Harness" "-e" "undef *Test::Harness::Switches; test_harness(0, 'blib/lib', 'blib/arch')" t/*.t
#
# Versions for all modules listed in MYMETA.json (including optional ones):
#
# === Configure Requires ===
#
# Module Want Have
# ------------------- -------- --------
# ExtUtils::MakeMaker any 7.70
# perl 5.008001 5.040002
#
# === Configure Suggests ===
#
# Module Want Have
# -------- ------- ----
# JSON::PP 2.27300 4.16
#
# === Build Requires ===
#
# Module Want Have
# ------------------- ---- ----
# ExtUtils::MakeMaker any 7.70
#
# === Test Requires ===
#
# Module Want Have
# ---------------------- -------- --------
# ExtUtils::MakeMaker any 7.70
# File::Spec any 3.91
# File::Temp any 0.2311
# IO::Select any 1.55
# IO::Socket::INET any 1.55
# IO::Socket::SSL 1.970 2.089
# IO::Socket::SSL::Utils any 2.015
# LWP::UserAgent 6.06 6.78
# Socket any 2.038
# Test::More 0.96 1.302199
# Test::Needs 0.002010 0.002010
# Test::RequiresInternet any 0.05
# perl 5.008001 5.040002
# warnings any 1.70
#
# === Test Recommends ===
#
# Module Want Have
# ---------- -------- --------
# CPAN::Meta 2.120900 2.150010
#
# === Runtime Requires ===
#
# Module Want Have
# ------------------- -------- --------
# IO::Socket::SSL 1.970 2.089
# LWP::Protocol::http any 6.78
# LWP::UserAgent 6.06 6.78
# Net::HTTPS 6 6.23
# base any 2.27
# perl 5.008001 5.040002
# strict any 1.13
#
# === Other Modules ===
#
# Module Have
# ----------- ----
# Net::SSLeay 1.94
#
t/00-report-prereqs.t .. ok
# path to openssl: /usr/bin/openssl
# stdout: OpenSSL 3.0.13 30 Jan 2024 (Library: OpenSSL 3.0.13 30 Jan 2024)
# Net::SSLeay::OPENSSL_VERSION_NUMBER() 0x300000d0
# IO::Select 1.55
# IO::Socket::INET 1.55
# IO::Socket::SSL 2.089
# IO::Socket::SSL::Utils 2.015
# Socket 2.038
t/diag.t ............... ok
t/example.t ............ ok
t/https_proxy.t ........ ok
All tests successful.
Files=4, Tests=62, 3 wallclock secs ( 0.03 usr 0.01 sys + 0.98 cusr 0.10 csys = 1.12 CPU)
Result: PASS
------------------------------
PREREQUISITES
------------------------------
Prerequisite modules loaded:
requires:
Module Need Have
---------------------- -------- --------
base 0 2.27
IO::Socket::SSL 1.970 2.089
LWP::Protocol::http 0 6.78
LWP::UserAgent 6.06 6.78
Net::HTTPS 6 6.23
perl 5.008001 5.040002
strict 0 1.13
build_requires:
Module Need Have
---------------------- -------- --------
ExtUtils::MakeMaker 0 7.70
File::Spec 0 3.91
File::Temp 0 0.2311
IO::Select 0 1.55
IO::Socket::INET 0 1.55
IO::Socket::SSL 1.970 2.089
IO::Socket::SSL::Utils 0 2.015
LWP::UserAgent 6.06 6.78
Socket 0 2.038
Test::More 0.96 1.302199
Test::Needs 0.002010 0.002010
Test::RequiresInternet 0 0.05
warnings 0 1.70
configure_requires:
Module Need Have
---------------------- -------- --------
ExtUtils::MakeMaker 0 7.70
perl 5.008001 5.040002
------------------------------
ENVIRONMENT AND OTHER CONTEXT
------------------------------
Environment variables:
LANG = en_US.UTF-8
LANGUAGE = en_US:en
LC_ADDRESS = de_DE.UTF-8
LC_COLLATE = POSIX
LC_IDENTIFICATION = de_DE.UTF-8
LC_MEASUREMENT = de_DE.UTF-8
LC_MONETARY = de_DE.UTF-8
LC_NAME = de_DE.UTF-8
LC_NUMERIC = en_US.UTF-8
LC_PAPER = de_DE.UTF-8
LC_TELEPHONE = de_DE.UTF-8
LC_TIME = de_DE.UTF-8
PATH = /home/mauke/perl5/perlbrew/bin:/home/mauke/perl5/perlbrew/perls/perl-5.40.2/bin:/home/mauke/bin:/home/mauke/.local/bin:/home/mauke/.cargo/bin:/home/mauke/.ghcup/bin:/usr/local/sbin:/usr/local/bin:/usr/sbin:/usr/bin:/sbin:/bin:/usr/games:/usr/local/games:/snap/bin:/snap/bin
PERL5LIB =
PERL5OPT =
PERL5_CPANPLUS_IS_RUNNING = 2104541
PERL5_CPAN_IS_RUNNING = 2104541
PERLBREW_BASHRC_VERSION = 0.74
PERLBREW_HOME = /home/mauke/.perlbrew
PERLBREW_MANPATH = /home/mauke/perl5/perlbrew/perls/perl-5.40.2/man
PERLBREW_PATH = /home/mauke/perl5/perlbrew/bin:/home/mauke/perl5/perlbrew/perls/perl-5.40.2/bin
PERLBREW_PERL = perl-5.40.2
PERLBREW_ROOT = /home/mauke/perl5/perlbrew
PERLBREW_VERSION = 0.98
PERLDOC = -oman
PERL_UNICODE = SAL
PERL_USE_UNSAFE_INC = 1
SHELL = /bin/bash
TERM = tmux-256color
Perl special variables (and OS-specific diagnostics, for MSWin32):
$^X = /home/mauke/perl5/perlbrew/perls/perl-5.40.2/bin/perl
$UID/$EUID = 1000 / 1000
$GID = 1000 4 24 27 29 30 44 46 113 129 144 1000
$EGID = 1000 4 24 27 29 30 44 46 113 129 144 1000
Perl module toolchain versions installed:
Module Have
------------------- --------
CPAN 2.36
CPAN::Meta 2.150010
Cwd 3.91
ExtUtils::CBuilder 0.280240
ExtUtils::Command 7.70
ExtUtils::Install 2.22
ExtUtils::MakeMaker 7.70
ExtUtils::Manifest 1.75
ExtUtils::ParseXS 3.51
File::Spec 3.91
JSON n/a
JSON::PP 4.16
Module::Build 0.4234
Module::Signature n/a
Parse::CPAN::Meta 2.150010
Test2 1.302199
Test::Harness 3.48
Test::More 1.302199
YAML n/a
YAML::Syck n/a
version 0.9930
--
Summary of my perl5 (revision 5 version 40 subversion 2) configuration:
Platform:
osname=linux
osvers=6.11.0-109019-tuxedo
archname=x86_64-linux-thread-multi-ld
uname='linux luum 6.11.0-109019-tuxedo #19~24.04.1tux2 smp preempt_dynamic mon feb 17 23:08:54 utc 2025 x86_64 x86_64 x86_64 gnulinux '
config_args='-de -Dprefix=/home/mauke/perl5/perlbrew/perls/perl-5.40.2 -Dcc=c-gcc -Doptimize=-O2 -march=native -flto=auto -Dman1dir=none -Dman3dir=none -Duselongdouble -Dusethreads -Aeval:scriptdir=/home/mauke/perl5/perlbrew/perls/perl-5.40.2/bin'
hint=recommended
useposix=true
d_sigaction=define
useithreads=define
usemultiplicity=define
use64bitint=define
use64bitall=define
uselongdouble=define
usemymalloc=n
default_inc_excludes_dot=define
Compiler:
cc='c-gcc'
ccflags ='-D_REENTRANT -D_GNU_SOURCE -fwrapv -fno-strict-aliasing -pipe -fstack-protector-strong -I/usr/local/include -D_LARGEFILE_SOURCE -D_FILE_OFFSET_BITS=64'
optimize='-O2 -march=native -flto=auto'
cppflags='-D_REENTRANT -D_GNU_SOURCE -fwrapv -fno-strict-aliasing -pipe -fstack-protector-strong -I/usr/local/include'
ccversion=''
gccversion='13.3.0'
gccosandvers=''
intsize=4
longsize=8
ptrsize=8
doublesize=8
byteorder=12345678
doublekind=3
d_longlong=define
longlongsize=8
d_longdbl=define
longdblsize=16
longdblkind=3
ivtype='long'
ivsize=8
nvtype='long double'
nvsize=16
Off_t='off_t'
lseeksize=8
alignbytes=16
prototype=define
Linker and Libraries:
ld='c-gcc'
ldflags =' -fstack-protector-strong -L/usr/local/lib'
libpth=/usr/local/lib /usr/lib/x86_64-linux-gnu /usr/lib /usr/lib64
libs=-lpthread -ldb -ldl -lm -lcrypt -lutil -lc
perllibs=-lpthread -ldl -lm -lcrypt -lutil -lc
libc=/lib/x86_64-linux-gnu/libc.so.6
so=so
useshrplib=false
libperl=libperl.a
gnulibc_version='2.39'
Dynamic Linking:
dlsrc=dl_dlopen.xs
dlext=so
d_dlsymun=undef
ccdlflags='-Wl,-E'
cccdlflags='-fPIC'
lddlflags='-shared -O2 -march=native -flto=auto -L/usr/local/lib -fstack-protector-strong'
Characteristics of this binary (from libperl):
Compile-time options:
HAS_LONG_DOUBLE
HAS_STRTOLD
HAS_TIMES
MULTIPLICITY
PERLIO_LAYERS
PERL_COPY_ON_WRITE
PERL_DONT_CREATE_GVSV
PERL_HASH_FUNC_SIPHASH13
PERL_HASH_USE_SBOX32
PERL_MALLOC_WRAP
PERL_OP_PARENT
PERL_PRESERVE_IVUV
PERL_USE_SAFE_PUTENV
USE_64_BIT_ALL
USE_64_BIT_INT
USE_ITHREADS
USE_LARGE_FILES
USE_LOCALE
USE_LOCALE_COLLATE
USE_LOCALE_CTYPE
USE_LOCALE_NUMERIC
USE_LOCALE_TIME
USE_LONG_DOUBLE
USE_PERLIO
USE_PERL_ATOF
USE_REENTRANT_API
USE_THREAD_SAFE_LOCALE
Built under linux
Compiled at Apr 13 2025 22:53:09
%ENV:
PERL5LIB=""
PERL5OPT=""
PERL5_CPANPLUS_IS_RUNNING="2104541"
PERL5_CPAN_IS_RUNNING="2104541"
PERLBREW_BASHRC_VERSION="0.74"
PERLBREW_HOME="/home/mauke/.perlbrew"
PERLBREW_MANPATH="/home/mauke/perl5/perlbrew/perls/perl-5.40.2/man"
PERLBREW_PATH="/home/mauke/perl5/perlbrew/bin:/home/mauke/perl5/perlbrew/perls/perl-5.40.2/bin"
PERLBREW_PERL="perl-5.40.2"
PERLBREW_ROOT="/home/mauke/perl5/perlbrew"
PERLBREW_VERSION="0.98"
PERLDOC="-oman"
PERL_UNICODE="SAL"
PERL_USE_UNSAFE_INC="1"
@INC:
/home/mauke/perl5/perlbrew/perls/perl-5.40.2/lib/site_perl/5.40.2/x86_64-linux-thread-multi-ld
/home/mauke/perl5/perlbrew/perls/perl-5.40.2/lib/site_perl/5.40.2
/home/mauke/perl5/perlbrew/perls/perl-5.40.2/lib/5.40.2/x86_64-linux-thread-multi-ld
/home/mauke/perl5/perlbrew/perls/perl-5.40.2/lib/5.40.2
.