Test-Reporter-Transport-Metabase-Fallback v1.001 Perl 5 v5.26.1 x86_64-linux
- Status
- Pass
- From
- Serguei Trouchelle (STRO)
- Dist
-
Test-Reporter-Transport-Metabase-Fallback v1.001
- Platform
- Perl 5 v5.26.1 x86_64-linux
- Date
- 2018-02-11 07:07:04
- ID
- 29e7f4b6-0efa-11e8-af2d-d930ea2b6e8e
This distribution has been tested as part of the CPAN Testers
project, supporting the Perl programming language. See
http://wiki.cpantesters.org/ for more information or email
questions to cpan-testers-discuss@perl.org
--
Dear Serguei Trouchelle,
This is a computer-generated report for Test-Reporter-Transport-Metabase-Fallback-1.001
on perl 5.26.1, created by CPAN-Reporter-1.2018.
Thank you for uploading your work to CPAN. Congratulations!
All tests were successful.
Sections of this report:
* Tester comments
* Program output
* Prerequisites
* Environment and other context
------------------------------
TESTER COMMENTS
------------------------------
Additional comments from tester:
none provided
------------------------------
PROGRAM OUTPUT
------------------------------
Output from '/usr/bin/make test':
PERL_DL_NONLAZY=1 "/home/perl5261/bin/perl" "-MExtUtils::Command::MM" "-MTest::Harness" "-e" "undef *Test::Harness::Switches; test_harness(0, 'blib/lib', 'blib/arch')" t/*.t
Use of uninitialized value in concatenation (.) or string at /home/perl5261/lib/perl5/site_perl/5.26.1/Metabase/Client/Simple.pm line 243.
Test::Reporter::Transport::Metabase::Fallback Metabase error: fact submission failed: at /home/perl5261/lib/perl5/site_perl/5.26.1/Metabase/Client/Simple.pm line 129.
Metabase::Client::Simple::submit_fact(Metabase::Client::Simple=HASH(0x1c895f8), CPAN::Testers::Report=HASH(0x1d45e98)) called at /home/perl5261/lib/perl5/site_perl/5.26.1/Test/Reporter/Transport/Metabase.pm line 122
Test::Reporter::Transport::Metabase::send(Test::Reporter::Transport::Metabase=HASH(0x1906428), Test::Reporter=HASH(0xc153c0)) called at /home/perl5261/.cpan/build/Test-Reporter-Transport-Metabase-Fallback-1.001-0/blib/lib/Test/Reporter/Transport/Metabase/Fallback.pm line 60
eval {...} called at /home/perl5261/.cpan/build/Test-Reporter-Transport-Metabase-Fallback-1.001-0/blib/lib/Test/Reporter/Transport/Metabase/Fallback.pm line 60
Test::Reporter::Transport::Metabase::Fallback::send(Test::Reporter::Transport::Metabase::Fallback=HASH(0x1906230), Test::Reporter=HASH(0xc153c0)) called at /home/perl5261/lib/perl5/site_perl/5.26.1/Test/Reporter.pm line 272
eval {...} called at /home/perl5261/lib/perl5/site_perl/5.26.1/Test/Reporter.pm line 272
Test::Reporter::send(Test::Reporter=HASH(0xc153c0)) called at t/00-use.t line 33
Test::Reporter::Transport::Metabase::Fallback Saving report in the queue.
at /home/perl5261/lib/perl5/site_perl/5.26.1/Test/Reporter.pm line 272.
t/00-use.t ............. ok
t/author-critic.t ...... skipped: these tests are for testing by the author
t/author-pod-syntax.t .. skipped: these tests are for testing by the author
All tests successful.
Files=3, Tests=7, 1 wallclock secs ( 0.03 usr 0.00 sys + 0.25 cusr 0.03 csys = 0.31 CPU)
Result: PASS
------------------------------
PREREQUISITES
------------------------------
Prerequisite modules loaded:
requires:
Module Need Have
----------------------------------- ---- --------
Carp 0 1.42
Test::Reporter::Transport::File 0 1.62
Test::Reporter::Transport::Metabase 0 1.999010
build_requires:
Module Need Have
----------------------------------- ---- --------
Cwd 0 3.67
ExtUtils::MakeMaker 0 7.24
File::Spec 0 3.67
strict 0 1.11
Test::More 0 1.302073
Test::Reporter 0 1.62
configure_requires:
Module Need Have
----------------------------------- ---- --------
ExtUtils::MakeMaker 0 7.24
------------------------------
ENVIRONMENT AND OTHER CONTEXT
------------------------------
Environment variables:
LANG = en_US.UTF-8
LC_COLLATE = C
NONINTERACTIVE_TESTING = 1
PATH = /home/perl5261/bin:/home/perl5261/.gems/bin:/usr/lib/ruby/gems/1.8/bin/:/usr/local/bin:/usr/bin:/bin:/usr/bin/X11:/usr/games
PERL5LIB =
PERL5OPT =
PERL5_CPANPLUS_IS_RUNNING = 6058
PERL5_CPAN_IS_RUNNING = 6058
PERL_MM_USE_DEFAULT = 1
PERL_USE_UNSAFE_INC = 1
SHELL = /bin/bash
TERM = xterm
Perl special variables (and OS-specific diagnostics, for MSWin32):
$^X = /home/perl5261/bin/perl
$UID/$EUID = 5073678 / 5073678
$GID = 33813 33813
$EGID = 33813 33813
Perl module toolchain versions installed:
Module Have
------------------- ----------
CPAN 2.18
CPAN::Meta 2.150010
Cwd 3.67
ExtUtils::CBuilder 0.280225
ExtUtils::Command 7.24
ExtUtils::Install 2.04
ExtUtils::MakeMaker 7.24
ExtUtils::Manifest 1.70
ExtUtils::ParseXS 3.34
File::Spec 3.67
JSON n/a
JSON::PP 2.27400_02
Module::Build 0.4224
Module::Signature n/a
Parse::CPAN::Meta 2.150010
Test::Harness 3.38
Test::More 1.302073
YAML n/a
YAML::Syck n/a
version 0.9917
--
Summary of my perl5 (revision 5 version 26 subversion 1) configuration:
Platform:
osname=linux
osvers=3.2.61-grsec-modsign
archname=x86_64-linux
uname='linux donnybrook 3.2.61-grsec-modsign #1 smp tue aug 12 09:58:26 utc 2014 x86_64 x86_64 x86_64 gnulinux '
config_args=''
hint=recommended
useposix=true
d_sigaction=define
useithreads=undef
usemultiplicity=undef
use64bitint=define
use64bitall=define
uselongdouble=undef
usemymalloc=n
default_inc_excludes_dot=define
bincompat5005=undef
Compiler:
cc='cc'
ccflags ='-fwrapv -fno-strict-aliasing -pipe -fstack-protector -I/usr/local/include -D_LARGEFILE_SOURCE -D_FILE_OFFSET_BITS=64'
optimize='-O2'
cppflags='-fwrapv -fno-strict-aliasing -pipe -fstack-protector -I/usr/local/include'
ccversion=''
gccversion='4.8.4'
gccosandvers=''
intsize=4
longsize=8
ptrsize=8
doublesize=8
byteorder=12345678
doublekind=3
d_longlong=define
longlongsize=8
d_longdbl=define
longdblsize=16
longdblkind=3
ivtype='long'
ivsize=8
nvtype='double'
nvsize=8
Off_t='off_t'
lseeksize=8
alignbytes=8
prototype=define
Linker and Libraries:
ld='cc'
ldflags =' -fstack-protector -L/usr/local/lib'
libpth=/usr/local/lib /usr/lib/gcc/x86_64-linux-gnu/4.8/include-fixed /usr/include/x86_64-linux-gnu /usr/lib /lib/x86_64-linux-gnu /lib/../lib /usr/lib/x86_64-linux-gnu /usr/lib/../lib /lib
libs=-lpthread -lnsl -lgdbm -ldb -ldl -lm -lcrypt -lutil -lc -lgdbm_compat
perllibs=-lpthread -lnsl -ldl -lm -lcrypt -lutil -lc
libc=libc-2.19.so
so=so
useshrplib=false
libperl=libperl.a
gnulibc_version='2.19'
Dynamic Linking:
dlsrc=dl_dlopen.xs
dlext=so
d_dlsymun=undef
ccdlflags='-Wl,-E'
cccdlflags='-fPIC'
lddlflags='-shared -O2 -L/usr/local/lib -fstack-protector'
Characteristics of this binary (from libperl):
Compile-time options:
HAS_TIMES
PERLIO_LAYERS
PERL_COPY_ON_WRITE
PERL_DONT_CREATE_GVSV
PERL_MALLOC_WRAP
PERL_OP_PARENT
PERL_PRESERVE_IVUV
USE_64_BIT_ALL
USE_64_BIT_INT
USE_LARGE_FILES
USE_LOCALE
USE_LOCALE_COLLATE
USE_LOCALE_CTYPE
USE_LOCALE_NUMERIC
USE_LOCALE_TIME
USE_PERLIO
USE_PERL_ATOF
Built under linux
Compiled at Feb 10 2018 17:30:01
%ENV:
PERL5LIB=""
PERL5OPT=""
PERL5_CPANPLUS_IS_RUNNING="6058"
PERL5_CPAN_IS_RUNNING="6058"
PERL_MM_USE_DEFAULT="1"
PERL_USE_UNSAFE_INC="1"
@INC:
/home/perl5261/lib/perl5/site_perl/5.26.1/x86_64-linux
/home/perl5261/lib/perl5/site_perl/5.26.1
/home/perl5261/lib/perl5/5.26.1/x86_64-linux
/home/perl5261/lib/perl5/5.26.1
.