Report for Crypt-SSLeay-0.72

Back
From: metabase:user:20a45eae-6c1a-1014-abaf-4bc2b30e56df
Subject: PASS Crypt-SSLeay-0.72 v5.14.4 Windows (Cygwin)
Date: 2015-04-05T10:54:27Z

This distribution has been tested as part of the CPAN Testers
project, supporting the Perl programming language.  See
http://wiki.cpantesters.org/ for more information or email
questions to cpan-testers-discuss@perl.org


--
Dear A. Sinan Unur,

This is a computer-generated report for Crypt-SSLeay-0.72
on perl 5.14.4, created by CPAN-Reporter-1.2011.

Thank you for uploading your work to CPAN.  Congratulations!
All tests were successful.

Sections of this report:

    * Tester comments
    * Program output
    * Prerequisites
    * Environment and other context

------------------------------
TESTER COMMENTS
------------------------------

Additional comments from tester:

none provided

------------------------------
PROGRAM OUTPUT
------------------------------

Output from '/usr/bin/make test':

Running Mkbootstrap for Crypt::SSLeay ()
chmod 644 "SSLeay.bs"
PERL_DL_NONLAZY=1 "/usr/bin/perl.exe" "-MExtUtils::Command::MM" "-MTest::Harness" "-e" "undef *Test::Harness::Switches; test_harness(0, 'blib/lib', 'blib/arch')" t/*.t
t/00-basic.t ..... ok
t/01-connect.t ... ok
# Reading configuration from 'test.config' on cygwin
# network_tests : 0
t/02-live.t ...... skipped: Network tests disabled
t/03-version.t ... ok
t/boilerplate.t .. ok
t/manifest.t ..... skipped: Author tests not required for installation
All tests successful.
Files=6, Tests=43,  8 wallclock secs ( 0.02 usr  0.00 sys +  0.26 cusr  0.39 csys =  0.67 CPU)
Result: PASS

------------------------------
PREREQUISITES
------------------------------

Prerequisite modules loaded:

requires:

    Module               Need     Have    
    -------------------- -------- --------
    LWP::Protocol::https 6.02     6.06    
    MIME::Base64         0        3.15    
    perl                 5.006    5.014004

build_requires:

    Module               Need     Have    
    -------------------- -------- --------
    ExtUtils::MakeMaker  0        7.04    
    Test::More           0.19     1.001014
    Try::Tiny            0.19     0.22    

configure_requires:

    Module               Need     Have    
    -------------------- -------- --------
    ExtUtils::CBuilder   0.280205 0.280220
    Getopt::Long         0        2.45    
    Path::Class          0.26     0.35    
    Try::Tiny            0.19     0.22    


------------------------------
ENVIRONMENT AND OTHER CONTEXT
------------------------------

Environment variables:

    COMSPEC = C:\WINDOWS\system32\cmd.exe
    LANG = en_US.utf8
    LD_LIBRARY_PATH = 
    NUMBER_OF_PROCESSORS = 8
    PATH = /cygdrive/c/peter/bin:/usr/local/local/bin:/usr/local/bin:/bin:/usr/bin:/usr/sbin:/sbin:/cygdrive/c/apps/emacs-24.3/bin:/cygdrive/c/Program Files (x86)/Java/jre7/bin:/cygdrive/c/Garmin:/cygdrive/c/HashiCorp/Vagrant/bin:/cygdrive/c/Program Files (x86)/gsak:/cygdrive/c/Program Files (x86)/gsak/cm2gpx:/cygdrive/c/Program Files (x86)/gsak/cmconvert:/cygdrive/c/Program Files (x86)/Adobe/Reader 11.0/Reader:/cygdrive/c/Program Files (x86)/Common Files/Java/Java Update:/cygdrive/c/Program Files (x86)/Garmin/POI Loader:/cygdrive/c/Program Files (x86)/Google/Chrome/Application:/cygdrive/c/Program Files (x86)/Google/Google Earth/client:/cygdrive/c/Program Files (x86)/Inkscape:/cygdrive/c/Program Files (x86)/Inkscape/python:/cygdrive/c/Program Files (x86)/Internet Explorer:/cygdrive/c/Program Files (x86)/Microsoft Office/Office14:/cygdrive/c/Program Files (x86)/Mozilla Firefox:/cygdrive/c/Program Files (x86)/Notepad++:/cygdrive/c/Program Files (x86)/Opera/28.0.1750.40:/cygdrive/c/Program Files (x86)/Opera/28.0.1750.48:/cygdrive/c/Program Files (x86)/Skype/Phone:/cygdrive/c/Program Files (x86)/Sonos:/cygdrive/c/Program Files (x86)/Windows Mail:/cygdrive/c/Program Files (x86)/Windows Media Player:/cygdrive/c/Program Files (x86)/Windows NT/Accessories:/cygdrive/c/Program Files (x86)/Windows Phone:/cygdrive/c/Program Files/DVD Maker:/cygdrive/c/Program Files/GIMP 2/Python:/cygdrive/c/Program Files/GIMP 2/bin:/cygdrive/c/Program Files/Ghostgum/gsview:/cygdrive/c/Program Files/Ghostgum/pstotext:/cygdrive/c/Program Files/Internet Explorer:/cygdrive/c/Program Files/Sublime Text 2:/cygdrive/c/Program Files/VideoLAN/VLC:/cygdrive/c/Program Files/WinRAR:/cygdrive/c/Program Files/Windows Mail:/cygdrive/c/Program Files/Windows Media Player:/cygdrive/c/Program Files/Windows NT/Accessories:/cygdrive/c/Program Files/gs/gs9.15/bin:/cygdrive/c/WINDOWS/system32
    PERL5LIB = /usr/local/lib/perl5/site_perl/5.14:/usr/local/lib/perl5/site_perl/5.14/x86_64-cygwin-threads:/usr/local/lib/perl5/5.14:/usr/local/lib/perl5/5.14/x86_64-cygwin-threads:/usr/local/lib/perl5
    PERL5OPT = 
    PERL5_CPANPLUS_IS_RUNNING = 4176
    PERL5_CPAN_IS_RUNNING = 4176
    PERL_CPAN_REPORTER_CONFIG = /cygdrive/c/peter/.cpanreporter/config-cygwin-OSL110.ini
    PERL_MY_PREFIX = /opt/perl5
    PERL_MY_SOURCE_DIR = /cygdrive/c/src/perl
    PROCESSOR_IDENTIFIER = Intel64 Family 6 Model 60 Stepping 3, GenuineIntel
    SHELL = /usr/bin/bash
    TEMP = /tmp
    TERM = xterm

Perl special variables (and OS-specific diagnostics, for MSWin32):

    $^X = /usr/bin/perl
    $UID/$EUID = 1061331 / 1061331
    $GID = 1049089 1049089 197608 545 4 66049 11 15 4095 66048 1104222 1098011 1051245 1113266 1090502 1081310 1090413 1061909 1058653 1081942 1122108 1083675 1088201 1093944 1090357 1122107 1083781 1051228 1057394 1090221 1056539 1057337 1089132 1100278 1051354 1104220 1059243 1089865 1087957 1105777 1049649 1069945 1095107 1059531 1090104 1090492 1068897 1081637 1095782 1111057 1119491 1069144 1081620 70145 1049147 1083352 401408
    $EGID = 1049089 1049089 197608 545 4 66049 11 15 4095 66048 1104222 1098011 1051245 1113266 1090502 1081310 1090413 1061909 1058653 1081942 1122108 1083675 1088201 1093944 1090357 1122107 1083781 1051228 1057394 1090221 1056539 1057337 1089132 1100278 1051354 1104220 1059243 1089865 1087957 1105777 1049649 1069945 1095107 1059531 1090104 1090492 1068897 1081637 1095782 1111057 1119491 1069144 1081620 70145 1049147 1083352 401408

Perl module toolchain versions installed:

    Module              Have    
    ------------------- --------
    CPAN                2.10    
    CPAN::Meta          2.150001
    Cwd                 3.47    
    ExtUtils::CBuilder  0.280220
    ExtUtils::Command   1.20    
    ExtUtils::Install   2.04    
    ExtUtils::MakeMaker 7.04    
    ExtUtils::Manifest  1.70    
    ExtUtils::ParseXS   3.24    
    File::Spec          3.47    
    JSON                2.61    
    JSON::PP            2.27300 
    Module::Build       0.4211  
    Module::Signature   0.73    
    Parse::CPAN::Meta   1.4414  
    Test::Harness       3.35    
    Test::More          1.001014
    YAML                1.14    
    YAML::Syck          1.29    
    version             0.9912  


--

Summary of my perl5 (revision 5 version 14 subversion 4) configuration:
   
  Platform:
    osname=cygwin, osvers=1.7.35(0.28653), archname=cygwin-thread-multi
    uname='cygwin_nt-6.3 cygwin 1.7.35(0.28653) 2015-02-16 13:03 x86_64 cygwin '
    config_args='-d -e -Dprefix=/usr -Dmksymlinks -Dusethreads -Darchname=x86_64-cygwin-threads -Dlibperl=cygperl5_14.dll -Dcc=gcc -Dld=g++ -Accflags=-ggdb -O2 -pipe -Wimplicit-function-declaration -fdebug-prefix-map=/mnt/share/maint/perl.x86_64/build=/usr/src/debug/perl-5.14.4-3 -fdebug-prefix-map=/mnt/share/maint/perl.x86_64/src/perl-5.14.4=/usr/src/debug/perl-5.14.4-3 -fwrapv'
    hint=recommended, useposix=true, d_sigaction=define
    useithreads=define, usemultiplicity=define
    useperlio=define, d_sfio=undef, uselargefiles=define, usesocks=undef
    use64bitint=define, use64bitall=define, uselongdouble=undef
    usemymalloc=n, bincompat5005=undef
  Compiler:
    cc='gcc', ccflags ='-DPERL_USE_SAFE_PUTENV -U__STRICT_ANSI__ -ggdb -O2 -pipe -Wimplicit-function-declaration -fdebug-prefix-map=/mnt/share/maint/perl.x86_64/build=/usr/src/debug/perl-5.14.4-3 -fdebug-prefix-map=/mnt/share/maint/perl.x86_64/src/perl-5.14.4=/usr/src/debug/perl-5.14.4-3 -fwrapv -fno-strict-aliasing -fstack-protector',
    optimize='-O3',
    cppflags='-DPERL_USE_SAFE_PUTENV -U__STRICT_ANSI__ -ggdb -O2 -pipe -Wimplicit-function-declaration -fdebug-prefix-map=/mnt/share/maint/perl.x86_64/build=/usr/src/debug/perl-5.14.4-3 -fdebug-prefix-map=/mnt/share/maint/perl.x86_64/src/perl-5.14.4=/usr/src/debug/perl-5.14.4-3 -fwrapv -fno-strict-aliasing -fstack-protector'
    ccversion='', gccversion='4.9.2', gccosandvers=''
    intsize=4, longsize=8, ptrsize=8, doublesize=8, byteorder=12345678
    d_longlong=define, longlongsize=8, d_longdbl=define, longdblsize=16
    ivtype='long', ivsize=8, nvtype='double', nvsize=8, Off_t='off_t', lseeksize=8
    alignbytes=8, prototype=define
  Linker and Libraries:
    ld='g++', ldflags =' -Wl,--enable-auto-import -Wl,--export-all-symbols -Wl,--enable-auto-image-base -fstack-protector -L/usr/local/lib'
    libpth=/usr/local/lib /usr/lib /lib
    libs=-lgdbm -ldb -ldl -lcrypt -lgdbm_compat
    perllibs=-ldl -lcrypt
    libc=/usr/lib/libc.a, so=dll, useshrplib=true, libperl=cygperl5_14.dll
    gnulibc_version=''
  Dynamic Linking:
    dlsrc=dl_dlopen.xs, dlext=dll, d_dlsymun=undef, ccdlflags=' '
    cccdlflags=' ', lddlflags=' --shared  -Wl,--enable-auto-import -Wl,--export-all-symbols -Wl,--enable-auto-image-base -L/usr/local/lib -fstack-protector'


Characteristics of this binary (from libperl): 
  Compile-time options: MULTIPLICITY PERL_DONT_CREATE_GVSV
                        PERL_IMPLICIT_CONTEXT PERL_PRESERVE_IVUV
                        PERL_USE_SAFE_PUTENV USE_64_BIT_ALL USE_64_BIT_INT
                        USE_ITHREADS USE_LARGE_FILES USE_PERLIO USE_PERL_ATOF
                        USE_REENTRANT_API
  Locally applied patches:
	rurban/0c612ce82        Fix building static extensions on cygwin, -UUSEIMPORTLIB
	perl.cygwin_autorebase  Rebase DLL after building (skip for cygport builds)
	v5.14.0-RC2-6-gfc6f691  skip testing cygwin utf8 readdir() with Win32 ANSI API
	v5.14.0-RC2-7-g3877b86  Fix test 50 on cygwin: \WINDOWS
	v5.14.0-RC2-10-gd22b5bd revert +x global.sym from 3691eaa79cc6a
	v5.15.0-579-g8375c93    Export store_cop_label for the perl compiler
	v5.15.3-232-g1bac5ec    sv.c: S_anonymise_cv_maybe UTF8 cleanup.
	v5.15.7-75-g803e389     CYG17 utf8 paths
	v5.15.7-302-g5bc802d    Revise perlcygwin.pod for cygwin-1.7
	v5.15.7-303-g286f819    add Cygwin::sync_winenv [perl #110190]
	v5.19.8-494-g6cc44f6    avoid a "FILE" name conflict with cygwin's wchar.h
	v5.19.8-496-g3383030    [perl #120936] op/taint.t handling of no ipcsysv on cygwin
	v5.19.8-509-g288d0d9    cygwin doesn't implement $^E (except as a read of $!)
	v5.21.4-548-g860874c    wrap the failing call_checker test in an eval and TODO it
  Built under cygwin
  Compiled at Feb 17 2015 21:41:24
  %ENV:
    PERL5LIB="/usr/local/lib/perl5/site_perl/5.14:/usr/local/lib/perl5/site_perl/5.14/x86_64-cygwin-threads:/usr/local/lib/perl5/5.14:/usr/local/lib/perl5/5.14/x86_64-cygwin-threads:/usr/local/lib/perl5"
    PERL5OPT=""
    PERL5_CPANPLUS_IS_RUNNING="4176"
    PERL5_CPAN_IS_RUNNING="4176"
    PERL_CPAN_REPORTER_CONFIG="/cygdrive/c/peter/.cpanreporter/config-cygwin-OSL110.ini"
    PERL_MY_PREFIX="/opt/perl5"
    PERL_MY_SOURCE_DIR="/cygdrive/c/src/perl"
    CYGWIN="codepage:utf8 nodosfilewarning"
  @INC:
    /usr/local/lib/perl5/site_perl/5.14
    /usr/local/lib/perl5/site_perl/5.14/x86_64-cygwin-threads
    /usr/local/lib/perl5/5.14
    /usr/local/lib/perl5/5.14/x86_64-cygwin-threads
    /usr/local/lib/perl5/cygwin-thread-multi
    /usr/local/lib/perl5
    /usr/lib/perl5/site_perl/5.14/x86_64-cygwin-threads
    /usr/lib/perl5/site_perl/5.14
    /usr/lib/perl5/vendor_perl/5.14/x86_64-cygwin-threads
    /usr/lib/perl5/vendor_perl/5.14
    /usr/lib/perl5/5.14/x86_64-cygwin-threads
    /usr/lib/perl5/5.14
    .