Net-DNS v1.50 Perl 5 v5.22.3 MSWin32-x64-multi-thread

Status
Pass
From
twata
Dist
Net-DNS v1.50
Platform
Perl 5 v5.22.3 MSWin32-x64-multi-thread
Date
2025-03-08 05:10:00
ID
29d14160-6dcc-1014-8100-b315cf55203a
This distribution has been tested as part of the CPAN Testers
project, supporting the Perl programming language.  See
http://wiki.cpantesters.org/ for more information or email
questions to cpan-testers-discuss@perl.org


--
Dear NLnet Labs,

This is a computer-generated report for Net-DNS-1.50
on perl 5.22.3, created by CPAN-Reporter-1.2020.

Thank you for uploading your work to CPAN.  Congratulations!
All tests were successful.

Sections of this report:

    * Tester comments
    * Program output
    * Prerequisites
    * Environment and other context

------------------------------
TESTER COMMENTS
------------------------------

Additional comments from tester:

none provided

------------------------------
PROGRAM OUTPUT
------------------------------

Output from 'C:\strawberry\c\bin\dmake.exe test':

C:\"Strawberry\perl\bin\perl.exe" "-It" "-MExtUtils::Command::MM" "-MTest::Harness" "-e" "undef *Test::Harness::Switches; test_harness(0, 'blib\lib', 'blib\arch')" t/*.t
t/00-install.t ............. ok
The system cannot find the path specified.
# 
# These tests were run using:
# 	Net::DNS                   1.50
# 	Carp                       1.50
# 	Config                     5.022003
# 	Digest::BubbleBabble       0.02
# 	Digest::HMAC               1.05
# 	Digest::MD5                2.59
# 	Digest::SHA                6.04
# 	Encode                     3.21
# 	Exporter                   5.78
# 	ExtUtils::MakeMaker        7.7102
# 	File::Find                 1.29
# 	File::Spec                 3.75
# 	Getopt::Long               2.57
# 	IO::File                   1.55
# 	IO::Select                 1.55
# 	IO::Socket                 1.55
# 	IO::Socket::IP             0.43
# 	MIME::Base64               3.16
# 	PerlIO                     1.09
# 	Scalar::Util               1.68
# 	Socket                     2.038
# 	Test::Builder              1.302209
# 	Test::More                 1.302209
# 	Time::Local                1.35
# 	Win32::API                 0.84
# 	Win32::IPHelper            0.08
# 	Win32::TieRegistry         0.30
# 	base                       2.23
# 	constant                   1.33
# 	integer                    1.01
# 	overload                   1.26
# 	strict                     1.09
# 	warnings                   1.34
t/00-load.t ................ ok
t/00-pod.t ................. ok
The system cannot find the path specified.
t/01-resolver-config.t ..... ok
The system cannot find the path specified.
t/01-resolver-env.t ........ ok
The system cannot find the path specified.
t/01-resolver-file.t ....... ok
The system cannot find the path specified.
t/01-resolver-flags.t ...... ok
The system cannot find the path specified.
t/01-resolver-opt.t ........ ok
The system cannot find the path specified.
t/01-resolver.t ............ ok
t/02-domain.t .............. ok
t/02-domainname.t .......... ok
t/02-IDN.t ................. skipped: Net::LibIDN2 not installed
t/02-mailbox.t ............. ok
t/02-text.t ................ ok
t/03-header.t .............. ok
t/03-parameters.t .......... ok
t/03-question.t ............ ok
t/03-rr.t .................. ok
The system cannot find the path specified.
t/04-packet-truncate.t ..... ok
t/04-packet.t .............. ok
The system cannot find the path specified.
t/05-A.t ................... ok
The system cannot find the path specified.
t/05-AAAA.t ................ ok
The system cannot find the path specified.
t/05-AFSDB.t ............... ok
The system cannot find the path specified.
t/05-AMTRELAY.t ............ ok
The system cannot find the path specified.
t/05-APL.t ................. ok
The system cannot find the path specified.
t/05-CAA.t ................. ok
The system cannot find the path specified.
t/05-CDNSKEY.t ............. ok
The system cannot find the path specified.
t/05-CDS.t ................. ok
The system cannot find the path specified.
t/05-CERT.t ................ ok
The system cannot find the path specified.
t/05-CNAME.t ............... ok
The system cannot find the path specified.
t/05-CSYNC.t ............... ok
The system cannot find the path specified.
t/05-DHCID.t ............... ok
The system cannot find the path specified.
t/05-DNAME.t ............... ok
The system cannot find the path specified.
t/05-DNSKEY.t .............. ok
The system cannot find the path specified.
t/05-DS.t .................. ok
The system cannot find the path specified.
t/05-DSYNC.t ............... ok
The system cannot find the path specified.
t/05-EUI48.t ............... ok
The system cannot find the path specified.
t/05-EUI64.t ............... ok
The system cannot find the path specified.
t/05-HINFO.t ............... ok
The system cannot find the path specified.
t/05-HIP.t ................. ok
The system cannot find the path specified.
t/05-HTTPS.t ............... ok
The system cannot find the path specified.
t/05-IPSECKEY.t ............ ok
The system cannot find the path specified.
t/05-ISDN.t ................ ok
The system cannot find the path specified.
t/05-KEY.t ................. ok
The system cannot find the path specified.
t/05-KX.t .................. ok
The system cannot find the path specified.
t/05-L32.t ................. ok
The system cannot find the path specified.
t/05-L64.t ................. ok
The system cannot find the path specified.
t/05-LOC.t ................. ok
The system cannot find the path specified.
t/05-LP.t .................. ok
The system cannot find the path specified.
t/05-MINFO.t ............... ok
The system cannot find the path specified.
t/05-MX.t .................. ok
The system cannot find the path specified.
t/05-NAPTR.t ............... ok
The system cannot find the path specified.
t/05-NID.t ................. ok
The system cannot find the path specified.
t/05-NS.t .................. ok
The system cannot find the path specified.
t/05-NSEC.t ................ ok
The system cannot find the path specified.
t/05-NSEC3.t ............... ok
The system cannot find the path specified.
t/05-NSEC3PARAM.t .......... ok
The system cannot find the path specified.
t/05-NULL.t ................ ok
The system cannot find the path specified.
t/05-OPENPGPKEY.t .......... ok
The system cannot find the path specified.
t/05-OPT.t ................. ok
The system cannot find the path specified.
t/05-PTR.t ................. ok
The system cannot find the path specified.
t/05-PX.t .................. ok
The system cannot find the path specified.
t/05-RP.t .................. ok
The system cannot find the path specified.
t/05-RRSIG.t ............... ok
The system cannot find the path specified.
t/05-RT.t .................. ok
The system cannot find the path specified.
t/05-SIG.t ................. ok
The system cannot find the path specified.
t/05-SMIMEA.t .............. ok
The system cannot find the path specified.
t/05-SOA.t ................. ok
The system cannot find the path specified.
t/05-SPF.t ................. ok
The system cannot find the path specified.
t/05-SRV.t ................. ok
The system cannot find the path specified.
t/05-SSHFP.t ............... ok
The system cannot find the path specified.
t/05-SVCB.t ................ ok
The system cannot find the path specified.
t/05-TKEY.t ................ ok
The system cannot find the path specified.
t/05-TLSA.t ................ ok
The system cannot find the path specified.
t/05-TSIG.t ................ ok
The system cannot find the path specified.
t/05-TXT.t ................. ok
The system cannot find the path specified.
t/05-URI.t ................. ok
The system cannot find the path specified.
t/05-X25.t ................. ok
The system cannot find the path specified.
t/05-ZONEMD.t .............. ok
The system cannot find the path specified.
t/06-update-unique-push.t .. ok
The system cannot find the path specified.
t/06-update.t .............. ok
The system cannot find the path specified.
t/07-rrsort.t .............. ok
t/07-zonefile.t ............ ok
The system cannot find the path specified.
t/08-IPv4.t ................ ok
The system cannot find the path specified.
t/08-IPv6.t ................ ok
The system cannot find the path specified.
t/08-recurse.t ............. ok
The system cannot find the path specified.
t/21-NSEC-typelist.t ....... ok
The system cannot find the path specified.
t/22-NSEC-match.t .......... ok
The system cannot find the path specified.
t/23-NSEC-covered.t ........ ok
The system cannot find the path specified.
t/24-NSEC-encloser.t ....... ok
The system cannot find the path specified.
t/31-NSEC3-base32.t ........ ok
The system cannot find the path specified.
t/32-NSEC3-typelist.t ...... ok
The system cannot find the path specified.
t/33-NSEC3-hash.t .......... ok
The system cannot find the path specified.
t/34-NSEC3-flags.t ......... ok
The system cannot find the path specified.
t/36-NSEC3-covered.t ....... ok
The system cannot find the path specified.
t/37-NSEC3-encloser.t ...... ok
The system cannot find the path specified.
t/41-DNSKEY-keytag.t ....... ok
The system cannot find the path specified.
t/42-DNSKEY-flags.t ........ ok
The system cannot find the path specified.
t/43-DNSKEY-keylength.t .... ok
The system cannot find the path specified.
t/51-DS-SHA1.t ............. ok
The system cannot find the path specified.
t/52-DS-SHA256.t ........... ok
The system cannot find the path specified.
t/54-DS-SHA384.t ........... ok
The system cannot find the path specified.
t/71-TSIG-create.t ......... ok
The system cannot find the path specified.
t/72-TSIG-verify.t ......... ok
# Cleaning
t/99-cleanup.t ............. ok
All tests successful.
Files=105, Tests=3401, 147 wallclock secs ( 0.66 usr +  0.25 sys =  0.91 CPU)
Result: PASS

------------------------------
PREREQUISITES
------------------------------

Prerequisite modules loaded:

requires:

    Module              Need     Have    
    ------------------- -------- --------
    base                2.13     2.23    
    Carp                1.1      1.50    
    constant            1.17     1.33    
    Digest::HMAC        1.03     1.05    
    Digest::MD5         2.37     2.59    
    Digest::SHA         5.23     6.04    
    Encode              2.26     3.21    
    Exporter            5.63     5.78    
    File::Spec          3.29     3.75    
    integer             1        1.01    
    IO::File            1.14     1.55    
    IO::Select          1.17     1.55    
    IO::Socket          1.3      1.55    
    IO::Socket::IP      0.38     0.43    
    MIME::Base64        3.07     3.16    
    overload            1.06     1.26    
    perl                5.008009 5.022003
    PerlIO              1.05     1.09    
    Scalar::Util        1.19     1.68    
    Socket              1.81     2.038   
    strict              1.03     1.09    
    Time::Local         1.19     1.35    
    warnings            1.0501   1.34    
    Win32::API          0.55     0.84    
    Win32::IPHelper     0.07     0.08    
    Win32::TieRegistry  0.24     0.30    

build_requires:

    Module              Need     Have    
    ------------------- -------- --------
    ExtUtils::MakeMaker 0        7.71_02 
    File::Find          1.13     1.29    
    File::Spec          3.29     3.75    
    IO::File            1.14     1.55    
    Test::Builder       0.8      1.302209
    Test::More          0.8      1.302209

configure_requires:

    Module              Need     Have    
    ------------------- -------- --------
    Config              0        5.022003
    ExtUtils::MakeMaker 6.48     7.71_02 
    Getopt::Long        2.43     2.57    
    IO::File            1.14     1.55    
    IO::Socket::IP      0.38     0.43    


------------------------------
ENVIRONMENT AND OTHER CONTEXT
------------------------------

Environment variables:

    COMSPEC = C:\WINDOWS\system32\cmd.exe
    NONINTERACTIVE_TESTING = 1
    NUMBER_OF_PROCESSORS = 4
    PATH = C:\home\windmill\perl5\bin;C:\WINDOWS\system32;C:\WINDOWS;C:\WINDOWS\System32\Wbem;C:\WINDOWS\System32\WindowsPowerShell\v1.0\;C:\Strawberry\c\bin;C:\Strawberry\perl\site\bin;C:\Strawberry\perl\bin
    PERL5LIB = C:\home\windmill\perl5\lib\perl5
    PERL5OPT = 
    PERL5_CPANPLUS_IS_RUNNING = 11076
    PERL5_CPAN_IS_RUNNING = 11076
    PERL_LOCAL_LIB_ROOT = C:\home\windmill\perl5
    PERL_MB_OPT = --install_base "C:\\home\\windmill\\perl5"
    PERL_MM_OPT = INSTALL_BASE=C:\\home\\windmill\\perl5
    PERL_MM_USE_DEFAULT = 1
    PERL_USE_UNSAFE_INC = 1
    PROCESSOR_IDENTIFIER = Intel64 Family 6 Model 58 Stepping 9, GenuineIntel
    TEMP = C:\Users\USER\AppData\Local\Temp
    TERM = dumb

Perl special variables (and OS-specific diagnostics, for MSWin32):

    $^X = C:\Strawberry\perl\bin\perl.exe
    $UID/$EUID = 0 / 0
    $GID = 0
    $EGID = 0
    Win32::GetOSName = Win8.1
    Win32::GetOSVersion = , 6, 3, 9600, 2, 0, 0, 256, 1
    Win32::FsType = NTFS
    Win32::IsAdminUser = 0

Perl module toolchain versions installed:

    Module              Have    
    ------------------- --------
    CPAN                2.34    
    CPAN::Meta          2.150010
    Cwd                 3.75    
    ExtUtils::CBuilder  0.280236
    ExtUtils::Command   7.71_02 
    ExtUtils::Install   2.22    
    ExtUtils::MakeMaker 7.71_02 
    ExtUtils::Manifest  1.75    
    ExtUtils::ParseXS   3.51    
    File::Spec          3.75    
    JSON                4.10    
    JSON::PP            4.17_01 
    Module::Build       0.42_35 
    Module::Signature   0.89    
    Parse::CPAN::Meta   2.150010
    Test2               1.302209
    Test::Harness       3.50    
    Test::More          1.302209
    YAML                1.31    
    YAML::Syck          1.34    
    version             0.9933  


--

Summary of my perl5 (revision 5 version 22 subversion 3) configuration:
   
  Platform:
    osname=MSWin32, osvers=6.3, archname=MSWin32-x64-multi-thread
    uname='Win32 strawberry-perl 5.22.3.1 #1 Sun Jan 15 04:42:16 2017 x64'
    config_args='undef'
    hint=recommended, useposix=true, d_sigaction=undef
    useithreads=define, usemultiplicity=define
    use64bitint=define, use64bitall=undef, uselongdouble=undef
    usemymalloc=n, bincompat5005=undef
  Compiler:
    cc='gcc', ccflags =' -s -O2 -DWIN32 -DWIN64 -DCONSERVATIVE  -DPERL_TEXTMODE_SCRIPTS -DPERL_IMPLICIT_CONTEXT -DPERL_IMPLICIT_SYS -fwrapv -fno-strict-aliasing -mms-bitfields',
    optimize='-s -O2',
    cppflags='-DWIN32'
    ccversion='', gccversion='4.9.2', gccosandvers=''
    intsize=4, longsize=4, ptrsize=8, doublesize=8, byteorder=12345678, doublekind=3
    d_longlong=define, longlongsize=8, d_longdbl=define, longdblsize=16, longdblkind=3
    ivtype='long long', ivsize=8, nvtype='double', nvsize=8, Off_t='long long', lseeksize=8
    alignbytes=8, prototype=define
  Linker and Libraries:
    ld='g++', ldflags ='-s -L"C:\strawberry\perl\lib\CORE" -L"C:\strawberry\c\lib"'
    libpth=C:\strawberry\c\lib C:\strawberry\c\x86_64-w64-mingw32\lib C:\strawberry\c\lib\gcc\x86_64-w64-mingw32\4.9.2
    libs=-lmoldname -lkernel32 -luser32 -lgdi32 -lwinspool -lcomdlg32 -ladvapi32 -lshell32 -lole32 -loleaut32 -lnetapi32 -luuid -lws2_32 -lmpr -lwinmm -lversion -lodbc32 -lodbccp32 -lcomctl32
    perllibs=-lmoldname -lkernel32 -luser32 -lgdi32 -lwinspool -lcomdlg32 -ladvapi32 -lshell32 -lole32 -loleaut32 -lnetapi32 -luuid -lws2_32 -lmpr -lwinmm -lversion -lodbc32 -lodbccp32 -lcomctl32
    libc=, so=dll, useshrplib=true, libperl=libperl522.a
    gnulibc_version=''
  Dynamic Linking:
    dlsrc=dl_win32.xs, dlext=xs.dll, d_dlsymun=undef, ccdlflags=' '
    cccdlflags=' ', lddlflags='-mdll -s -L"C:\strawberry\perl\lib\CORE" -L"C:\strawberry\c\lib"'


Characteristics of this binary (from libperl): 
  Compile-time options: HAS_TIMES HAVE_INTERP_INTERN MULTIPLICITY
                        PERLIO_LAYERS PERL_DONT_CREATE_GVSV
                        PERL_HASH_FUNC_ONE_AT_A_TIME_HARD
                        PERL_IMPLICIT_CONTEXT PERL_IMPLICIT_SYS
                        PERL_MALLOC_WRAP PERL_NEW_COPY_ON_WRITE
                        PERL_PRESERVE_IVUV USE_64_BIT_INT USE_ITHREADS
                        USE_LARGE_FILES USE_LOCALE USE_LOCALE_COLLATE
                        USE_LOCALE_CTYPE USE_LOCALE_NUMERIC USE_LOCALE_TIME
                        USE_PERLIO USE_PERL_ATOF
  Built under MSWin32
  Compiled at Jan 15 2017 04:47:34
  %ENV:
    PERL5LIB="C:\home\windmill\perl5\lib\perl5"
    PERL5_CPANPLUS_IS_RUNNING="11076"
    PERL5_CPAN_IS_RUNNING="11076"
    PERL_LOCAL_LIB_ROOT="C:\home\windmill\perl5"
    PERL_MB_OPT="--install_base "C:\\home\\windmill\\perl5""
    PERL_MM_OPT="INSTALL_BASE=C:\\home\\windmill\\perl5"
    PERL_MM_USE_DEFAULT="1"
    PERL_USE_UNSAFE_INC="1"
  @INC:
    C:\home\windmill\perl5\lib\perl5/MSWin32-x64-multi-thread
    C:\home\windmill\perl5\lib\perl5
    C:/Strawberry/perl/site/lib
    C:/Strawberry/perl/vendor/lib
    C:/Strawberry/perl/lib
    .