Test-Pod-LinkCheck v0.008 Perl 5 v5.26.1 x86_64-linux-thread-multi
- Status
- Pass
- From
- E. Choroba
- Dist
-
Test-Pod-LinkCheck v0.008
- Platform
- Perl 5 v5.26.1 x86_64-linux-thread-multi
- Date
- 2023-09-12 07:58:30
- ID
- 29aef3f6-5142-11ee-8d9f-86406c06bc9c
This distribution has been tested as part of the CPAN Testers
project, supporting the Perl programming language. See
http://wiki.cpantesters.org/ for more information or email
questions to cpan-testers-discuss@perl.org
--
Dear Apocalypse,
This is a computer-generated report for Test-Pod-LinkCheck-0.008
on perl 5.26.1, created by CPAN-Reporter-1.2018.
Thank you for uploading your work to CPAN. Congratulations!
All tests were successful.
Sections of this report:
* Tester comments
* Program output
* Prerequisites
* Environment and other context
------------------------------
TESTER COMMENTS
------------------------------
Additional comments from tester:
none provided
------------------------------
PROGRAM OUTPUT
------------------------------
Output from './Build test':
t/00-compile.t ................ ok
#
You should load Test::Tester before Test::Builder (or anything that loads Test::Builder) at /home/choroba/perl5/lib/perl5/Test/Tester.pm line 9.
#
# Generated by Dist::Zilla::Plugin::ReportVersions::Tiny v1.10
# perl: 5.026001 (wanted 5.006) on linux from /usr/bin/perl
#
# App::PodLinkCheck::ParseLinks => 15 (want 4)
# App::PodLinkCheck::ParseSections => 15 (want any version)
# Capture::Tiny => 0.48 (want any version)
# Exporter => 5.72 (want any version)
# ExtUtils::MakeMaker => 7.24 (want any version)
# File::Spec => 3.67 (want any version)
# File::Temp => 0.2304 (want any version)
# IO::Handle => 1.36 (want any version)
# IPC::Open3 => 1.20 (want any version)
# Module::Build::Tiny => 0.039 (want 0.039)
# Moose => 2.2014 (want 1.01)
# Moose::Util::TypeConstraints => 2.2014 (want 1.01)
# Pod::Find => 1.63 (want any version)
# Test::Builder => 1.302183 (want 0.94)
# Test::More => 1.302183 (want 0.88)
# Test::Pod => 1.51 (want 1.44)
# Test::Tester => 1.302183 (want any version)
# parent => 0.236 (want any version)
# strict => 1.11 (want any version)
# warnings => 1.37 (want any version)
#
# Thanks for using my code. I hope it works for you.
# If not, please try and include this output in the bug report.
# That will help me reproduce the issue and solve your problem.
#
t/000-report-versions-tiny.t .. ok
t/apocalypse.t ................ skipped: Test::Apocalypse required for validating the distribution
t/cpan_backend.t .............. ok
t/functions.t ................. ok
t/simple.t .................... ok
All tests successful.
Test Summary Report
-------------------
t/cpan_backend.t (Wstat: 0 Tests: 24 Failed: 0)
TODO passed: 5-8, 21-24
Files=6, Tests=130, 7 wallclock secs ( 0.04 usr 0.01 sys + 6.05 cusr 0.57 csys = 6.67 CPU)
Result: PASS
------------------------------
PREREQUISITES
------------------------------
Prerequisite modules loaded:
requires:
Module Need Have
-------------------------------- ----- --------
App::PodLinkCheck::ParseLinks 4 15
App::PodLinkCheck::ParseSections 0 15
Capture::Tiny 0 0.48
Exporter 0 5.72
File::Spec 0 3.67
Moose 1.01 2.2014
Moose::Util::TypeConstraints 1.01 2.2014
parent 0 0.236
perl 5.006 5.026001
Pod::Find 0 1.63
strict 0 1.11
Test::Builder 0.94 1.302183
Test::Pod 1.44 1.51
warnings 0 1.37
build_requires:
Module Need Have
-------------------------------- ----- --------
File::Spec 0 3.67
File::Temp 0 0.2304
IO::Handle 0 1.36
IPC::Open3 0 1.20
perl 5.006 5.026001
Test::More 0.88 1.302183
Test::Tester 0 1.302183
configure_requires:
Module Need Have
-------------------------------- ----- --------
ExtUtils::MakeMaker 0 7.24
Module::Build::Tiny 0.039 0.039
perl 5.006 5.026001
------------------------------
ENVIRONMENT AND OTHER CONTEXT
------------------------------
Environment variables:
LANG = en_US.UTF-8
NONINTERACTIVE_TESTING = 1
PATH = /home/choroba/perl5/bin:/home/choroba/bin:/bin:/sbin:/usr/bin:/usr/local/bin:/usr/games:/usr/X11R6/bin:/opt/gnome/bin:.
PERL5LIB = /home/choroba/perl5/lib/perl5/x86_64-linux-thread-multi:/home/choroba/perl5/lib/perl5
PERL5OPT =
PERL5_CPANPLUS_IS_RUNNING = 8947
PERL5_CPAN_IS_RUNNING = 8947
PERL_LOCAL_LIB_ROOT = /home/choroba/perl5
PERL_MB_OPT = --install_base /home/choroba/perl5
PERL_MM_OPT = INSTALL_BASE=/home/choroba/perl5
PERL_MM_USE_DEFAULT = 1
PERL_USE_UNSAFE_INC = 1
SHELL = /bin/bash
TERM = xterm-256color
Perl special variables (and OS-specific diagnostics, for MSWin32):
$^X = /usr/bin/perl
$UID/$EUID = 1000 / 1000
$GID = 100 26 100 458
$EGID = 100 26 100 458
Perl module toolchain versions installed:
Module Have
------------------- ----------
CPAN 2.29
CPAN::Meta 2.150010
Cwd 3.67
ExtUtils::CBuilder 0.280225
ExtUtils::Command 7.24
ExtUtils::Install 2.04
ExtUtils::MakeMaker 7.24
ExtUtils::Manifest 1.70
ExtUtils::ParseXS 3.34
File::Spec 3.67
JSON n/a
JSON::PP 2.27400_02
Module::Build 0.4231
Module::Signature 0.87
Parse::CPAN::Meta 2.150010
Test::Harness 3.38
Test::More 1.302183
YAML 1.30
YAML::Syck n/a
version 0.9917
--
Summary of my perl5 (revision 5 version 26 subversion 1) configuration:
Platform:
osname=linux
osvers=5.3.18-150300.59.124-default
archname=x86_64-linux-thread-multi
uname='reproducible'
config_args='-ds -e -Dprefix=/usr -Dvendorprefix=/usr -Dinstallusrbinperl -Dusethreads -Di_db -Di_dbm -Di_ndbm -Di_gdbm -Dd_dbm_open -Duseshrplib=true -Doptimize=-fmessage-length=0 -grecord-gcc-switches -O2 -Wall -D_FORTIFY_SOURCE=2 -fstack-protector-strong -funwind-tables -fasynchronous-unwind-tables -fstack-clash-protection -g -Wall -pipe -Accflags=-DPERL_USE_SAFE_PUTENV -Dotherlibdirs=/usr/lib/perl5/site_perl -Dinc_version_list=none'
hint=recommended
useposix=true
d_sigaction=define
useithreads=define
usemultiplicity=define
use64bitint=define
use64bitall=define
uselongdouble=undef
usemymalloc=n
default_inc_excludes_dot=define
bincompat5005=undef
Compiler:
cc='cc'
ccflags ='-D_REENTRANT -D_GNU_SOURCE -DPERL_USE_SAFE_PUTENV -fwrapv -fno-strict-aliasing -pipe -fstack-protector-strong -D_LARGEFILE_SOURCE -D_FILE_OFFSET_BITS=64'
optimize='-fmessage-length=0 -grecord-gcc-switches -O2 -Wall -D_FORTIFY_SOURCE=2 -fstack-protector-strong -funwind-tables -fasynchronous-unwind-tables -fstack-clash-protection -g -Wall -pipe'
cppflags='-D_REENTRANT -D_GNU_SOURCE -DPERL_USE_SAFE_PUTENV -fwrapv -fno-strict-aliasing -pipe -fstack-protector-strong'
ccversion=''
gccversion='7.5.0'
gccosandvers=''
intsize=4
longsize=8
ptrsize=8
doublesize=8
byteorder=12345678
doublekind=3
d_longlong=define
longlongsize=8
d_longdbl=define
longdblsize=16
longdblkind=3
ivtype='long'
ivsize=8
nvtype='double'
nvsize=8
Off_t='off_t'
lseeksize=8
alignbytes=8
prototype=define
Linker and Libraries:
ld='cc'
ldflags =' -L/usr/local/lib64 -fstack-protector-strong'
libpth=/usr/local/lib /usr/lib64/gcc/x86_64-suse-linux/7/include-fixed /usr/lib64/gcc/x86_64-suse-linux/7/../../../../x86_64-suse-linux/lib /usr/lib /lib/../lib64 /usr/lib/../lib64 /lib /lib64 /usr/lib64 /usr/local/lib64
libs=-lm -ldl -lcrypt -lpthread
perllibs=-lm -ldl -lcrypt -lpthread
libc=/lib64/libc-2.31.so
so=so
useshrplib=true
libperl=libperl.so
gnulibc_version='2.31'
Dynamic Linking:
dlsrc=dl_dlopen.xs
dlext=so
d_dlsymun=undef
ccdlflags='-Wl,-E -Wl,-rpath,/usr/lib/perl5/5.26.1/x86_64-linux-thread-multi/CORE'
cccdlflags='-fPIC'
lddlflags='-shared -L/usr/local/lib64 -fstack-protector-strong'
Characteristics of this binary (from libperl):
Compile-time options:
HAS_TIMES
MULTIPLICITY
PERLIO_LAYERS
PERL_COPY_ON_WRITE
PERL_DONT_CREATE_GVSV
PERL_IMPLICIT_CONTEXT
PERL_MALLOC_WRAP
PERL_OP_PARENT
PERL_PRESERVE_IVUV
PERL_USE_SAFE_PUTENV
USE_64_BIT_ALL
USE_64_BIT_INT
USE_ITHREADS
USE_LARGE_FILES
USE_LOCALE
USE_LOCALE_COLLATE
USE_LOCALE_CTYPE
USE_LOCALE_NUMERIC
USE_LOCALE_TIME
USE_PERLIO
USE_PERL_ATOF
USE_REENTRANT_API
Built under linux
Compiled at Jul 5 2023 12:00:00
%ENV:
PERL5LIB="/home/choroba/perl5/lib/perl5/x86_64-linux-thread-multi:/home/choroba/perl5/lib/perl5"
PERL5OPT=""
PERL5_CPANPLUS_IS_RUNNING="8947"
PERL5_CPAN_IS_RUNNING="8947"
PERL_LOCAL_LIB_ROOT="/home/choroba/perl5"
PERL_MB_OPT="--install_base /home/choroba/perl5"
PERL_MM_OPT="INSTALL_BASE=/home/choroba/perl5"
PERL_MM_USE_DEFAULT="1"
PERL_USE_UNSAFE_INC="1"
@INC:
/home/choroba/perl5/lib/perl5/x86_64-linux-thread-multi
/home/choroba/perl5/lib/perl5/x86_64-linux-thread-multi
/home/choroba/perl5/lib/perl5
/usr/lib/perl5/site_perl/5.26.1/x86_64-linux-thread-multi
/usr/lib/perl5/site_perl/5.26.1
/usr/lib/perl5/vendor_perl/5.26.1/x86_64-linux-thread-multi
/usr/lib/perl5/vendor_perl/5.26.1
/usr/lib/perl5/5.26.1/x86_64-linux-thread-multi
/usr/lib/perl5/5.26.1
/usr/lib/perl5/site_perl
.