Class-Method-Modifiers v2.15 Perl 5 v5.24.0 x86_64-cygwin-thread-multi-ld

Status
Pass
From
Peter John Acklam (PJACKLAM)
Dist
Class-Method-Modifiers v2.15
Platform
Perl 5 v5.24.0 x86_64-cygwin-thread-multi-ld
Date
2024-08-15 06:38:24
ID
2949ae8a-6c00-1014-b2b0-8d4a16ba1c1e
This distribution has been tested as part of the CPAN Testers
project, supporting the Perl programming language.  See
http://wiki.cpantesters.org/ for more information or email
questions to cpan-testers-discuss@perl.org


--
Dear Karen Etheridge,

This is a computer-generated report for Class-Method-Modifiers-2.15
on perl 5.24.0, created by CPAN-Reporter-1.2019.

Thank you for uploading your work to CPAN.  Congratulations!
All tests were successful.

Sections of this report:

    * Tester comments
    * Program output
    * Prerequisites
    * Environment and other context

------------------------------
TESTER COMMENTS
------------------------------

Additional comments from tester:

this report is from an automated smoke testing program
and was not reviewed by a human for accuracy

------------------------------
PROGRAM OUTPUT
------------------------------

Output from '/usr/bin/make test':

PERL_DL_NONLAZY=1 "/cygdrive/h/opt/perl5/cygwin_nt-10.0/3.5.3/x86_64/perl/5.24.0/x86_64-cygwin-thread-multi-ld/bin/perl5.24.0.exe" "-MExtUtils::Command::MM" "-MTest::Harness" "-e" "undef *Test::Harness::Switches; test_harness(0, 'blib/lib', 'blib/arch')" t/*.t
# 
# Versions for all modules listed in MYMETA.json (including optional ones):
# 
# === Configure Requires ===
# 
#     Module               Want     Have
#     ------------------- ----- --------
#     ExtUtils::MakeMaker   any  7.10_01
#     perl                5.006 5.024000
# 
# === Build Requires ===
# 
#     Module              Want    Have
#     ------------------- ---- -------
#     ExtUtils::MakeMaker  any 7.10_01
# 
# === Test Requires ===
# 
#     Module               Want     Have
#     ------------------- ----- --------
#     ExtUtils::MakeMaker   any  7.10_01
#     File::Spec            any     3.63
#     Test::More           0.88 1.302199
#     if                    any   0.0606
#     perl                5.006 5.024000
# 
# === Test Recommends ===
# 
#     Module         Want     Have
#     ---------- -------- --------
#     CPAN::Meta 2.120900 2.150005
# 
# === Runtime Requires ===
# 
#     Module    Want     Have
#     -------- ----- --------
#     B          any     1.62
#     Carp       any     1.40
#     Exporter   any     5.72
#     base       any     2.23
#     perl     5.006 5.024000
#     strict     any     1.11
#     warnings   any     1.36
# 
# === Other Modules ===
# 
#     Module                  Have
#     -------------------- -------
#     Encode                  2.80
#     File::Temp            0.2304
#     JSON::PP             2.27300
#     Module::Runtime        0.016
#     Moo                  missing
#     Moose                missing
#     Pod::Coverage        missing
#     Role::Tiny           missing
#     Sub::Install         missing
#     Sub::Name               0.27
#     YAML                    1.31
#     autodie                 2.29
#     namespace::autoclean missing
#     namespace::clean     missing
# 
t/00-report-prereqs.t ............... ok
t/000-load.t ........................ ok
t/001-error.t ....................... ok
t/002-cache.t ....................... ok
t/003-basic.t ....................... ok
t/004-around.t ...................... ok
t/005-return.t ...................... ok
t/010-before-args.t ................. ok
t/011-after-args.t .................. ok
t/012-around-args.t ................. ok
t/020-multiple-inheritance.t ........ ok
t/030-multiple-before.t ............. ok
t/031-multiple-after.t .............. ok
t/032-multiple-around.t ............. ok
t/034-multiple-everything.t ......... ok
t/035-multiple-everything-twice.t ... ok
t/040-twice-orig.t .................. ok
t/041-modify-parent.t ............... ok
t/051-undef-list-ctxt.t ............. ok
t/060-caller.t ...................... ok
t/070-modify-multiple-at-once.t ..... ok
t/080-multiple-modifiers.t .......... ok
t/081-sub-and-modifier.t ............ ok
t/090-diamond.t ..................... ok
t/100-class-mop-method-modifiers.t .. ok
t/110-namespace-clean.t ............. ok
t/120-fresh.t ....................... ok
t/130-clean-underscore.t ............ ok
t/140-lvalue.t ...................... ok
All tests successful.
Files=29, Tests=131, 181 wallclock secs ( 0.30 usr  0.95 sys + 10.70 cusr 55.04 csys = 66.99 CPU)
Result: PASS

------------------------------
PREREQUISITES
------------------------------

Prerequisite modules loaded:

requires:

    Module              Need     Have    
    ------------------- -------- --------
    B                   0        1.62    
    base                0        2.23    
    Carp                0        1.40    
    Exporter            0        5.72    
    perl                5.006    5.024000
    strict              0        1.11    
    warnings            0        1.36    

build_requires:

    Module              Need     Have    
    ------------------- -------- --------
    ExtUtils::MakeMaker 0        7.10_01 
    File::Spec          0        3.63    
    if                  0        0.0606  
    Test::More          0.88     1.302199

configure_requires:

    Module              Need     Have    
    ------------------- -------- --------
    ExtUtils::MakeMaker 0        7.10_01 
    perl                5.006    5.024000

opt_build_requires:

    Module              Need     Have    
    ------------------- -------- --------
    CPAN::Meta          2.120900 2.150005


------------------------------
ENVIRONMENT AND OTHER CONTEXT
------------------------------

Environment variables:

    AUTOMATED_TESTING = 1
    COMSPEC = C:\WINDOWS\system32\cmd.exe
    LDFLAGS = -Wl,-rpath,/usr/local/lib -L/usr/local/lib
    NUMBER_OF_PROCESSORS = 8
    PATH = /cygdrive/h/opt/perl5/cygwin_nt-10.0/3.5.3/x86_64/perl/5.24.0/x86_64-cygwin-thread-multi-ld/bin:/usr/bin:/bin:/usr/local/bin
    PERL5LIB = /opt/perl5/cygwin_nt-10.0/3.5.3/x86_64/cpan/5.24.0/x86_64-cygwin-thread-multi-ld/buildiUtqjFhZ/Alien-Build-2.83-0/blib/arch:/opt/perl5/cygwin_nt-10.0/3.5.3/x86_64/cpan/5.24.0/x86_64-cygwin-thread-multi-ld/buildiUtqjFhZ/Alien-Build-2.83-0/blib/lib:/opt/perl5/cygwin_nt-10.0/3.5.3/x86_64/perl/5.24.0/x86_64-cygwin-thread-multi-ld/local/lib/perl5:/opt/perl5/cygwin_nt-10.0/3.5.3/x86_64/perl/5.24.0/x86_64-cygwin-thread-multi-ld/local/lib/site_perl:/opt/perl5/cygwin_nt-10.0/3.5.3/x86_64/perl/5.24.0/x86_64-cygwin-thread-multi-ld/local/lib
    PERL5OPT = 
    PERL5_CPANPLUS_IS_RUNNING = 15373
    PERL5_CPAN_IS_RUNNING = 15373
    PERL_CANARY_STABILITY_NOPROMPT = 1
    PERL_CPAN_REPORTER_CONFIG = /cygdrive/d/home/peter/.cpanreporter/config-cygwin-rigel.ini
    PERL_EXTUTILS_AUTOINSTALL = 1
    PERL_MB_OPT = --install_base /opt/perl5/cygwin_nt-10.0/3.5.3/x86_64/perl/5.24.0/x86_64-cygwin-thread-multi-ld/local
    PERL_MM_OPT = INSTALL_BASE=/opt/perl5/cygwin_nt-10.0/3.5.3/x86_64/perl/5.24.0/x86_64-cygwin-thread-multi-ld/local
    PERL_MM_USE_DEFAULT = 1
    PERL_TEST_CRITIC = 1
    PERL_TEST_CRITIC = 1
    PERL_TEST_POD = 1
    PERL_TEST_POD = 1
    PERL_USE_UNSAFE_INC = 1
    POD_TESTING = 1
    POD_TESTS = 1
    PROCESSOR_IDENTIFIER = Intel64 Family 6 Model 42 Stepping 7, GenuineIntel
    SHELL = /bin/bash
    TEMP = /tmp
    TERM = xterm

Perl special variables (and OS-specific diagnostics, for MSWin32):

    $^X = /cygdrive/h/opt/perl5/cygwin_nt-10.0/3.5.3/x86_64/perl/5.24.0/x86_64-cygwin-thread-multi-ld/bin/perl5.24.0
    $UID/$EUID = 197609 / 197609
    $GID = 197609 401408 545 4 66049 11 15 68380 113 4095 66048 262180
    $EGID = 197609 401408 545 4 66049 11 15 68380 113 4095 66048 262180

Perl module toolchain versions installed:

    Module              Have    
    ------------------- --------
    CPAN                2.36    
    CPAN::Meta          2.150005
    Cwd                 3.63    
    ExtUtils::CBuilder  0.280225
    ExtUtils::Command   7.10    
    ExtUtils::Install   2.04    
    ExtUtils::MakeMaker 7.10_01 
    ExtUtils::Manifest  1.70    
    ExtUtils::ParseXS   3.31    
    File::Spec          3.63    
    JSON                n/a     
    JSON::PP            2.27300 
    Module::Build       0.4234  
    Module::Signature   n/a     
    Parse::CPAN::Meta   1.4417  
    Test2               1.302199
    Test::Harness       3.36    
    Test::More          1.302199
    YAML                1.31    
    YAML::Syck          n/a     
    version             0.9916  


--

Summary of my perl5 (revision 5 version 24 subversion 0) configuration:
   
  Platform:
    osname=cygwin, osvers=3.5.3-1.x86_64, archname=x86_64-cygwin-thread-multi-ld
    uname='cygwin_nt-10.0-19045 rigel 3.5.3-1.x86_64 2024-04-03 17:25 utc x86_64 cygwin '
    config_args='-de -Dmksymlinks -Uinc_version_list -Uinstallusrbinperl -Dusethreads -Dusemultiplicity -Duselongdouble -Dprefix=/opt/perl5/cygwin_nt-10.0/3.5.3/x86_64/perl/5.24.0/x86_64-cygwin-thread-multi-ld -Darchname=x86_64-cygwin-thread-multi-ld'
    hint=recommended, useposix=true, d_sigaction=define
    useithreads=define, usemultiplicity=define
    use64bitint=define, use64bitall=define, uselongdouble=define
    usemymalloc=n, bincompat5005=undef
  Compiler:
    cc='gcc', ccflags ='-U__STRICT_ANSI__ -D_GNU_SOURCE -fwrapv -fpcc-struct-return -pipe -fstack-protector-strong',
    optimize='-O3',
    cppflags='-U__STRICT_ANSI__ -D_GNU_SOURCE -fwrapv -fpcc-struct-return -pipe -fstack-protector-strong -D__GNUC__'
    ccversion='', gccversion='11.4.0', gccosandvers=''
    intsize=4, longsize=8, ptrsize=8, doublesize=8, byteorder=12345678, doublekind=3
    d_longlong=define, longlongsize=8, d_longdbl=define, longdblsize=16, longdblkind=3
    ivtype='long', ivsize=8, nvtype='long double', nvsize=16, Off_t='off_t', lseeksize=8
    alignbytes=16, prototype=define
  Linker and Libraries:
    ld='g++', ldflags =' -Wl,--enable-auto-import -Wl,--export-all-symbols -Wl,--enable-auto-image-base -fstack-protector-strong -L/usr/local/lib'
    libpth=/usr/lib /usr/lib/gcc/x86_64-pc-cygwin/11/../../../../lib/../include/w32api /usr/local/lib /lib
    libs=-lpthread -ldl
    perllibs=-lpthread -ldl
    libc=/usr/lib/libcygwin.a, so=dll, useshrplib=true, libperl=cygperl5_24_0.dll
    gnulibc_version=''
  Dynamic Linking:
    dlsrc=dl_dlopen.xs, dlext=dll, d_dlsymun=undef, ccdlflags=' '
    cccdlflags=' ', lddlflags=' --shared  -Wl,--enable-auto-import -Wl,--export-all-symbols -Wl,--enable-auto-image-base -L/usr/local/lib -fstack-protector-strong'


Characteristics of this binary (from libperl): 
  Compile-time options: HAS_TIMES MULTIPLICITY PERLIO_LAYERS
                        PERL_COPY_ON_WRITE PERL_DONT_CREATE_GVSV
                        PERL_HASH_FUNC_ONE_AT_A_TIME_HARD
                        PERL_IMPLICIT_CONTEXT PERL_PRESERVE_IVUV
                        USE_64_BIT_ALL USE_64_BIT_INT USE_ITHREADS
                        USE_LARGE_FILES USE_LOCALE USE_LOCALE_COLLATE
                        USE_LOCALE_CTYPE USE_LOCALE_NUMERIC USE_LOCALE_TIME
                        USE_LONG_DOUBLE USE_PERLIO USE_PERL_ATOF
                        USE_REENTRANT_API
  Built under cygwin
  Compiled at Jul  9 2024 03:42:44
  %ENV:
    PERL5LIB="/opt/perl5/cygwin_nt-10.0/3.5.3/x86_64/cpan/5.24.0/x86_64-cygwin-thread-multi-ld/buildiUtqjFhZ/Alien-Build-2.83-0/blib/arch:/opt/perl5/cygwin_nt-10.0/3.5.3/x86_64/cpan/5.24.0/x86_64-cygwin-thread-multi-ld/buildiUtqjFhZ/Alien-Build-2.83-0/blib/lib:/opt/perl5/cygwin_nt-10.0/3.5.3/x86_64/perl/5.24.0/x86_64-cygwin-thread-multi-ld/local/lib/perl5:/opt/perl5/cygwin_nt-10.0/3.5.3/x86_64/perl/5.24.0/x86_64-cygwin-thread-multi-ld/local/lib/site_perl:/opt/perl5/cygwin_nt-10.0/3.5.3/x86_64/perl/5.24.0/x86_64-cygwin-thread-multi-ld/local/lib"
    PERL5OPT=""
    PERL5_CPANPLUS_IS_RUNNING="15373"
    PERL5_CPAN_IS_RUNNING="15373"
    PERL_CANARY_STABILITY_NOPROMPT="1"
    PERL_CPAN_REPORTER_CONFIG="/cygdrive/d/home/peter/.cpanreporter/config-cygwin-rigel.ini"
    PERL_EXTUTILS_AUTOINSTALL="1"
    PERL_MB_OPT="--install_base /opt/perl5/cygwin_nt-10.0/3.5.3/x86_64/perl/5.24.0/x86_64-cygwin-thread-multi-ld/local"
    PERL_MM_OPT="INSTALL_BASE=/opt/perl5/cygwin_nt-10.0/3.5.3/x86_64/perl/5.24.0/x86_64-cygwin-thread-multi-ld/local"
    PERL_MM_USE_DEFAULT="1"
    PERL_TEST_CRITIC="1"
    PERL_TEST_POD="1"
    PERL_USE_UNSAFE_INC="1"
  @INC:
    /opt/perl5/cygwin_nt-10.0/3.5.3/x86_64/cpan/5.24.0/x86_64-cygwin-thread-multi-ld/buildiUtqjFhZ/Alien-Build-2.83-0/blib/arch
    /opt/perl5/cygwin_nt-10.0/3.5.3/x86_64/cpan/5.24.0/x86_64-cygwin-thread-multi-ld/buildiUtqjFhZ/Alien-Build-2.83-0/blib/lib
    /opt/perl5/cygwin_nt-10.0/3.5.3/x86_64/perl/5.24.0/x86_64-cygwin-thread-multi-ld/local/lib/perl5/x86_64-cygwin-thread-multi-ld
    /opt/perl5/cygwin_nt-10.0/3.5.3/x86_64/perl/5.24.0/x86_64-cygwin-thread-multi-ld/local/lib/perl5
    /opt/perl5/cygwin_nt-10.0/3.5.3/x86_64/perl/5.24.0/x86_64-cygwin-thread-multi-ld/local/lib/site_perl
    /opt/perl5/cygwin_nt-10.0/3.5.3/x86_64/perl/5.24.0/x86_64-cygwin-thread-multi-ld/local/lib
    /opt/perl5/cygwin_nt-10.0/3.5.3/x86_64/perl/5.24.0/x86_64-cygwin-thread-multi-ld/lib/site_perl/5.24.0/x86_64-cygwin-thread-multi-ld
    /opt/perl5/cygwin_nt-10.0/3.5.3/x86_64/perl/5.24.0/x86_64-cygwin-thread-multi-ld/lib/site_perl/5.24.0
    /opt/perl5/cygwin_nt-10.0/3.5.3/x86_64/perl/5.24.0/x86_64-cygwin-thread-multi-ld/lib/5.24.0/x86_64-cygwin-thread-multi-ld
    /opt/perl5/cygwin_nt-10.0/3.5.3/x86_64/perl/5.24.0/x86_64-cygwin-thread-multi-ld/lib/5.24.0
    .