Config-Perl v0.06 Perl 5 v5.32.0 darwin-2level

Status
Pass
From
Carlos Guevara
Dist
Config-Perl v0.06
Platform
Perl 5 v5.32.0 darwin-2level
Date
2020-06-02 07:24:57
ID
29389d64-a4a2-11ea-ab6d-10f283b12266
This distribution has been tested as part of the CPAN Testers
project, supporting the Perl programming language.  See
http://wiki.cpantesters.org/ for more information or email
questions to cpan-testers-discuss@perl.org


--
Dear Hauke Daempfling,

This is a computer-generated report for Config-Perl-0.06
on perl 5.32.0, created by CPAN-Reporter-1.2018.

Thank you for uploading your work to CPAN.  Congratulations!
All tests were successful.

Sections of this report:

    * Tester comments
    * Program output
    * Prerequisites
    * Environment and other context

------------------------------
TESTER COMMENTS
------------------------------

Additional comments from tester:

this report is from an automated smoke testing program
and was not reviewed by a human for accuracy

------------------------------
PROGRAM OUTPUT
------------------------------

Output from '/usr/bin/make test':

PERL_DL_NONLAZY=1 "/Users/cpan/bin/perl-blead/bin/perl5.32.0" "-MExtUtils::Command::MM" "-MTest::Harness" "-e" "undef *Test::Harness::Switches; test_harness(0, 'blib/lib', 'blib/arch')" t/*.t
t/00_smoke.t .............. ok
t/10_basic.t .............. ok
t/20_undump.t ............. ok
t/21_undump_files_dump.t .. ok
t/30_errors_warns.t ....... ok
t/80_wishlist.t ........... ok
t/90_author_critic.t ...... skipped: author Perl::Critic tests (set $ENV{CONFIG_PERL_AUTHOR_TESTS} to enable)
t/91_author_pod.t ......... skipped: author POD tests
t/92_author_cover.t ....... skipped: only used in author coverage testing
All tests successful.
Files=9, Tests=312,  2 wallclock secs ( 0.06 usr  0.02 sys +  1.10 cusr  0.16 csys =  1.34 CPU)
Result: PASS

------------------------------
PREREQUISITES
------------------------------

Prerequisite modules loaded:

requires:

    Module              Need     Have    
    ------------------- -------- --------
    Carp                0        1.50    
    Data::Dumper        0        2.174   
    Exporter            0        5.74    
    perl                5.006000 5.032000
    PPI                 0        1.270   
    warnings::register  0        1.04    

build_requires:

    Module              Need     Have    
    ------------------- -------- --------
    base                0        2.27    
    ExtUtils::MakeMaker 0        7.44    
    File::Temp          0        0.2309  
    FindBin             0        1.51    
    Test::Fatal         0        0.014   
    Test::More          0        1.302175

configure_requires:

    Module              Need     Have    
    ------------------- -------- --------
    ExtUtils::MakeMaker 6.64     7.44    


------------------------------
ENVIRONMENT AND OTHER CONTEXT
------------------------------

Environment variables:

    AUTOMATED_TESTING = 1
    DATE_MANIP_TEST_DM5 = 1
    LANG = en_US.UTF-8
    LC_ALL = C
    NONINTERACTIVE_TESTING = 1
    PATH = /Users/cpan/bin/perl-blead/bin:/Users/cpan/bin:/usr/local/bin:/usr/bin:/bin:/usr/sbin:/sbin
    PERL5LIB = 
    PERL5OPT = 
    PERL5_CPANPLUS_IS_RUNNING = 73925
    PERL5_CPAN_IS_RUNNING = 73925
    PERL_MM_USE_DEFAULT = 1
    PERL_USE_UNSAFE_INC = 1
    PERL_VERSION = blead
    SHELL = /bin/bash
    TERM = xterm-256color
    TMPDIR = /Users/cpan/tmp

Perl special variables (and OS-specific diagnostics, for MSWin32):

    $^X = /Users/cpan/bin/perl-blead/bin/perl5.32.0
    $UID/$EUID = 503 / 503
    $GID = 20 20 12 61 399 701 702 703 100
    $EGID = 20 20 12 61 399 701 702 703 100

Perl module toolchain versions installed:

    Module              Have    
    ------------------- --------
    CPAN                2.27    
    CPAN::Meta          2.150010
    Cwd                 3.78    
    ExtUtils::CBuilder  0.280234
    ExtUtils::Command   7.44    
    ExtUtils::Install   2.14    
    ExtUtils::MakeMaker 7.44    
    ExtUtils::Manifest  1.72    
    ExtUtils::ParseXS   3.40    
    File::Spec          3.78    
    JSON                4.02    
    JSON::PP            4.04    
    Module::Build       0.4231  
    Module::Signature   n/a     
    Parse::CPAN::Meta   2.150010
    Test::Harness       3.42    
    Test::More          1.302175
    YAML                1.30    
    YAML::Syck          1.32    
    version             0.9924  


--

Summary of my perl5 (revision 5 version 32 subversion 0) configuration:
  Commit id: 3cee922e3a8cc2a8044e5d7e9ab4086a6aa4a478
  Platform:
    osname=darwin
    osvers=19.5.0
    archname=darwin-2level
    uname='darwin cjg-mac.local 19.5.0 darwin kernel version 19.5.0: thu apr 30 18:25:59 pdt 2020; root:xnu-6153.121.1~7release_x86_64 x86_64 '
    config_args='-des -Dprefix=~/bin/perl-blead -Dscriptdir=~/bin/perl-blead/bin -Dusedevel -Duse64bitall'
    hint=recommended
    useposix=true
    d_sigaction=define
    useithreads=undef
    usemultiplicity=undef
    use64bitint=define
    use64bitall=define
    uselongdouble=undef
    usemymalloc=n
    default_inc_excludes_dot=define
    bincompat5005=undef
  Compiler:
    cc='cc'
    ccflags ='-fno-common -DPERL_DARWIN -mmacosx-version-min=10.15 -arch x86_64 -fno-strict-aliasing -pipe -fstack-protector-strong -I/usr/local/include -DPERL_USE_SAFE_PUTENV'
    optimize='-O3'
    cppflags='-arch x86_64 -fno-common -DPERL_DARWIN -mmacosx-version-min=10.15 -arch x86_64 -fno-strict-aliasing -pipe -fstack-protector-strong -I/usr/local/include'
    ccversion=''
    gccversion='4.2.1 Compatible Apple LLVM 11.0.3 (clang-1103.0.32.62)'
    gccosandvers=''
    intsize=4
    longsize=8
    ptrsize=8
    doublesize=8
    byteorder=12345678
    doublekind=3
    d_longlong=define
    longlongsize=8
    d_longdbl=define
    longdblsize=16
    longdblkind=3
    ivtype='long'
    ivsize=8
    nvtype='double'
    nvsize=8
    Off_t='off_t'
    lseeksize=8
    alignbytes=8
    prototype=define
  Linker and Libraries:
    ld='cc -arch x86_64'
    ldflags =' -mmacosx-version-min=10.15 -arch x86_64 -fstack-protector-strong -L/usr/local/lib'
    libpth=/usr/local/lib /Applications/Xcode.app/Contents/Developer/Toolchains/XcodeDefault.xctoolchain/usr/lib/clang/11.0.3/lib /Applications/Xcode.app/Contents/Developer/Platforms/MacOSX.platform/Developer/SDKs/MacOSX.sdk/usr/lib /Applications/Xcode.app/Contents/Developer/Toolchains/XcodeDefault.xctoolchain/usr/lib /usr/lib
    libs=-lpthread -ldbm -ldl -lm -lutil -lc
    perllibs=-lpthread -ldl -lm -lutil -lc
    libc=
    so=dylib
    useshrplib=false
    libperl=libperl.a
    gnulibc_version=''
  Dynamic Linking:
    dlsrc=dl_dlopen.xs
    dlext=bundle
    d_dlsymun=undef
    ccdlflags=' '
    cccdlflags=' '
    lddlflags=' -mmacosx-version-min=10.15 -bundle -undefined dynamic_lookup -L/usr/local/lib -fstack-protector-strong'


Characteristics of this binary (from libperl): 
  Compile-time options:
    HAS_TIMES
    PERLIO_LAYERS
    PERL_COPY_ON_WRITE
    PERL_DONT_CREATE_GVSV
    PERL_MALLOC_WRAP
    PERL_OP_PARENT
    PERL_PRESERVE_IVUV
    PERL_USE_DEVEL
    PERL_USE_SAFE_PUTENV
    USE_64_BIT_ALL
    USE_64_BIT_INT
    USE_LARGE_FILES
    USE_LOCALE
    USE_LOCALE_COLLATE
    USE_LOCALE_CTYPE
    USE_LOCALE_NUMERIC
    USE_LOCALE_TIME
    USE_PERLIO
    USE_PERL_ATOF
  Built under darwin
  Compiled at Jun  1 2020 21:40:31
  %ENV:
    PERL5LIB=""
    PERL5OPT=""
    PERL5_CPANPLUS_IS_RUNNING="73925"
    PERL5_CPAN_IS_RUNNING="73925"
    PERL_MM_USE_DEFAULT="1"
    PERL_USE_UNSAFE_INC="1"
    PERL_VERSION="blead"
  @INC:
    /Users/cpan/bin/perl-blead/lib/site_perl/5.32.0/darwin-2level
    /Users/cpan/bin/perl-blead/lib/site_perl/5.32.0
    /Users/cpan/bin/perl-blead/lib/5.32.0/darwin-2level
    /Users/cpan/bin/perl-blead/lib/5.32.0
    .