Module-Install-ReadmeFromPod v0.30 Perl 5 v5.29.9 darwin-2level
- Status
- Pass
- From
- Karen Etheridge
- Dist
-
Module-Install-ReadmeFromPod v0.30
- Platform
- Perl 5 v5.29.9 darwin-2level
- Date
- 2019-03-31 00:08:49
- ID
- 291d643c-5349-11e9-97a6-b80aeed9cfe0
This distribution has been tested as part of the CPAN Testers
project, supporting the Perl programming language. See
http://wiki.cpantesters.org/ for more information or email
questions to cpan-testers-discuss@perl.org
--
Dear BINGOS,
This is a computer-generated report for Module-Install-ReadmeFromPod-0.30
on perl 5.29.9, created by App::cpanminus::reporter 0.17 (1.7044).
Thank you for uploading your work to CPAN. Congratulations!
All tests were successful.
Sections of this report:
* Tester comments
* Program output
* Prerequisites
* Environment and other context
------------------------------
TESTER COMMENTS
------------------------------
Additional comments from tester:
none provided
------------------------------
PROGRAM OUTPUT
------------------------------
Output from '':
Building and testing Module-Install-ReadmeFromPod-0.30
Manifying 1 pod document
PERL_DL_NONLAZY=1 "/Volumes/amaretto/Users/ether/perl5/perlbrew/perls/29.9/bin/perl5.29.9" "-MExtUtils::Command::MM" "-MTest::Harness" "-e" "undef *Test::Harness::Switches; test_harness(0, 'inc', 'blib/lib', 'blib/arch')" t/*.t
# Testing Module::Install::ReadmeFromPod 0.30, Perl 5.029009, /Volumes/amaretto/Users/ether/perl5/perlbrew/perls/29.9/bin/perl5.29.9
t/00_compile.t ....... ok
t/04_distpdf.t ....... skipped: App::pod2pdf not installed
t/05_cleanpdf.t ...... skipped: App::pod2pdf not installed
t/99_pod.t ........... ok
t/99_pod_coverage.t .. skipped: Test::Pod::Coverage 1.00 required for testing POD coverage
# Subroutine Module::Install::ReadmeFromPod::io redefined at /Volumes/amaretto/Users/ether/.perlbrew/libs/29.9@std/lib/perl5/IO/All/Base.pm line 24.
# include /Volumes/amaretto/Users/ether/.cpanm/work/1553986767.60656/Module-Install-ReadmeFromPod-0.30/dist/kTNTD8IArY/inc/Module/Install.pm
# include inc/Module/Install/Metadata.pm
# include inc/Module/Install/Base.pm
# include inc/Module/Install/ReadmeFromPod.pm
# readme_from README.pm to txt
# readme_from README.pm to htm
# Subroutine Module::Install::ReadmeFromPod::io redefined at /Volumes/amaretto/Users/ether/.perlbrew/libs/29.9@std/lib/perl5/IO/All/Base.pm line 24.
# Subroutine Module::Install::ReadmeFromPod::io redefined at /Volumes/amaretto/Users/ether/.perlbrew/libs/29.9@std/lib/perl5/IO/All/Base.pm line 24.
# readme_from README.pm to man
# readme_from README.pm to md
# include inc/Module/Install/WriteAll.pm
# include inc/Module/Install/Makefile.pm
# include inc/Module/Install/Win32.pm
# include inc/Module/Install/Can.pm
# include inc/Module/Install/Fetch.pm
# Generating a Unix-style Makefile
# Writing Makefile for Foo::Bar
# Writing MYMETA.yml and MYMETA.json
# Writing META.yml
# Subroutine Module::Install::ReadmeFromPod::io redefined at /Volumes/amaretto/Users/ether/.perlbrew/libs/29.9@std/lib/perl5/IO/All/Base.pm line 24.
# include /Volumes/amaretto/Users/ether/.cpanm/work/1553986767.60656/Module-Install-ReadmeFromPod-0.30/dist/JgVAQ9lZrx/inc/Module/Install.pm
# include inc/Module/Install/Metadata.pm
# include inc/Module/Install/Base.pm
# include inc/Module/Install/ReadmeFromPod.pm
# readme_from README.pm to text
# include inc/Module/Install/Makefile.pm
# readme_from README.pm to html
# Subroutine Module::Install::ReadmeFromPod::io redefined at /Volumes/amaretto/Users/ether/.perlbrew/libs/29.9@std/lib/perl5/IO/All/Base.pm line 24.
# Subroutine Module::Install::ReadmeFromPod::io redefined at /Volumes/amaretto/Users/ether/.perlbrew/libs/29.9@std/lib/perl5/IO/All/Base.pm line 24.
# readme_from README.pm to md
# readme_from README.pm to man
# include inc/Module/Install/WriteAll.pm
# include inc/Module/Install/Win32.pm
# include inc/Module/Install/Can.pm
# include inc/Module/Install/Fetch.pm
# Generating a Unix-style Makefile
# Writing Makefile for Foo::Bar
# Writing MYMETA.yml and MYMETA.json
# Writing META.yml
# include /Volumes/amaretto/Users/ether/.cpanm/work/1553986767.60656/Module-Install-ReadmeFromPod-0.30/dist/oHbwjweXZS/inc/Module/Install.pm
# include inc/Module/Install/Metadata.pm
# include inc/Module/Install/Base.pm
# include inc/Module/Install/Makefile.pm
# include inc/Module/Install/ReadmeFromPod.pm
# readme_from README.pm to txt
# include inc/Module/Install/WriteAll.pm
# include inc/Module/Install/Win32.pm
# include inc/Module/Install/Can.pm
# include inc/Module/Install/Fetch.pm
# Generating a Unix-style Makefile
# Writing Makefile for Foo::Bar
# Writing MYMETA.yml and MYMETA.json
# Writing META.yml
# rm -f \
# Bar.bso Bar.def \
# Bar.exp Bar.x \
# blib/arch/auto/Foo/Bar/extralibs.all \
# blib/arch/auto/Foo/Bar/extralibs.ld Makefile.aperl \
# *.a *.o \
# *perl.core MYMETA.json \
# MYMETA.yml blibdirs.ts \
# core core.*perl.*.? \
# core.[0-9] core.[0-9][0-9] \
# core.[0-9][0-9][0-9] core.[0-9][0-9][0-9][0-9] \
# core.[0-9][0-9][0-9][0-9][0-9] libBar.def \
# mon.out perl \
# perl perl.exe \
# perlmain.c pm_to_blib \
# pm_to_blib.ts so_locations \
# tmon.out
# rm -rf \
# blib
# mv Makefile Makefile.old > /dev/null 2>&1
# rm -f \
# Makefile Makefile.old
# rm -rf \
# Foo-Bar-0.01 MYMETA.yml
# rm -f Foo-Bar-0.01.tar.gz
# rm -f MANIFEST.bak _build
# "/Volumes/amaretto/Users/ether/perl5/perlbrew/perls/29.9/bin/perl5.29.9" "-Iinc" "-Ilib" "-MModule::Install::Admin" -e "remove_meta()"
# rm -rf inc
# "/Volumes/amaretto/Users/ether/perl5/perlbrew/perls/29.9/bin/perl5.29.9" "-Iinc" "-MExtUtils::Manifest=fullcheck" -e fullcheck
# Problem opening MANIFEST: No such file or directory at /Volumes/amaretto/Users/ether/perl5/perlbrew/perls/29.9/lib/5.29.9/ExtUtils/Manifest.pm line 349.
# Problem opening MANIFEST: No such file or directory at /Volumes/amaretto/Users/ether/perl5/perlbrew/perls/29.9/lib/5.29.9/ExtUtils/Manifest.pm line 349.
# Not in MANIFEST: Makefile.PL
# Not in MANIFEST: README
# Not in MANIFEST: README.1
# Not in MANIFEST: README.htm
# Not in MANIFEST: README.md
# Not in MANIFEST: README.pm
t/01_dist.t .......... ok
# rm -f \
# Bar.bso Bar.def \
# Bar.exp Bar.x \
# blib/arch/auto/Foo/Bar/extralibs.all \
# blib/arch/auto/Foo/Bar/extralibs.ld Makefile.aperl \
# *.a *.o \
# *perl.core MYMETA.json \
# MYMETA.yml blibdirs.ts \
# core core.*perl.*.? \
# core.[0-9] core.[0-9][0-9] \
# core.[0-9][0-9][0-9] core.[0-9][0-9][0-9][0-9] \
# core.[0-9][0-9][0-9][0-9][0-9] libBar.def \
# mon.out perl \
# perl perl.exe \
# perlmain.c pm_to_blib \
# pm_to_blib.ts so_locations \
# tmon.out
# rm -rf \
# Foobar.htm Foobar.man \
# Foobar.md Foobar.txt \
# blib
# mv Makefile Makefile.old > /dev/null 2>&1
# rm -f \
# Makefile Makefile.old
# rm -rf \
# Foo-Bar-0.01 MYMETA.yml
# rm -f Foo-Bar-0.01.tar.gz
# rm -f MANIFEST.bak _build
# "/Volumes/amaretto/Users/ether/perl5/perlbrew/perls/29.9/bin/perl5.29.9" "-Iinc" "-Ilib" "-MModule::Install::Admin" -e "remove_meta()"
# rm -rf inc
# "/Volumes/amaretto/Users/ether/perl5/perlbrew/perls/29.9/bin/perl5.29.9" "-Iinc" "-MExtUtils::Manifest=fullcheck" -e fullcheck
# Problem opening MANIFEST: No such file or directory at /Volumes/amaretto/Users/ether/perl5/perlbrew/perls/29.9/lib/5.29.9/ExtUtils/Manifest.pm line 349.
# Problem opening MANIFEST: No such file or directory at /Volumes/amaretto/Users/ether/perl5/perlbrew/perls/29.9/lib/5.29.9/ExtUtils/Manifest.pm line 349.
# Not in MANIFEST: Makefile.PL
# Not in MANIFEST: README.pm
t/02_clean.t ......... ok
# rm -f \
# Bar.bso Bar.def \
# Bar.exp Bar.x \
# blib/arch/auto/Foo/Bar/extralibs.all \
# blib/arch/auto/Foo/Bar/extralibs.ld Makefile.aperl \
# *.a *.o \
# *perl.core MYMETA.json \
# MYMETA.yml blibdirs.ts \
# core core.*perl.*.? \
# core.[0-9] core.[0-9][0-9] \
# core.[0-9][0-9][0-9] core.[0-9][0-9][0-9][0-9] \
# core.[0-9][0-9][0-9][0-9][0-9] libBar.def \
# mon.out perl \
# perl perl.exe \
# perlmain.c pm_to_blib \
# pm_to_blib.ts so_locations \
# tmon.out
# rm -rf \
# blib
# mv Makefile Makefile.old > /dev/null 2>&1
# rm -f \
# Makefile Makefile.old
# rm -rf \
# Foo-Bar-0.01 MYMETA.yml
# rm -f Foo-Bar-0.01.tar.gz
# rm -f MANIFEST.bak _build
# "/Volumes/amaretto/Users/ether/perl5/perlbrew/perls/29.9/bin/perl5.29.9" "-Iinc" "-Ilib" "-MModule::Install::Admin" -e "remove_meta()"
# rm -rf inc
# "/Volumes/amaretto/Users/ether/perl5/perlbrew/perls/29.9/bin/perl5.29.9" "-Iinc" "-MExtUtils::Manifest=fullcheck" -e fullcheck
# Problem opening MANIFEST: No such file or directory at /Volumes/amaretto/Users/ether/perl5/perlbrew/perls/29.9/lib/5.29.9/ExtUtils/Manifest.pm line 349.
# Problem opening MANIFEST: No such file or directory at /Volumes/amaretto/Users/ether/perl5/perlbrew/perls/29.9/lib/5.29.9/ExtUtils/Manifest.pm line 349.
# Not in MANIFEST: Makefile.PL
# Not in MANIFEST: README
# Not in MANIFEST: README.pm
t/03_all_from.t ...... ok
All tests successful.
Files=8, Tests=32, 0 wallclock secs ( 0.04 usr 0.02 sys + 2.49 cusr 0.48 csys = 3.03 CPU)
Result: PASS
------------------------------
PREREQUISITES
------------------------------
Prerequisite modules loaded:
No requirements found
------------------------------
ENVIRONMENT AND OTHER CONTEXT
------------------------------
Environment variables:
HARNESS_OPTIONS = j6:c
LANG = en_CA.UTF-8
NO_NETWORK_TESTING = 1
PATH = /Volumes/amaretto/Users/ether/.perlbrew/libs/29.9@std/bin:/Volumes/amaretto/Users/ether/perl5/perlbrew/bin:/Volumes/amaretto/Users/ether/perl5/perlbrew/perls/29.9/bin:/Volumes/amaretto/Users/ether/bin:/Volumes/amaretto/Users/ether/git/misc/install/jaeger/bin:/Volumes/amaretto/Users/ether/git/misc/install/generic/bin:/opt/local/bin:/opt/local/sbin:/Volumes/amaretto/Users/ether/git/git-hub/lib:/usr/local/bin:/usr/bin:/bin:/usr/sbin:/sbin:/opt/local/share/git-core/contrib/workdir
PERL5LIB = /Volumes/amaretto/Users/ether/.perlbrew/libs/29.9@std/lib/perl5
PERLBREW_HOME = /Volumes/amaretto/Users/ether/.perlbrew
PERLBREW_LIB = std
PERLBREW_MANPATH = /Volumes/amaretto/Users/ether/.perlbrew/libs/29.9@std/man:/Volumes/amaretto/Users/ether/perl5/perlbrew/perls/29.9/man
PERLBREW_PATH = /Volumes/amaretto/Users/ether/.perlbrew/libs/29.9@std/bin:/Volumes/amaretto/Users/ether/perl5/perlbrew/bin:/Volumes/amaretto/Users/ether/perl5/perlbrew/perls/29.9/bin
PERLBREW_PERL = 29.9
PERLBREW_ROOT = /Volumes/amaretto/Users/ether/perl5/perlbrew
PERLBREW_SHELLRC_VERSION = 0.86
PERLBREW_VERSION = 0.86
PERLDOC = -oman
PERLDOC_PAGER = less -sicMr
PERL_AUTOINSTALL_PREFER_CPAN = 1
PERL_INSTALL_QUIET = 1
PERL_LOCAL_LIB_ROOT = /Volumes/amaretto/Users/ether/.perlbrew/libs/29.9@std
PERL_MB_OPT = --install_base /Volumes/amaretto/Users/ether/.perlbrew/libs/29.9@std
PERL_MM_OPT = INSTALL_BASE=/Volumes/amaretto/Users/ether/.perlbrew/libs/29.9@std
PERL_USE_UNSAFE_INC = 0
SHELL = /bin/bash
TERM = xterm-color
Perl special variables (and OS-specific diagnostics, for MSWin32):
EGID = 20 20 12 61 79 80 81 98 701 33 100 204 395 398 399
EUID = 502
EXECUTABLE_NAME = /Volumes/amaretto/Users/ether/perl5/perlbrew/perls/29.9/bin/perl5.29.9
GID = 20 20 12 61 79 80 81 98 701 33 100 204 395 398 399
UID = 502
Perl module toolchain versions installed:
Module Have
------------------- --------
CPAN 2.22
CPAN::Meta 2.150010
Cwd 3.77
ExtUtils::CBuilder 0.280230
ExtUtils::Command 7.35_10
ExtUtils::Install 2.14
ExtUtils::MakeMaker 7.35_10
ExtUtils::Manifest 1.72
ExtUtils::ParseXS 3.40
File::Spec 3.77
JSON 4.02
JSON::PP 4.02
Module::Build 0.4224
Module::Signature n/a
Parse::CPAN::Meta 2.150010
Test::Harness 3.42
Test::More 1.302162
YAML 1.27
YAML::Syck 1.31
version 0.9924
--
Summary of my perl5 (revision 5 version 29 subversion 9) configuration:
Platform:
osname=darwin
osvers=16.7.0
archname=darwin-2level
uname='darwin jaeger 16.7.0 darwin kernel version 16.7.0: thu dec 20 21:53:35 pst 2018; root:xnu-3789.73.31~1release_x86_64 x86_64 '
config_args='-de -Dprefix=/Volumes/amaretto/Users/ether/perl5/perlbrew/perls/29.9 -Dman1dir=none -Dman3dir=none -Dusedevel -Aeval:scriptdir=/Volumes/amaretto/Users/ether/perl5/perlbrew/perls/29.9/bin'
hint=recommended
useposix=true
d_sigaction=define
useithreads=undef
usemultiplicity=undef
use64bitint=define
use64bitall=define
uselongdouble=undef
usemymalloc=n
default_inc_excludes_dot=define
bincompat5005=undef
Compiler:
cc='cc'
ccflags ='-fno-common -DPERL_DARWIN -mmacosx-version-min=10.12 -fno-strict-aliasing -pipe -fstack-protector-strong -I/opt/local/include -DPERL_USE_SAFE_PUTENV'
optimize='-O3'
cppflags='-fno-common -DPERL_DARWIN -mmacosx-version-min=10.12 -fno-strict-aliasing -pipe -fstack-protector-strong -I/opt/local/include'
ccversion=''
gccversion='4.2.1 Compatible Apple LLVM 9.0.0 (clang-900.0.39.2)'
gccosandvers=''
intsize=4
longsize=8
ptrsize=8
doublesize=8
byteorder=12345678
doublekind=3
d_longlong=define
longlongsize=8
d_longdbl=define
longdblsize=16
longdblkind=3
ivtype='long'
ivsize=8
nvtype='double'
nvsize=8
Off_t='off_t'
lseeksize=8
alignbytes=8
prototype=define
Linker and Libraries:
ld='cc'
ldflags =' -mmacosx-version-min=10.12 -fstack-protector-strong -L/opt/local/lib'
libpth=/Applications/Xcode.app/Contents/Developer/Toolchains/XcodeDefault.xctoolchain/usr/lib/clang/9.0.0/lib /Applications/Xcode.app/Contents/Developer/Toolchains/XcodeDefault.xctoolchain/usr/lib /usr/lib /opt/local/lib
libs=-lpthread -lgdbm -ldbm -ldl -lm -lutil -lc
perllibs=-lpthread -ldl -lm -lutil -lc
libc=
so=dylib
useshrplib=false
libperl=libperl.a
gnulibc_version=''
Dynamic Linking:
dlsrc=dl_dlopen.xs
dlext=bundle
d_dlsymun=undef
ccdlflags=' '
cccdlflags=' '
lddlflags=' -mmacosx-version-min=10.12 -bundle -undefined dynamic_lookup -L/opt/local/lib -fstack-protector-strong'
Characteristics of this binary (from libperl):
Compile-time options:
HAS_TIMES
PERLIO_LAYERS
PERL_COPY_ON_WRITE
PERL_DONT_CREATE_GVSV
PERL_MALLOC_WRAP
PERL_OP_PARENT
PERL_PRESERVE_IVUV
PERL_USE_DEVEL
PERL_USE_SAFE_PUTENV
USE_64_BIT_ALL
USE_64_BIT_INT
USE_LARGE_FILES
USE_LOCALE
USE_LOCALE_COLLATE
USE_LOCALE_CTYPE
USE_LOCALE_NUMERIC
USE_LOCALE_TIME
USE_PERLIO
USE_PERL_ATOF
Built under darwin
Compiled at Mar 30 2019 15:27:30
%ENV:
PERL5LIB="/Volumes/amaretto/Users/ether/.perlbrew/libs/29.9@std/lib/perl5"
PERLBREW_HOME="/Volumes/amaretto/Users/ether/.perlbrew"
PERLBREW_LIB="std"
PERLBREW_MANPATH="/Volumes/amaretto/Users/ether/.perlbrew/libs/29.9@std/man:/Volumes/amaretto/Users/ether/perl5/perlbrew/perls/29.9/man"
PERLBREW_PATH="/Volumes/amaretto/Users/ether/.perlbrew/libs/29.9@std/bin:/Volumes/amaretto/Users/ether/perl5/perlbrew/bin:/Volumes/amaretto/Users/ether/perl5/perlbrew/perls/29.9/bin"
PERLBREW_PERL="29.9"
PERLBREW_ROOT="/Volumes/amaretto/Users/ether/perl5/perlbrew"
PERLBREW_SHELLRC_VERSION="0.86"
PERLBREW_VERSION="0.86"
PERLDOC="-oman"
PERLDOC_PAGER="less -sicMr"
PERL_AUTOINSTALL_PREFER_CPAN="1"
PERL_INSTALL_QUIET="1"
PERL_LOCAL_LIB_ROOT="/Volumes/amaretto/Users/ether/.perlbrew/libs/29.9@std"
PERL_MB_OPT="--install_base /Volumes/amaretto/Users/ether/.perlbrew/libs/29.9@std"
PERL_MM_OPT="INSTALL_BASE=/Volumes/amaretto/Users/ether/.perlbrew/libs/29.9@std"
PERL_USE_UNSAFE_INC="0"
@INC:
/Volumes/amaretto/Users/ether/.perlbrew/libs/29.9@std/lib/perl5/darwin-2level
/Volumes/amaretto/Users/ether/.perlbrew/libs/29.9@std/lib/perl5
/Volumes/amaretto/Users/ether/perl5/perlbrew/perls/29.9/lib/site_perl/5.29.9/darwin-2level
/Volumes/amaretto/Users/ether/perl5/perlbrew/perls/29.9/lib/site_perl/5.29.9
/Volumes/amaretto/Users/ether/perl5/perlbrew/perls/29.9/lib/5.29.9/darwin-2level
/Volumes/amaretto/Users/ether/perl5/perlbrew/perls/29.9/lib/5.29.9