ParseUtil-Domain v2.427 Perl 5 v5.14.4 amd64-freebsd

Status
Pass
From
Slaven Rezić (SREZIC)
Dist
ParseUtil-Domain v2.427
Platform
Perl 5 v5.14.4 amd64-freebsd
Date
2017-10-18 04:45:26
ID
29138f00-b3bf-11e7-86b4-dbfc162c387c
This distribution has been tested as part of the CPAN Testers
project, supporting the Perl programming language.  See
http://wiki.cpantesters.org/ for more information or email
questions to cpan-testers-discuss@perl.org


--
Dear William Travis Holton,

This is a computer-generated report for ParseUtil-Domain-2.427
on perl 5.14.4, created by CPAN-Reporter-1.2018.

Thank you for uploading your work to CPAN.  Congratulations!
All tests were successful.

Sections of this report:

    * Tester comments
    * Program output
    * Prerequisites
    * Environment and other context

------------------------------
TESTER COMMENTS
------------------------------

Additional comments from tester:

none provided

------------------------------
PROGRAM OUTPUT
------------------------------

Output from '/usr/bin/make test':

PERL_DL_NONLAZY=1 "/usr/perl5.14.4/bin/perl" "-MExtUtils::Command::MM" "-MTest::Harness" "-e" "undef *Test::Harness::Switches; test_harness(0, 'blib/lib', 'blib/arch')" t/*.t
# 
# Versions for all modules listed in MYMETA.json (including optional ones):
# 
# === Configure Requires ===
# 
#     Module              Want Have
#     ------------------- ---- ----
#     ExtUtils::MakeMaker  any 7.24
# 
# === Build Requires ===
# 
#     Module              Want Have
#     ------------------- ---- ----
#     ExtUtils::MakeMaker  any 7.24
# 
# === Test Requires ===
# 
#     Module               Want     Have
#     -------------------- ---- --------
#     English               any     1.04
#     ExtUtils::MakeMaker   any     7.24
#     File::Spec            any     3.62
#     Mock::Quick           any    1.111
#     Moose                 any   2.2006
#     Test::Class           any     0.50
#     Test::Deep            any    1.127
#     Test::Exception       any     0.43
#     Test::More            any 1.302101
#     Test::Perl::Critic    any     1.03
#     Test::Routine         any    0.023
#     Test::Routine::Util   any    0.023
#     namespace::autoclean  any     0.28
#     parent                any    0.236
#     strict                any     1.04
#     utf8                  any     1.09
#     warnings              any     1.12
# 
# === Test Recommends ===
# 
#     Module         Want     Have
#     ---------- -------- --------
#     CPAN::Meta 2.120900 2.150010
# 
# === Runtime Requires ===
# 
#     Module             Want       Have
#     ------------------ ---- ----------
#     Carp                any       1.38
#     Exporter            any       5.72
#     Getopt::Long        any       2.49
#     List::MoreUtils     any      0.425
#     Modern::Perl        any 1.20170117
#     Net::IDN::Encode    any      2.301
#     Net::IDN::Nameprep  any      1.101
#     Net::IDN::Punycode  any      1.102
#     autobox             any       2.85
#     autobox::Core       any       1.32
#     charnames           any       1.18
# 
t/00-report-prereqs.t ......... ok
t/error_behaviour.t ........... ok
t/parse_ascii.t ............... ok
t/parse_ascii_test_routine.t .. ok
t/parse_idn.t ................. ok
t/perlcritic.t ................ skipped: Author test. Set $ENV{TEST_AUTHOR} to a true value to run.
t/public_suffix_test.t ........ ok
t/undefined_mapping.t ......... ok
All tests successful.
Files=8, Tests=112,  5 wallclock secs ( 0.01 usr  0.07 sys +  1.45 cusr  0.30 csys =  1.84 CPU)
Result: PASS

------------------------------
PREREQUISITES
------------------------------

Prerequisite modules loaded:

requires:

    Module               Need Have      
    -------------------- ---- ----------
    autobox              0    2.85      
    autobox::Core        0    1.32      
    Carp                 0    1.38      
    charnames            0    1.18      
    Exporter             0    5.72      
    Getopt::Long         0    2.49      
    List::MoreUtils      0    0.425     
    Modern::Perl         0    1.20170117
    Net::IDN::Encode     0    2.301     
    Net::IDN::Nameprep   0    1.101     
    Net::IDN::Punycode   0    1.102     

build_requires:

    Module               Need Have      
    -------------------- ---- ----------
    English              0    1.04      
    ExtUtils::MakeMaker  0    7.24      
    File::Spec           0    3.62      
    Mock::Quick          0    1.111     
    Moose                0    2.2006    
    namespace::autoclean 0    0.28      
    parent               0    0.236     
    strict               0    1.04      
    Test::Class          0    0.50      
    Test::Deep           0    1.127     
    Test::Exception      0    0.43      
    Test::More           0    1.302101  
    Test::Perl::Critic   0    1.03      
    Test::Routine        0    0.023     
    Test::Routine::Util  0    0.023     
    utf8                 0    1.09      
    warnings             0    1.12      

configure_requires:

    Module               Need Have      
    -------------------- ---- ----------
    ExtUtils::MakeMaker  0    7.24      


------------------------------
ENVIRONMENT AND OTHER CONTEXT
------------------------------

Environment variables:

    LC_ALL = de_DE.ISO8859-1
    PATH = /usr/local/bin:/usr/bin:/bin:/usr/local/sbin:/usr/sbin:/sbin:/home/cpansand/bin/freebsd9.3:/home/cpansand/bin/sh:/home/cpansand/bin:/usr/games:/home/cpansand/devel:/usr/home/eserte/src/srezic-misc/scripts
    PERL5LIB = 
    PERL5OPT = 
    PERL5_CPANPLUS_IS_RUNNING = 86369
    PERL5_CPAN_IS_RUNNING = 86369
    PERL5_CPAN_IS_RUNNING_IN_RECURSION = 86325,86369
    PERLDOC = -MPod::Perldoc::ToTextOverstrike
    PERL_BATCH = yes
    PERL_CANARY_STABILITY_NOPROMPT = 1
    PERL_CPAN_REPORTER_CONFIG = /var/tmp/cpansmoker-1023/2017101806/cpanreporter_000_config.ini
    PERL_EXTUTILS_AUTOINSTALL = --defaultdeps
    SHELL = /usr/local/bin/zsh
    TERM = screen
    TMPDIR = /var/tmp/cpansmoker-1023/2017101806

Perl special variables (and OS-specific diagnostics, for MSWin32):

    $^X = /usr/perl5.14.4/bin/perl
    $UID/$EUID = 1023 / 1023
    $GID = 1023 1023
    $EGID = 1023 1023

Perl module toolchain versions installed:

    Module              Have    
    ------------------- --------
    CPAN                2.16    
    CPAN::Meta          2.150010
    Cwd                 3.62    
    ExtUtils::CBuilder  0.280226
    ExtUtils::Command   7.24    
    ExtUtils::Install   2.12    
    ExtUtils::MakeMaker 7.24    
    ExtUtils::Manifest  1.70    
    ExtUtils::ParseXS   3.35    
    File::Spec          3.62    
    JSON                2.94    
    JSON::PP            2.94    
    Module::Build       0.4224  
    Module::Signature   0.81    
    Parse::CPAN::Meta   2.150010
    Test::Harness       3.39    
    Test::More          1.302101
    YAML                1.20    
    YAML::Syck          1.30    
    version             0.9918  


--

Summary of my perl5 (revision 5 version 14 subversion 4) configuration:
   
  Platform:
    osname=freebsd, osvers=9.2-release-p4, archname=amd64-freebsd
    uname='freebsd cvrsnica-freebsd-92 9.2-release-p4 freebsd 9.2-release-p4 #0: tue apr 8 18:08:22 utc 2014 root@amd64-builder.daemonology.net:usrobjusrsrcsysgeneric amd64 '
    config_args='-ds -e -Dprefix=/usr/perl5.14.4'
    hint=recommended, useposix=true, d_sigaction=define
    useithreads=undef, usemultiplicity=undef
    useperlio=define, d_sfio=undef, uselargefiles=define, usesocks=undef
    use64bitint=define, use64bitall=define, uselongdouble=undef
    usemymalloc=n, bincompat5005=undef
  Compiler:
    cc='cc', ccflags ='-DHAS_FPSETMASK -DHAS_FLOATINGPOINT_H -fno-strict-aliasing -pipe -fstack-protector -I/usr/local/include',
    optimize='-O',
    cppflags='-DHAS_FPSETMASK -DHAS_FLOATINGPOINT_H -fno-strict-aliasing -pipe -fstack-protector -I/usr/local/include'
    ccversion='', gccversion='4.2.1 20070831 patched [FreeBSD]', gccosandvers=''
    intsize=4, longsize=8, ptrsize=8, doublesize=8, byteorder=12345678
    d_longlong=define, longlongsize=8, d_longdbl=define, longdblsize=16
    ivtype='long', ivsize=8, nvtype='double', nvsize=8, Off_t='off_t', lseeksize=8
    alignbytes=8, prototype=define
  Linker and Libraries:
    ld='cc', ldflags ='-Wl,-E  -fstack-protector -L/usr/local/lib'
    libpth=/usr/lib /usr/local/lib
    libs=-lgdbm -lm -lcrypt -lutil -lc
    perllibs=-lm -lcrypt -lutil -lc
    libc=, so=so, useshrplib=false, libperl=libperl.a
    gnulibc_version=''
  Dynamic Linking:
    dlsrc=dl_dlopen.xs, dlext=so, d_dlsymun=undef, ccdlflags=' '
    cccdlflags='-DPIC -fPIC', lddlflags='-shared  -L/usr/local/lib -fstack-protector'


Characteristics of this binary (from libperl): 
  Compile-time options: PERL_DONT_CREATE_GVSV PERL_MALLOC_WRAP
                        PERL_PRESERVE_IVUV USE_64_BIT_ALL USE_64_BIT_INT
                        USE_LARGE_FILES USE_PERLIO USE_PERL_ATOF
  Built under freebsd
  Compiled at May 16 2014 00:20:44
  %ENV:
    PERL5LIB=""
    PERL5OPT=""
    PERL5_CPANPLUS_IS_RUNNING="86369"
    PERL5_CPAN_IS_RUNNING="86369"
    PERL5_CPAN_IS_RUNNING_IN_RECURSION="86325,86369"
    PERLDOC="-MPod::Perldoc::ToTextOverstrike"
    PERL_BATCH="yes"
    PERL_CANARY_STABILITY_NOPROMPT="1"
    PERL_CPAN_REPORTER_CONFIG="/var/tmp/cpansmoker-1023/2017101806/cpanreporter_000_config.ini"
    PERL_EXTUTILS_AUTOINSTALL="--defaultdeps"
  @INC:
    /usr/perl5.14.4/lib/site_perl/5.14.4/amd64-freebsd
    /usr/perl5.14.4/lib/site_perl/5.14.4
    /usr/perl5.14.4/lib/5.14.4/amd64-freebsd
    /usr/perl5.14.4/lib/5.14.4
    .