Back
From: metabase:user:21427c7c-6c1b-1014-a310-4ed93fdd96d6
Subject: PASS Class-MethodMaker-2.18 v5.17.6 GNU/Linux
Date: 2012-12-06T22:13:27Z
This distribution has been tested as part of the CPAN Testers
project, supporting the Perl programming language. See
http://wiki.cpantesters.org/ for more information or email
questions to cpan-testers-discuss@perl.org
--
Dear Steffen Schwigon,
This is a computer-generated report for Class-MethodMaker-2.18
on perl 5.17.6, created by CPAN-Reporter-1.2006.
Thank you for uploading your work to CPAN. Congratulations!
All tests were successful.
Sections of this report:
* Tester comments
* Program output
* Prerequisites
* Environment and other context
------------------------------
TESTER COMMENTS
------------------------------
Additional comments from tester:
none provided
------------------------------
PROGRAM OUTPUT
------------------------------
Output from '/usr/bin/make test':
PERL_DL_NONLAZY=1 /home/jm/perl5/perlbrew/perls/perl-5.17.6/bin/perl5.17.6 "-MExtUtils::Command::MM" "-e" "test_harness(0, 'blib/lib', 'blib/arch')" t/*.t
t/array.t .................. ok
t/basic.t .................. ok
t/diffclass.t .............. ok
t/hash.t ................... ok
t/new.t .................... ok
t/redefine-warnings.t ...... ok
t/scalar.t ................. ok
Unescaped left brace in regex is deprecated, passed through in regex; marked by <-- HERE in m/(TEST\s{ <-- HERE )/ at t/test_v1.pm line 48.
t/v1_abstract.t ............ ok
Unescaped left brace in regex is deprecated, passed through in regex; marked by <-- HERE in m/(TEST\s{ <-- HERE )/ at t/test_v1.pm line 48.
t/v1_boolean.t ............. ok
Unescaped left brace in regex is deprecated, passed through in regex; marked by <-- HERE in m/(TEST\s{ <-- HERE )/ at t/test_v1.pm line 48.
t/v1_code.t ................ ok
Unescaped left brace in regex is deprecated, passed through in regex; marked by <-- HERE in m/(TEST\s{ <-- HERE )/ at t/test_v1.pm line 48.
t/v1_copy.t ................ ok
Unescaped left brace in regex is deprecated, passed through in regex; marked by <-- HERE in m/(TEST\s{ <-- HERE )/ at t/test_v1.pm line 48.
t/v1_counter.t ............. ok
Unescaped left brace in regex is deprecated, passed through in regex; marked by <-- HERE in m/(TEST\s{ <-- HERE )/ at t/test_v1.pm line 48.
t/v1_get_concat.t .......... ok
Unescaped left brace in regex is deprecated, passed through in regex; marked by <-- HERE in m/(TEST\s{ <-- HERE )/ at t/test_v1.pm line 48.
t/v1_get_set.t ............. ok
Unescaped left brace in regex is deprecated, passed through in regex; marked by <-- HERE in m/(TEST\s{ <-- HERE )/ at t/test_v1.pm line 48.
t/v1_get_set_hi.t .......... ok
Unescaped left brace in regex is deprecated, passed through in regex; marked by <-- HERE in m/(TEST\s{ <-- HERE )/ at t/test_v1.pm line 48.
t/v1_hash.t ................ ok
Unescaped left brace in regex is deprecated, passed through in regex; marked by <-- HERE in m/(TEST\s{ <-- HERE )/ at t/test_v1.pm line 48.
t/v1_key_attrib.t .......... ok
Unescaped left brace in regex is deprecated, passed through in regex; marked by <-- HERE in m/(TEST\s{ <-- HERE )/ at t/test_v1.pm line 48.
t/v1_key_with_create.t ..... ok
Unescaped left brace in regex is deprecated, passed through in regex; marked by <-- HERE in m/(TEST\s{ <-- HERE )/ at t/test_v1.pm line 48.
t/v1_list.t ................ ok
Unescaped left brace in regex is deprecated, passed through in regex; marked by <-- HERE in m/(TEST\s{ <-- HERE )/ at t/test_v1.pm line 48.
t/v1_method.t .............. ok
Unescaped left brace in regex is deprecated, passed through in regex; marked by <-- HERE in m/(TEST\s{ <-- HERE )/ at t/test_v1.pm line 48.
t/v1_new.t ................. ok
Unescaped left brace in regex is deprecated, passed through in regex; marked by <-- HERE in m/(TEST\s{ <-- HERE )/ at t/test_v1.pm line 48.
t/v1_new_hash_with_init.t .. ok
Unescaped left brace in regex is deprecated, passed through in regex; marked by <-- HERE in m/(TEST\s{ <-- HERE )/ at t/test_v1.pm line 48.
t/v1_object.t .............. ok
Unescaped left brace in regex is deprecated, passed through in regex; marked by <-- HERE in m/(TEST\s{ <-- HERE )/ at t/test_v1.pm line 48.
t/v1_object_list.t ......... ok
Unescaped left brace in regex is deprecated, passed through in regex; marked by <-- HERE in m/(TEST\s{ <-- HERE )/ at t/test_v1.pm line 48.
t/v1_object_tie_hash.t ..... ok
Unescaped left brace in regex is deprecated, passed through in regex; marked by <-- HERE in m/(TEST\s{ <-- HERE )/ at t/test_v1.pm line 48.
t/v1_object_tie_list.t ..... ok
Unescaped left brace in regex is deprecated, passed through in regex; marked by <-- HERE in m/(TEST\s{ <-- HERE )/ at t/test_v1.pm line 48.
t/v1_set_once.t ............ ok
Unescaped left brace in regex is deprecated, passed through in regex; marked by <-- HERE in m/(TEST\s{ <-- HERE )/ at t/test_v1.pm line 48.
t/v1_set_once_static.t ..... ok
Unescaped left brace in regex is deprecated, passed through in regex; marked by <-- HERE in m/(TEST\s{ <-- HERE )/ at t/test_v1.pm line 48.
t/v1_singleton.t ........... ok
Unescaped left brace in regex is deprecated, passed through in regex; marked by <-- HERE in m/(TEST\s{ <-- HERE )/ at t/test_v1.pm line 48.
t/v1_static_get_set.t ...... ok
Unescaped left brace in regex is deprecated, passed through in regex; marked by <-- HERE in m/(TEST\s{ <-- HERE )/ at t/test_v1.pm line 48.
t/v1_static_hash.t ......... ok
Unescaped left brace in regex is deprecated, passed through in regex; marked by <-- HERE in m/(TEST\s{ <-- HERE )/ at t/test_v1.pm line 48.
t/v1_static_list.t ......... ok
Unescaped left brace in regex is deprecated, passed through in regex; marked by <-- HERE in m/(TEST\s{ <-- HERE )/ at t/test_v1.pm line 48.
t/v1_tie_hash.t ............ ok
Unescaped left brace in regex is deprecated, passed through in regex; marked by <-- HERE in m/(TEST\s{ <-- HERE )/ at t/test_v1.pm line 48.
t/v1_tie_list.t ............ ok
Unescaped left brace in regex is deprecated, passed through in regex; marked by <-- HERE in m/(TEST\s{ <-- HERE )/ at t/test_v1.pm line 48.
t/v1_tie_scalar.t .......... ok
t/warnings.t ............... ok
All tests successful.
Files=36, Tests=1757, 24 wallclock secs ( 0.68 usr 0.09 sys + 6.21 cusr 0.63 csys = 7.61 CPU)
Result: PASS
------------------------------
PREREQUISITES
------------------------------
Prerequisite modules loaded:
requires:
Module Need Have
------------------- ----- --------
perl 5.006 5.017006
build_requires:
Module Need Have
------------------- ----- --------
ExtUtils::MakeMaker 0 6.63_02
configure_requires:
Module Need Have
------------------- ----- --------
ExtUtils::MakeMaker 0 6.63_02
------------------------------
ENVIRONMENT AND OTHER CONTEXT
------------------------------
Environment variables:
LANG = pl_PL.UTF-8
LC_COLLATE = pl_PL.UTF-8
LC_MESSAGES = C
PATH = /home/jm/perl5/perlbrew/bin:/home/jm/perl5/perlbrew/perls/perl-5.17.6/bin:/usr/bin:/home/jm/perl5/perlbrew/bin:/usr/local/bin:/usr/bin:/bin:/usr/games:/usr/lib/kde4/libexec:/usr/lib/qt/bin:.
PERL5LIB =
PERL5OPT =
PERL5_CPANPLUS_IS_RUNNING = 2615
PERL5_CPAN_IS_RUNNING = 2615
PERLBREW_BASHRC_VERSION = 0.55
PERLBREW_HOME = /home/jm/.perlbrew
PERLBREW_MANPATH = /home/jm/perl5/perlbrew/perls/perl-5.17.6/man
PERLBREW_PATH = /home/jm/perl5/perlbrew/bin:/home/jm/perl5/perlbrew/perls/perl-5.17.6/bin
PERLBREW_PERL = perl-5.17.6
PERLBREW_ROOT = /home/jm/perl5/perlbrew
PERLBREW_VERSION = 0.58
SHELL = /bin/bash
TERM = xterm
Perl special variables (and OS-specific diagnostics, for MSWin32):
$^X = /home/jm/perl5/perlbrew/perls/perl-5.17.6/bin/perl5.17.6
$UID/$EUID = 1000 / 1000
$GID = 100 6 10 17 18 19 83 84 93 94 100 1000
$EGID = 100 6 10 17 18 19 83 84 93 94 100 1000
Perl module toolchain versions installed:
Module Have
------------------- --------
CPAN 1.99_51
CPAN::Meta 2.120921
Cwd 3.39_02
ExtUtils::CBuilder 0.280209
ExtUtils::Command 1.17
ExtUtils::Install 1.58
ExtUtils::MakeMaker 6.63_02
ExtUtils::Manifest 1.62
ExtUtils::ParseXS 3.18
File::Spec 3.39_02
JSON 2.53
JSON::PP 2.27200
Module::Build 0.4003
Module::Signature n/a
Parse::CPAN::Meta 1.4404
Test::Harness 3.25_01
Test::More 0.98
YAML 0.84
YAML::Syck n/a
version 0.9901
--
Summary of my perl5 (revision 5 version 17 subversion 6) configuration:
Platform:
osname=linux, osvers=3.2.29-smp, archname=i686-linux
uname='linux darkstar 3.2.29-smp #2 smp mon sep 17 13:16:43 cdt 2012 i686 intel(r) celeron(r) cpu 3.06ghz genuineintel gnulinux '
config_args='-de -Dprefix=/home/jm/perl5/perlbrew/perls/perl-5.17.6 -Dmad -Doptimize=-march=i486 -mtune=i686 -O2 -Dusedevel -Aeval:scriptdir=/home/jm/perl5/perlbrew/perls/perl-5.17.6/bin'
hint=recommended, useposix=true, d_sigaction=define
useithreads=undef, usemultiplicity=undef
useperlio=define, d_sfio=undef, uselargefiles=define, usesocks=undef
use64bitint=undef, use64bitall=undef, uselongdouble=undef
usemymalloc=n, bincompat5005=undef
Compiler:
cc='cc', ccflags ='-fno-strict-aliasing -pipe -fstack-protector -I/usr/local/include -D_LARGEFILE_SOURCE -D_FILE_OFFSET_BITS=64',
optimize='-march=i486 -mtune=i686 -O2',
cppflags='-fno-strict-aliasing -pipe -fstack-protector -I/usr/local/include'
ccversion='', gccversion='4.7.1', gccosandvers=''
intsize=4, longsize=4, ptrsize=4, doublesize=8, byteorder=1234
d_longlong=define, longlongsize=8, d_longdbl=define, longdblsize=12
ivtype='long', ivsize=4, nvtype='double', nvsize=8, Off_t='off_t', lseeksize=8
alignbytes=4, prototype=define
Linker and Libraries:
ld='cc', ldflags =' -fstack-protector -L/usr/local/lib'
libpth=/usr/local/lib /lib /usr/lib
libs=-lnsl -lgdbm -ldb -ldl -lm -lcrypt -lutil -lc
perllibs=-lnsl -ldl -lm -lcrypt -lutil -lc
libc=/lib/libc-2.15.so, so=so, useshrplib=false, libperl=libperl.a
gnulibc_version='2.15'
Dynamic Linking:
dlsrc=dl_dlopen.xs, dlext=so, d_dlsymun=undef, ccdlflags='-Wl,-E'
cccdlflags='-fPIC', lddlflags='-shared -march=i486 -mtune=i686 -O2 -L/usr/local/lib -fstack-protector'
Characteristics of this binary (from libperl):
Compile-time options: HAS_TIMES PERLIO_LAYERS PERL_DONT_CREATE_GVSV
PERL_MAD PERL_MALLOC_WRAP PERL_PRESERVE_IVUV
PERL_USE_DEVEL USE_LARGE_FILES USE_LOCALE
USE_LOCALE_COLLATE USE_LOCALE_CTYPE
USE_LOCALE_NUMERIC USE_PERLIO USE_PERL_ATOF
Built under linux
Compiled at Nov 24 2012 22:26:28
%ENV:
PERL5LIB=""
PERL5OPT=""
PERL5_CPANPLUS_IS_RUNNING="2615"
PERL5_CPAN_IS_RUNNING="2615"
PERLBREW_BASHRC_VERSION="0.55"
PERLBREW_HOME="/home/jm/.perlbrew"
PERLBREW_MANPATH="/home/jm/perl5/perlbrew/perls/perl-5.17.6/man"
PERLBREW_PATH="/home/jm/perl5/perlbrew/bin:/home/jm/perl5/perlbrew/perls/perl-5.17.6/bin"
PERLBREW_PERL="perl-5.17.6"
PERLBREW_ROOT="/home/jm/perl5/perlbrew"
PERLBREW_VERSION="0.58"
@INC:
/home/jm/perl5/perlbrew/perls/perl-5.17.6/lib/site_perl/5.17.6/i686-linux
/home/jm/perl5/perlbrew/perls/perl-5.17.6/lib/site_perl/5.17.6
/home/jm/perl5/perlbrew/perls/perl-5.17.6/lib/5.17.6/i686-linux
/home/jm/perl5/perlbrew/perls/perl-5.17.6/lib/5.17.6
.