Math-Int128 v0.22 Perl 5 v5.16.0 x86_64-linux

Status
Pass
From
Nigel Horne
Dist
Math-Int128 v0.22
Platform
Perl 5 v5.16.0 x86_64-linux
Date
2020-01-21 09:19:43
ID
28f0b584-3c2f-11ea-81bc-fd49b518dca7
This distribution has been tested as part of the CPAN Testers
project, supporting the Perl programming language.  See
http://wiki.cpantesters.org/ for more information or email
questions to cpan-testers-discuss@perl.org


--
Dear Salvador Fandino Garcia,

This is a computer-generated report for Math-Int128-0.22
on perl 5.16.0, created by CPAN-Reporter-1.2018.

Thank you for uploading your work to CPAN.  Congratulations!
All tests were successful.

Sections of this report:

    * Tester comments
    * Program output
    * Prerequisites
    * Environment and other context

------------------------------
TESTER COMMENTS
------------------------------

Additional comments from tester:

this report is from an automated smoke testing program
and was not reviewed by a human for accuracy

------------------------------
PROGRAM OUTPUT
------------------------------

Output from '/usr/bin/make test':

"/home/njh/perl5/perlbrew/perls/perl-5.16.0-clang/bin/perl5.16.0" -MExtUtils::Command::MM -e 'cp_nonempty' -- Int128.bs blib/arch/auto/Math/Int128/Int128.bs 644
PERL_DL_NONLAZY=1 "/home/njh/perl5/perlbrew/perls/perl-5.16.0-clang/bin/perl5.16.0" "-MExtUtils::Command::MM" "-MTest::Harness" "-e" "undef *Test::Harness::Switches; test_harness(0, 'blib/lib', 'blib/arch')" t/*.t
t/author-eol.t ............ skipped: these tests are for testing by the author
t/author-no-tabs.t ........ skipped: these tests are for testing by the author
t/author-pod-spell.t ...... skipped: these tests are for testing by the author
t/release-portability.t ... skipped: these tests are for release candidate testing
t/release-pod-syntax.t .... skipped: these tests are for release candidate testing
t/release-cpan-changes.t .. skipped: these tests are for release candidate testing
t/bugs.t .................. ok
t/release-synopsis.t ...... skipped: these tests are for release candidate testing
t/00-compile.t ............ ok
# 
# Versions for all modules listed in MYMETA.json (including optional ones):
# 
# === Configure Requires ===
# 
#     Module              Want Have
#     ------------------- ---- ----
#     ExtUtils::MakeMaker  any 7.42
# 
# === Build Requires ===
# 
#     Module              Want Have
#     ------------------- ---- ----
#     ExtUtils::MakeMaker  any 7.42
# 
# === Test Requires ===
# 
#     Module              Want     Have
#     ------------------- ---- --------
#     ExtUtils::MakeMaker  any     7.42
#     File::Spec           any  3.39_02
#     IO::Handle           any     1.33
#     IPC::Open3           any     1.12
#     Math::BigInt         any    1.998
#     Test::More          0.96 1.302171
#     integer              any     1.00
# 
# === Test Recommends ===
# 
#     Module         Want     Have
#     ---------- -------- --------
#     CPAN::Meta 2.120900 2.150010
# 
# === Runtime Requires ===
# 
#     Module      Want Have
#     ----------- ---- ----
#     Exporter     any 5.66
#     Math::Int64 0.51 0.54
#     XSLoader     any 0.16
#     constant     any 1.23
#     overload     any 1.18
#     strict       any 1.07
#     warnings     any 1.13
# 
t/00-report-prereqs.t ..... ok
t/Math-UInt128.t .......... ok
t/Math-Int128.t ........... ok
All tests successful.
Files=12, Tests=2177,  1 wallclock secs ( 0.13 usr  0.00 sys +  0.75 cusr  0.15 csys =  1.03 CPU)
Result: PASS

------------------------------
PREREQUISITES
------------------------------

Prerequisite modules loaded:

requires:

    Module              Need  Have    
    ------------------- ----- --------
    constant            0     1.23    
    Exporter            0     5.66    
    Math::Int64         0.51  0.54    
    overload            0     1.18    
    perl                5.006 5.016000
    strict              0     1.07    
    warnings            0     1.13    
    XSLoader            0     0.16    

build_requires:

    Module              Need  Have    
    ------------------- ----- --------
    ExtUtils::MakeMaker 0     7.42    
    File::Spec          0     3.39_02 
    integer             0     1.00    
    IO::Handle          0     1.33    
    IPC::Open3          0     1.12    
    Math::BigInt        0     1.998   
    Test::More          0.96  1.302171

configure_requires:

    Module              Need  Have    
    ------------------- ----- --------
    ExtUtils::MakeMaker 0     7.42    


------------------------------
ENVIRONMENT AND OTHER CONTEXT
------------------------------

Environment variables:

    AUTOMATED_TESTING = 1
    HARNESS_OPTIONS = j10
    LANG = en_GB.UTF-8
    NONINTERACTIVE_TESTING = 1
    PATH = /home/njh/perl5/perlbrew/bin:/home/njh/perl5/perlbrew/perls/perl-5.16.0-clang/bin:/usr/bin:/bin:/home/njh/src/njh/smoker/bin
    PERL5LIB = /tmp/user/1000/build/Math-Int64-0.54-1/blib/arch:/tmp/user/1000/build/Math-Int64-0.54-1/blib/lib:/tmp/user/1000/build/Data-Validate-IP-0.27-1/blib/arch:/tmp/user/1000/build/Data-Validate-IP-0.27-1/blib/lib:/tmp/user/1000/build/NetAddr-IP-4.079-1/blib/arch:/tmp/user/1000/build/NetAddr-IP-4.079-1/blib/lib
    PERL5OPT = 
    PERL5_CPANPLUS_IS_RUNNING = 1379594
    PERL5_CPAN_IS_RUNNING = 1379594
    PERL5_CPAN_IS_RUNNING_IN_RECURSION = 1379577,1379594
    PERLBREW_HOME = /home/njh/.perlbrew
    PERLBREW_MANPATH = /home/njh/perl5/perlbrew/perls/perl-5.16.0-clang/man
    PERLBREW_PATH = /home/njh/perl5/perlbrew/bin:/home/njh/perl5/perlbrew/perls/perl-5.16.0-clang/bin
    PERLBREW_PERL = perl-5.16.0-clang
    PERLBREW_ROOT = /home/njh/perl5/perlbrew
    PERLBREW_SHELLRC_VERSION = 0.87
    PERLBREW_VERSION = 0.87
    PERL_MM_USE_DEFAULT = 1
    PERL_USE_UNSAFE_INC = 1
    SHELL = /bin/sh
    TEMP = /tmp/user/1000
    TMPDIR = /tmp/user/1000/testwrapper.1379580

Perl special variables (and OS-specific diagnostics, for MSWin32):

    $^X = /home/njh/perl5/perlbrew/perls/perl-5.16.0-clang/bin/perl5.16.0
    $UID/$EUID = 1000 / 1000
    $GID = 1000 4 24 25 29 30 44 46 107 112 118 996 1000
    $EGID = 1000 4 24 25 29 30 44 46 107 112 118 996 1000

Perl module toolchain versions installed:

    Module              Have    
    ------------------- --------
    CPAN                2.27    
    CPAN::Meta          2.150010
    Cwd                 3.39_02 
    ExtUtils::CBuilder  0.280206
    ExtUtils::Command   7.42    
    ExtUtils::Install   2.06    
    ExtUtils::MakeMaker 7.42    
    ExtUtils::Manifest  1.70    
    ExtUtils::ParseXS   3.16    
    File::Spec          3.39_02 
    JSON                4.02    
    JSON::PP            4.04    
    Module::Build       0.4229  
    Module::Signature   n/a     
    Parse::CPAN::Meta   2.150010
    Test::Harness       3.42    
    Test::More          1.302171
    YAML                1.29    
    YAML::Syck          1.31    
    version             0.99    


--

Summary of my perl5 (revision 5 version 16 subversion 0) configuration:
   
  Platform:
    osname=linux, osvers=5.2.0-3-amd64, archname=x86_64-linux
    uname='linux microcenter 5.2.0-3-amd64 #1 smp debian 5.2.17-1 (2019-09-26) x86_64 gnulinux '
    config_args='-de -Dprefix=/home/njh/perl5/perlbrew/perls/perl-5.16.0-clang -Dusedevel -Dcc=clang -Accflags= -Aeval:scriptdir=/home/njh/perl5/perlbrew/perls/perl-5.16.0-clang/bin'
    hint=recommended, useposix=true, d_sigaction=define
    useithreads=undef, usemultiplicity=undef
    useperlio=define, d_sfio=undef, uselargefiles=define, usesocks=undef
    use64bitint=define, use64bitall=define, uselongdouble=undef
    usemymalloc=n, bincompat5005=undef
  Compiler:
    cc='clang', ccflags ='-fno-strict-aliasing -pipe -fstack-protector -I/usr/local/include -D_LARGEFILE_SOURCE -D_FILE_OFFSET_BITS=64',
    optimize='-O2',
    cppflags='-fno-strict-aliasing -pipe -fstack-protector -I/usr/local/include'
    ccversion='', gccversion='4.2.1 Compatible Clang 8.0.1 (tags/RELEASE_801/final)', gccosandvers=''
    intsize=4, longsize=8, ptrsize=8, doublesize=8, byteorder=12345678
    d_longlong=define, longlongsize=8, d_longdbl=define, longdblsize=16
    ivtype='long', ivsize=8, nvtype='double', nvsize=8, Off_t='off_t', lseeksize=8
    alignbytes=8, prototype=define
  Linker and Libraries:
    ld='clang', ldflags =' -fstack-protector -L/usr/local/lib'
    libpth=/usr/local/lib /lib/x86_64-linux-gnu /lib/../lib /usr/lib/x86_64-linux-gnu /usr/lib/../lib /lib /usr/lib
    libs=-lnsl -lgdbm -ldb -ldl -lm -lcrypt -lutil -lc
    perllibs=-lnsl -ldl -lm -lcrypt -lutil -lc
    libc=libc-2.29.so, so=so, useshrplib=false, libperl=libperl.a
    gnulibc_version='2.29'
  Dynamic Linking:
    dlsrc=dl_dlopen.xs, dlext=so, d_dlsymun=undef, ccdlflags='-Wl,-E'
    cccdlflags='-fPIC', lddlflags='-shared -O2 -L/usr/local/lib -fstack-protector'


Characteristics of this binary (from libperl): 
  Compile-time options: HAS_TIMES PERLIO_LAYERS PERL_DONT_CREATE_GVSV
                        PERL_MALLOC_WRAP PERL_PRESERVE_IVUV PERL_USE_DEVEL
                        USE_64_BIT_ALL USE_64_BIT_INT USE_LARGE_FILES
                        USE_LOCALE USE_LOCALE_COLLATE USE_LOCALE_CTYPE
                        USE_LOCALE_NUMERIC USE_PERLIO USE_PERL_ATOF
  Built under linux
  Compiled at Nov  7 2019 01:18:29
  %ENV:
    PERL5LIB="/tmp/user/1000/build/Math-Int64-0.54-1/blib/arch:/tmp/user/1000/build/Math-Int64-0.54-1/blib/lib:/tmp/user/1000/build/Data-Validate-IP-0.27-1/blib/arch:/tmp/user/1000/build/Data-Validate-IP-0.27-1/blib/lib:/tmp/user/1000/build/NetAddr-IP-4.079-1/blib/arch:/tmp/user/1000/build/NetAddr-IP-4.079-1/blib/lib"
    PERL5OPT=""
    PERL5_CPANPLUS_IS_RUNNING="1379594"
    PERL5_CPAN_IS_RUNNING="1379594"
    PERL5_CPAN_IS_RUNNING_IN_RECURSION="1379577,1379594"
    PERLBREW_HOME="/home/njh/.perlbrew"
    PERLBREW_MANPATH="/home/njh/perl5/perlbrew/perls/perl-5.16.0-clang/man"
    PERLBREW_PATH="/home/njh/perl5/perlbrew/bin:/home/njh/perl5/perlbrew/perls/perl-5.16.0-clang/bin"
    PERLBREW_PERL="perl-5.16.0-clang"
    PERLBREW_ROOT="/home/njh/perl5/perlbrew"
    PERLBREW_SHELLRC_VERSION="0.87"
    PERLBREW_VERSION="0.87"
    PERL_MM_USE_DEFAULT="1"
    PERL_USE_UNSAFE_INC="1"
  @INC:
    /tmp/user/1000/build/Math-Int64-0.54-1/blib/arch
    /tmp/user/1000/build/Math-Int64-0.54-1/blib/lib
    /tmp/user/1000/build/Data-Validate-IP-0.27-1/blib/arch
    /tmp/user/1000/build/Data-Validate-IP-0.27-1/blib/lib
    /tmp/user/1000/build/NetAddr-IP-4.079-1/blib/arch
    /tmp/user/1000/build/NetAddr-IP-4.079-1/blib/lib
    /home/njh/perl5/perlbrew/perls/perl-5.16.0-clang/lib/site_perl/5.16.0/x86_64-linux
    /home/njh/perl5/perlbrew/perls/perl-5.16.0-clang/lib/site_perl/5.16.0
    /home/njh/perl5/perlbrew/perls/perl-5.16.0-clang/lib/5.16.0/x86_64-linux
    /home/njh/perl5/perlbrew/perls/perl-5.16.0-clang/lib/5.16.0
    .