Params-ValidationCompiler v0.31 Perl 5 v5.40.1 x86_64-linux

Status
Pass
From
Roland van Ipenburg (IPENBURG)
Dist
Params-ValidationCompiler v0.31
Platform
Perl 5 v5.40.1 x86_64-linux
Date
2025-02-06 18:06:59
ID
28d76bb8-e4b5-11ef-9c2f-ff3003f26c12
This distribution has been tested as part of the CPAN Testers
project, supporting the Perl programming language.  See
http://wiki.cpantesters.org/ for more information or email
questions to cpan-testers-discuss@perl.org


--
Dear Dave Rolsky,

This is a computer-generated report for Params-ValidationCompiler-0.31
on perl 5.40.1, created by CPAN-Reporter-1.2020.

Thank you for uploading your work to CPAN.  Congratulations!
All tests were successful.

Sections of this report:

    * Tester comments
    * Program output
    * Prerequisites
    * Environment and other context

------------------------------
TESTER COMMENTS
------------------------------

Additional comments from tester:

none provided

------------------------------
PROGRAM OUTPUT
------------------------------

Output from '/usr/bin/make test':

PERL_DL_NONLAZY=1 "/usr/local/bin/perl" "-MExtUtils::Command::MM" "-MTest::Harness" "-e" "undef *Test::Harness::Switches; test_harness(0, 'blib/lib', 'blib/arch')" t/*.t t/named/*.t t/positional/*.t
# 
# Versions for all modules listed in MYMETA.json (including optional ones):
# 
# === Configure Requires ===
# 
#     Module              Want Have
#     ------------------- ---- ----
#     ExtUtils::MakeMaker  any 7.70
# 
# === Build Requires ===
# 
#     Module              Want Have
#     ------------------- ---- ----
#     ExtUtils::MakeMaker  any 7.70
# 
# === Test Requires ===
# 
#     Module                        Want     Have
#     ------------------------- -------- --------
#     ExtUtils::MakeMaker            any     7.70
#     File::Spec                     any     3.91
#     Hash::Util                     any     0.32
#     Specio                        0.14     0.49
#     Test2::Plugin::NoWarnings      any     0.10
#     Test2::Require::Module         any 0.000162
#     Test2::V0                      any 0.000162
#     Test::More                1.302015 1.302199
#     Test::Without::Module          any     0.23
# 
# === Test Recommends ===
# 
#     Module         Want     Have
#     ---------- -------- --------
#     CPAN::Meta 2.120900 2.150010
# 
# === Runtime Requires ===
# 
#     Module           Want Have
#     ---------------- ---- ----
#     B                 any 1.89
#     Carp              any 1.54
#     Eval::Closure     any 0.14
#     Exception::Class  any 1.45
#     Exporter          any 5.78
#     List::Util       1.29 1.63
#     Scalar::Util      any 1.63
#     overload          any 1.37
#     strict            any 1.13
#     warnings          any 1.70
# 
# === Runtime Recommends ===
# 
#     Module            Want Have
#     ----------------- ---- ----
#     Class::XSAccessor 1.17 1.19
#     Sub::Util         1.40 1.63
# 
t/00-report-prereqs.t .... ok
t/default.t .............. ok
t/exceptions.t ........... ok
t/moose.t ................ skipped: Module 'Moose::Util::TypeConstraints' is not installed
t/name-fails.t ........... ok
t/name.t ................. ok
t/named/args-check.t ..... ok
t/named/const-hash.t ..... skipped: Module 'Const::Fast' is not installed
t/named/locked-hash.t .... ok
t/named/required.t ....... ok
t/named/return-object.t .. ok
t/named/slurpy.t ......... ok
t/pairs-to-value-list.t .. ok
t/positional/default.t ... ok
t/positional/required.t .. ok
t/positional/slurpy.t .... ok
t/self-check.t ........... ok
t/source_for.t ........... ok
t/specio.t ............... ok
t/type-tiny.t ............ ok
All tests successful.
Files=20, Tests=82,  2 wallclock secs ( 0.03 usr  0.03 sys +  1.97 cusr  0.42 csys =  2.45 CPU)
Result: PASS

------------------------------
PREREQUISITES
------------------------------

Prerequisite modules loaded:

requires:

    Module                    Need     Have    
    ------------------------- -------- --------
    B                         0        1.89    
    Carp                      0        1.54    
    Eval::Closure             0        0.14    
    Exception::Class          0        1.45    
    Exporter                  0        5.78    
    List::Util                1.29     1.63    
    overload                  0        1.37    
    Scalar::Util              0        1.63    
    strict                    0        1.13    
    warnings                  0        1.70    

build_requires:

    Module                    Need     Have    
    ------------------------- -------- --------
    ExtUtils::MakeMaker       0        7.70    
    File::Spec                0        3.91    
    Hash::Util                0        0.32    
    Specio                    0.14     0.49    
    Test2::Plugin::NoWarnings 0        0.10    
    Test2::Require::Module    0        0.000162
    Test2::V0                 0        0.000162
    Test::More                1.302015 1.302199
    Test::Without::Module     0        0.23    

configure_requires:

    Module                    Need     Have    
    ------------------------- -------- --------
    ExtUtils::MakeMaker       0        7.70    

opt_requires:

    Module                    Need     Have    
    ------------------------- -------- --------
    Class::XSAccessor         1.17     1.19    
    Sub::Util                 1.40     1.63    

opt_build_requires:

    Module                    Need     Have    
    ------------------------- -------- --------
    CPAN::Meta                2.120900 2.150010


------------------------------
ENVIRONMENT AND OTHER CONTEXT
------------------------------

Environment variables:

    LANG = en_US.utf8
    LANGUAGE = en_US.utf8
    LC_ALL = en_US.utf8
    LC_COLLATE = en_US.utf8
    LC_CTYPE = en_US.utf8
    LC_NUMERIC = en_US.utf8
    NONINTERACTIVE_TESTING = 1
    PATH = /usr/local/bin:/home/roland/python3_electrum_env/bin:/snap/bin:/home/roland/python3_electrum_env/bin:/snap/bin:/home/roland/.local/bin:/home/roland/python3_electrum_env/bin:/snap/bin:/usr/local/bin:/usr/bin:/bin:/usr/local/games:/usr/games:/snap/bin
    PERL5LIB = 
    PERL5OPT = 
    PERL5_CPANPLUS_IS_RUNNING = 2954199
    PERL5_CPAN_IS_RUNNING = 2954199
    PERL_MM_USE_DEFAULT = 1
    PERL_USE_UNSAFE_INC = 1
    SHELL = /bin/bash
    TERM = screen.xterm-256color

Perl special variables (and OS-specific diagnostics, for MSWin32):

    $^X = /usr/local/bin/perl
    $UID/$EUID = 1000 / 1000
    $GID = 1000 4 6 7 20 24 25 27 29 30 44 46 105 108 113 117 120 126 1000
    $EGID = 1000 4 6 7 20 24 25 27 29 30 44 46 105 108 113 117 120 126 1000

Perl module toolchain versions installed:

    Module              Have    
    ------------------- --------
    CPAN                2.36    
    CPAN::Meta          2.150010
    Cwd                 3.91    
    ExtUtils::CBuilder  0.280240
    ExtUtils::Command   7.70    
    ExtUtils::Install   2.22    
    ExtUtils::MakeMaker 7.70    
    ExtUtils::Manifest  1.75    
    ExtUtils::ParseXS   3.51    
    File::Spec          3.91    
    JSON                4.10    
    JSON::PP            4.16    
    Module::Build       0.4234  
    Module::Signature   n/a     
    Parse::CPAN::Meta   2.150010
    Test2               1.302199
    Test::Harness       3.48    
    Test::More          1.302199
    YAML                n/a     
    YAML::Syck          n/a     
    version             0.9930  


--

Summary of my perl5 (revision 5 version 40 subversion 1) configuration:
   
  Platform:
    osname=linux
    osvers=6.13.1.beitou.20250201
    archname=x86_64-linux
    uname='linux beitou 6.13.1.beitou.20250201 #3 smp preempt_dynamic sat feb 1 21:10:20 cet 2025 x86_64 gnulinux '
    config_args='-des -Dinc_version_list=none'
    hint=recommended
    useposix=true
    d_sigaction=define
    useithreads=undef
    usemultiplicity=undef
    use64bitint=define
    use64bitall=define
    uselongdouble=undef
    usemymalloc=n
    default_inc_excludes_dot=define
  Compiler:
    cc='cc'
    ccflags ='-fwrapv -fno-strict-aliasing -pipe -fstack-protector-strong -I/usr/local/include -D_LARGEFILE_SOURCE -D_FILE_OFFSET_BITS=64 -D_FORTIFY_SOURCE=2'
    optimize='-O2'
    cppflags='-fwrapv -fno-strict-aliasing -pipe -fstack-protector-strong -I/usr/local/include'
    ccversion=''
    gccversion='12.2.0'
    gccosandvers=''
    intsize=4
    longsize=8
    ptrsize=8
    doublesize=8
    byteorder=12345678
    doublekind=3
    d_longlong=define
    longlongsize=8
    d_longdbl=define
    longdblsize=16
    longdblkind=3
    ivtype='long'
    ivsize=8
    nvtype='double'
    nvsize=8
    Off_t='off_t'
    lseeksize=8
    alignbytes=8
    prototype=define
  Linker and Libraries:
    ld='cc'
    ldflags =' -fstack-protector-strong -L/usr/local/lib'
    libpth=/usr/local/lib /usr/lib/x86_64-linux-gnu /usr/lib /usr/lib64 /usr/local/lib64
    libs=-lpthread -lgdbm -ldb -ldl -lm -lcrypt -lutil -lc
    perllibs=-lpthread -ldl -lm -lcrypt -lutil -lc
    libc=/lib/x86_64-linux-gnu/libc.so.6
    so=so
    useshrplib=false
    libperl=libperl.a
    gnulibc_version='2.36'
  Dynamic Linking:
    dlsrc=dl_dlopen.xs
    dlext=so
    d_dlsymun=undef
    ccdlflags='-Wl,-E'
    cccdlflags='-fPIC'
    lddlflags='-shared -O2 -L/usr/local/lib -fstack-protector-strong'


Characteristics of this binary (from libperl): 
  Compile-time options:
    HAS_LONG_DOUBLE
    HAS_STRTOLD
    HAS_TIMES
    PERLIO_LAYERS
    PERL_COPY_ON_WRITE
    PERL_DONT_CREATE_GVSV
    PERL_HASH_FUNC_SIPHASH13
    PERL_HASH_USE_SBOX32
    PERL_MALLOC_WRAP
    PERL_OP_PARENT
    PERL_PRESERVE_IVUV
    PERL_USE_SAFE_PUTENV
    USE_64_BIT_ALL
    USE_64_BIT_INT
    USE_LARGE_FILES
    USE_LOCALE
    USE_LOCALE_COLLATE
    USE_LOCALE_CTYPE
    USE_LOCALE_NUMERIC
    USE_LOCALE_TIME
    USE_PERLIO
    USE_PERL_ATOF
  Built under linux
  Compiled at Feb  6 2025 14:59:55
  %ENV:
    PERL5LIB=""
    PERL5OPT=""
    PERL5_CPANPLUS_IS_RUNNING="2954199"
    PERL5_CPAN_IS_RUNNING="2954199"
    PERL_MM_USE_DEFAULT="1"
    PERL_USE_UNSAFE_INC="1"
  @INC:
    /usr/local/lib/perl5/site_perl/5.40.1/x86_64-linux
    /usr/local/lib/perl5/site_perl/5.40.1
    /usr/local/lib/perl5/5.40.1/x86_64-linux
    /usr/local/lib/perl5/5.40.1
    .