IO-Iron v0.13 Perl 5 v5.36.0 x86_64-linux
- Status
- Pass
- From
- Slaven Rezić
- Dist
-
IO-Iron v0.13
- Platform
- Perl 5 v5.36.0 x86_64-linux
- Date
- 2022-10-05 09:50:35
- ID
- 289c50c4-4493-11ed-b11f-aa266e8775ea
This distribution has been tested as part of the CPAN Testers
project, supporting the Perl programming language. See
http://wiki.cpantesters.org/ for more information or email
questions to cpan-testers-discuss@perl.org
--
Dear Mikko Koivunalho,
This is a computer-generated report for IO-Iron-0.13
on perl 5.36.0, created by CPAN-Reporter-1.2018.
Thank you for uploading your work to CPAN. Congratulations!
All tests were successful.
Sections of this report:
* Tester comments
* Program output
* Prerequisites
* Environment and other context
------------------------------
TESTER COMMENTS
------------------------------
Additional comments from tester:
none provided
------------------------------
PROGRAM OUTPUT
------------------------------
Output from '/usr/bin/make test':
PERL_DL_NONLAZY=1 "/opt/perl-5.36.0/bin/perl" "-MExtUtils::Command::MM" "-MTest::Harness" "-e" "undef *Test::Harness::Switches; test_harness(0, 'blib/lib', 'blib/arch')" t/*.t t/Iron/*.t t/IronCache/*.t t/IronMQ/*.t t/IronWorker/*.t
#
# Versions for all modules listed in MYMETA.json (including optional ones):
#
# === Configure Requires ===
#
# Module Want Have
# ------------------- ---- ----
# ExtUtils::MakeMaker any 7.64
#
# === Build Requires ===
#
# Module Want Have
# ------------------- ---- ----
# ExtUtils::MakeMaker any 7.64
#
# === Test Requires ===
#
# Module Want Have
# ------------------- ---- --------
# Data::Dumper any 2.184
# ExtUtils::MakeMaker any 7.64
# File::Copy any 2.39
# File::Remove any 1.61
# File::Spec any 3.84
# Log::Any::Test any 1.710
# Test::Exception any 0.43
# Test::More any 1.302190
# lib any 0.65
#
# === Test Recommends ===
#
# Module Want Have
# ---------- -------- --------
# CPAN::Meta 2.120900 2.150010
#
# === Runtime Requires ===
#
# Module Want Have
# ------------------ ---- --------
# Carp any 1.52
# Carp::Assert any 0.21
# Carp::Assert::More any 2.1.0
# Const::Fast any 0.014
# Data::UUID any 1.226
# English any 1.11
# Exception::Class any 1.45
# Exporter any 5.77
# File::HomeDir any 1.006
# File::Spec any 3.84
# Hash::Util 0.06 0.28
# JSON::MaybeXS any 1.004004
# Log::Any any 1.710
# Params::Validate any 1.30
# Path::Tiny any 0.124
# REST::Client any 281
# Scalar::Util any 1.62
# Try::Tiny any 0.31
# URI::Escape any 5.12
# parent any 0.238
# strict any 1.12
# warnings any 1.58
#
t/00-report-prereqs.t ........ ok
# Testing IO::Iron::IronWorker::Client (0.13), Perl 5.036000, /opt/perl-5.36.0/bin/perl
# test ReadIronMQConfig
# Current dir config filename: ./iron.json
# Extra config filename: t/.IronMQTestConfig.json
t/Iron/client_readconfig.t ... ok
# Testing IO::Iron::Common (0.13), Perl 5.036000, /opt/perl-5.36.0/bin/perl
t/Iron/common.t .............. ok
# Testing IO::Iron (0.13), Perl 5.036000, /opt/perl-5.36.0/bin/perl
t/Iron/load.t ................ ok
# Testing IO::Iron::IronCache::Client (0.13) with policies, Perl 5.036000, /opt/perl-5.36.0/bin/perl
t/IronCache/cache_policy.t ... ok
# Testing IO::Iron::IronCache::Client (0.13), Perl 5.036000, /opt/perl-5.36.0/bin/perl
t/IronCache/cache_policy2.t .. ok
# Testing IO::Iron::IronCache::Client (0.13), Perl 5.036000, /opt/perl-5.36.0/bin/perl
t/IronCache/load.t ........... ok
# Testing IO::Iron::IronMQ::Client (0.13), Perl 5.036000, /opt/perl-5.36.0/bin/perl
t/IronMQ/load.t .............. ok
# Testing IO::Iron::IronCache::Client (0.13), Perl 5.036000, /opt/perl-5.36.0/bin/perl
t/IronWorker/load.t .......... ok
All tests successful.
Files=9, Tests=104, 1 wallclock secs ( 0.03 usr 0.01 sys + 0.81 cusr 0.15 csys = 1.00 CPU)
Result: PASS
------------------------------
PREREQUISITES
------------------------------
Prerequisite modules loaded:
requires:
Module Need Have
------------------- --------- --------
Carp 0 1.52
Carp::Assert 0 0.21
Carp::Assert::More 0 2.1.0
Const::Fast 0 0.014
Data::UUID 0 1.226
English 0 1.11
Exception::Class 0 1.45
Exporter 0 5.77
File::HomeDir 0 1.006
File::Spec 0 3.84
Hash::Util 0.06 0.28
JSON::MaybeXS 0 1.004004
Log::Any 0 1.710
Params::Validate 0 1.30
parent 0 0.238
Path::Tiny 0 0.124
perl 5.010000 5.036000
REST::Client 0 281
Scalar::Util 0 1.62
strict 0 1.12
Try::Tiny 0 0.31
URI::Escape 0 5.12
warnings 0 1.58
build_requires:
Module Need Have
------------------- --------- --------
Data::Dumper 0 2.184
ExtUtils::MakeMaker 0 7.64
File::Copy 0 2.39
File::Remove 0 1.61
File::Spec 0 3.84
lib 0 0.65
Log::Any::Test 0 1.710
Test::Exception 0 0.43
Test::More 0 1.302190
configure_requires:
Module Need Have
------------------- --------- --------
ExtUtils::MakeMaker 0 7.64
perl 5.010_000 5.036000
------------------------------
ENVIRONMENT AND OTHER CONTEXT
------------------------------
Environment variables:
LANG = en_US.UTF-8
PATH = /usr/local/bin:/usr/bin:/bin:/usr/local/sbin:/usr/sbin:/sbin:/home/cpansand/bin/linux-gnu:/home/cpansand/bin/sh:/home/cpansand/bin:/usr/games:/home/cpansand/devel:/home/eserte/src/srezic-misc/scripts
PERL5LIB = /home/cpansand/.cpan/build/2022100509/REST-Client-281-0/blib/arch:/home/cpansand/.cpan/build/2022100509/REST-Client-281-0/blib/lib:/home/cpansand/.cpan/build/2022100509/File-Remove-1.61-0/blib/arch:/home/cpansand/.cpan/build/2022100509/File-Remove-1.61-0/blib/lib:/home/cpansand/.cpan/build/2022100509/Carp-Assert-0.21-1/blib/arch:/home/cpansand/.cpan/build/2022100509/Carp-Assert-0.21-1/blib/lib:/home/cpansand/.cpan/build/2022100509/Const-Fast-0.014-1/blib/arch:/home/cpansand/.cpan/build/2022100509/Const-Fast-0.014-1/blib/lib:/home/cpansand/.cpan/build/2022100509/Dancer2-Plugin-Queue-0.006-0/blib/arch:/home/cpansand/.cpan/build/2022100509/Dancer2-Plugin-Queue-0.006-0/blib/lib:/home/cpansand/.cpan/build/2022100509/Dancer2-0.400000-14/blib/arch:/home/cpansand/.cpan/build/2022100509/Dancer2-0.400000-14/blib/lib:/home/cpansand/.cpan/build/2022100509/CLI-Osprey-0.08-14/blib/arch:/home/cpansand/.cpan/build/2022100509/CLI-Osprey-0.08-14/blib/lib:/home/cpansand/.cpan/build/2022100509/Test-Lib-0.003-14/blib/arch:/home/cpansand/.cpan/build/2022100509/Test-Lib-0.003-14/blib/lib
PERL5OPT =
PERL5_CPANPLUS_IS_RUNNING = 2373146
PERL5_CPAN_IS_RUNNING = 2373146
PERL5_CPAN_IS_RUNNING_IN_RECURSION = 914868,2373146
PERLDOC = -MPod::Perldoc::ToTextOverstrike
PERL_BATCH = yes
PERL_CANARY_STABILITY_NOPROMPT = 1
PERL_CPAN_REPORTER_CONFIG = /var/tmp/cpansmoker-1023/2022100317/cpanreporter_000_config.ini
PERL_EXTUTILS_AUTOINSTALL = --defaultdeps
PERL_USE_UNSAFE_INC = 1
SHELL = /usr/bin/zsh
TERM = screen
TMPDIR = /var/tmp/cpansmoker-1023/2022100317
Perl special variables (and OS-specific diagnostics, for MSWin32):
$^X = /opt/perl-5.36.0/bin/perl
$UID/$EUID = 1023 / 1023
$GID = 1023 1023
$EGID = 1023 1023
Perl module toolchain versions installed:
Module Have
------------------- --------
CPAN 2.33
CPAN::Meta 2.150010
Cwd 3.84
ExtUtils::CBuilder 0.280236
ExtUtils::Command 7.64
ExtUtils::Install 2.20
ExtUtils::MakeMaker 7.64
ExtUtils::Manifest 1.73
ExtUtils::ParseXS 3.45
File::Spec 3.84
JSON 4.09
JSON::PP 4.07
Module::Build 0.4231
Module::Signature 0.88
Parse::CPAN::Meta 2.150010
Test::Harness 3.44
Test::More 1.302190
YAML 1.30
YAML::Syck 1.34
version 0.9929
--
Summary of my perl5 (revision 5 version 36 subversion 0) configuration:
Platform:
osname=linux
osvers=5.19.9-200.fc36.x86_64
archname=x86_64-linux
uname='linux cloud4.bbbike.org 5.19.9-200.fc36.x86_64 #1 smp preempt_dynamic thu sep 15 09:49:52 utc 2022 x86_64 x86_64 x86_64 gnulinux '
config_args='-ds -e -Dprefix=/opt/perl-5.36.0 -Dcf_email=srezic@cpan.org'
hint=recommended
useposix=true
d_sigaction=define
useithreads=undef
usemultiplicity=undef
use64bitint=define
use64bitall=define
uselongdouble=undef
usemymalloc=n
default_inc_excludes_dot=define
Compiler:
cc='cc'
ccflags ='-fwrapv -fno-strict-aliasing -pipe -fstack-protector-strong -I/usr/local/include -D_LARGEFILE_SOURCE -D_FILE_OFFSET_BITS=64 -D_FORTIFY_SOURCE=2'
optimize='-O2'
cppflags='-fwrapv -fno-strict-aliasing -pipe -fstack-protector-strong -I/usr/local/include'
ccversion=''
gccversion='12.2.1 20220819 (Red Hat 12.2.1-2)'
gccosandvers=''
intsize=4
longsize=8
ptrsize=8
doublesize=8
byteorder=12345678
doublekind=3
d_longlong=define
longlongsize=8
d_longdbl=define
longdblsize=16
longdblkind=3
ivtype='long'
ivsize=8
nvtype='double'
nvsize=8
Off_t='off_t'
lseeksize=8
alignbytes=8
prototype=define
Linker and Libraries:
ld='cc'
ldflags =' -fstack-protector-strong -L/usr/local/lib'
libpth=/usr/local/lib /usr/lib /usr/lib64 /usr/local/lib64
libs=-lpthread -ldl -lm -lcrypt -lutil -lc
perllibs=-lpthread -ldl -lm -lcrypt -lutil -lc
libc=/lib/../lib64/libc.so.6
so=so
useshrplib=false
libperl=libperl.a
gnulibc_version='2.35'
Dynamic Linking:
dlsrc=dl_dlopen.xs
dlext=so
d_dlsymun=undef
ccdlflags='-Wl,-E'
cccdlflags='-fPIC'
lddlflags='-shared -O2 -L/usr/local/lib -fstack-protector-strong'
Characteristics of this binary (from libperl):
Compile-time options:
HAS_TIMES
PERLIO_LAYERS
PERL_COPY_ON_WRITE
PERL_DONT_CREATE_GVSV
PERL_MALLOC_WRAP
PERL_OP_PARENT
PERL_PRESERVE_IVUV
USE_64_BIT_ALL
USE_64_BIT_INT
USE_LARGE_FILES
USE_LOCALE
USE_LOCALE_COLLATE
USE_LOCALE_CTYPE
USE_LOCALE_NUMERIC
USE_LOCALE_TIME
USE_PERLIO
USE_PERL_ATOF
Built under linux
Compiled at Sep 20 2022 21:00:03
%ENV:
PERL5LIB="/home/cpansand/.cpan/build/2022100509/REST-Client-281-0/blib/arch:/home/cpansand/.cpan/build/2022100509/REST-Client-281-0/blib/lib:/home/cpansand/.cpan/build/2022100509/File-Remove-1.61-0/blib/arch:/home/cpansand/.cpan/build/2022100509/File-Remove-1.61-0/blib/lib:/home/cpansand/.cpan/build/2022100509/Carp-Assert-0.21-1/blib/arch:/home/cpansand/.cpan/build/2022100509/Carp-Assert-0.21-1/blib/lib:/home/cpansand/.cpan/build/2022100509/Const-Fast-0.014-1/blib/arch:/home/cpansand/.cpan/build/2022100509/Const-Fast-0.014-1/blib/lib:/home/cpansand/.cpan/build/2022100509/Dancer2-Plugin-Queue-0.006-0/blib/arch:/home/cpansand/.cpan/build/2022100509/Dancer2-Plugin-Queue-0.006-0/blib/lib:/home/cpansand/.cpan/build/2022100509/Dancer2-0.400000-14/blib/arch:/home/cpansand/.cpan/build/2022100509/Dancer2-0.400000-14/blib/lib:/home/cpansand/.cpan/build/2022100509/CLI-Osprey-0.08-14/blib/arch:/home/cpansand/.cpan/build/2022100509/CLI-Osprey-0.08-14/blib/lib:/home/cpansand/.cpan/build/2022100509/Test-Lib-0.003-14/blib/arch:/home/cpansand/.cpan/build/2022100509/Test-Lib-0.003-14/blib/lib"
PERL5OPT=""
PERL5_CPANPLUS_IS_RUNNING="2373146"
PERL5_CPAN_IS_RUNNING="2373146"
PERL5_CPAN_IS_RUNNING_IN_RECURSION="914868,2373146"
PERLDOC="-MPod::Perldoc::ToTextOverstrike"
PERL_BATCH="yes"
PERL_CANARY_STABILITY_NOPROMPT="1"
PERL_CPAN_REPORTER_CONFIG="/var/tmp/cpansmoker-1023/2022100317/cpanreporter_000_config.ini"
PERL_EXTUTILS_AUTOINSTALL="--defaultdeps"
PERL_USE_UNSAFE_INC="1"
@INC:
/home/cpansand/.cpan/build/2022100509/REST-Client-281-0/blib/arch
/home/cpansand/.cpan/build/2022100509/REST-Client-281-0/blib/lib
/home/cpansand/.cpan/build/2022100509/File-Remove-1.61-0/blib/arch
/home/cpansand/.cpan/build/2022100509/File-Remove-1.61-0/blib/lib
/home/cpansand/.cpan/build/2022100509/Carp-Assert-0.21-1/blib/arch
/home/cpansand/.cpan/build/2022100509/Carp-Assert-0.21-1/blib/lib
/home/cpansand/.cpan/build/2022100509/Const-Fast-0.014-1/blib/arch
/home/cpansand/.cpan/build/2022100509/Const-Fast-0.014-1/blib/lib
/home/cpansand/.cpan/build/2022100509/Dancer2-Plugin-Queue-0.006-0/blib/arch
/home/cpansand/.cpan/build/2022100509/Dancer2-Plugin-Queue-0.006-0/blib/lib
/home/cpansand/.cpan/build/2022100509/Dancer2-0.400000-14/blib/arch
/home/cpansand/.cpan/build/2022100509/Dancer2-0.400000-14/blib/lib
/home/cpansand/.cpan/build/2022100509/CLI-Osprey-0.08-14/blib/arch
/home/cpansand/.cpan/build/2022100509/CLI-Osprey-0.08-14/blib/lib
/home/cpansand/.cpan/build/2022100509/Test-Lib-0.003-14/blib/arch
/home/cpansand/.cpan/build/2022100509/Test-Lib-0.003-14/blib/lib
/opt/perl-5.36.0/lib/site_perl/5.36.0/x86_64-linux
/opt/perl-5.36.0/lib/site_perl/5.36.0
/opt/perl-5.36.0/lib/5.36.0/x86_64-linux
/opt/perl-5.36.0/lib/5.36.0
.