Spreadsheet-WriteExcel v2.37 Perl 5 v5.10.1 i686-cygwin-thread-multi-64int

Status
Pass
From
Nigel Horne
Dist
Spreadsheet-WriteExcel v2.37
Platform
Perl 5 v5.10.1 i686-cygwin-thread-multi-64int
Date
2010-08-16 17:39:02
ID
2886d962-a95d-11df-a61b-ec0160be0803
This distribution has been tested as part of the CPAN Testers
project, supporting the Perl programming language.  See
http://wiki.cpantesters.org/ for more information or email
questions to cpan-testers-discuss@perl.org


--
Dear John McNamara,

This is a computer-generated report for Spreadsheet-WriteExcel-2.37
on perl 5.10.1, created by CPAN-Reporter-1.18.

Thank you for uploading your work to CPAN.  Congratulations!
All tests were successful.

Sections of this report:

    * Tester comments
    * Program output
    * Prerequisites
    * Environment and other context

------------------------------
TESTER COMMENTS
------------------------------

Additional comments from tester:

none provided

------------------------------
PROGRAM OUTPUT
------------------------------

Output from '/usr/bin/make test':

PERL_DL_NONLAZY=1 /usr/bin/perl.exe "-MExtUtils::Command::MM" "-e" "test_harness(0, 'blib/lib', 'blib/arch')" t/*.t
t/00_IEEE_double.t ............ ok
t/01_add_worksheet.t .......... ok
t/02_merge_formats.t .......... ok
t/03_cleanup.t ................ ok
t/04_dimensions.t ............. ok
t/05_rows.t ................... ok
t/06_extsst.t ................. ok
t/07_set_propertes.t .......... ok
t/11_date_time.t .............. ok
t/12_date_only.t .............. ok
t/13_date_seconds.t ........... ok
t/21_escher.t ................. ok
t/22_mso_drawing_group.t ...... ok
t/23_note.t ................... ok
t/24_txo.t .................... ok
t/25_position_object.t ........ ok
t/26_autofilter.t ............. ok
t/27_autofilter.t ............. ok
t/28_autofilter.t ............. ok
t/29_process_jpg.t ............ ok
t/30_validation_dval.t ........ ok
t/31_validation_dv_strings.t .. ok
t/32_validation_dv_formula.t .. ok
t/33_validation_dv.t .......... ok
t/40_property_types.t ......... ok
t/41_properties.t ............. ok
t/42_set_properties.t ......... ok
t/50_name_stored.t ............ ok
t/51_name_print_area.t ........ ok
t/52_name_print_titles.t ...... ok
t/53_name_autofilter.t ........ ok
t/60_chart_generic.t .......... ok
t/61_chart_subclasses.t ....... ok
t/62_chart_formats.t .......... ok
t/63_chart_area_formats.t ..... ok
t/90_pod.t .................... skipped: Author tests not required for installation
t/91_minimumversion.t ......... skipped: Author tests not required for installation
t/92_meta.t ................... skipped: Author tests not required for installation
All tests successful.
Files=38, Tests=1254, 31 wallclock secs ( 0.27 usr  0.28 sys + 18.55 cusr  4.81 csys = 23.91 CPU)
Result: PASS

------------------------------
PREREQUISITES
------------------------------

Prerequisite modules loaded:

requires:

    Module              Need Have    
    ------------------- ---- --------
    File::Temp          0    0.22    
    OLE::Storage_Lite   0.19 0.19    
    Parse::RecDescent   0    1.965001

configure_requires:

    Module              Need Have    
    ------------------- ---- --------
    ExtUtils::MakeMaker 0    6.56    


------------------------------
ENVIRONMENT AND OTHER CONTEXT
------------------------------

Environment variables:

    COMSPEC = C:\WINDOWS\system32\cmd.exe
    LANG = C.UTF-8
    NUMBER_OF_PROCESSORS = 2
    PATH = /home/njh/bin:/usr/local/bin:/usr/bin:/bin:/cygdrive/c/Perl/site/bin:/cygdrive/c/Perl/bin:/cygdrive/c/WINDOWS/system32:/cygdrive/c/WINDOWS:/cygdrive/c/WINDOWS/System32/Wbem:/cygdrive/c/Program Files/Common Files/Roxio Shared/9.0/DLLShared/:/cygdrive/c/Program Files/Microsoft SQL Server/90/Tools/binn/:/cygdrive/c/strawberry/c/bin:/cygdrive/c/strawberry/perl/bin:/cygdrive/c/Program Files/Common Files/Roxio Shared/DLLShared/:/cygdrive/c/WINDOWS/system32/WindowsPowerShell/v1.0
    PERL5LIB = 
    PERL5OPT = 
    PERL5_CPANPLUS_IS_RUNNING = 3616
    PERL5_CPAN_IS_RUNNING = 3616
    PROCESSOR_IDENTIFIER = x86 Family 6 Model 14 Stepping 8, GenuineIntel
    TEMP = /cygdrive/c/DOCUME~1/njh/LOCALS~1/Temp
    TERM = linux

Perl special variables (and OS-specific diagnostics, for MSWin32):

    $^X = /usr/bin/perl
    $UID/$EUID = 1006 / 1006
    $GID = 513 0 513 544 545
    $EGID = 513 0 513 544 545

Perl module toolchain versions installed:

    Module              Have   
    ------------------- -------
    CPAN                1.9402 
    Cwd                 3.31   
    ExtUtils::CBuilder  0.2703 
    ExtUtils::Command   1.16_01
    ExtUtils::Install   1.54   
    ExtUtils::MakeMaker 6.56   
    ExtUtils::Manifest  1.58   
    ExtUtils::ParseXS   2.2206 
    File::Spec          3.31   
    Module::Build       0.3607 
    Module::Signature   0.64   
    Test::Harness       3.21   
    Test::More          0.94   
    YAML                0.71   
    YAML::Syck          1.10   
    version             0.82   


--

Summary of my perl5 (revision 5 version 10 subversion 1) configuration:
   
  Platform:
    osname=cygwin, osvers=1.7.0(0.21853), archname=i686-cygwin-thread-multi-64int
    uname='cygwin_nt-5.1 reini 1.7.0(0.21853) 2009-12-04 17:08 i686 cygwin '
    config_args='-de -Dlibperl=cygperl5_10.dll -Dmksymlinks -Dusethreads -Doptimize=-O3'
    hint=recommended, useposix=true, d_sigaction=define
    useithreads=define, usemultiplicity=define
    useperlio=define, d_sfio=undef, uselargefiles=define, usesocks=undef
    use64bitint=define, use64bitall=undef, uselongdouble=undef
    usemymalloc=y, bincompat5005=undef
  Compiler:
    cc='gcc', ccflags ='-DPERL_USE_SAFE_PUTENV -U__STRICT_ANSI__ -fno-strict-aliasing -pipe -fstack-protector -I/usr/local/include',
    optimize='-O3',
    cppflags='-DPERL_USE_SAFE_PUTENV -U__STRICT_ANSI__ -fno-strict-aliasing -pipe -fstack-protector -I/usr/local/include'
    ccversion='', gccversion='4.3.4 20090804 (release) 1', gccosandvers=''
    intsize=4, longsize=4, ptrsize=4, doublesize=8, byteorder=12345678
    d_longlong=define, longlongsize=8, d_longdbl=define, longdblsize=12
    ivtype='long long', ivsize=8, nvtype='double', nvsize=8, Off_t='off_t', lseeksize=8
    alignbytes=8, prototype=define
  Linker and Libraries:
    ld='g++', ldflags =' -Wl,--enable-auto-import -Wl,--export-all-symbols -Wl,--stack,8388608 -Wl,--enable-auto-image-base -fstack-protector -L/usr/local/lib'
    libpth=/usr/local/lib /usr/lib /lib
    libs=-lgdbm -ldb -ldl -lcrypt -lgdbm_compat
    perllibs=-ldl -lcrypt
    libc=/usr/lib/libc.a, so=dll, useshrplib=true, libperl=cygperl5_10.dll
    gnulibc_version=''
  Dynamic Linking:
    dlsrc=dl_dlopen.xs, dlext=dll, d_dlsymun=undef, ccdlflags=' '
    cccdlflags=' ', lddlflags=' --shared  -Wl,--enable-auto-import -Wl,--export-all-symbols -Wl,--stack,8388608 -Wl,--enable-auto-image-base -L/usr/local/lib -fstack-protector'


Characteristics of this binary (from libperl): 
  Compile-time options: MULTIPLICITY MYMALLOC PERL_DONT_CREATE_GVSV
                        PERL_IMPLICIT_CONTEXT PERL_USE_SAFE_PUTENV
                        USE_64_BIT_INT USE_ITHREADS USE_LARGE_FILES
                        USE_PERLIO USE_REENTRANT_API
  Locally applied patches:
	CYG11 no-bs
	CYG12 no archlib in otherlibdirs
	CYG14 Dynaloader
	CYG15 static-Win32CORE
	CYG17 utf8-paths
	CYG21 LibList-Kid.patch
	CYG22 cygwin-1.7 hints
	CYG23 544-stat
	CYG24 build man pages
	CYG26 Cwd for svk
	Bug#55162 File::Spec::case_tolerant performance
	disable ExtUtils::MakeMaker::Coverage in Sys-Syslog
  Built under cygwin
  Compiled at Dec 18 2009 14:54:24
  %ENV:
    PERL5LIB=""
    PERL5OPT=""
    PERL5_CPANPLUS_IS_RUNNING="3616"
    PERL5_CPAN_IS_RUNNING="3616"
    CYGWIN=""
  @INC:
    /usr/lib/perl5/5.10/i686-cygwin
    /usr/lib/perl5/5.10
    /usr/lib/perl5/site_perl/5.10/i686-cygwin
    /usr/lib/perl5/site_perl/5.10
    /usr/lib/perl5/vendor_perl/5.10/i686-cygwin
    /usr/lib/perl5/vendor_perl/5.10
    /usr/lib/perl5/vendor_perl/5.10
    /usr/lib/perl5/site_perl/5.8
    /usr/lib/perl5/vendor_perl/5.8
    .