WWW-Mechanize-Cached v1.56 Perl 5 v5.20.0 x86_64-linux-thread-multi

Status
Pass
From
Andreas J. König (ANDK)
Dist
WWW-Mechanize-Cached v1.56
Platform
Perl 5 v5.20.0 x86_64-linux-thread-multi
Date
2025-05-08 06:46:23
ID
2865eec4-2bd8-11f0-b1e7-e75884a90a6c
This distribution has been tested as part of the CPAN Testers
project, supporting the Perl programming language.  See
http://wiki.cpantesters.org/ for more information or email
questions to cpan-testers-discuss@perl.org


--
Dear Olaf Alders,

This is a computer-generated report for WWW-Mechanize-Cached-1.56
on perl 5.20.0, created by CPAN-Reporter-1.2018.

Thank you for uploading your work to CPAN.  Congratulations!
All tests were successful.

Sections of this report:

    * Tester comments
    * Program output
    * Prerequisites
    * Environment and other context

------------------------------
TESTER COMMENTS
------------------------------

Additional comments from tester:

this report is from an automated smoke testing program
and was not reviewed by a human for accuracy

------------------------------
PROGRAM OUTPUT
------------------------------

Output from '/usr/bin/make test':

PERL_DL_NONLAZY=1 "/home/sand/src/perl/repoperls/installed-perls/host/k93msid/v5.20.0/29fb/bin/perl" "-MExtUtils::Command::MM" "-MTest::Harness" "-e" "undef *Test::Harness::Switches; test_harness(0, 'blib/lib', 'blib/arch')" t/*.t
# 
# Versions for all modules listed in MYMETA.json (including optional ones):
# 
# === Configure Requires ===
# 
#     Module              Want Have
#     ------------------- ---- ----
#     ExtUtils::MakeMaker  any 7.70
# 
# === Build Requires ===
# 
#     Module              Want Have
#     ------------------- ---- ----
#     ExtUtils::MakeMaker  any 7.70
# 
# === Test Requires ===
# 
#     Module                 Want     Have
#     ---------------------- ---- --------
#     CHI                     any     0.61
#     Cache::FileCache        any    undef
#     ExtUtils::MakeMaker     any     7.70
#     File::Spec              any     3.75
#     HTTP::Request           any     6.43
#     HTTP::Response          any     6.43
#     Path::Tiny              any    0.144
#     Test::Fatal             any    0.017
#     Test::More              any 1.302204
#     Test::Needs             any 0.002010
#     Test::RequiresInternet  any     0.05
#     Test::Warnings          any    0.033
#     URI::file               any     5.28
#     constant                any     1.33
#     lib                     any     0.63
#     strict                  any     1.08
# 
# === Test Recommends ===
# 
#     Module         Want     Have
#     ---------- -------- --------
#     CPAN::Meta 2.120900 2.150010
# 
# === Runtime Requires ===
# 
#     Module                           Want     Have
#     ---------------------------- -------- --------
#     Cache::FileCache                  any    undef
#     Carp                              any     1.50
#     Data::Dump                        any     1.25
#     LWP::UserAgent                   6.66     6.72
#     Module::Runtime                   any    0.017
#     Moo                          1.004005 2.005005
#     MooX::Types::MooseLike::Base      any     0.29
#     Storable                         2.21     3.25
#     WWW::Mechanize                    any     2.09
#     namespace::clean                  any     0.27
#     warnings                          any     1.23
# 
# === Runtime Recommends ===
# 
#     Module Want Have
#     ------ ---- ----
#     CHI     any 0.61
# 
t/00-report-prereqs.t ........ ok
t/002-bad-custom-cache.t ..... ok
t/004-cached.t ............... ok
t/005-custom-cache.t ......... ok
t/006-cached-chi.t ........... ok
t/007-clear-cache.t .......... ok
t/007-initialize-warnings.t .. ok
# reversing page order
t/cache_key.t ................ ok
t/cache_ok.t ................. ok
t/default.t .................. ok
t/is_cached.t ................ ok
t/response_cache_ok.t ........ ok
All tests successful.
Files=12, Tests=129, 25 wallclock secs ( 0.05 usr  0.03 sys +  3.62 cusr  0.89 csys =  4.59 CPU)
Result: PASS

------------------------------
PREREQUISITES
------------------------------

Prerequisite modules loaded:

requires:

    Module                       Need     Have    
    ---------------------------- -------- --------
    Cache::FileCache             0        0       
    Carp                         0        1.50    
    Data::Dump                   0        1.25    
    LWP::UserAgent               6.66     6.72    
    Module::Runtime              0        0.017   
    Moo                          1.004005 2.005005
    MooX::Types::MooseLike::Base 0        0.29    
    namespace::clean             0        0.27    
    perl                         5.008    5.020000
    Storable                     2.21     3.25    
    warnings                     0        1.23    
    WWW::Mechanize               0        2.09    

build_requires:

    Module                       Need     Have    
    ---------------------------- -------- --------
    Cache::FileCache             0        0       
    CHI                          0        0.61    
    constant                     0        1.33    
    ExtUtils::MakeMaker          0        7.70    
    File::Spec                   0        3.75    
    HTTP::Request                0        6.43    
    HTTP::Response               0        6.43    
    lib                          0        0.63    
    Path::Tiny                   0        0.144   
    strict                       0        1.08    
    Test::Fatal                  0        0.017   
    Test::More                   0        1.302204
    Test::Needs                  0        0.002010
    Test::RequiresInternet       0        0.05    
    Test::Warnings               0        0.033   
    URI::file                    0        5.28    

configure_requires:

    Module                       Need     Have    
    ---------------------------- -------- --------
    ExtUtils::MakeMaker          0        7.70    
    perl                         5.006    5.020000

opt_requires:

    Module                       Need     Have    
    ---------------------------- -------- --------
    CHI                          0        0.61    


------------------------------
ENVIRONMENT AND OTHER CONTEXT
------------------------------

Environment variables:

    AUTOMATED_TESTING = 1
    LANG = en_US.UTF-8
    LANGUAGE = en_US:en
    PATH = /home/sand/bin:/usr/local/bin:/usr/bin:/bin:/usr/games:/usr/local/perl/bin:/usr/X11/bin:/sbin:/usr/sbin
    PERL5LIB = 
    PERL5OPT = 
    PERL5_CPANPLUS_IS_RUNNING = 2010659
    PERL5_CPAN_IS_RUNNING = 2010659
    PERL_CANARY_STABILITY_NOPROMPT = 1
    PERL_MM_USE_DEFAULT = 1
    PERL_USE_UNSAFE_INC = 1
    SHELL = /usr/bin/zsh
    TERM = screen

Perl special variables (and OS-specific diagnostics, for MSWin32):

    $^X = /home/sand/src/perl/repoperls/installed-perls/host/k93msid/v5.20.0/29fb/bin/perl
    $UID/$EUID = 1005 / 1005
    $GID = 1005 1005
    $EGID = 1005 1005

Perl module toolchain versions installed:

    Module              Have    
    ------------------- --------
    CPAN                2.36    
    CPAN::Meta          2.150010
    Cwd                 3.75    
    ExtUtils::CBuilder  0.280236
    ExtUtils::Command   7.70    
    ExtUtils::Install   2.22    
    ExtUtils::MakeMaker 7.70    
    ExtUtils::Manifest  1.70    
    ExtUtils::ParseXS   3.51    
    File::Spec          3.75    
    JSON                4.10    
    JSON::PP            4.16    
    Module::Build       0.4234  
    Module::Signature   0.88    
    Parse::CPAN::Meta   2.150010
    Test::Harness       3.44    
    Test::More          1.302204
    YAML                1.30    
    YAML::Syck          1.34    
    version             0.9929  


--

Summary of my perl5 (revision 5 version 20 subversion 0) configuration:
  Derived from: d7d4eceb184d8fc54797d661a6d5ff9a4a7048c3
  Platform:
    osname=linux, osvers=5.17.0-1-amd64, archname=x86_64-linux-thread-multi
    uname='linux k93msid 5.17.0-1-amd64 #1 smp preempt debian 5.17.3-1 (2022-04-18) x86_64 gnulinux '
    config_args='-Dprefix=/home/sand/src/perl/repoperls/installed-perls/host/k93msid/v5.20.0/29fb -Dmyhostname=k93msid -Dinstallusrbinperl=n -Uversiononly -Dusedevel -des -Ui_db -Dlibswanted=cl pthread socket inet nsl gdbm dbm malloc dl ld sun m crypt sec util c cposix posix ucb BSD gdbm_compat -Duseithreads -Uuselongdouble -DEBUGGING=both'
    hint=recommended, useposix=true, d_sigaction=define
    useithreads=define, usemultiplicity=define
    use64bitint=define, use64bitall=define, uselongdouble=undef
    usemymalloc=n, bincompat5005=undef
  Compiler:
    cc='cc', ccflags ='-D_REENTRANT -D_GNU_SOURCE -fwrapv -DDEBUGGING -fno-strict-aliasing -pipe -fstack-protector -I/usr/local/include -D_LARGEFILE_SOURCE -D_FILE_OFFSET_BITS=64',
    optimize='-O2 -g',
    cppflags='-D_REENTRANT -D_GNU_SOURCE -fwrapv -DDEBUGGING -fno-strict-aliasing -pipe -fstack-protector -I/usr/local/include'
    ccversion='', gccversion='11.3.0', gccosandvers=''
    intsize=4, longsize=8, ptrsize=8, doublesize=8, byteorder=12345678
    d_longlong=define, longlongsize=8, d_longdbl=define, longdblsize=16
    ivtype='long', ivsize=8, nvtype='double', nvsize=8, Off_t='off_t', lseeksize=8
    alignbytes=8, prototype=define
  Linker and Libraries:
    ld='cc', ldflags =' -fstack-protector -L/usr/local/lib'
    libpth=/usr/local/lib /usr/include/x86_64-linux-gnu /usr/lib /lib/x86_64-linux-gnu /lib/../lib /usr/lib/x86_64-linux-gnu /usr/lib/../lib /lib
    libs=-lpthread -lnsl -ldl -lm -lcrypt -lutil -lc
    perllibs=-lpthread -lnsl -ldl -lm -lcrypt -lutil -lc
    libc=libc-2.33.so, so=so, useshrplib=false, libperl=libperl.a
    gnulibc_version='2.33'
  Dynamic Linking:
    dlsrc=dl_dlopen.xs, dlext=so, d_dlsymun=undef, ccdlflags='-Wl,-E'
    cccdlflags='-fPIC', lddlflags='-shared -O2 -g -L/usr/local/lib -fstack-protector'


Characteristics of this binary (from libperl): 
  Compile-time options: DEBUGGING HAS_TIMES MULTIPLICITY PERLIO_LAYERS
                        PERL_DONT_CREATE_GVSV
                        PERL_HASH_FUNC_ONE_AT_A_TIME_HARD
                        PERL_IMPLICIT_CONTEXT PERL_MALLOC_WRAP
                        PERL_NEW_COPY_ON_WRITE PERL_PRESERVE_IVUV
                        PERL_TRACK_MEMPOOL PERL_USE_DEVEL USE_64_BIT_ALL
                        USE_64_BIT_INT USE_ITHREADS USE_LARGE_FILES
                        USE_LOCALE USE_LOCALE_COLLATE USE_LOCALE_CTYPE
                        USE_LOCALE_NUMERIC USE_PERLIO USE_PERL_ATOF
                        USE_REENTRANT_API
  Locally applied patches:
	uncommitted-changes
  Built under linux
  Compiled at May  8 2022 06:17:38
  %ENV:
    PERL5LIB=""
    PERL5OPT=""
    PERL5_CPANPLUS_IS_RUNNING="2010659"
    PERL5_CPAN_IS_RUNNING="2010659"
    PERL_CANARY_STABILITY_NOPROMPT="1"
    PERL_MM_USE_DEFAULT="1"
    PERL_USE_UNSAFE_INC="1"
  @INC:
    /home/sand/src/perl/repoperls/installed-perls/host/k93msid/v5.20.0/29fb/lib/site_perl/5.20.0/x86_64-linux-thread-multi
    /home/sand/src/perl/repoperls/installed-perls/host/k93msid/v5.20.0/29fb/lib/site_perl/5.20.0
    /home/sand/src/perl/repoperls/installed-perls/host/k93msid/v5.20.0/29fb/lib/5.20.0/x86_64-linux-thread-multi
    /home/sand/src/perl/repoperls/installed-perls/host/k93msid/v5.20.0/29fb/lib/5.20.0
    .