MongoDB vv2.2.2 Perl 5 v5.14.4 x86_64-linux-thread-multi

Status
Pass
From
David Cantrell (DCANTRELL)
Dist
MongoDB vv2.2.2
Platform
Perl 5 v5.14.4 x86_64-linux-thread-multi
Date
2020-08-14 09:11:37
ID
28098f5c-de0e-11ea-b84a-0ad7a1724e2f
This distribution has been tested as part of the CPAN Testers
project, supporting the Perl programming language.  See
http://wiki.cpantesters.org/ for more information or email
questions to cpan-testers-discuss@perl.org


--
Dear MongoDB Inc,

This is a computer-generated report for MongoDB-v2.2.2
on perl 5.14.4, created by CPAN-Reporter-1.2018.

Thank you for uploading your work to CPAN.  Congratulations!
All tests were successful.

Sections of this report:

    * Tester comments
    * Program output
    * Prerequisites
    * Environment and other context

------------------------------
TESTER COMMENTS
------------------------------

Additional comments from tester:

this report is from an automated smoke testing program
and was not reviewed by a human for accuracy

------------------------------
PROGRAM OUTPUT
------------------------------

Output from '/usr/bin/make test':

PERL_DL_NONLAZY=1 "/home/david/cpantesting/perl-5.14.4/bin/perl" "-MExtUtils::Command::MM" "-MTest::Harness" "-e" "undef *Test::Harness::Switches; test_harness(0, 'blib/lib', 'blib/arch')" t/*.t t/deprecated/*.t t/examples/*.t t/unit/*.t
# Checking MongoDB test environment
# MongoDB driver version v2.2.2
# BSON::XS codec version v0.8.4
t/00-report-mongod.t ....................... skipped: no mongod on localhost:27017 and $ENV{MONGOD} not set
t/max_time_ms.t ............................ skipped: no mongod on localhost:27017 and $ENV{MONGOD} not set
t/using_profiler.t ......................... skipped: no mongod on localhost:27017 and $ENV{MONGOD} not set
t/changestreams.t .......................... skipped: no mongod on localhost:27017 and $ENV{MONGOD} not set
t/changestreams_spec.t ..................... skipped: no mongod on localhost:27017 and $ENV{MONGOD} not set
t/examples/changestream.t .................. skipped: no mongod on localhost:27017 and $ENV{MONGOD} not set
t/retryable-writes-spec.t .................. skipped: no mongod on localhost:27017 and $ENV{MONGOD} not set
t/retryable-writes-split-batch.t ........... skipped: no mongod on localhost:27017 and $ENV{MONGOD} not set
t/retryable-reads-spec.t ................... skipped: no mongod on localhost:27017 and $ENV{MONGOD} not set
t/sessions-spec.t .......................... skipped: no mongod on localhost:27017 and $ENV{MONGOD} not set
t/transactions-spec.t ...................... skipped: no mongod on localhost:27017 and $ENV{MONGOD} not set
t/transactions-convenient-api-spec.t ....... skipped: no mongod on localhost:27017 and $ENV{MONGOD} not set
t/connections-survive-step-down.t .......... skipped: no mongod on localhost:27017 and $ENV{MONGOD} not set
# 
# Versions for all modules listed in MYMETA.json (including optional ones):
# 
# === Configure Requires ===
# 
#     Module              Want Have
#     ------------------- ---- ----
#     ExtUtils::MakeMaker 6.17 7.34
#     Text::ParseWords     any 3.27
# 
# === Build Requires ===
# 
#     Module              Want Have
#     ------------------- ---- ----
#     ExtUtils::MakeMaker  any 7.34
# 
# === Test Requires ===
# 
#     Module               Want     Have
#     ------------------- ----- --------
#     BSON::Decimal128      any  v1.12.2
#     Data::Dumper          any 2.130_02
#     ExtUtils::MakeMaker   any     7.34
#     File::Compare         any   1.1006
#     File::Spec            any     3.33
#     IO::File              any     1.15
#     JSON::MaybeXS         any 1.004002
#     Path::Tiny          0.058    0.108
#     Storable              any     3.15
#     Test::Deep          0.111    1.128
#     Test::Fatal           any    0.014
#     Test::More           0.96 1.302177
#     lib                   any     0.63
#     utf8                  any     1.09
# 
# === Test Recommends ===
# 
#     Module            Want     Have
#     ------------- -------- --------
#     CPAN::Meta    2.120900 2.150010
#     Test::Harness     3.31     3.42
#     Time::Moment      0.22  missing
# 
# === Runtime Requires ===
# 
#     Module                     Want      Have
#     ---------------------- -------- ---------
#     Authen::SASL::SASLprep      any     1.100
#     Authen::SCRAM::Client     0.011     0.011
#     BSON                   1.012000   v1.12.2
#     BSON::Bytes                 any   v1.12.2
#     BSON::Code                  any   v1.12.2
#     BSON::DBRef                 any   v1.12.2
#     BSON::OID                   any   v1.12.2
#     BSON::Raw                   any   v1.12.2
#     BSON::Regex                 any   v1.12.2
#     BSON::Time                  any   v1.12.2
#     BSON::Timestamp             any   v1.12.2
#     BSON::Types                 any   v1.12.2
#     BSON::XS               0.008000    v0.8.4
#     Carp                        any      1.50
#     Class::XSAccessor           any      1.19
#     Compress::Zlib              any     2.033
#     Digest::MD5                 any      2.51
#     Encode                      any      3.07
#     Exporter                   5.57   5.64_03
#     IO::Socket                  any      1.32
#     List::Util                  any      1.55
#     MIME::Base64                any      3.13
#     Math::BigInt                any     1.994
#     Moo                           2  2.004000
#     Moo::Role                   any  2.004000
#     Net::DNS                    any      1.26
#     Safe::Isa              1.000007  1.000010
#     Scalar::Util                any      1.55
#     Socket                      any     2.030
#     Sub::Defer                  any  2.006006
#     Sub::Quote                  any  2.006006
#     Tie::IxHash                 any      1.23
#     Time::HiRes                 any 1.9721_01
#     Type::Library               any  1.010003
#     Type::Tiny::XS              any     0.019
#     Type::Utils                 any  1.010003
#     Types::Standard             any  1.010003
#     UUID::URandom               any     0.001
#     boolean                    0.25      0.46
#     bytes                       any      1.04
#     constant                    any      1.21
#     if                          any    0.0601
#     namespace::clean            any      0.27
#     overload                    any      1.13
#     re                          any      0.18
#     strict                      any      1.04
#     version                     any    0.9924
#     warnings                    any      1.12
# 
# === Runtime Recommends ===
# 
#     Module              Want     Have
#     --------------- -------- --------
#     IO::Socket::IP      0.32     0.39
#     IO::Socket::SSL     1.42    2.066
#     Mozilla::CA     20130114 20180117
#     Net::SSLeay         1.49     1.85
# 
# === Runtime Suggests ===
# 
#     Module          Want  Have
#     --------------- ---- -----
#     IO::Socket::SSL 1.56 2.066
# 
t/00-report-prereqs.t ...................... ok
t/auth_spec.t .............................. ok
t/bulk.t ................................... skipped: no mongod on localhost:27017 and $ENV{MONGOD} not set
t/bulk_write_pipeline.t .................... skipped: no mongod on localhost:27017 and $ENV{MONGOD} not set
t/bypass_doc_validation.t .................. skipped: no mongod on localhost:27017 and $ENV{MONGOD} not set
t/causal_consistency.t ..................... skipped: no mongod on localhost:27017 and $ENV{MONGOD} not set
t/collection.t ............................. skipped: no mongod on localhost:27017 and $ENV{MONGOD} not set
t/connection.t ............................. skipped: no mongod on localhost:27017 and $ENV{MONGOD} not set
t/connection_string_spec.t ................. ok
t/crud.t ................................... skipped: no mongod on localhost:27017 and $ENV{MONGOD} not set
t/crud_spec.t .............................. skipped: no mongod on localhost:27017 and $ENV{MONGOD} not set
t/cursor.t ................................. skipped: no mongod on localhost:27017 and $ENV{MONGOD} not set
t/database.t ............................... skipped: no mongod on localhost:27017 and $ENV{MONGOD} not set
t/dbref.t .................................. skipped: no mongod on localhost:27017 and $ENV{MONGOD} not set
t/deprecated/bson.t ........................ skipped: no mongod on localhost:27017 and $ENV{MONGOD} not set
t/deprecated/collection.t .................. skipped: no mongod on localhost:27017 and $ENV{MONGOD} not set
t/deprecated/cursor.t ...................... skipped: no mongod on localhost:27017 and $ENV{MONGOD} not set
t/deprecated/find_modifiers.t .............. skipped: no mongod on localhost:27017 and $ENV{MONGOD} not set
t/deprecated/parallel_scan.t ............... skipped: no mongod on localhost:27017 and $ENV{MONGOD} not set
t/deprecated/regexp_obj.t .................. skipped: no mongod on localhost:27017 and $ENV{MONGOD} not set
t/deprecated/types.t ....................... skipped: no mongod on localhost:27017 and $ENV{MONGOD} not set
t/deprecated/typewrappers.t ................ skipped: no mongod on localhost:27017 and $ENV{MONGOD} not set
t/enumerate_databases.t .................... skipped: no mongod on localhost:27017 and $ENV{MONGOD} not set
t/errors.t ................................. ok
t/examples/driver-examples.t ............... skipped: no mongod on localhost:27017 and $ENV{MONGOD} not set
t/examples/transaction.t ................... skipped: no mongod on localhost:27017 and $ENV{MONGOD} not set
t/find_modifiers.t ......................... skipped: no mongod on localhost:27017 and $ENV{MONGOD} not set
t/fsync.t .................................. skipped: no mongod on localhost:27017 and $ENV{MONGOD} not set
t/gridfs_spec.t ............................ skipped: no mongod on localhost:27017 and $ENV{MONGOD} not set
t/gridfsbucket.t ........................... skipped: no mongod on localhost:27017 and $ENV{MONGOD} not set
t/indexview.t .............................. skipped: no mongod on localhost:27017 and $ENV{MONGOD} not set
t/kill-cursor.t ............................ skipped: no mongod on localhost:27017 and $ENV{MONGOD} not set
t/max_staleness_spec.t ..................... ok
t/monitoring.t ............................. skipped: no mongod on localhost:27017 and $ENV{MONGOD} not set
t/monitoring_spec.t ........................ skipped: no mongod on localhost:27017 and $ENV{MONGOD} not set
t/oid_generation.t ......................... skipped: no mongod on localhost:27017 and $ENV{MONGOD} not set
t/op_msg.t ................................. skipped: no mongod on localhost:27017 and $ENV{MONGOD} not set
t/pre_encode_insert_update.t ............... ok
t/protocol_op_msg.t ........................ ok
t/read_write_concern_spec.t ................ ok
t/readpref.t ............................... skipped: no mongod on localhost:27017 and $ENV{MONGOD} not set
t/retryable-writes-command-construction.t .. skipped: no mongod on localhost:27017 and $ENV{MONGOD} not set
t/sdam_monitoring.t ........................ skipped: no mongod on localhost:27017 and $ENV{MONGOD} not set
t/sdam_spec.t .............................. ok
t/sessions-cursors.t ....................... skipped: no mongod on localhost:27017 and $ENV{MONGOD} not set
t/sessions-driver.t ........................ skipped: no mongod on localhost:27017 and $ENV{MONGOD} not set
t/sessions-end.t ........................... skipped: no mongod on localhost:27017 and $ENV{MONGOD} not set
t/sessions-unacknowledged-write.t .......... skipped: no mongod on localhost:27017 and $ENV{MONGOD} not set
t/ss_spec.t ................................ ok
t/transactions-convenient-api.t ............ skipped: no mongod on localhost:27017 and $ENV{MONGOD} not set
t/transactions-mongos-pinning.t ............ skipped: no mongod on localhost:27017 and $ENV{MONGOD} not set
t/unit/configuration.t ..................... ok
t/unit/link.t .............................. ok
t/unit/read_preference.t ................... ok
t/unit/uri.t ............................... ok
t/unit/uri_spec.t .......................... ok
t/unit/uri_srv.t ........................... ok
t/unit/write_concern.t ..................... ok
All tests successful.
Files=71, Tests=199, 669 wallclock secs ( 0.49 usr  0.12 sys + 43.11 cusr  3.54 csys = 47.26 CPU)
Result: PASS

------------------------------
PREREQUISITES
------------------------------

Prerequisite modules loaded:

requires:

    Module                 Need     Have     
    ---------------------- -------- ---------
    Authen::SASL::SASLprep 0        1.100    
    Authen::SCRAM::Client  0.011    0.011    
    boolean                0.25     0.46     
    BSON                   1.012000 v1.12.2  
    BSON::Bytes            0        v1.12.2  
    BSON::Code             0        v1.12.2  
    BSON::DBRef            0        v1.12.2  
    BSON::OID              0        v1.12.2  
    BSON::Raw              0        v1.12.2  
    BSON::Regex            0        v1.12.2  
    BSON::Time             0        v1.12.2  
    BSON::Timestamp        0        v1.12.2  
    BSON::Types            0        v1.12.2  
    BSON::XS               0.008000 v0.8.4   
    bytes                  0        1.04     
    Carp                   0        1.50     
    Class::XSAccessor      0        1.19     
    Compress::Zlib         0        2.033    
    constant               0        1.21     
    Digest::MD5            0        2.51     
    Encode                 0        3.07     
    Exporter               5.57     5.64_03  
    if                     0        0.0601   
    IO::Socket             0        1.32     
    List::Util             0        1.55     
    Math::BigInt           0        1.994    
    MIME::Base64           0        3.13     
    Moo                    2        2.004000 
    Moo::Role              0        2.004000 
    namespace::clean       0        0.27     
    Net::DNS               0        1.26     
    overload               0        1.13     
    perl                   5.010001 5.014004 
    re                     0        0.18     
    Safe::Isa              1.000007 1.000010 
    Scalar::Util           0        1.55     
    Socket                 0        2.030    
    strict                 0        1.04     
    Sub::Defer             0        2.006006 
    Sub::Quote             0        2.006006 
    Tie::IxHash            0        1.23     
    Time::HiRes            0        1.9721_01
    Type::Library          0        1.010003 
    Type::Tiny::XS         0        0.019    
    Type::Utils            0        1.010003 
    Types::Standard        0        1.010003 
    UUID::URandom          0        0.001    
    version                0        0.9924   
    warnings               0        1.12     

build_requires:

    Module                 Need     Have     
    ---------------------- -------- ---------
    BSON::Decimal128       0        v1.12.2  
    Data::Dumper           0        2.130_02 
    ExtUtils::MakeMaker    0        7.34     
    File::Compare          0        1.1006   
    File::Spec             0        3.33     
    IO::File               0        1.15     
    JSON::MaybeXS          0        1.004002 
    lib                    0        0.63     
    Path::Tiny             0.058    0.108    
    Storable               0        3.15     
    Test::Deep             0.111    1.128    
    Test::Fatal            0        0.014    
    Test::More             0.96     1.302177 
    utf8                   0        1.09     

configure_requires:

    Module                 Need     Have     
    ---------------------- -------- ---------
    ExtUtils::MakeMaker    6.17     7.34     
    Text::ParseWords       0        3.27     


------------------------------
ENVIRONMENT AND OTHER CONTEXT
------------------------------

Environment variables:

    AUTOMATED_TESTING = 1
    LANG = en_US.UTF-8
    NONINTERACTIVE_TESTING = 1
    PATH = /usr/local/bin:/usr/bin:/bin:/usr/local/games:/usr/games
    PERL = 5.14.4
    PERL5LIB = 
    PERL5OPT = 
    PERL5_CPANPLUS_IS_RUNNING = 28966
    PERL5_CPAN_IS_RUNNING = 28966
    PERLVER = 5.14.4
    PERL_INLINE_DIRECTORY = /home/david/.Inline-5.14.4
    PERL_MM_USE_DEFAULT = 1
    PERL_USE_UNSAFE_INC = 0
    SHELL = /bin/bash
    TERM = screen

Perl special variables (and OS-specific diagnostics, for MSWin32):

    $^X = /home/david/cpantesting/perl-5.14.4/bin/perl
    $UID/$EUID = 1000 / 1000
    $GID = 1000 27 1000
    $EGID = 1000 27 1000

Perl module toolchain versions installed:

    Module              Have     
    ------------------- ---------
    CPAN                1.9600_01
    CPAN::Meta          2.150010 
    Cwd                 3.36     
    ExtUtils::CBuilder  0.280203 
    ExtUtils::Command   7.34     
    ExtUtils::Install   2.06     
    ExtUtils::MakeMaker 7.34     
    ExtUtils::Manifest  1.70     
    ExtUtils::ParseXS   2.2210   
    File::Spec          3.33     
    JSON                4.02     
    JSON::PP            4.02     
    Module::Build       0.4231   
    Module::Signature   n/a      
    Parse::CPAN::Meta   2.150010 
    Test::Harness       3.42     
    Test::More          1.302177 
    YAML                n/a      
    YAML::Syck          1.32     
    version             0.9924   


--

Summary of my perl5 (revision 5 version 14 subversion 4) configuration:
   
  Platform:
    osname=linux, osvers=4.9.0-8-amd64, archname=x86_64-linux-thread-multi
    uname='linux pigsty 4.9.0-8-amd64 #1 smp debian 4.9.144-3 (2019-02-02) x86_64 gnulinux '
    config_args='-de -Duse64bitall -Dusethreads -Dprefix=/home/david/cpantesting/perl-5.14.4 -A ccflags=-fwrapv'
    hint=previous, useposix=true, d_sigaction=define
    useithreads=define, usemultiplicity=define
    useperlio=define, d_sfio=undef, uselargefiles=define, usesocks=undef
    use64bitint=define, use64bitall=define, uselongdouble=undef
    usemymalloc=n, bincompat5005=undef
  Compiler:
    cc='cc', ccflags ='-D_REENTRANT -D_GNU_SOURCE -fwrapv -fno-strict-aliasing -pipe -fstack-protector -I/usr/local/include -D_LARGEFILE_SOURCE -D_FILE_OFFSET_BITS=64 -fwrapv -fwrapv',
    optimize='-O2',
    cppflags='-D_REENTRANT -D_GNU_SOURCE -fwrapv -fno-strict-aliasing -pipe -fstack-protector -I/usr/local/include -D_REENTRANT -D_GNU_SOURCE -fwrapv -fno-strict-aliasing -pipe -fstack-protector -I/usr/local/include -D_LARGEFILE_SOURCE -D_FILE_OFFSET_BITS=64 -fwrapv -D_REENTRANT -D_GNU_SOURCE -fwrapv -fno-strict-aliasing -pipe -fstack-protector -I/usr/local/include -D_LARGEFILE_SOURCE -D_FILE_OFFSET_BITS=64 -fwrapv -fwrapv'
    ccversion='', gccversion='6.3.0 20170516', gccosandvers=''
    intsize=4, longsize=8, ptrsize=8, doublesize=8, byteorder=12345678
    d_longlong=define, longlongsize=8, d_longdbl=define, longdblsize=16
    ivtype='long', ivsize=8, nvtype='double', nvsize=8, Off_t='off_t', lseeksize=8
    alignbytes=8, prototype=define
  Linker and Libraries:
    ld='cc', ldflags =' -fstack-protector -L/usr/local/lib'
    libpth=/usr/local/lib /lib/x86_64-linux-gnu /lib/../lib /usr/lib/x86_64-linux-gnu /usr/lib/../lib /lib /usr/lib
    libs=-lnsl -ldb -ldl -lm -lcrypt -lutil -lpthread -lc
    perllibs=-lnsl -ldl -lm -lcrypt -lutil -lpthread -lc
    libc=libc-2.24.so, so=so, useshrplib=false, libperl=libperl.a
    gnulibc_version='2.24'
  Dynamic Linking:
    dlsrc=dl_dlopen.xs, dlext=so, d_dlsymun=undef, ccdlflags='-Wl,-E'
    cccdlflags='-fPIC', lddlflags='-shared -O2 -L/usr/local/lib -fstack-protector'


Characteristics of this binary (from libperl): 
  Compile-time options: MULTIPLICITY PERL_DONT_CREATE_GVSV
                        PERL_IMPLICIT_CONTEXT PERL_MALLOC_WRAP
                        PERL_PRESERVE_IVUV USE_64_BIT_ALL USE_64_BIT_INT
                        USE_ITHREADS USE_LARGE_FILES USE_PERLIO USE_PERL_ATOF
                        USE_REENTRANT_API
  Locally applied patches:
	Devel::PatchPerl 1.56
  Built under linux
  Compiled at Apr 25 2019 22:16:53
  %ENV:
    PERL="5.14.4"
    PERL5LIB=""
    PERL5OPT=""
    PERL5_CPANPLUS_IS_RUNNING="28966"
    PERL5_CPAN_IS_RUNNING="28966"
    PERLVER="5.14.4"
    PERL_INLINE_DIRECTORY="/home/david/.Inline-5.14.4"
    PERL_MM_USE_DEFAULT="1"
    PERL_USE_UNSAFE_INC="0"
  @INC:
    /home/david/cpantesting/perl-5.14.4/lib/site_perl/5.14.4/x86_64-linux-thread-multi
    /home/david/cpantesting/perl-5.14.4/lib/site_perl/5.14.4
    /home/david/cpantesting/perl-5.14.4/lib/5.14.4/x86_64-linux-thread-multi
    /home/david/cpantesting/perl-5.14.4/lib/5.14.4
    .