Report for Class-Method-Modifiers-2.10

Back
From: metabase:user:088bbd1d-6d33-1014-a458-55f4d581bf18
Subject: PASS Class-Method-Modifiers-2.10 v5.18.2 
Date: 2014-03-15T20:01:47Z

This distribution has been tested as part of the CPAN Testers
project, supporting the Perl programming language.  See
http://wiki.cpantesters.org/ for more information or email
questions to cpan-testers-discuss@perl.org


--
Dear Karen Etheridge,

This is a computer-generated report for Class-Method-Modifiers-2.10
on perl 5.18.2, created by CPAN-Reporter-1.2010.

Thank you for uploading your work to CPAN.  Congratulations!
All tests were successful.

Sections of this report:

    * Tester comments
    * Program output
    * Prerequisites
    * Environment and other context

------------------------------
TESTER COMMENTS
------------------------------

Additional comments from tester:

none provided

------------------------------
PROGRAM OUTPUT
------------------------------

Output from 'E:/usr/mingw32/bin/dmake.exe test':

E:\usr\bin\perl.exe "-MExtUtils::Command::MM" "-MTest::Harness" "-e" "undef *Test::Harness::Switches; test_harness(0, 'blib\lib', 'blib\arch')" t/*.t
# 
# Versions for all modules listed in MYMETA.json (including optional ones):
#    Version Module                  
#   -------- ------------------------
#    1.42_02 B                       
#   2.140640 CPAN::Meta              
#      2.125 CPAN::Meta::Requirements
#       1.32 Carp                    
#       5.68 Exporter                
#       6.92 ExtUtils::MakeMaker     
#       3.40 File::Spec::Functions   
#       1.38 List::Util              
#      0.013 Test::Fatal             
#   1.001002 Test::More              
#       2.18 base                    
#     0.0602 if                      
#       1.07 strict                  
#     0.9908 version                 
#       1.18 warnings                
t/00-report-prereqs.t ............... ok
t/000-load.t ........................ ok
t/001-error.t ....................... ok
t/002-cache.t ....................... ok
t/003-basic.t ....................... ok
t/004-around.t ...................... ok
t/005-return.t ...................... ok
t/010-before-args.t ................. ok
t/011-after-args.t .................. ok
t/012-around-args.t ................. ok
t/020-multiple-inheritance.t ........ ok
t/030-multiple-before.t ............. ok
t/031-multiple-after.t .............. ok
t/032-multiple-around.t ............. ok
t/034-multiple-everything.t ......... ok
t/035-multiple-everything-twice.t ... ok
t/040-twice-orig.t .................. ok
t/041-modify-parent.t ............... ok
t/051-undef-list-ctxt.t ............. ok
t/060-caller.t ...................... ok
t/070-modify-multiple-at-once.t ..... ok
t/080-multiple-modifiers.t .......... ok
t/081-sub-and-modifier.t ............ ok
t/090-diamond.t ..................... ok
t/100-class-mop-method-modifiers.t .. ok
t/110-namespace-clean.t ............. skipped: Test requires Moose
t/120-fresh.t ....................... ok
t/130-clean-underscore.t ............ ok
t/140-lvalue.t ...................... ok
All tests successful.
Files=29, Tests=127,  6 wallclock secs ( 0.31 usr +  0.08 sys =  0.39 CPU)
Result: PASS

------------------------------
PREREQUISITES
------------------------------

Prerequisite modules loaded:

requires:

    Module                Need Have    
    --------------------- ---- --------
    B                     0    1.42_02 
    base                  0    2.18    
    Carp                  0    1.32    
    Exporter              0    5.68    
    strict                0    1.07    
    warnings              0    1.18    

build_requires:

    Module                Need Have    
    --------------------- ---- --------
    ExtUtils::MakeMaker   0    6.92    
    File::Spec::Functions 0    3.40    
    if                    0    0.0602  
    List::Util            0    1.38    
    Test::Fatal           0    0.013   
    Test::More            0    1.001002
    version               0    0.9908  

configure_requires:

    Module                Need Have    
    --------------------- ---- --------
    ExtUtils::MakeMaker   6.30 6.92    


------------------------------
ENVIRONMENT AND OTHER CONTEXT
------------------------------

Environment variables:

    COMSPEC = C:\WINDOWS\system32\cmd.exe
    INCLUDE = E:\usr\mingw32\include;E:\usr\mingw32\i686-w64-mingw32\include
    LIB = E:\usr\mingw32\lib;E:\usr\mingw32\i686-w64-mingw32\lib
    NUMBER_OF_PROCESSORS = 1
    PATH = E:\usr\mingw32\bin;E:\usr\mingw32\i686-w64-mingw32\bin;E:\usr\mingw32\libexec\gcc\i686-w64-mingw32\4.8.2;E:\usr\site\bin;E:\usr\bin;E:\Home\unzip\bin;E:\Home\zip\bin;E:\Home\curl\bin;E:\Home\wget;E:\home\lynx;E:\etc\editors\vim\vim74;E:\Home\scripts;E:\Home\pete\bin;C:\WINDOWS\system32;C:\WINDOWS;C:\WINDOWS\System32\Wbem
    PERL5LIB = 
    PERL5OPT = 
    PERL5_CPANPLUS_IS_RUNNING = 2396
    PERL5_CPAN_IS_RUNNING = 2396
    PERL_CPAN_REPORTER_DIR = E:\PerlDev\5.18.2\gcc4\.reporter
    PERL_LWP_SSL_VERIFY_HOSTNAME = 0
    PERL_READLINE_NOWARN = 1
    PROCESSOR_IDENTIFIER = x86 Family 15 Model 2 Stepping 7, GenuineIntel
    TEMP = E:\PerlDev\tmp
    TERM = dumb

Perl special variables (and OS-specific diagnostics, for MSWin32):

    $^X = E:\usr\bin\perl.exe
    $UID/$EUID = 0 / 0
    $GID = 0
    $EGID = 0
    Win32::GetOSName = WinXP/.Net
    Win32::GetOSVersion = Service Pack 3, 5, 1, 2600, 2, 3, 0, 256, 1
    Win32::FsType = NTFS
    Win32::IsAdminUser = 1

Perl module toolchain versions installed:

    Module              Have    
    ------------------- --------
    CPAN                2.00    
    CPAN::Meta          2.140640
    Cwd                 3.40    
    ExtUtils::CBuilder  0.280216
    ExtUtils::Command   1.18    
    ExtUtils::Install   1.63    
    ExtUtils::MakeMaker 6.92    
    ExtUtils::Manifest  1.63    
    ExtUtils::ParseXS   3.24    
    File::Spec          3.40    
    JSON                2.90    
    JSON::PP            2.27203 
    Module::Build       0.4205  
    Module::Signature   0.73    
    Parse::CPAN::Meta   1.4414  
    Test::Harness       3.30    
    Test::More          1.001002
    YAML                0.90    
    YAML::Syck          n/a     
    version             0.9908  


--

Summary of my perl5 (revision 5 version 18 subversion 2) configuration:
   
  Platform:
    osname=MSWin32, osvers=5.1, archname=MSWin32-x86-multi-thread-64int
    uname=''
    config_args='undef'
    hint=recommended, useposix=true, d_sigaction=undef
    useithreads=define, usemultiplicity=define
    useperlio=define, d_sfio=undef, uselargefiles=define, usesocks=undef
    use64bitint=define, use64bitall=undef, uselongdouble=undef
    usemymalloc=n, bincompat5005=undef
  Compiler:
    cc='gcc', ccflags =' -s -O2 -DWIN32 -DPERL_TEXTMODE_SCRIPTS -DUSE_SITECUSTOMIZE -DPERL_IMPLICIT_CONTEXT -DPERL_IMPLICIT_SYS -DUSE_PERLIO -fno-strict-aliasing -mms-bitfields',
    optimize='-s -O2',
    cppflags='-DWIN32'
    ccversion='', gccversion='4.8.2', gccosandvers=''
    intsize=4, longsize=4, ptrsize=4, doublesize=8, byteorder=12345678
    d_longlong=define, longlongsize=8, d_longdbl=define, longdblsize=12
    ivtype='long long', ivsize=8, nvtype='double', nvsize=8, Off_t='long long', lseeksize=8
    alignbytes=8, prototype=define
  Linker and Libraries:
    ld='g++', ldflags ='-s -L"e:\usr\lib\CORE" -L"E:\usr\mingw32\lib"'
    libpth=E:\usr\mingw32\lib E:\usr\mingw32\i686-w64-mingw32\lib
    libs=-lmoldname -lkernel32 -luser32 -lgdi32 -lwinspool -lcomdlg32 -ladvapi32 -lshell32 -lole32 -loleaut32 -lnetapi32 -luuid -lws2_32 -lmpr -lwinmm -lversion -lodbc32 -lodbccp32 -lcomctl32
    perllibs=-lmoldname -lkernel32 -luser32 -lgdi32 -lwinspool -lcomdlg32 -ladvapi32 -lshell32 -lole32 -loleaut32 -lnetapi32 -luuid -lws2_32 -lmpr -lwinmm -lversion -lodbc32 -lodbccp32 -lcomctl32
    libc=, so=dll, useshrplib=true, libperl=libperl518.a
    gnulibc_version=''
  Dynamic Linking:
    dlsrc=dl_win32.xs, dlext=dll, d_dlsymun=undef, ccdlflags=' '
    cccdlflags=' ', lddlflags='-mdll -s -L"e:\usr\lib\CORE" -L"E:\usr\mingw32\lib"'


Characteristics of this binary (from libperl): 
  Compile-time options: HAS_TIMES HAVE_INTERP_INTERN MULTIPLICITY
                        PERLIO_LAYERS PERL_DONT_CREATE_GVSV
                        PERL_HASH_FUNC_ONE_AT_A_TIME_HARD
                        PERL_IMPLICIT_CONTEXT PERL_IMPLICIT_SYS
                        PERL_MALLOC_WRAP PERL_PRESERVE_IVUV PERL_SAWAMPERSAND
                        USE_64_BIT_INT USE_ITHREADS USE_LARGE_FILES
                        USE_LOCALE USE_LOCALE_COLLATE USE_LOCALE_CTYPE
                        USE_LOCALE_NUMERIC USE_PERLIO USE_PERL_ATOF
                        USE_SITECUSTOMIZE
  Built under MSWin32
  Compiled at Mar 10 2014 21:44:59
  %ENV:
    PERL5_CPANPLUS_IS_RUNNING="2396"
    PERL5_CPAN_IS_RUNNING="2396"
    PERL_CPAN_REPORTER_DIR="E:\PerlDev\5.18.2\gcc4\.reporter"
    PERL_LWP_SSL_VERIFY_HOSTNAME="0"
    PERL_READLINE_NOWARN="1"
  @INC:
    E:/usr/site/lib
    E:/usr/vendor/lib
    E:/usr/lib
    .