Text-VimColor v0.29 Perl 5 v5.34.1 x86_64-linux

Status
Pass
From
David Solimano
Dist
Text-VimColor v0.29
Platform
Perl 5 v5.34.1 x86_64-linux
Date
2023-01-01 06:40:17
ID
27aab038-899f-11ed-8e23-69dadfcf3ad5
This distribution has been tested as part of the CPAN Testers
project, supporting the Perl programming language.  See
http://wiki.cpantesters.org/ for more information or email
questions to cpan-testers-discuss@perl.org


--
Dear Randy Stauner,

This is a computer-generated report for Text-VimColor-0.29
on perl 5.34.1, created by CPAN-Reporter-1.2018.

Thank you for uploading your work to CPAN.  Congratulations!
All tests were successful.

Sections of this report:

    * Tester comments
    * Program output
    * Prerequisites
    * Environment and other context

------------------------------
TESTER COMMENTS
------------------------------

Additional comments from tester:

this report is from an automated smoke testing program
and was not reviewed by a human for accuracy

------------------------------
PROGRAM OUTPUT
------------------------------

Output from '/usr/bin/make test':

Skip blib/lib/auto/share/dist/Text-VimColor/light.xsl (unchanged)
Skip blib/lib/auto/share/dist/Text-VimColor/mark.vim (unchanged)
Skip blib/lib/auto/share/dist/Text-VimColor/define_all.vim (unchanged)
Skip blib/lib/auto/share/dist/Text-VimColor/light.css (unchanged)
PERL_DL_NONLAZY=1 "/home/perluser/perl5/perlbrew/perls/perl-5.34.1/bin/perl" "-MExtUtils::Command::MM" "-MTest::Harness" "-e" "undef *Test::Harness::Switches; test_harness(0, 'blib/lib', 'blib/arch')" t/*.t
t/00-compile.t ......... ok
# 
# Versions for all modules listed in MYMETA.json (including optional ones):
# 
# === Configure Requires ===
# 
#     Module                  Want   Have
#     ----------------------- ---- ------
#     ExtUtils::MakeMaker      any   7.64
#     File::ShareDir::Install 0.06   0.14
#     File::Temp               any 0.2311
#     IO::File                 any   1.48
#     IPC::Open3               any   1.21
#     strict                   any   1.12
#     warnings                 any   1.51
# 
# === Build Requires ===
# 
#     Module              Want Have
#     ------------------- ---- ----
#     ExtUtils::MakeMaker  any 7.64
# 
# === Test Requires ===
# 
#     Module                     Want     Have
#     -------------------------- ---- --------
#     Exporter                    any     5.76
#     ExtUtils::MakeMaker         any     7.64
#     File::Spec                  any     3.80
#     File::Temp                  any   0.2311
#     IO::Handle                  any     1.48
#     IPC::Open3                  any     1.21
#     Path::Class                0.04     0.37
#     Test::File::ShareDir::Dist  any 1.001002
#     Test::More                 0.88 1.302191
#     lib                         any     0.65
# 
# === Test Recommends ===
# 
#     Module         Want     Have
#     ---------- -------- --------
#     CPAN::Meta 2.120900 2.150010
# 
# === Runtime Requires ===
# 
#     Module          Want   Have
#     --------------- ---- ------
#     Carp             any   1.52
#     File::Copy       any   2.35
#     File::ShareDir   any  1.118
#     File::Temp       any 0.2311
#     Getopt::Long     any   2.54
#     IO::File         any   1.48
#     IPC::Open3       any   1.21
#     Path::Class     0.04   0.37
#     Symbol           any   1.09
#     Term::ANSIColor 1.03   5.01
#     constant         any   1.33
#     strict           any   1.12
#     warnings         any   1.51
# 
# === Runtime Recommends ===
# 
#     Module          Want Have
#     --------------- ---- ----
#     Term::ANSIColor    3 5.01
# 
t/00-report-prereqs.t .. ok
# vim --version
# 
# VIM - Vi IMproved 8.1 (2018 May 18, compiled Nov 23 2022 14:54:38)
# Included patches: 1-875, 878, 881, 883-884, 936, 948, 1046, 1365-1368, 1382, 1401, 4120, 4151-4152, 4214, 4218, 4397, 4428, 4899, 4919, 4921, 4977, 5023-5024, 805, 5043, 5063, 5126
# Extra patches: 8.2.3402, 8.2.3403, 8.2.3409, 8.2.3428, 9.0.0490, 9.0.0530, 9.0.0614
# Modified by team+vim@tracker.debian.org
# Compiled by team+vim@tracker.debian.org
# Huge version with GTK3 GUI.  Features included (+) or not (-):
# +acl               +extra_search      +mouse_netterm     +tag_old_static
# +arabic            +farsi             +mouse_sgr         -tag_any_white
# +autocmd           +file_in_path      -mouse_sysmouse    +tcl
# +autochdir         +find_in_path      +mouse_urxvt       +termguicolors
# -autoservername    +float             +mouse_xterm       +terminal
# +balloon_eval      +folding           +multi_byte        +terminfo
# +balloon_eval_term -footer            +multi_lang        +termresponse
# +browse            +fork()            -mzscheme          +textobjects
# ++builtin_terms    +gettext           +netbeans_intg     +textprop
# +byte_offset       -hangul_input      +num64             +timers
# +channel           +iconv             +packages          +title
# +cindent           +insert_expand     +path_extra        +toolbar
# +clientserver      +job               +perl              +user_commands
# +clipboard         +jumplist          +persistent_undo   +vartabs
# +cmdline_compl     +keymap            +postscript        +vertsplit
# +cmdline_hist      +lambda            +printer           +virtualedit
# +cmdline_info      +langmap           +profile           +visual
# +comments          +libcall           -python            +visualextra
# +conceal           +linebreak         +python3           +viminfo
# +cryptv            +lispindent        +quickfix          +vreplace
# +cscope            +listcmds          +reltime           +wildignore
# +cursorbind        +localmap          +rightleft         +wildmenu
# +cursorshape       +lua               +ruby              +windows
# +dialog_con_gui    +menu              +scrollbind        +writebackup
# +diff              +mksession         +signs             +X11
# +digraphs          +modify_fname      +smartindent       -xfontset
# +dnd               +mouse             +startuptime       +xim
# -ebcdic            +mouseshape        +statusline        +xpm
# +emacs_tags        +mouse_dec         -sun_workshop      +xsmp_interact
# +eval              +mouse_gpm         +syntax            +xterm_clipboard
# +ex_extra          -mouse_jsbterm     +tag_binary        -xterm_save
#    system vimrc file: "$VIM/vimrc"
#      user vimrc file: "$HOME/.vimrc"
#  2nd user vimrc file: "~/.vim/vimrc"
#       user exrc file: "$HOME/.exrc"
#   system gvimrc file: "$VIM/gvimrc"
#     user gvimrc file: "$HOME/.gvimrc"
# 2nd user gvimrc file: "~/.vim/gvimrc"
#        defaults file: "$VIMRUNTIME/defaults.vim"
#     system menu file: "$VIMRUNTIME/menu.vim"
#   fall-back for $VIM: "/usr/share/vim"
# Compilation: gcc -c -I. -Iproto -DHAVE_CONFIG_H -DFEAT_GUI_GTK  -pthread -I/usr/include/gtk-3.0 -I/usr/include/at-spi2-atk/2.0 -I/usr/include/at-spi-2.0 -I/usr/include/dbus-1.0 -I/usr/lib/x86_64-linux-gnu/dbus-1.0/include -I/usr/include/gtk-3.0 -I/usr/include/gio-unix-2.0 -I/usr/include/cairo -I/usr/include/libdrm -I/usr/include/pango-1.0 -I/usr/include/harfbuzz -I/usr/include/pango-1.0 -I/usr/include/fribidi -I/usr/include/atk-1.0 -I/usr/include/cairo -I/usr/include/pixman-1 -I/usr/include/freetype2 -I/usr/include/libpng16 -I/usr/include/gdk-pixbuf-2.0 -I/usr/include/libmount -I/usr/include/blkid -I/usr/include/uuid -I/usr/include/glib-2.0 -I/usr/lib/x86_64-linux-gnu/glib-2.0/include -Wdate-time  -g -O2 -fdebug-prefix-map=/build/vim-mKzl1a/vim-8.1.0875=. -fstack-protector-strong -Wformat -Werror=format-security -U_FORTIFY_SOURCE -D_FORTIFY_SOURCE=1       
# Linking: gcc   -L. -Wl,-z,relro -Wl,-z,now -fstack-protector -rdynamic -Wl,-export-dynamic -Wl,-E  -Wl,-z,relro -Wl,-z,now -Wl,--as-needed -o vim   -lgtk-3 -lgdk-3 -lpangocairo-1.0 -lpango-1.0 -latk-1.0 -lcairo-gobject -lcairo -lgdk_pixbuf-2.0 -lgio-2.0 -lgobject-2.0 -lglib-2.0 -lSM -lICE -lXpm -lXt -lX11 -lXdmcp -lSM -lICE  -lm -ltinfo -lnsl  -lselinux  -lacl -lattr -lgpm -ldl  -L/usr/lib -llua5.2 -Wl,-E  -fstack-protector-strong -L/usr/local/lib  -L/usr/lib/x86_64-linux-gnu/perl/5.28/CORE -lperl -ldl -lm -lpthread -lcrypt  -L/usr/lib/python3.7/config-3.7m-x86_64-linux-gnu -lpython3.7m -lcrypt -lpthread -ldl -lutil -lm -L/usr/lib/x86_64-linux-gnu -ltcl8.6 -ldl -lz -lpthread -lm -lruby-2.5 -lpthread -lgmp -ldl -lcrypt -lm     
# 
t/000-vim-version.t .... ok
t/all-syntax-groups.t .. ok
t/ansi.t ............... ok
t/bin.t ................ ok
t/compare-formats.t .... ok
t/encoding.t ........... ok
t/html.t ............... ok
t/input_filename.t ..... ok
t/new.t ................ ok
t/override-options.t ... ok
t/share-dir.t .......... ok
t/tvctestsyn.t ......... ok
t/untie-std-handles.t .. ok
t/vim_let.t ............ ok
t/vim_options.t ........ ok
t/xml.t ................ skipped: XML::Parser module required for these tests.
All tests successful.

Test Summary Report
-------------------
t/encoding.t         (Wstat: 0 Tests: 8 Failed: 0)
  TODO passed:   5-6
Files=18, Tests=134, 14 wallclock secs ( 0.10 usr  0.12 sys +  5.75 cusr  3.38 csys =  9.35 CPU)
Result: PASS

------------------------------
PREREQUISITES
------------------------------

Prerequisite modules loaded:

requires:

    Module                     Need     Have    
    -------------------------- -------- --------
    Carp                       0        1.52    
    constant                   0        1.33    
    File::Copy                 0        2.35    
    File::ShareDir             0        1.118   
    File::Temp                 0        0.2311  
    Getopt::Long               0        2.54    
    IO::File                   0        1.48    
    IPC::Open3                 0        1.21    
    Path::Class                0.04     0.37    
    perl                       5.006    5.034001
    strict                     0        1.12    
    Symbol                     0        1.09    
    Term::ANSIColor            1.03     5.01    
    warnings                   0        1.51    

build_requires:

    Module                     Need     Have    
    -------------------------- -------- --------
    Exporter                   0        5.76    
    ExtUtils::MakeMaker        0        7.64    
    File::Spec                 0        3.80    
    File::Temp                 0        0.2311  
    IO::Handle                 0        1.48    
    IPC::Open3                 0        1.21    
    lib                        0        0.65    
    Path::Class                0.04     0.37    
    Test::File::ShareDir::Dist 0        1.001002
    Test::More                 0.88     1.302191

configure_requires:

    Module                     Need     Have    
    -------------------------- -------- --------
    ExtUtils::MakeMaker        0        7.64    
    File::ShareDir::Install    0.06     0.14    
    File::Temp                 0        0.2311  
    IO::File                   0        1.48    
    IPC::Open3                 0        1.21    
    perl                       5.006    5.034001
    strict                     0        1.12    
    warnings                   0        1.51    

opt_requires:

    Module                     Need     Have    
    -------------------------- -------- --------
    Term::ANSIColor            3        5.01    

opt_build_requires:

    Module                     Need     Have    
    -------------------------- -------- --------
    CPAN::Meta                 2.120900 2.150010


------------------------------
ENVIRONMENT AND OTHER CONTEXT
------------------------------

Environment variables:

    AUTOMATED_TESTING = 1
    LANG = en_US.UTF-8
    PATH = /home/perluser/perl5/perlbrew/bin:/home/perluser/perl5/perlbrew/perls/perl-5.34.1/bin:/usr/local/bin:/usr/bin:/bin:/usr/local/games:/usr/games
    PERL5LIB = /home/perluser/.cpan/build/Test-File-ShareDir-1.001002-1/blib/arch:/home/perluser/.cpan/build/Test-File-ShareDir-1.001002-1/blib/lib:/home/perluser/.cpan/build/Class-Tiny-1.008-1/blib/arch:/home/perluser/.cpan/build/Class-Tiny-1.008-1/blib/lib:/home/perluser/.cpan/build/Path-Class-0.37-1/blib/arch:/home/perluser/.cpan/build/Path-Class-0.37-1/blib/lib:/home/perluser/.cpan/build/RTF-Writer-1.11-0/blib/arch:/home/perluser/.cpan/build/RTF-Writer-1.11-0/blib/lib:/home/perluser/.cpan/build/Image-Size-3.300-0/blib/arch:/home/perluser/.cpan/build/Image-Size-3.300-0/blib/lib:/home/perluser/.cpan/build/Graphics-ColorUtils-0.17-0/blib/arch:/home/perluser/.cpan/build/Graphics-ColorUtils-0.17-0/blib/lib:/home/perluser/.cpan/build/Getopt-Long-Descriptive-0.110-1/blib/arch:/home/perluser/.cpan/build/Getopt-Long-Descriptive-0.110-1/blib/lib:/home/perluser/.cpan/build/Params-Validate-1.31-1/blib/arch:/home/perluser/.cpan/build/Params-Validate-1.31-1/blib/lib:/home/perluser/.cpan/build/List-MoreUtils-0.430-1/blib/arch:/home/perluser/.cpan/build/List-MoreUtils-0.430-1/blib/lib:/home/perluser/.cpan/build/List-MoreUtils-XS-0.430-1/blib/arch:/home/perluser/.cpan/build/List-MoreUtils-XS-0.430-1/blib/lib:/home/perluser/.cpan/build/Exporter-Tiny-1.006000-1/blib/arch:/home/perluser/.cpan/build/Exporter-Tiny-1.006000-1/blib/lib:/home/perluser/.cpan/build/File-ShareDir-1.118-1/blib/arch:/home/perluser/.cpan/build/File-ShareDir-1.118-1/blib/lib:/home/perluser/.cpan/build/Class-Inspector-1.36-1/blib/arch:/home/perluser/.cpan/build/Class-Inspector-1.36-1/blib/lib:/home/perluser/.cpan/build/File-ShareDir-Install-0.14-1/blib/arch:/home/perluser/.cpan/build/File-ShareDir-Install-0.14-1/blib/lib
    PERL5OPT = 
    PERL5_CPANPLUS_IS_RUNNING = 6900
    PERL5_CPAN_IS_RUNNING = 6900
    PERL5_CPAN_IS_RUNNING_IN_RECURSION = 7707,6900
    PERLBREW_HOME = /home/perluser/.perlbrew
    PERLBREW_MANPATH = /home/perluser/perl5/perlbrew/perls/perl-5.34.1/man
    PERLBREW_PATH = /home/perluser/perl5/perlbrew/bin:/home/perluser/perl5/perlbrew/perls/perl-5.34.1/bin
    PERLBREW_PERL = perl-5.34.1
    PERLBREW_ROOT = /home/perluser/perl5/perlbrew
    PERLBREW_SHELLRC_VERSION = 0.96
    PERLBREW_VERSION = 0.96
    PERL_CR_SMOKER_CURRENT = RTF-VimColor-0.002
    PERL_EXTUTILS_AUTOINSTALL = --defaultdeps
    PERL_MM_USE_DEFAULT = 1
    PERL_USE_UNSAFE_INC = 1
    SHELL = /bin/bash
    TERM = screen

Perl special variables (and OS-specific diagnostics, for MSWin32):

    $^X = /home/perluser/perl5/perlbrew/perls/perl-5.34.1/bin/perl
    $UID/$EUID = 1001 / 1001
    $GID = 1001 1001
    $EGID = 1001 1001

Perl module toolchain versions installed:

    Module              Have    
    ------------------- --------
    CPAN                2.34    
    CPAN::Meta          2.150010
    Cwd                 3.80    
    ExtUtils::CBuilder  0.280236
    ExtUtils::Command   7.64    
    ExtUtils::Install   2.20    
    ExtUtils::MakeMaker 7.64    
    ExtUtils::Manifest  1.73    
    ExtUtils::ParseXS   3.44    
    File::Spec          3.80    
    JSON                n/a     
    JSON::PP            4.12    
    Module::Build       0.4232  
    Module::Signature   n/a     
    Parse::CPAN::Meta   2.150010
    Test::Harness       3.44    
    Test::More          1.302191
    YAML                n/a     
    YAML::Syck          n/a     
    version             0.9929  


--

Summary of my perl5 (revision 5 version 34 subversion 1) configuration:
   
  Platform:
    osname=linux
    osvers=4.19.0-12-amd64
    archname=x86_64-linux
    uname='linux csi-nyp-lensrv 4.19.0-12-amd64 #1 smp debian 4.19.152-1 (2020-10-18) x86_64 gnulinux '
    config_args='-de -Dprefix=/home/perluser/perl5/perlbrew/perls/perl-5.34.1 -Aeval:scriptdir=/home/perluser/perl5/perlbrew/perls/perl-5.34.1/bin'
    hint=recommended
    useposix=true
    d_sigaction=define
    useithreads=undef
    usemultiplicity=undef
    use64bitint=define
    use64bitall=define
    uselongdouble=undef
    usemymalloc=n
    default_inc_excludes_dot=define
  Compiler:
    cc='cc'
    ccflags ='-fwrapv -fno-strict-aliasing -pipe -fstack-protector-strong -I/usr/local/include -D_LARGEFILE_SOURCE -D_FILE_OFFSET_BITS=64 -D_FORTIFY_SOURCE=2'
    optimize='-O2'
    cppflags='-fwrapv -fno-strict-aliasing -pipe -fstack-protector-strong -I/usr/local/include'
    ccversion=''
    gccversion='8.3.0'
    gccosandvers=''
    intsize=4
    longsize=8
    ptrsize=8
    doublesize=8
    byteorder=12345678
    doublekind=3
    d_longlong=define
    longlongsize=8
    d_longdbl=define
    longdblsize=16
    longdblkind=3
    ivtype='long'
    ivsize=8
    nvtype='double'
    nvsize=8
    Off_t='off_t'
    lseeksize=8
    alignbytes=8
    prototype=define
  Linker and Libraries:
    ld='cc'
    ldflags =' -fstack-protector-strong -L/usr/local/lib'
    libpth=/usr/local/lib /usr/lib/x86_64-linux-gnu /usr/lib /lib/x86_64-linux-gnu /lib
    libs=-lpthread -lnsl -ldl -lm -lcrypt -lutil -lc
    perllibs=-lpthread -lnsl -ldl -lm -lcrypt -lutil -lc
    libc=libc-2.28.so
    so=so
    useshrplib=false
    libperl=libperl.a
    gnulibc_version='2.28'
  Dynamic Linking:
    dlsrc=dl_dlopen.xs
    dlext=so
    d_dlsymun=undef
    ccdlflags='-Wl,-E'
    cccdlflags='-fPIC'
    lddlflags='-shared -O2 -L/usr/local/lib -fstack-protector-strong'


Characteristics of this binary (from libperl): 
  Compile-time options:
    HAS_TIMES
    PERLIO_LAYERS
    PERL_COPY_ON_WRITE
    PERL_DONT_CREATE_GVSV
    PERL_MALLOC_WRAP
    PERL_OP_PARENT
    PERL_PRESERVE_IVUV
    USE_64_BIT_ALL
    USE_64_BIT_INT
    USE_LARGE_FILES
    USE_LOCALE
    USE_LOCALE_COLLATE
    USE_LOCALE_CTYPE
    USE_LOCALE_NUMERIC
    USE_LOCALE_TIME
    USE_PERLIO
    USE_PERL_ATOF
  Built under linux
  Compiled at Dec 20 2022 22:02:38
  %ENV:
    PERL5LIB="/home/perluser/.cpan/build/Test-File-ShareDir-1.001002-1/blib/arch:/home/perluser/.cpan/build/Test-File-ShareDir-1.001002-1/blib/lib:/home/perluser/.cpan/build/Class-Tiny-1.008-1/blib/arch:/home/perluser/.cpan/build/Class-Tiny-1.008-1/blib/lib:/home/perluser/.cpan/build/Path-Class-0.37-1/blib/arch:/home/perluser/.cpan/build/Path-Class-0.37-1/blib/lib:/home/perluser/.cpan/build/RTF-Writer-1.11-0/blib/arch:/home/perluser/.cpan/build/RTF-Writer-1.11-0/blib/lib:/home/perluser/.cpan/build/Image-Size-3.300-0/blib/arch:/home/perluser/.cpan/build/Image-Size-3.300-0/blib/lib:/home/perluser/.cpan/build/Graphics-ColorUtils-0.17-0/blib/arch:/home/perluser/.cpan/build/Graphics-ColorUtils-0.17-0/blib/lib:/home/perluser/.cpan/build/Getopt-Long-Descriptive-0.110-1/blib/arch:/home/perluser/.cpan/build/Getopt-Long-Descriptive-0.110-1/blib/lib:/home/perluser/.cpan/build/Params-Validate-1.31-1/blib/arch:/home/perluser/.cpan/build/Params-Validate-1.31-1/blib/lib:/home/perluser/.cpan/build/List-MoreUtils-0.430-1/blib/arch:/home/perluser/.cpan/build/List-MoreUtils-0.430-1/blib/lib:/home/perluser/.cpan/build/List-MoreUtils-XS-0.430-1/blib/arch:/home/perluser/.cpan/build/List-MoreUtils-XS-0.430-1/blib/lib:/home/perluser/.cpan/build/Exporter-Tiny-1.006000-1/blib/arch:/home/perluser/.cpan/build/Exporter-Tiny-1.006000-1/blib/lib:/home/perluser/.cpan/build/File-ShareDir-1.118-1/blib/arch:/home/perluser/.cpan/build/File-ShareDir-1.118-1/blib/lib:/home/perluser/.cpan/build/Class-Inspector-1.36-1/blib/arch:/home/perluser/.cpan/build/Class-Inspector-1.36-1/blib/lib:/home/perluser/.cpan/build/File-ShareDir-Install-0.14-1/blib/arch:/home/perluser/.cpan/build/File-ShareDir-Install-0.14-1/blib/lib"
    PERL5OPT=""
    PERL5_CPANPLUS_IS_RUNNING="6900"
    PERL5_CPAN_IS_RUNNING="6900"
    PERL5_CPAN_IS_RUNNING_IN_RECURSION="7707,6900"
    PERLBREW_HOME="/home/perluser/.perlbrew"
    PERLBREW_MANPATH="/home/perluser/perl5/perlbrew/perls/perl-5.34.1/man"
    PERLBREW_PATH="/home/perluser/perl5/perlbrew/bin:/home/perluser/perl5/perlbrew/perls/perl-5.34.1/bin"
    PERLBREW_PERL="perl-5.34.1"
    PERLBREW_ROOT="/home/perluser/perl5/perlbrew"
    PERLBREW_SHELLRC_VERSION="0.96"
    PERLBREW_VERSION="0.96"
    PERL_CR_SMOKER_CURRENT="RTF-VimColor-0.002"
    PERL_EXTUTILS_AUTOINSTALL="--defaultdeps"
    PERL_MM_USE_DEFAULT="1"
    PERL_USE_UNSAFE_INC="1"
  @INC:
    /home/perluser/.cpan/build/Test-File-ShareDir-1.001002-1/blib/arch
    /home/perluser/.cpan/build/Test-File-ShareDir-1.001002-1/blib/lib
    /home/perluser/.cpan/build/Class-Tiny-1.008-1/blib/arch
    /home/perluser/.cpan/build/Class-Tiny-1.008-1/blib/lib
    /home/perluser/.cpan/build/Path-Class-0.37-1/blib/arch
    /home/perluser/.cpan/build/Path-Class-0.37-1/blib/lib
    /home/perluser/.cpan/build/RTF-Writer-1.11-0/blib/arch
    /home/perluser/.cpan/build/RTF-Writer-1.11-0/blib/lib
    /home/perluser/.cpan/build/Image-Size-3.300-0/blib/arch
    /home/perluser/.cpan/build/Image-Size-3.300-0/blib/lib
    /home/perluser/.cpan/build/Graphics-ColorUtils-0.17-0/blib/arch
    /home/perluser/.cpan/build/Graphics-ColorUtils-0.17-0/blib/lib
    /home/perluser/.cpan/build/Getopt-Long-Descriptive-0.110-1/blib/arch
    /home/perluser/.cpan/build/Getopt-Long-Descriptive-0.110-1/blib/lib
    /home/perluser/.cpan/build/Params-Validate-1.31-1/blib/arch
    /home/perluser/.cpan/build/Params-Validate-1.31-1/blib/lib
    /home/perluser/.cpan/build/List-MoreUtils-0.430-1/blib/arch
    /home/perluser/.cpan/build/List-MoreUtils-0.430-1/blib/lib
    /home/perluser/.cpan/build/List-MoreUtils-XS-0.430-1/blib/arch
    /home/perluser/.cpan/build/List-MoreUtils-XS-0.430-1/blib/lib
    /home/perluser/.cpan/build/Exporter-Tiny-1.006000-1/blib/arch
    /home/perluser/.cpan/build/Exporter-Tiny-1.006000-1/blib/lib
    /home/perluser/.cpan/build/File-ShareDir-1.118-1/blib/arch
    /home/perluser/.cpan/build/File-ShareDir-1.118-1/blib/lib
    /home/perluser/.cpan/build/Class-Inspector-1.36-1/blib/arch
    /home/perluser/.cpan/build/Class-Inspector-1.36-1/blib/lib
    /home/perluser/.cpan/build/File-ShareDir-Install-0.14-1/blib/arch
    /home/perluser/.cpan/build/File-ShareDir-Install-0.14-1/blib/lib
    /home/perluser/perl5/perlbrew/perls/perl-5.34.1/lib/site_perl/5.34.1/x86_64-linux
    /home/perluser/perl5/perlbrew/perls/perl-5.34.1/lib/site_perl/5.34.1
    /home/perluser/perl5/perlbrew/perls/perl-5.34.1/lib/5.34.1/x86_64-linux
    /home/perluser/perl5/perlbrew/perls/perl-5.34.1/lib/5.34.1
    .