Report for Class-InsideOut-1.13

Back
From: metabase:user:1eed3a18-483e-11e2-a87b-a3931c712682
Subject: PASS Class-InsideOut-1.13 v5.19.5 Mac OS X
Date: 2013-10-20T19:38:11Z

This distribution has been tested as part of the CPAN Testers
project, supporting the Perl programming language.  See
http://wiki.cpantesters.org/ for more information or email
questions to cpan-testers-discuss@perl.org


--
Dear DAGOLDEN,

This is a computer-generated report for Class-InsideOut-1.13
on perl 5.19.5, created by App::cpanminus::reporter 0.10 (1.7000).

Thank you for uploading your work to CPAN.  Congratulations!
All tests were successful.

Sections of this report:

    * Tester comments
    * Program output
    * Prerequisites
    * Environment and other context

------------------------------
TESTER COMMENTS
------------------------------

Additional comments from tester:

none provided

------------------------------
PROGRAM OUTPUT
------------------------------

Output from '':

Building and testing Class-InsideOut-1.13
cp lib/Class/InsideOut/Manual/Advanced.pod blib/lib/Class/InsideOut/Manual/Advanced.pod
cp lib/Class/InsideOut.pm blib/lib/Class/InsideOut.pm
cp lib/Class/InsideOut/Manual/About.pod blib/lib/Class/InsideOut/Manual/About.pod
Manifying blib/man3/Class::InsideOut.3
Manifying blib/man3/Class::InsideOut::Manual::About.3
Manifying blib/man3/Class::InsideOut::Manual::Advanced.3
PERL_DL_NONLAZY=1 /Users/stas/perl5/perlbrew/perls/perl-5.19.5/bin/perl5.19.5 "-MExtUtils::Command::MM" "-MTest::Harness" "-e" "undef *Test::Harness::Switches; test_harness(0, 'blib/lib', 'blib/arch')" t/*.t
t/00-compile.t ..................... ok
# Prerequisite Report:
#    Version Module               
#   -------- ---------------------
#       1.32 Carp                 
#       0.36 Class::ISA           
#   5.019005 Config               
#       1.20 DynaLoader           
#       5.70 Exporter             
#       6.80 ExtUtils::MakeMaker  
#       1.25 File::Find           
#       3.45 File::Spec           
#       3.45 File::Spec::Functions
#     0.2304 File::Temp           
#       1.16 IO::File             
#       1.35 List::Util           
#       1.35 Scalar::Util         
#       2.47 Storable             
#       0.99 Test::More           
#       0.16 XSLoader             
#       1.22 overload             
#       1.08 strict               
#       1.89 threads              
#       1.03 vars                 
#       1.20 warnings             
t/00-report-prereqs.t .............. ok
t/01_load.t ........................ ok
t/02_register.t .................... ok
t/03_properties.t .................. ok
t/04_threaded.t .................... skipped: perl ithreads not available
t/05_forking.t ..................... ok
t/06_export_ok.t ................... ok
t/07_synopsis_obj.t ................ ok
t/08_DEMOLISH.t .................... ok
t/09_foreign.t ..................... ok
t/10_storable_values.t ............. ok
t/11_storable_refs.t ............... ok
t/12_storable_hooks.t .............. ok
t/13_options.t ..................... ok
t/14_accessor_hooks.t .............. ok
t/15_no_weaken_fallback.t .......... skipped: Your Scalar::Util is XS only
t/16_property_argument_checking.t .. ok
t/17_option_argument_checking.t .... ok
t/18_register_argument_checking.t .. ok
t/19_storable_singleton.t .......... ok
t/20_storable_singleton_error.t .... ok
t/21_optional_new.t ................ ok
t/22_readonly.t .................... ok
t/23_accessor_hooks_blessed.t ...... ok
t/24_accessor_hooks_overloaded.t ... ok
t/25_accessor_hooks_typetiny.t ..... skipped: test requires Perl 5.8.3 and Type::Tiny
All tests successful.
Files=27, Tests=414,  1 wallclock secs ( 0.12 usr  0.05 sys +  0.98 cusr  0.15 csys =  1.30 CPU)
Result: PASS

------------------------------
PREREQUISITES
------------------------------

Prerequisite modules loaded:

    No requirements found

------------------------------
ENVIRONMENT AND OTHER CONTEXT
------------------------------

Environment variables:

    LANG = en_US.UTF-8
    LC_ALL = en_US.UTF-8
    LC_CTYPE = en_US.UTF-8
    PATH = /Users/stas/perl5/perlbrew/bin:/Users/stas/perl5/perlbrew/perls/perl-5.19.5/bin:/Users/stas/perl5/perlbrew/bin:/Users/stas/perl5/perlbrew/perls/perl-5.18.1/bin:/Users/stas/.vim/bin:/Users/stas/bin:/Users/stas/node_modules/.bin:/opt/local/Library/Frameworks/Python.framework/Versions/2.7/bin:/opt/local/lib/postgresql92/bin:/opt/local/bin:/opt/local/sbin:/usr/bin:/bin:/usr/sbin:/sbin:/usr/local/bin:/opt/X11/bin:/Users/stas/.vim/bin:/Users/stas/bin:/Users/stas/node_modules/.bin:/opt/local/Library/Frameworks/Python.framework/Versions/2.7/bin:/opt/local/lib/postgresql92/bin:/opt/local/bin:/opt/local/sbin
    PERL5LIB = 
    PERLBREW_BASHRC_VERSION = 0.65
    PERLBREW_HOME = /Users/stas/.perlbrew
    PERLBREW_MANPATH = /Users/stas/perl5/perlbrew/perls/perl-5.19.5/man
    PERLBREW_PATH = /Users/stas/perl5/perlbrew/bin:/Users/stas/perl5/perlbrew/perls/perl-5.19.5/bin
    PERLBREW_PERL = perl-5.19.5
    PERLBREW_ROOT = /Users/stas/perl5/perlbrew
    PERLBREW_VERSION = 0.65
    PERL_MM_USE_DEFAULT = 1
    SHELL = /opt/local/bin/zsh
    TERM = screen
    TMPDIR = /var/folders/k7/cj2hxbn162362g2150r7t9480000gn/T/

Perl special variables (and OS-specific diagnostics, for MSWin32):

    EGID = 20 20 401 508 12 33 61 79 80 81 98 100 204 402
    EUID = 501
    EXECUTABLE_NAME = /Users/stas/perl5/perlbrew/perls/perl-5.19.5/bin/perl5.19.5
    GID = 20 20 401 508 12 33 61 79 80 81 98 100 204 402
    UID = 501

Perl module toolchain versions installed:

    Module              Have    
    ------------------- --------
    CPAN                2.03    
    CPAN::Meta          2.132830
    Cwd                 3.45    
    ExtUtils::CBuilder  0.280212
    ExtUtils::Command   1.18    
    ExtUtils::Install   1.61    
    ExtUtils::MakeMaker 6.80    
    ExtUtils::Manifest  1.63    
    ExtUtils::ParseXS   3.23    
    File::Spec          3.45    
    JSON                2.61    
    JSON::PP            2.27203 
    Module::Build       0.4007  
    Module::Signature   0.73    
    Parse::CPAN::Meta   1.4409  
    Test::Harness       3.29    
    Test::More          0.99    
    YAML                0.84    
    YAML::Syck          1.27    
    version             0.9904  


--

Summary of my perl5 (revision 5 version 19 subversion 5) configuration:
   
  Platform:
    osname=darwin, osvers=12.5.0, archname=darwin-2level
    uname='darwin stas-macbook 12.5.0 darwin kernel version 12.5.0: sun sep 29 13:33:47 pdt 2013; root:xnu-2050.48.12~1release_x86_64 x86_64 '
    config_args='-de -Dprefix=/Users/stas/perl5/perlbrew/perls/perl-5.19.5 -Dusedevel -Aeval:scriptdir=/Users/stas/perl5/perlbrew/perls/perl-5.19.5/bin'
    hint=recommended, useposix=true, d_sigaction=define
    useithreads=undef, usemultiplicity=undef
    useperlio=define, d_sfio=undef, uselargefiles=define, usesocks=undef
    use64bitint=define, use64bitall=define, uselongdouble=undef
    usemymalloc=n, bincompat5005=undef
  Compiler:
    cc='cc', ccflags ='-fno-common -DPERL_DARWIN -fno-strict-aliasing -pipe -fstack-protector -I/opt/local/include',
    optimize='-O3',
    cppflags='-fno-common -DPERL_DARWIN -fno-strict-aliasing -pipe -fstack-protector -I/opt/local/include'
    ccversion='', gccversion='4.2.1 Compatible Apple LLVM 5.0 (clang-500.2.75)', gccosandvers=''
    intsize=4, longsize=8, ptrsize=8, doublesize=8, byteorder=12345678
    d_longlong=define, longlongsize=8, d_longdbl=define, longdblsize=16
    ivtype='long', ivsize=8, nvtype='double', nvsize=8, Off_t='off_t', lseeksize=8
    alignbytes=8, prototype=define
  Linker and Libraries:
    ld='env MACOSX_DEPLOYMENT_TARGET=10.3 cc', ldflags =' -fstack-protector -L/opt/local/lib'
    libpth=/opt/local/lib /usr/lib
    libs=-lgdbm -ldbm -ldl -lm -lutil -lc
    perllibs=-ldl -lm -lutil -lc
    libc=, so=dylib, useshrplib=false, libperl=libperl.a
    gnulibc_version=''
  Dynamic Linking:
    dlsrc=dl_dlopen.xs, dlext=bundle, d_dlsymun=undef, ccdlflags=' '
    cccdlflags=' ', lddlflags=' -bundle -undefined dynamic_lookup -L/opt/local/lib -fstack-protector'


Characteristics of this binary (from libperl): 
  Compile-time options: HAS_TIMES PERLIO_LAYERS PERL_DONT_CREATE_GVSV
                        PERL_HASH_FUNC_ONE_AT_A_TIME_HARD PERL_MALLOC_WRAP
                        PERL_NEW_COPY_ON_WRITE PERL_PRESERVE_IVUV
                        PERL_USE_DEVEL USE_64_BIT_ALL USE_64_BIT_INT
                        USE_LARGE_FILES USE_LOCALE USE_LOCALE_COLLATE
                        USE_LOCALE_CTYPE USE_LOCALE_NUMERIC USE_PERLIO
                        USE_PERL_ATOF
  Built under darwin
  Compiled at Oct 20 2013 18:25:24
  %ENV:
    PERL5LIB=""
    PERLBREW_BASHRC_VERSION="0.65"
    PERLBREW_HOME="/Users/stas/.perlbrew"
    PERLBREW_MANPATH="/Users/stas/perl5/perlbrew/perls/perl-5.19.5/man"
    PERLBREW_PATH="/Users/stas/perl5/perlbrew/bin:/Users/stas/perl5/perlbrew/perls/perl-5.19.5/bin"
    PERLBREW_PERL="perl-5.19.5"
    PERLBREW_ROOT="/Users/stas/perl5/perlbrew"
    PERLBREW_VERSION="0.65"
    PERL_MM_USE_DEFAULT="1"
  @INC:
    /Users/stas/perl5/perlbrew/perls/perl-5.19.5/lib/site_perl/5.19.5/darwin-2level
    /Users/stas/perl5/perlbrew/perls/perl-5.19.5/lib/site_perl/5.19.5
    /Users/stas/perl5/perlbrew/perls/perl-5.19.5/lib/5.19.5/darwin-2level
    /Users/stas/perl5/perlbrew/perls/perl-5.19.5/lib/5.19.5
    .