Data-Validate-Sanctions v0.11 Perl 5 v5.26.1 amd64-freebsd
- Status
- Pass
- From
- Slaven Rezić (SREZIC)
- Dist
-
Data-Validate-Sanctions v0.11
- Platform
- Perl 5 v5.26.1 amd64-freebsd
- Date
- 2018-07-11 06:53:44
- ID
- 273e9ab4-84d7-11e8-87d0-c63bfab08f2c
This distribution has been tested as part of the CPAN Testers
project, supporting the Perl programming language. See
http://wiki.cpantesters.org/ for more information or email
questions to cpan-testers-discuss@perl.org
--
Dear Binary.com,
This is a computer-generated report for Data-Validate-Sanctions-0.11
on perl 5.26.1, created by CPAN-Reporter-1.2018.
Thank you for uploading your work to CPAN. Congratulations!
All tests were successful.
Sections of this report:
* Tester comments
* Program output
* Prerequisites
* Environment and other context
------------------------------
TESTER COMMENTS
------------------------------
Additional comments from tester:
none provided
------------------------------
PROGRAM OUTPUT
------------------------------
Output from '/usr/bin/make test':
Skip blib/lib/auto/share/dist/Data-Validate-Sanctions/sanctions.yml (unchanged)
PERL_DL_NONLAZY=1 "/usr/perl5.26.1p/bin/perl" "-MExtUtils::Command::MM" "-MTest::Harness" "-e" "undef *Test::Harness::Switches; test_harness(0, 'blib/lib', 'blib/arch')" t/*.t
t/00-check-deps.t ...... ok
t/00-compile.t ......... ok
#
# Versions for all modules listed in MYMETA.json (including optional ones):
#
# === Configure Requires ===
#
# Module Want Have
# ----------------------- ---- ----
# ExtUtils::MakeMaker 6.48 7.34
# File::ShareDir::Install 0.06 0.13
#
# === Build Requires ===
#
# Module Want Have
# ------------------- ---- ----
# ExtUtils::MakeMaker any 7.34
#
# === Test Requires ===
#
# Module Want Have
# ------------------- ----- --------
# Class::Unload any 0.11
# ExtUtils::MakeMaker any 7.34
# File::Spec any 3.74
# FindBin any 1.51
# IO::Handle any 1.39
# IPC::Open3 any 1.20
# Path::Tiny any 0.104
# Test::CheckDeps 0.010 0.010
# Test::More 0.96 1.302136
#
# === Test Recommends ===
#
# Module Want Have
# ---------- -------- --------
# CPAN::Meta 2.120900 2.150010
#
# === Runtime Requires ===
#
# Module Want Have
# -------------------------- ---- ------
# DateTime::Format::Strptime any 1.74
# File::ShareDir any 1.116
# File::Temp any 0.2306
# File::stat any 1.07
# FindBin any 1.51
# IO::Uncompress::Unzip any 2.081
# List::Util any 1.50
# Mojo::UserAgent any undef
# Path::Tiny any 0.104
# Scalar::Util any 1.50
# Text::CSV any 1.95
# Try::Tiny any 0.30
# XML::Fast any 0.17
# YAML::XS any 0.70
#
t/00-report-prereqs.t .. ok
t/05_basic.t ........... ok
t/10_env.t ............. ok
t/15_oo.t .............. ok
All tests successful.
Files=6, Tests=50, 5 wallclock secs ( 0.03 usr 0.02 sys + 3.69 cusr 0.51 csys = 4.24 CPU)
Result: PASS
------------------------------
PREREQUISITES
------------------------------
Prerequisite modules loaded:
requires:
Module Need Have
-------------------------- -------- --------
DateTime::Format::Strptime 0 1.74
File::ShareDir 0 1.116
File::stat 0 1.07
File::Temp 0 0.2306
FindBin 0 1.51
IO::Uncompress::Unzip 0 2.081
List::Util 0 1.50
Mojo::UserAgent 0 0
Path::Tiny 0 0.104
perl 5.014000 5.026001
Scalar::Util 0 1.50
Text::CSV 0 1.95
Try::Tiny 0 0.30
XML::Fast 0 0.17
YAML::XS 0 0.70
build_requires:
Module Need Have
-------------------------- -------- --------
Class::Unload 0 0.11
ExtUtils::MakeMaker 0 7.34
File::Spec 0 3.74
FindBin 0 1.51
IO::Handle 0 1.39
IPC::Open3 0 1.20
Path::Tiny 0 0.104
Test::CheckDeps 0.010 0.010
Test::More 0.96 1.302136
configure_requires:
Module Need Have
-------------------------- -------- --------
ExtUtils::MakeMaker 6.48 7.34
File::ShareDir::Install 0.06 0.13
------------------------------
ENVIRONMENT AND OTHER CONTEXT
------------------------------
Environment variables:
PATH = /usr/local/bin:/usr/bin:/bin:/usr/local/sbin:/usr/sbin:/sbin:/home/cpansand/bin/sh:/home/cpansand/bin:/usr/games:/home/cpansand/devel:/home/eserte/src/srezic-misc/scripts
PERL5LIB = /home/cpansand/.cpan/build/2018071115/XML-Fast-0.17-1/blib/arch:/home/cpansand/.cpan/build/2018071115/XML-Fast-0.17-1/blib/lib
PERL5OPT =
PERL5_CPANPLUS_IS_RUNNING = 88634
PERL5_CPAN_IS_RUNNING = 88634
PERL5_CPAN_IS_RUNNING_IN_RECURSION = 88068,88634
PERL_BATCH = yes
PERL_CANARY_STABILITY_NOPROMPT = 1
PERL_CPAN_REPORTER_CONFIG = /var/tmp/cpansmoker-1023/2018071115/cpanreporter_000_config.ini
PERL_EXTUTILS_AUTOINSTALL = --defaultdeps
PERL_USE_UNSAFE_INC = 1
SHELL = /bin/sh
TMPDIR = /var/tmp/cpansmoker-1023/2018071115
Perl special variables (and OS-specific diagnostics, for MSWin32):
$^X = /usr/perl5.26.1p/bin/perl
$UID/$EUID = 1023 / 1023
$GID = 1023 1023
$EGID = 1023 1023
Perl module toolchain versions installed:
Module Have
------------------- --------
CPAN 2.18
CPAN::Meta 2.150010
Cwd 3.74
ExtUtils::CBuilder 0.280230
ExtUtils::Command 7.34
ExtUtils::Install 2.06
ExtUtils::MakeMaker 7.34
ExtUtils::Manifest 1.70
ExtUtils::ParseXS 3.34
File::Spec 3.74
JSON 2.97001
JSON::PP 2.94
Module::Build 0.4224
Module::Signature 0.81
Parse::CPAN::Meta 2.150010
Test::Harness 3.42
Test::More 1.302136
YAML 1.26
YAML::Syck 1.30
version 0.9917
--
Summary of my perl5 (revision 5 version 26 subversion 1) configuration:
Platform:
osname=freebsd
osvers=11.1-stable
archname=amd64-freebsd
uname='freebsd ali3.bbbike.org 11.1-stable freebsd 11.1-stable #1 21e3b2eb0af(stable11): thu oct 19 19:30:51 utc 2017 root@ali3.bbbike.org:usrobjhomeprojectsfreebsdsysgeneric amd64 '
config_args='-ds -e -Dprefix=/usr/perl5.26.1p -Dcf_email=srezic@cpan.org -Doptimize=-O2 -pipe'
hint=recommended
useposix=true
d_sigaction=define
useithreads=undef
usemultiplicity=undef
use64bitint=define
use64bitall=define
uselongdouble=undef
usemymalloc=n
default_inc_excludes_dot=define
bincompat5005=undef
Compiler:
cc='cc'
ccflags ='-DHAS_FPSETMASK -DHAS_FLOATINGPOINT_H -fno-strict-aliasing -pipe -fstack-protector-strong -I/usr/local/include -D_FORTIFY_SOURCE=2'
optimize='-O2 -pipe'
cppflags='-DHAS_FPSETMASK -DHAS_FLOATINGPOINT_H -fno-strict-aliasing -pipe -fstack-protector-strong -I/usr/local/include'
ccversion=''
gccversion='4.2.1 Compatible FreeBSD Clang 5.0.0 (tags/RELEASE_500/final 312559)'
gccosandvers=''
intsize=4
longsize=8
ptrsize=8
doublesize=8
byteorder=12345678
doublekind=3
d_longlong=define
longlongsize=8
d_longdbl=define
longdblsize=16
longdblkind=3
ivtype='long'
ivsize=8
nvtype='double'
nvsize=8
Off_t='off_t'
lseeksize=8
alignbytes=8
prototype=define
Linker and Libraries:
ld='cc'
ldflags ='-pthread -Wl,-E -fstack-protector-strong -L/usr/local/lib'
libpth=/usr/lib /usr/local/lib /usr/lib/clang/5.0.0/lib /usr/lib
libs=-lpthread -lgdbm -lm -lcrypt -lutil -lc
perllibs=-lpthread -lm -lcrypt -lutil -lc
libc=
so=so
useshrplib=false
libperl=libperl.a
gnulibc_version=''
Dynamic Linking:
dlsrc=dl_dlopen.xs
dlext=so
d_dlsymun=undef
ccdlflags=' '
cccdlflags='-DPIC -fPIC'
lddlflags='-shared -L/usr/local/lib -fstack-protector-strong'
Characteristics of this binary (from libperl):
Compile-time options:
HAS_TIMES
PERLIO_LAYERS
PERL_COPY_ON_WRITE
PERL_DONT_CREATE_GVSV
PERL_MALLOC_WRAP
PERL_OP_PARENT
PERL_PRESERVE_IVUV
USE_64_BIT_ALL
USE_64_BIT_INT
USE_LARGE_FILES
USE_LOCALE
USE_LOCALE_COLLATE
USE_LOCALE_CTYPE
USE_LOCALE_NUMERIC
USE_LOCALE_TIME
USE_PERLIO
USE_PERL_ATOF
Built under freebsd
Compiled at Oct 31 2017 01:02:57
%ENV:
PERL5LIB="/home/cpansand/.cpan/build/2018071115/XML-Fast-0.17-1/blib/arch:/home/cpansand/.cpan/build/2018071115/XML-Fast-0.17-1/blib/lib"
PERL5OPT=""
PERL5_CPANPLUS_IS_RUNNING="88634"
PERL5_CPAN_IS_RUNNING="88634"
PERL5_CPAN_IS_RUNNING_IN_RECURSION="88068,88634"
PERL_BATCH="yes"
PERL_CANARY_STABILITY_NOPROMPT="1"
PERL_CPAN_REPORTER_CONFIG="/var/tmp/cpansmoker-1023/2018071115/cpanreporter_000_config.ini"
PERL_EXTUTILS_AUTOINSTALL="--defaultdeps"
PERL_USE_UNSAFE_INC="1"
@INC:
/home/cpansand/.cpan/build/2018071115/XML-Fast-0.17-1/blib/arch
/home/cpansand/.cpan/build/2018071115/XML-Fast-0.17-1/blib/lib
/usr/perl5.26.1p/lib/site_perl/5.26.1/amd64-freebsd
/usr/perl5.26.1p/lib/site_perl/5.26.1
/usr/perl5.26.1p/lib/5.26.1/amd64-freebsd
/usr/perl5.26.1p/lib/5.26.1
.