HTML-Formatter v2.16 Perl 5 v5.24.4 MSWin32-x64-multi-thread

Status
Pass
From
LNATION
Dist
HTML-Formatter v2.16
Platform
Perl 5 v5.24.4 MSWin32-x64-multi-thread
Date
2025-05-19 07:36:14
ID
26f9c6c8-6dfc-1014-aa66-e38d466845dd
This distribution has been tested as part of the CPAN Testers
project, supporting the Perl programming language.  See
http://wiki.cpantesters.org/ for more information or email
questions to cpan-testers-discuss@perl.org


--
Dear Nigel Metheringham,

This is a computer-generated report for HTML-Formatter-2.16
on perl 5.24.4, created by CPAN-Reporter-1.2020.

Thank you for uploading your work to CPAN.  Congratulations!
All tests were successful.

Sections of this report:

    * Tester comments
    * Program output
    * Prerequisites
    * Environment and other context

------------------------------
TESTER COMMENTS
------------------------------

Additional comments from tester:

this report is from an automated smoke testing program
and was not reviewed by a human for accuracy

------------------------------
PROGRAM OUTPUT
------------------------------

Output from 'C:\STRAWB~1\c\bin\dmake.exe test':

"C:\Strawberry\perl\bin\perl.exe" "-MExtUtils::Command::MM" "-MTest::Harness" "-e" "undef *Test::Harness::Switches; test_harness(0, 'blib\lib', 'blib\arch')" t/*.t
t/00-compile.t ............... ok
# 
# Versions for all modules listed in MYMETA.json (including optional ones):
# 
# === Configure Requires ===
# 
#     Module              Want Have
#     ------------------- ---- ----
#     ExtUtils::MakeMaker  any 7.74
# 
# === Build Requires ===
# 
#     Module              Want Have
#     ------------------- ---- ----
#     ExtUtils::MakeMaker  any 7.74
# 
# === Test Requires ===
# 
#     Module              Want     Have
#     ------------------- ---- --------
#     ExtUtils::MakeMaker  any     7.74
#     File::Slurper        any    0.014
#     File::Spec           any     3.75
#     FindBin              any     1.51
#     IO::Handle           any     1.36
#     IPC::Open3           any     1.20
#     Test::More          0.96 1.302213
#     Test::Warnings       any    0.038
#     blib                1.01     1.06
#     bytes                any     1.05
#     lib                  any     0.63
# 
# === Test Recommends ===
# 
#     Module         Want     Have
#     ---------- -------- --------
#     CPAN::Meta 2.120900 2.150010
# 
# === Runtime Requires ===
# 
#     Module                              Want    Have
#     ----------------------------------- ---- -------
#     Carp                                 any    1.50
#     Data::Dumper                         any   2.183
#     Encode                               any    3.21
#     Font::Metrics::Courier               any   undef
#     Font::Metrics::CourierBold           any   undef
#     Font::Metrics::CourierBoldOblique    any   undef
#     Font::Metrics::CourierOblique        any   undef
#     Font::Metrics::Helvetica             any   undef
#     Font::Metrics::HelveticaBold         any   undef
#     Font::Metrics::HelveticaBoldOblique  any   undef
#     Font::Metrics::HelveticaOblique      any   undef
#     Font::Metrics::TimesBold             any   undef
#     Font::Metrics::TimesBoldItalic       any   undef
#     Font::Metrics::TimesItalic           any   undef
#     Font::Metrics::TimesRoman            any   undef
#     HTML::Element                       3.15    5.07
#     HTML::TreeBuilder                    any    5.07
#     IO::File                             any    1.16
#     base                                 any 2.23_01
#     integer                              any    1.01
#     parent                               any   0.236
#     strict                               any    1.11
#     utf8                                 any    1.19
#     warnings                             any    1.36
# 
t/00-report-prereqs.t ........ ok
t/01_ps.t .................... ok
t/02_rtf.t ................... ok
t/03_text.t .................. ok
t/04_md.t .................... ok
t/author-critic.t ............ skipped: these tests are for testing by the author
t/author-eol.t ............... skipped: these tests are for testing by the author
t/author-no-tabs.t ........... skipped: these tests are for testing by the author
t/author-pod-spell.t ......... skipped: these tests are for testing by the author
t/author-pod-syntax.t ........ skipped: these tests are for testing by the author
t/author-portability.t ....... skipped: these tests are for testing by the author
t/author-synopsis.t .......... skipped: these tests are for testing by the author
t/release-dist-manifest.t .... skipped: these tests are for release candidate testing
t/release-distmeta.t ......... skipped: these tests are for release candidate testing
t/release-has-version.t ...... skipped: these tests are for release candidate testing
t/release-minimum-version.t .. skipped: these tests are for release candidate testing
t/release-unused-vars.t ...... skipped: these tests are for release candidate testing
t/rt111783.t ................. ok
t/rt69426.t .................. ok
All tests successful.
Files=20, Tests=94,  3 wallclock secs ( 0.08 usr +  0.09 sys =  0.17 CPU)
Result: PASS

------------------------------
PREREQUISITES
------------------------------

Prerequisite modules loaded:

requires:

    Module                              Need     Have    
    ----------------------------------- -------- --------
    base                                0        2.23_01 
    Carp                                0        1.50    
    Data::Dumper                        0        2.183   
    Encode                              0        3.21    
    Font::Metrics::Courier              0        0       
    Font::Metrics::CourierBold          0        0       
    Font::Metrics::CourierBoldOblique   0        0       
    Font::Metrics::CourierOblique       0        0       
    Font::Metrics::Helvetica            0        0       
    Font::Metrics::HelveticaBold        0        0       
    Font::Metrics::HelveticaBoldOblique 0        0       
    Font::Metrics::HelveticaOblique     0        0       
    Font::Metrics::TimesBold            0        0       
    Font::Metrics::TimesBoldItalic      0        0       
    Font::Metrics::TimesItalic          0        0       
    Font::Metrics::TimesRoman           0        0       
    HTML::Element                       3.15     5.07    
    HTML::TreeBuilder                   0        5.07    
    integer                             0        1.01    
    IO::File                            0        1.16    
    parent                              0        0.236   
    perl                                5.008    5.024004
    strict                              0        1.11    
    utf8                                0        1.19    
    warnings                            0        1.36    

build_requires:

    Module                              Need     Have    
    ----------------------------------- -------- --------
    blib                                1.01     1.06    
    bytes                               0        1.05    
    ExtUtils::MakeMaker                 0        7.74    
    File::Slurper                       0        0.014   
    File::Spec                          0        3.75    
    FindBin                             0        1.51    
    IO::Handle                          0        1.36    
    IPC::Open3                          0        1.20    
    lib                                 0        0.63    
    Test::More                          0.96     1.302213
    Test::Warnings                      0        0.038   

configure_requires:

    Module                              Need     Have    
    ----------------------------------- -------- --------
    ExtUtils::MakeMaker                 0        7.74    

opt_build_requires:

    Module                              Need     Have    
    ----------------------------------- -------- --------
    CPAN::Meta                          2.120900 2.150010


------------------------------
ENVIRONMENT AND OTHER CONTEXT
------------------------------

Environment variables:

    AUTOMATED_TESTING = 1
    COMSPEC = C:\Windows\system32\cmd.exe
    NUMBER_OF_PROCESSORS = 2
    PATH = C:\Windows\system32;C:\Windows;C:\Windows\System32\Wbem;C:\Windows\System32\WindowsPowerShell\v1.0\;C:\Windows\System32\OpenSSH\;C:\Program Files\Amazon\cfn-bootstrap\;C:\Strawberry\c\bin;C:\Strawberry\perl\site\bin;C:\Strawberry\perl\bin;C:\Users\Administrator\AppData\Local\Microsoft\WindowsApps;C:\Users\Administrator\AppData\Local\Microsoft\WinGet\Links;
    PERL5LIB = 
    PERL5OPT = 
    PERL5_CPANPLUS_IS_RUNNING = 2148
    PERL5_CPAN_IS_RUNNING = 2148
    PERL5_CPAN_IS_RUNNING_IN_RECURSION = 2020,2148
    PERL_CR_SMOKER_CURRENT = Palm-ProjectGutenberg-1.02
    PERL_EXTUTILS_AUTOINSTALL = --defaultdeps
    PERL_MM_USE_DEFAULT = 1
    PROCESSOR_IDENTIFIER = Intel64 Family 6 Model 85 Stepping 7, GenuineIntel
    TEMP = C:\Users\ADMINI~1\AppData\Local\Temp\2

Perl special variables (and OS-specific diagnostics, for MSWin32):

    $^X = C:\Strawberry\perl\bin\perl.exe
    $UID/$EUID = 0 / 0
    $GID = 0
    $EGID = 0
    Win32::GetOSName = Win10
    Win32::GetOSVersion = , 10, 0, 26100, 2, 0, 0, 400, 3
    Win32::FsType = NTFS
    Win32::IsAdminUser = 1

Perl module toolchain versions installed:

    Module              Have    
    ------------------- --------
    CPAN                2.16    
    CPAN::Meta          2.150010
    Cwd                 3.75    
    ExtUtils::CBuilder  0.280236
    ExtUtils::Command   7.74    
    ExtUtils::Install   2.14    
    ExtUtils::MakeMaker 7.74    
    ExtUtils::Manifest  1.75    
    ExtUtils::ParseXS   3.57    
    File::Spec          3.75    
    JSON                4.10    
    JSON::PP            4.16    
    Module::Build       0.4234  
    Module::Signature   n/a     
    Parse::CPAN::Meta   2.150010
    Test2               1.302213
    Test::Harness       3.52    
    Test::More          1.302213
    YAML                1.24    
    YAML::Syck          1.34    
    version             0.9922  


--

Summary of my perl5 (revision 5 version 24 subversion 4) configuration:
   
  Platform:
    osname=MSWin32, osvers=10.0, archname=MSWin32-x64-multi-thread
    uname='Win32 strawberry-perl 5.24.4.1 #1 Sun Apr 15 19:39:13 2018 x64'
    config_args='undef'
    hint=recommended, useposix=true, d_sigaction=undef
    useithreads=define, usemultiplicity=define
    use64bitint=define, use64bitall=undef, uselongdouble=undef
    usemymalloc=n, bincompat5005=undef
  Compiler:
    cc='gcc', ccflags =' -s -O2 -DWIN32 -DWIN64 -DCONSERVATIVE  -DPERL_TEXTMODE_SCRIPTS -DPERL_IMPLICIT_CONTEXT -DPERL_IMPLICIT_SYS -fwrapv -fno-strict-aliasing -mms-bitfields',
    optimize='-s -O2',
    cppflags='-DWIN32'
    ccversion='', gccversion='4.9.2', gccosandvers=''
    intsize=4, longsize=4, ptrsize=8, doublesize=8, byteorder=12345678, doublekind=3
    d_longlong=define, longlongsize=8, d_longdbl=define, longdblsize=16, longdblkind=3
    ivtype='long long', ivsize=8, nvtype='double', nvsize=8, Off_t='long long', lseeksize=8
    alignbytes=8, prototype=define
  Linker and Libraries:
    ld='g++', ldflags ='-s -L"C:\STRAWB~1\perl\lib\CORE" -L"C:\STRAWB~1\c\lib"'
    libpth=C:\STRAWB~1\c\lib C:\STRAWB~1\c\x86_64-w64-mingw32\lib C:\STRAWB~1\c\lib\gcc\x86_64-w64-mingw32\4.9.2
    libs=-lmoldname -lkernel32 -luser32 -lgdi32 -lwinspool -lcomdlg32 -ladvapi32 -lshell32 -lole32 -loleaut32 -lnetapi32 -luuid -lws2_32 -lmpr -lwinmm -lversion -lodbc32 -lodbccp32 -lcomctl32
    perllibs=-lmoldname -lkernel32 -luser32 -lgdi32 -lwinspool -lcomdlg32 -ladvapi32 -lshell32 -lole32 -loleaut32 -lnetapi32 -luuid -lws2_32 -lmpr -lwinmm -lversion -lodbc32 -lodbccp32 -lcomctl32
    libc=, so=dll, useshrplib=true, libperl=libperl524.a
    gnulibc_version=''
  Dynamic Linking:
    dlsrc=dl_win32.xs, dlext=xs.dll, d_dlsymun=undef, ccdlflags=' '
    cccdlflags=' ', lddlflags='-mdll -s -L"C:\STRAWB~1\perl\lib\CORE" -L"C:\STRAWB~1\c\lib"'


Characteristics of this binary (from libperl): 
  Compile-time options: HAS_TIMES HAVE_INTERP_INTERN MULTIPLICITY
                        PERLIO_LAYERS PERL_COPY_ON_WRITE
                        PERL_DONT_CREATE_GVSV
                        PERL_HASH_FUNC_ONE_AT_A_TIME_HARD
                        PERL_IMPLICIT_CONTEXT PERL_IMPLICIT_SYS
                        PERL_MALLOC_WRAP PERL_PRESERVE_IVUV USE_64_BIT_INT
                        USE_ITHREADS USE_LARGE_FILES USE_LOCALE
                        USE_LOCALE_COLLATE USE_LOCALE_CTYPE
                        USE_LOCALE_NUMERIC USE_LOCALE_TIME USE_PERLIO
                        USE_PERL_ATOF
  Built under MSWin32
  Compiled at Apr 15 2018 19:43:12
  %ENV:
    PERL5_CPANPLUS_IS_RUNNING="2148"
    PERL5_CPAN_IS_RUNNING="2148"
    PERL5_CPAN_IS_RUNNING_IN_RECURSION="2020,2148"
    PERL_CR_SMOKER_CURRENT="Palm-ProjectGutenberg-1.02"
    PERL_EXTUTILS_AUTOINSTALL="--defaultdeps"
    PERL_MM_USE_DEFAULT="1"
  @INC:
    C:/Strawberry/perl/site/lib
    C:/Strawberry/perl/vendor/lib
    C:/Strawberry/perl/lib
    .