Report for Clustericious-1.22

Back
From: metabase:user:320bfe00-2aae-11df-837a-5e0a49663a4f
Subject: PASS Clustericious-1.22 v5.25.9 GNU/Linux
Date: 2017-02-01T22:09:50Z

This distribution has been tested as part of the CPAN Testers
project, supporting the Perl programming language.  See
http://wiki.cpantesters.org/ for more information or email
questions to cpan-testers-discuss@perl.org


--
Dear Graham Ollis,

This is a computer-generated report for Clustericious-1.22
on perl 5.25.9, created by CPAN-Reporter-1.2018.

Thank you for uploading your work to CPAN.  Congratulations!
All tests were successful.

Sections of this report:

    * Tester comments
    * Program output
    * Prerequisites
    * Environment and other context

------------------------------
TESTER COMMENTS
------------------------------

Additional comments from tester:

this report is from an automated smoke testing program
and was not reviewed by a human for accuracy

------------------------------
PROGRAM OUTPUT
------------------------------

Output from '/usr/bin/make test':

Skip blib/lib/auto/share/dist/Clustericious/tmpl/1.08/client/bin/APPNAMEclient (unchanged)
Skip blib/lib/auto/share/dist/Clustericious/tmpl/1.08/app/bin/APPNAME (unchanged)
Skip blib/lib/auto/share/dist/Clustericious/tmpl/1.08/app/eg/APPCLASS.conf (unchanged)
Skip blib/lib/auto/share/dist/Clustericious/www/1.08/favicon.ico (unchanged)
Skip blib/lib/auto/share/dist/Clustericious/tmpl/1.08/app/lib/APPCLASS.pm (unchanged)
Skip blib/lib/auto/share/dist/Clustericious/tmpl/1.08/app/t/02_compile.t (unchanged)
Skip blib/lib/auto/share/dist/Clustericious/README.txt (unchanged)
Skip blib/lib/auto/share/dist/Clustericious/tmpl/1.08/client/lib/APPCLASS/Client.pm (unchanged)
Skip blib/lib/auto/share/dist/Clustericious/tmpl/1.08/client/Build.PL (unchanged)
Skip blib/lib/auto/share/dist/Clustericious/tmpl/1.08/client/t/01_use.t (unchanged)
Skip blib/lib/auto/share/dist/Clustericious/tmpl/1.08/app/t/basic.t (unchanged)
Skip blib/lib/auto/share/dist/Clustericious/tmpl/1.08/app/Build.PL (unchanged)
Skip blib/lib/auto/share/dist/Clustericious/tmpl/1.08/client/t/02_compile.t (unchanged)
Skip blib/lib/auto/share/dist/Clustericious/tmpl/1.08/app/lib/APPCLASS/Routes.pm (unchanged)
Skip blib/lib/auto/share/dist/Clustericious/tmpl/1.08/app/t/01_use.t (unchanged)
"/tmp/basesmoker-reloperl-EM0g/bin/perl" run_test.pl
# 
# 
# 
# HARNESS_ACTIVE=1
# HARNESS_VERSION=3.36_01
# LANG=C
# PERL="/tmp/basesmoker-reloperl-EM0g/bin/perl"
# PERL5LIB=/tmp/loop_over_bdir-30767-BNZjJs/Clustericious-1.22-0/blib/lib:/tmp/loop_over_bdir-30767-BNZjJs/Clustericious-1.22-0/blib/arch:/tmp/loop_over_bdir-30767-BNZjJs/Clustericious-1.22-0/lib:/tmp/loop_over_bdir-30767-BNZjJs/Hash-FieldHash-0.14-0/blib/arch:/tmp/loop_over_bdir-30767-BNZjJs/Hash-FieldHash-0.14-0/blib/lib:/tmp/loop_over_bdir-30767-BNZjJs/Server-Starter-0.33-0/blib/arch:/tmp/loop_over_bdir-30767-BNZjJs/Server-Starter-0.33-0/blib/lib:/tmp/loop_over_bdir-30767-BNZjJs/Alien-GvaScript-1.44-0/blib/arch:/tmp/loop_over_bdir-30767-BNZjJs/Alien-GvaScript-1.44-0/blib/lib:/tmp/loop_over_bdir-30767-BNZjJs/libintl-perl-1.26-0/blib/arch:/tmp/loop_over_bdir-30767-BNZjJs/libintl-perl-1.26-0/blib/lib:/tmp/loop_over_bdir-30767-BNZjJs/HTML-Tree-5.03-0/blib/arch:/tmp/loop_over_bdir-30767-BNZjJs/HTML-Tree-5.03-0/blib/lib:/tmp/loop_over_bdir-30767-BNZjJs/Mouse-v2.4.7-0/blib/arch:/tmp/loop_over_bdir-30767-BNZjJs/Mouse-v2.4.7-0/blib/lib:/tmp/loop_over_bdir-30767-BNZjJs/WWW-Form-UrlEncoded-0.23-0/blib/arch:/tmp/loop_over_bdir-30767-BNZjJs/WWW-Form-UrlEncoded-0.23-0/blib/lib:/tmp/loop_over_bdir-30767-BNZjJs/Hash-FieldHash-0.14-0/blib/arch:/tmp/loop_over_bdir-30767-BNZjJs/Hash-FieldHash-0.14-0/blib/lib:/tmp/loop_over_bdir-30767-BNZjJs/Server-Starter-0.33-0/blib/arch:/tmp/loop_over_bdir-30767-BNZjJs/Server-Starter-0.33-0/blib/lib:/tmp/loop_over_bdir-30767-BNZjJs/Alien-GvaScript-1.44-0/blib/arch:/tmp/loop_over_bdir-30767-BNZjJs/Alien-GvaScript-1.44-0/blib/lib:/tmp/loop_over_bdir-30767-BNZjJs/libintl-perl-1.26-0/blib/arch:/tmp/loop_over_bdir-30767-BNZjJs/libintl-perl-1.26-0/blib/lib:/tmp/loop_over_bdir-30767-BNZjJs/HTML-Tree-5.03-0/blib/arch:/tmp/loop_over_bdir-30767-BNZjJs/HTML-Tree-5.03-0/blib/lib:/tmp/loop_over_bdir-30767-BNZjJs/Mouse-v2.4.7-0/blib/arch:/tmp/loop_over_bdir-30767-BNZjJs/Mouse-v2.4.7-0/blib/lib:/tmp/loop_over_bdir-30767-BNZjJs/WWW-Form-UrlEncoded-0.23-0/blib/arch:/tmp/loop_over_bdir-30767-BNZjJs/WWW-Form-UrlEncoded-0.23-0/blib/lib
# PERL5OPT=
# PERL5_CPANPLUS_IS_RUNNING=30771
# PERL5_CPAN_IS_RUNNING=30771
# PERL_CANARY_STABILITY_NOPROMPT=1
# PERL_MM_USE_DEFAULT=1
# PERL_USE_UNSAFE_INC=1
# SHELL=/usr/bin/zsh
# 
# 
# 
# PERL5LIB path
# /tmp/loop_over_bdir-30767-BNZjJs/Clustericious-1.22-0/blib/lib
# /tmp/loop_over_bdir-30767-BNZjJs/Clustericious-1.22-0/blib/arch
# /tmp/loop_over_bdir-30767-BNZjJs/Clustericious-1.22-0/lib
# /tmp/loop_over_bdir-30767-BNZjJs/Hash-FieldHash-0.14-0/blib/arch
# /tmp/loop_over_bdir-30767-BNZjJs/Hash-FieldHash-0.14-0/blib/lib
# /tmp/loop_over_bdir-30767-BNZjJs/Server-Starter-0.33-0/blib/arch
# /tmp/loop_over_bdir-30767-BNZjJs/Server-Starter-0.33-0/blib/lib
# /tmp/loop_over_bdir-30767-BNZjJs/Alien-GvaScript-1.44-0/blib/arch
# /tmp/loop_over_bdir-30767-BNZjJs/Alien-GvaScript-1.44-0/blib/lib
# /tmp/loop_over_bdir-30767-BNZjJs/libintl-perl-1.26-0/blib/arch
# /tmp/loop_over_bdir-30767-BNZjJs/libintl-perl-1.26-0/blib/lib
# /tmp/loop_over_bdir-30767-BNZjJs/HTML-Tree-5.03-0/blib/arch
# /tmp/loop_over_bdir-30767-BNZjJs/HTML-Tree-5.03-0/blib/lib
# /tmp/loop_over_bdir-30767-BNZjJs/Mouse-v2.4.7-0/blib/arch
# /tmp/loop_over_bdir-30767-BNZjJs/Mouse-v2.4.7-0/blib/lib
# /tmp/loop_over_bdir-30767-BNZjJs/WWW-Form-UrlEncoded-0.23-0/blib/arch
# /tmp/loop_over_bdir-30767-BNZjJs/WWW-Form-UrlEncoded-0.23-0/blib/lib
# /tmp/loop_over_bdir-30767-BNZjJs/Hash-FieldHash-0.14-0/blib/arch
# /tmp/loop_over_bdir-30767-BNZjJs/Hash-FieldHash-0.14-0/blib/lib
# /tmp/loop_over_bdir-30767-BNZjJs/Server-Starter-0.33-0/blib/arch
# /tmp/loop_over_bdir-30767-BNZjJs/Server-Starter-0.33-0/blib/lib
# /tmp/loop_over_bdir-30767-BNZjJs/Alien-GvaScript-1.44-0/blib/arch
# /tmp/loop_over_bdir-30767-BNZjJs/Alien-GvaScript-1.44-0/blib/lib
# /tmp/loop_over_bdir-30767-BNZjJs/libintl-perl-1.26-0/blib/arch
# /tmp/loop_over_bdir-30767-BNZjJs/libintl-perl-1.26-0/blib/lib
# /tmp/loop_over_bdir-30767-BNZjJs/HTML-Tree-5.03-0/blib/arch
# /tmp/loop_over_bdir-30767-BNZjJs/HTML-Tree-5.03-0/blib/lib
# /tmp/loop_over_bdir-30767-BNZjJs/Mouse-v2.4.7-0/blib/arch
# /tmp/loop_over_bdir-30767-BNZjJs/Mouse-v2.4.7-0/blib/lib
# /tmp/loop_over_bdir-30767-BNZjJs/WWW-Form-UrlEncoded-0.23-0/blib/arch
# /tmp/loop_over_bdir-30767-BNZjJs/WWW-Form-UrlEncoded-0.23-0/blib/lib
# 
# 
# 
# perl                         5.025009
# Capture::Tiny                0.44
# Cpanel::JSON::XS             3.0225
# Data::Rmap                   0.65
# DateTime::Format::DateParse  0.05
# DateTime::Format::ISO8601    0.08
# EV                           4.22
# ExtUtils::MakeMaker          7.24
# File::HomeDir                1.00
# File::ReadBackwards          1.05
# File::ShareDir               1.102
# File::ShareDir::Install      0.11
# File::Which                  1.21
# File::chdir                  0.1010
# Hash::Merge                  0.200
# JSON::MaybeXS                1.003008
Subroutine JSON::PP::Boolean::(++ redefined at /home/sand/src/perl/repoperls/installed-perls/host/k93x64sid/v5.25.9/113d/lib/5.25.9/overload.pm line 48, <DATA> line 1.
Subroutine JSON::PP::Boolean::(0+ redefined at /home/sand/src/perl/repoperls/installed-perls/host/k93x64sid/v5.25.9/113d/lib/5.25.9/overload.pm line 48, <DATA> line 1.
Subroutine JSON::PP::Boolean::(-- redefined at /home/sand/src/perl/repoperls/installed-perls/host/k93x64sid/v5.25.9/113d/lib/5.25.9/overload.pm line 48, <DATA> line 1.
# JSON::PP                     2.27400_02
# JSON::XS                     3.03
# List::MoreUtils              0.416
# Log::Log4perl                1.48
# Log::Log4perl::Appender::TAP 0.03
# MojoX::Log::Log4perl         0.11
# Mojolicious                  7.23
# Path::Class                  0.37
# PerlX::Maybe                 1.001
# PerlX::Maybe::XS             -
# PlugAuth::Lite               0.33
# Sub::Exporter                0.987
# Sub::Identify                0.12
# Term::Prompt                 1.04
# Test::Clustericious::Cluster 0.33
# Test::More                   1.302075
# Test::Script                 1.14
# Test::Warn                   0.32
# YAML::XS                     0.63
# autodie                      2.29
# 
# 
# 
t/00_diag.t ........................... ok
Subroutine JSON::PP::Boolean::(0+ redefined at /home/sand/src/perl/repoperls/installed-perls/host/k93x64sid/v5.25.9/113d/lib/5.25.9/overload.pm line 48.
Subroutine JSON::PP::Boolean::(-- redefined at /home/sand/src/perl/repoperls/installed-perls/host/k93x64sid/v5.25.9/113d/lib/5.25.9/overload.pm line 48.
Subroutine JSON::PP::Boolean::(++ redefined at /home/sand/src/perl/repoperls/installed-perls/host/k93x64sid/v5.25.9/113d/lib/5.25.9/overload.pm line 48.
t/01_use.t ............................ ok
t/02_compiles.t ....................... ok
Mojo::Home::rel_dir is DEPRECATED in favor of Mojo::Home::rel_file at /tmp/loop_over_bdir-30767-BNZjJs/Clustericious-1.22-0/blib/lib/Clustericious/App.pm line 42.
Mojo::Home::parts is DEPRECATED at /tmp/loop_over_bdir-30767-BNZjJs/Clustericious-1.22-0/blib/lib/Clustericious/App.pm line 42.
Subroutine Mojo::Template::Sandbox::1492a6d125c7301bb248a8f7f353a2db::b redefined at /home/sand/src/perl/repoperls/installed-perls/host/k93x64sid/v5.25.9/113d/lib/5.25.9/Exporter.pm line 66.
 at template exception.html.ep from DATA section line 7.
t/app.t ............................... ok
Mojo::Home::rel_dir is DEPRECATED in favor of Mojo::Home::rel_file at /tmp/loop_over_bdir-30767-BNZjJs/Clustericious-1.22-0/blib/lib/Clustericious/App.pm line 42.
Mojo::Home::parts is DEPRECATED at /tmp/loop_over_bdir-30767-BNZjJs/Clustericious-1.22-0/blib/lib/Clustericious/App.pm line 42.
Mojo::Home::rel_dir is DEPRECATED in favor of Mojo::Home::rel_file at /tmp/loop_over_bdir-30767-BNZjJs/Clustericious-1.22-0/blib/lib/Clustericious/App.pm line 42.
Mojo::Home::parts is DEPRECATED at /tmp/loop_over_bdir-30767-BNZjJs/Clustericious-1.22-0/blib/lib/Clustericious/App.pm line 42.
t/app_alt_route_builder.t ............. ok
Mojo::Home::rel_dir is DEPRECATED in favor of Mojo::Home::rel_file at /tmp/loop_over_bdir-30767-BNZjJs/Clustericious-1.22-0/blib/lib/Clustericious/App.pm line 42.
Mojo::Home::parts is DEPRECATED at /tmp/loop_over_bdir-30767-BNZjJs/Clustericious-1.22-0/blib/lib/Clustericious/App.pm line 42.
t/app_auth.t .......................... ok
Mojo::Home::rel_dir is DEPRECATED in favor of Mojo::Home::rel_file at /tmp/loop_over_bdir-30767-BNZjJs/Clustericious-1.22-0/blib/lib/Clustericious/App.pm line 42.
Mojo::Home::parts is DEPRECATED at /tmp/loop_over_bdir-30767-BNZjJs/Clustericious-1.22-0/blib/lib/Clustericious/App.pm line 42.
t/app_auth_websocket.t ................ ok
Mojo::Home::rel_dir is DEPRECATED in favor of Mojo::Home::rel_file at /tmp/loop_over_bdir-30767-BNZjJs/Clustericious-1.22-0/blib/lib/Clustericious/App.pm line 42.
Mojo::Home::parts is DEPRECATED at /tmp/loop_over_bdir-30767-BNZjJs/Clustericious-1.22-0/blib/lib/Clustericious/App.pm line 42.
t/app_bad_config.t .................... ok
Mojo::Home::rel_dir is DEPRECATED in favor of Mojo::Home::rel_file at /tmp/loop_over_bdir-30767-BNZjJs/Clustericious-1.22-0/blib/lib/Clustericious/App.pm line 42.
Mojo::Home::parts is DEPRECATED at /tmp/loop_over_bdir-30767-BNZjJs/Clustericious-1.22-0/blib/lib/Clustericious/App.pm line 42.
Mojo::Home::rel_dir is DEPRECATED in favor of Mojo::Home::rel_file at /tmp/loop_over_bdir-30767-BNZjJs/Clustericious-1.22-0/blib/lib/Clustericious/App.pm line 42.
Mojo::Home::parts is DEPRECATED at /tmp/loop_over_bdir-30767-BNZjJs/Clustericious-1.22-0/blib/lib/Clustericious/App.pm line 42.
Mojo::Home::rel_dir is DEPRECATED in favor of Mojo::Home::rel_file at /tmp/loop_over_bdir-30767-BNZjJs/Clustericious-1.22-0/blib/lib/Clustericious/App.pm line 42.
Mojo::Home::parts is DEPRECATED at /tmp/loop_over_bdir-30767-BNZjJs/Clustericious-1.22-0/blib/lib/Clustericious/App.pm line 42.
Mojo::Home::rel_dir is DEPRECATED in favor of Mojo::Home::rel_file at /tmp/loop_over_bdir-30767-BNZjJs/Clustericious-1.22-0/blib/lib/Clustericious/App.pm line 42.
Mojo::Home::parts is DEPRECATED at /tmp/loop_over_bdir-30767-BNZjJs/Clustericious-1.22-0/blib/lib/Clustericious/App.pm line 42.
Mojo::Message::Response::is_status_class is DEPRECATED in favor of new is_* methods at /tmp/loop_over_bdir-30767-BNZjJs/Clustericious-1.22-0/blib/lib/Clustericious/Client.pm line 422.
Mojo::Message::Response::is_status_class is DEPRECATED in favor of new is_* methods at /tmp/loop_over_bdir-30767-BNZjJs/Clustericious-1.22-0/blib/lib/Clustericious/Client.pm line 422.
t/app_client.t ........................ ok
Mojo::Home::rel_dir is DEPRECATED in favor of Mojo::Home::rel_file at /tmp/loop_over_bdir-30767-BNZjJs/Clustericious-1.22-0/blib/lib/Clustericious/App.pm line 42.
Mojo::Home::parts is DEPRECATED at /tmp/loop_over_bdir-30767-BNZjJs/Clustericious-1.22-0/blib/lib/Clustericious/App.pm line 42.
t/app_crud.t .......................... ok
Mojo::Home::rel_dir is DEPRECATED in favor of Mojo::Home::rel_file at /tmp/loop_over_bdir-30767-BNZjJs/Clustericious-1.22-0/blib/lib/Clustericious/App.pm line 42.
Mojo::Home::parts is DEPRECATED at /tmp/loop_over_bdir-30767-BNZjJs/Clustericious-1.22-0/blib/lib/Clustericious/App.pm line 42.
Mojo::Home::rel_dir is DEPRECATED in favor of Mojo::Home::rel_file at /tmp/loop_over_bdir-30767-BNZjJs/Clustericious-1.22-0/blib/lib/Clustericious/App.pm line 42.
Mojo::Home::parts is DEPRECATED at /tmp/loop_over_bdir-30767-BNZjJs/Clustericious-1.22-0/blib/lib/Clustericious/App.pm line 42.
t/app_multiple.t ...................... ok
Mojo::Home::rel_dir is DEPRECATED in favor of Mojo::Home::rel_file at /tmp/loop_over_bdir-30767-BNZjJs/Clustericious-1.22-0/blib/lib/Clustericious/App.pm line 42.
Mojo::Home::parts is DEPRECATED at /tmp/loop_over_bdir-30767-BNZjJs/Clustericious-1.22-0/blib/lib/Clustericious/App.pm line 42.
t/app_null.t .......................... ok
Mojo::Home::rel_dir is DEPRECATED in favor of Mojo::Home::rel_file at /tmp/loop_over_bdir-30767-BNZjJs/Clustericious-1.22-0/blib/lib/Clustericious/App.pm line 42.
Mojo::Home::parts is DEPRECATED at /tmp/loop_over_bdir-30767-BNZjJs/Clustericious-1.22-0/blib/lib/Clustericious/App.pm line 42.
t/app_null_config.t ................... ok
Mojo::Home::rel_dir is DEPRECATED in favor of Mojo::Home::rel_file at /tmp/loop_over_bdir-30767-BNZjJs/Clustericious-1.22-0/blib/lib/Clustericious/App.pm line 42.
Mojo::Home::parts is DEPRECATED at /tmp/loop_over_bdir-30767-BNZjJs/Clustericious-1.22-0/blib/lib/Clustericious/App.pm line 42.
t/app_plugin_search_order.t ........... ok
Mojo::Home::rel_dir is DEPRECATED in favor of Mojo::Home::rel_file at /tmp/loop_over_bdir-30767-BNZjJs/Clustericious-1.22-0/blib/lib/Clustericious/App.pm line 42.
Mojo::Home::parts is DEPRECATED at /tmp/loop_over_bdir-30767-BNZjJs/Clustericious-1.22-0/blib/lib/Clustericious/App.pm line 42.
t/app_subreq.t ........................ ok
Mojo::Home::rel_dir is DEPRECATED in favor of Mojo::Home::rel_file at /tmp/loop_over_bdir-30767-BNZjJs/Clustericious-1.22-0/blib/lib/Clustericious/App.pm line 42.
Mojo::Home::parts is DEPRECATED at /tmp/loop_over_bdir-30767-BNZjJs/Clustericious-1.22-0/blib/lib/Clustericious/App.pm line 42.
Mojo::Message::Response::is_status_class is DEPRECATED in favor of new is_* methods at /tmp/loop_over_bdir-30767-BNZjJs/Clustericious-1.22-0/blib/lib/Clustericious/Client.pm line 422.
Mojo::Message::Response::is_status_class is DEPRECATED in favor of new is_* methods at /tmp/loop_over_bdir-30767-BNZjJs/Clustericious-1.22-0/blib/lib/Clustericious/Client.pm line 422.
Mojo::Message::Response::is_status_class is DEPRECATED in favor of new is_* methods at /tmp/loop_over_bdir-30767-BNZjJs/Clustericious-1.22-0/blib/lib/Clustericious/Client.pm line 422.
Mojo::Message::Response::is_status_class is DEPRECATED in favor of new is_* methods at /tmp/loop_over_bdir-30767-BNZjJs/Clustericious-1.22-0/blib/lib/Clustericious/Client.pm line 422.
Mojo::Message::Response::is_status_class is DEPRECATED in favor of new is_* methods at /tmp/loop_over_bdir-30767-BNZjJs/Clustericious-1.22-0/blib/lib/Clustericious/Client.pm line 149.
t/client.t ............................ ok
Mojo::Message::Response::is_status_class is DEPRECATED in favor of new is_* methods at /tmp/loop_over_bdir-30767-BNZjJs/Clustericious-1.22-0/blib/lib/Clustericious/Client.pm line 422.
Mojo::Message::Response::is_status_class is DEPRECATED in favor of new is_* methods at /tmp/loop_over_bdir-30767-BNZjJs/Clustericious-1.22-0/blib/lib/Clustericious/Client.pm line 422.
Mojo::Message::Response::is_status_class is DEPRECATED in favor of new is_* methods at /tmp/loop_over_bdir-30767-BNZjJs/Clustericious-1.22-0/blib/lib/Clustericious/Client.pm line 422.
Mojo::Message::Response::is_status_class is DEPRECATED in favor of new is_* methods at /tmp/loop_over_bdir-30767-BNZjJs/Clustericious-1.22-0/blib/lib/Clustericious/Client.pm line 422.
t/client_args.t ....................... ok
t/client_datetime.t ................... ok
t/client_object.t ..................... ok
t/client_object_array.t ............... ok
t/client_object_derived.t ............. ok
t/client_params.t ..................... ok
Mojo::Home::rel_dir is DEPRECATED in favor of Mojo::Home::rel_file at /tmp/loop_over_bdir-30767-BNZjJs/Clustericious-1.22-0/blib/lib/Clustericious/App.pm line 42.
Mojo::Home::parts is DEPRECATED at /tmp/loop_over_bdir-30767-BNZjJs/Clustericious-1.22-0/blib/lib/Clustericious/App.pm line 42.
Mojo::Message::Response::is_status_class is DEPRECATED in favor of new is_* methods at /tmp/loop_over_bdir-30767-BNZjJs/Clustericious-1.22-0/blib/lib/Clustericious/Client.pm line 422.
t/client_user_agent_string.t .......... ok
Mojo::Home::rel_dir is DEPRECATED in favor of Mojo::Home::rel_file at /tmp/loop_over_bdir-30767-BNZjJs/Clustericious-1.22-0/blib/lib/Clustericious/App.pm line 42.
Mojo::Home::parts is DEPRECATED at /tmp/loop_over_bdir-30767-BNZjJs/Clustericious-1.22-0/blib/lib/Clustericious/App.pm line 42.
t/cluster_basic.t ..................... ok
Mojo::Home::rel_dir is DEPRECATED in favor of Mojo::Home::rel_file at /tmp/loop_over_bdir-30767-BNZjJs/Clustericious-1.22-0/blib/lib/Clustericious/App.pm line 42.
Mojo::Home::parts is DEPRECATED at /tmp/loop_over_bdir-30767-BNZjJs/Clustericious-1.22-0/blib/lib/Clustericious/App.pm line 42.
Subroutine Mojo::Template::Sandbox::acd314b6657fa5d04e6ae8775bab9e5c::b redefined at /home/sand/src/perl/repoperls/installed-perls/host/k93x64sid/v5.25.9/113d/lib/5.25.9/Exporter.pm line 66, <DATA> line 1.
 at template exception.html.ep from DATA section line 7.
t/cluster_render_exception.t .......... ok
Mojo::Home::rel_dir is DEPRECATED in favor of Mojo::Home::rel_file at /tmp/loop_over_bdir-30767-BNZjJs/Clustericious-1.22-0/blib/lib/Clustericious/App.pm line 42.
Mojo::Home::parts is DEPRECATED at /tmp/loop_over_bdir-30767-BNZjJs/Clustericious-1.22-0/blib/lib/Clustericious/App.pm line 42.
t/cluster_render_not_found.t .......... ok
t/command_apache.t .................... skipped: developer only test
t/command_configdebug.t ............... ok
t/command_configdump.t ................ ok
t/command_configpath.t ................ ok
t/command_configtest.t ................ ok
t/command_daemon.t .................... ok
t/command_generate.t .................. ok
t/command_hypnotoad.t ................. skipped: developer only test
t/command_lighttpd.t .................. skipped: test leaves processes running
t/command_morbo.t ..................... ok
t/command_nginx.t ..................... skipped: developer only test
t/command_plackup.t ................... skipped: test requires AnyEvent::Open3::Simple and EV
t/command_which.t ..................... ok
t/config_callback.t ................... ok
t/config_colen.t ...................... ok
t/config_config.t ..................... ok
t/config_config_multi.t ............... ok
t/config_data.t ....................... ok
t/config_default.t .................... ok
Subroutine JSON::PP::Boolean::(0+ redefined at /home/sand/src/perl/repoperls/installed-perls/host/k93x64sid/v5.25.9/113d/lib/5.25.9/overload.pm line 48.
Subroutine JSON::PP::Boolean::(-- redefined at /home/sand/src/perl/repoperls/installed-perls/host/k93x64sid/v5.25.9/113d/lib/5.25.9/overload.pm line 48.
Subroutine JSON::PP::Boolean::(++ redefined at /home/sand/src/perl/repoperls/installed-perls/host/k93x64sid/v5.25.9/113d/lib/5.25.9/overload.pm line 48.
Mojo::Home::rel_dir is DEPRECATED in favor of Mojo::Home::rel_file at /tmp/loop_over_bdir-30767-BNZjJs/Clustericious-1.22-0/blib/lib/Clustericious/App.pm line 42.
Mojo::Home::parts is DEPRECATED at /tmp/loop_over_bdir-30767-BNZjJs/Clustericious-1.22-0/blib/lib/Clustericious/App.pm line 42.
t/config_default_start_mode.t ......... ok
Subroutine JSON::PP::Boolean::(++ redefined at /home/sand/src/perl/repoperls/installed-perls/host/k93x64sid/v5.25.9/113d/lib/5.25.9/overload.pm line 48.
Subroutine JSON::PP::Boolean::(-- redefined at /home/sand/src/perl/repoperls/installed-perls/host/k93x64sid/v5.25.9/113d/lib/5.25.9/overload.pm line 48.
Subroutine JSON::PP::Boolean::(0+ redefined at /home/sand/src/perl/repoperls/installed-perls/host/k93x64sid/v5.25.9/113d/lib/5.25.9/overload.pm line 48.
Mojo::Home::rel_dir is DEPRECATED in favor of Mojo::Home::rel_file at /tmp/loop_over_bdir-30767-BNZjJs/Clustericious-1.22-0/blib/lib/Clustericious/App.pm line 42.
Mojo::Home::parts is DEPRECATED at /tmp/loop_over_bdir-30767-BNZjJs/Clustericious-1.22-0/blib/lib/Clustericious/App.pm line 42.
t/config_default_start_mode2.t ........ ok
t/config_helper.t ..................... ok
t/config_helper_get_passwd.t .......... ok
t/config_home.t ....................... ok
t/config_hostname.t ................... ok
t/config_json.t ....................... ok
t/config_namespace.t .................. ok
t/config_pathclass.t .................. ok
t/config_pollute.t .................... ok
t/config_special.t .................... ok
t/config_test_clustericious_config.t .. ok
t/config_with_filename.t .............. ok
t/config_yaml.t ....................... ok
t/config_yaml2.t ...................... ok
Mojo::Home::rel_dir is DEPRECATED in favor of Mojo::Home::rel_file at /tmp/loop_over_bdir-30767-BNZjJs/Clustericious-1.22-0/blib/lib/Clustericious/App.pm line 42.
Mojo::Home::parts is DEPRECATED at /tmp/loop_over_bdir-30767-BNZjJs/Clustericious-1.22-0/blib/lib/Clustericious/App.pm line 42.
t/hello_world.t ....................... ok
t/log.t ............................... ok
t/log_commandline.t ................... ok
t/log_commandline_warning.t ........... ok
Mojo::Home::rel_dir is DEPRECATED in favor of Mojo::Home::rel_file at /tmp/loop_over_bdir-30767-BNZjJs/Clustericious-1.22-0/blib/lib/Clustericious/App.pm line 42.
Mojo::Home::parts is DEPRECATED at /tmp/loop_over_bdir-30767-BNZjJs/Clustericious-1.22-0/blib/lib/Clustericious/App.pm line 42.
t/plugin_autodatahandler.t ............ ok
t/plugin_clustericioushelpers.t ....... ok
t/plugin_commonroutes.t ............... ok
t/plugin_commonroutes_api_table.t ..... skipped: requires Rose::Planter 0.34 and DBD::SQLite:
Mojo::Home::rel_dir is DEPRECATED in favor of Mojo::Home::rel_file at /tmp/loop_over_bdir-30767-BNZjJs/Clustericious-1.22-0/blib/lib/Clustericious/App.pm line 42.
Mojo::Home::parts is DEPRECATED at /tmp/loop_over_bdir-30767-BNZjJs/Clustericious-1.22-0/blib/lib/Clustericious/App.pm line 42.
t/plugin_plugauth.t ................... ok
Mojo::Home::rel_dir is DEPRECATED in favor of Mojo::Home::rel_file at /tmp/loop_over_bdir-30767-BNZjJs/Clustericious-1.22-0/blib/lib/Clustericious/App.pm line 42.
Mojo::Home::parts is DEPRECATED at /tmp/loop_over_bdir-30767-BNZjJs/Clustericious-1.22-0/blib/lib/Clustericious/App.pm line 42.
t/util_default_url.t .................. ok
t/util_dist_dir.t ..................... ok
t/util_generate_port.t ................ ok
t/util_slurp_pid.t .................... ok
t2/test_clustericious_config.t ........ ok
    # ERROR this should not appear
    # ERROR this should
    # ERROR main error
    # FATAL main fatal
    # ERROR main error
    # FATAL main fatal
    # ERROR message1
    # ERROR message2
    # ERROR PLATYPUS-42
    # ERROR PLATYPUS-47
t2/test_clustericious_log.t ........... ok
All tests successful.
Files=75, Tests=605, 53 wallclock secs ( 0.30 usr  0.43 sys + 41.50 cusr  9.72 csys = 51.95 CPU)
Result: PASS

------------------------------
PREREQUISITES
------------------------------

Prerequisite modules loaded:

requires:

    Module                       Need     Have    
    ---------------------------- -------- --------
    autodie                      0        2.29    
    Capture::Tiny                0        0.44    
    Data::Rmap                   0        0.65    
    DateTime::Format::DateParse  0        0.05    
    DateTime::Format::ISO8601    0        0.08    
    File::HomeDir                0.91     1.00    
    File::ReadBackwards          0        1.05    
    File::ShareDir               0        1.102   
    File::Which                  0        1.21    
    Hash::Merge                  0        0.200   
    JSON::MaybeXS                0        1.003008
    List::MoreUtils              0        0.416   
    Log::Log4perl                0        1.48    
    Log::Log4perl::Appender::TAP 0.02     0.03    
    Mojolicious                  6.00     7.23    
    MojoX::Log::Log4perl         0        0.11    
    Path::Class                  0.26     0.37    
    perl                         5.010001 5.025009
    PerlX::Maybe                 0.003    1.001   
    Sub::Exporter                0        0.987   
    Sub::Identify                0.05     0.12    
    Term::Prompt                 0        1.04    
    YAML::XS                     0        0.63    

build_requires:

    Module                       Need     Have    
    ---------------------------- -------- --------
    ExtUtils::MakeMaker          0        7.24    
    File::chdir                  0        0.1010  
    PlugAuth::Lite               0        0.33    
    Test::Clustericious::Cluster 0.31     0.33    
    Test::More                   0.94     1.302075
    Test::Script                 1.10     1.14    
    Test::Warn                   0        0.32    

configure_requires:

    Module                       Need     Have    
    ---------------------------- -------- --------
    ExtUtils::MakeMaker          0        7.24    
    File::ShareDir::Install      0.06     0.11    
    perl                         5.010001 5.025009


------------------------------
ENVIRONMENT AND OTHER CONTEXT
------------------------------

Environment variables:

    AUTOMATED_TESTING = 1
    LANG = C
    PATH = /home/sand/bin:/usr/local/bin:/usr/bin:/bin:/usr/games:/usr/local/perl/bin:/usr/X11/bin:/sbin:/usr/sbin
    PERL = /tmp/basesmoker-reloperl-EM0g/bin/perl
    PERL5LIB = /tmp/loop_over_bdir-30767-BNZjJs/Hash-FieldHash-0.14-0/blib/arch:/tmp/loop_over_bdir-30767-BNZjJs/Hash-FieldHash-0.14-0/blib/lib:/tmp/loop_over_bdir-30767-BNZjJs/Server-Starter-0.33-0/blib/arch:/tmp/loop_over_bdir-30767-BNZjJs/Server-Starter-0.33-0/blib/lib:/tmp/loop_over_bdir-30767-BNZjJs/Alien-GvaScript-1.44-0/blib/arch:/tmp/loop_over_bdir-30767-BNZjJs/Alien-GvaScript-1.44-0/blib/lib:/tmp/loop_over_bdir-30767-BNZjJs/libintl-perl-1.26-0/blib/arch:/tmp/loop_over_bdir-30767-BNZjJs/libintl-perl-1.26-0/blib/lib:/tmp/loop_over_bdir-30767-BNZjJs/HTML-Tree-5.03-0/blib/arch:/tmp/loop_over_bdir-30767-BNZjJs/HTML-Tree-5.03-0/blib/lib:/tmp/loop_over_bdir-30767-BNZjJs/Mouse-v2.4.7-0/blib/arch:/tmp/loop_over_bdir-30767-BNZjJs/Mouse-v2.4.7-0/blib/lib:/tmp/loop_over_bdir-30767-BNZjJs/WWW-Form-UrlEncoded-0.23-0/blib/arch:/tmp/loop_over_bdir-30767-BNZjJs/WWW-Form-UrlEncoded-0.23-0/blib/lib
    PERL5OPT = 
    PERL5_CPANPLUS_IS_RUNNING = 30771
    PERL5_CPAN_IS_RUNNING = 30771
    PERL_CANARY_STABILITY_NOPROMPT = 1
    PERL_MM_USE_DEFAULT = 1
    PERL_USE_UNSAFE_INC = 1
    SHELL = /usr/bin/zsh
    TERM = screen

Perl special variables (and OS-specific diagnostics, for MSWin32):

    $^X = /tmp/basesmoker-reloperl-EM0g/bin/perl
    $UID/$EUID = 1005 / 1005
    $GID = 1005 1005
    $EGID = 1005 1005

Perl module toolchain versions installed:

    Module              Have      
    ------------------- ----------
    CPAN                2.16      
    CPAN::Meta          2.150010  
    Cwd                 3.66      
    ExtUtils::CBuilder  0.280225  
    ExtUtils::Command   7.24      
    ExtUtils::Install   2.04      
    ExtUtils::MakeMaker 7.24      
    ExtUtils::Manifest  1.70      
    ExtUtils::ParseXS   3.33      
    File::Spec          3.66      
    JSON                2.90      
    JSON::PP            2.27400_02
    Module::Build       0.4220    
    Module::Signature   0.81      
    Parse::CPAN::Meta   2.150010  
    Test::Harness       3.36_01   
    Test::More          1.302075  
    YAML                1.21      
    YAML::Syck          1.29      
    version             0.9917    


--

Summary of my perl5 (revision 5 version 25 subversion 9) configuration:
  Commit id: 5d577b6f636aba916a1b0519669de4b2454c68ab
  Platform:
    osname=linux
    osvers=4.9.0-1-amd64
    archname=x86_64-linux-thread-multi
    uname='linux k93x64sid 4.9.0-1-amd64 #1 smp debian 4.9.6-3 (2017-01-28) x86_64 gnulinux '
    config_args='-Dprefix=/home/sand/src/perl/repoperls/installed-perls/host/k93x64sid/v5.25.9/113d -Dmyhostname=k93x64sid -Dinstallusrbinperl=n -Uversiononly -Dusedevel -des -Ui_db -Dlibswanted=cl pthread socket inet nsl gdbm dbm malloc dl ld sun m crypt sec util c cposix posix ucb BSD gdbm_compat -Duseithreads -Uuselongdouble -Ddefault_inc_excludes_dot'
    hint=recommended
    useposix=true
    d_sigaction=define
    useithreads=define
    usemultiplicity=define
    use64bitint=define
    use64bitall=define
    uselongdouble=undef
    usemymalloc=n
    bincompat5005=undef
  Compiler:
    cc='cc'
    ccflags ='-D_REENTRANT -D_GNU_SOURCE -fwrapv -fno-strict-aliasing -pipe -fstack-protector-strong -I/usr/local/include -D_LARGEFILE_SOURCE -D_FILE_OFFSET_BITS=64'
    optimize='-O2'
    cppflags='-D_REENTRANT -D_GNU_SOURCE -fwrapv -fno-strict-aliasing -pipe -fstack-protector-strong -I/usr/local/include'
    ccversion=''
    gccversion='6.3.0 20170124'
    gccosandvers=''
    intsize=4
    longsize=8
    ptrsize=8
    doublesize=8
    byteorder=12345678
    doublekind=3
    d_longlong=define
    longlongsize=8
    d_longdbl=define
    longdblsize=16
    longdblkind=3
    ivtype='long'
    ivsize=8
    nvtype='double'
    nvsize=8
    Off_t='off_t'
    lseeksize=8
    alignbytes=8
    prototype=define
  Linker and Libraries:
    ld='cc'
    ldflags =' -fstack-protector-strong -L/usr/local/lib'
    libpth=/usr/local/lib /usr/lib/gcc/x86_64-linux-gnu/6/include-fixed /usr/include/x86_64-linux-gnu /usr/lib /lib/x86_64-linux-gnu /lib/../lib /usr/lib/x86_64-linux-gnu /usr/lib/../lib /lib
    libs=-lpthread -lnsl -ldl -lm -lcrypt -lutil -lc
    perllibs=-lpthread -lnsl -ldl -lm -lcrypt -lutil -lc
    libc=libc-2.24.so
    so=so
    useshrplib=false
    libperl=libperl.a
    gnulibc_version='2.24'
  Dynamic Linking:
    dlsrc=dl_dlopen.xs
    dlext=so
    d_dlsymun=undef
    ccdlflags='-Wl,-E'
    cccdlflags='-fPIC'
    lddlflags='-shared -O2 -L/usr/local/lib -fstack-protector-strong'


Characteristics of this binary (from libperl): 
  Compile-time options:
    HAS_TIMES
    MULTIPLICITY
    PERLIO_LAYERS
    PERL_COPY_ON_WRITE
    PERL_DONT_CREATE_GVSV
    PERL_IMPLICIT_CONTEXT
    PERL_MALLOC_WRAP
    PERL_OP_PARENT
    PERL_PRESERVE_IVUV
    PERL_USE_DEVEL
    USE_64_BIT_ALL
    USE_64_BIT_INT
    USE_ITHREADS
    USE_LARGE_FILES
    USE_LOCALE
    USE_LOCALE_COLLATE
    USE_LOCALE_CTYPE
    USE_LOCALE_NUMERIC
    USE_LOCALE_TIME
    USE_PERLIO
    USE_PERL_ATOF
    USE_REENTRANT_API
  Built under linux
  Compiled at Feb  1 2017 17:31:08
  %ENV:
    PERL="/tmp/basesmoker-reloperl-EM0g/bin/perl"
    PERL5LIB="/tmp/loop_over_bdir-30767-BNZjJs/Hash-FieldHash-0.14-0/blib/arch:/tmp/loop_over_bdir-30767-BNZjJs/Hash-FieldHash-0.14-0/blib/lib:/tmp/loop_over_bdir-30767-BNZjJs/Server-Starter-0.33-0/blib/arch:/tmp/loop_over_bdir-30767-BNZjJs/Server-Starter-0.33-0/blib/lib:/tmp/loop_over_bdir-30767-BNZjJs/Alien-GvaScript-1.44-0/blib/arch:/tmp/loop_over_bdir-30767-BNZjJs/Alien-GvaScript-1.44-0/blib/lib:/tmp/loop_over_bdir-30767-BNZjJs/libintl-perl-1.26-0/blib/arch:/tmp/loop_over_bdir-30767-BNZjJs/libintl-perl-1.26-0/blib/lib:/tmp/loop_over_bdir-30767-BNZjJs/HTML-Tree-5.03-0/blib/arch:/tmp/loop_over_bdir-30767-BNZjJs/HTML-Tree-5.03-0/blib/lib:/tmp/loop_over_bdir-30767-BNZjJs/Mouse-v2.4.7-0/blib/arch:/tmp/loop_over_bdir-30767-BNZjJs/Mouse-v2.4.7-0/blib/lib:/tmp/loop_over_bdir-30767-BNZjJs/WWW-Form-UrlEncoded-0.23-0/blib/arch:/tmp/loop_over_bdir-30767-BNZjJs/WWW-Form-UrlEncoded-0.23-0/blib/lib"
    PERL5OPT=""
    PERL5_CPANPLUS_IS_RUNNING="30771"
    PERL5_CPAN_IS_RUNNING="30771"
    PERL_CANARY_STABILITY_NOPROMPT="1"
    PERL_MM_USE_DEFAULT="1"
    PERL_USE_UNSAFE_INC="1"
  @INC:
    /tmp/loop_over_bdir-30767-BNZjJs/Hash-FieldHash-0.14-0/blib/arch
    /tmp/loop_over_bdir-30767-BNZjJs/Hash-FieldHash-0.14-0/blib/lib
    /tmp/loop_over_bdir-30767-BNZjJs/Server-Starter-0.33-0/blib/arch
    /tmp/loop_over_bdir-30767-BNZjJs/Server-Starter-0.33-0/blib/lib
    /tmp/loop_over_bdir-30767-BNZjJs/Alien-GvaScript-1.44-0/blib/arch
    /tmp/loop_over_bdir-30767-BNZjJs/Alien-GvaScript-1.44-0/blib/lib
    /tmp/loop_over_bdir-30767-BNZjJs/libintl-perl-1.26-0/blib/arch
    /tmp/loop_over_bdir-30767-BNZjJs/libintl-perl-1.26-0/blib/lib
    /tmp/loop_over_bdir-30767-BNZjJs/HTML-Tree-5.03-0/blib/arch
    /tmp/loop_over_bdir-30767-BNZjJs/HTML-Tree-5.03-0/blib/lib
    /tmp/loop_over_bdir-30767-BNZjJs/Mouse-v2.4.7-0/blib/arch
    /tmp/loop_over_bdir-30767-BNZjJs/Mouse-v2.4.7-0/blib/lib
    /tmp/loop_over_bdir-30767-BNZjJs/WWW-Form-UrlEncoded-0.23-0/blib/arch
    /tmp/loop_over_bdir-30767-BNZjJs/WWW-Form-UrlEncoded-0.23-0/blib/lib
    /home/sand/src/perl/repoperls/installed-perls/host/k93x64sid/v5.25.9/113d/lib/site_perl/5.25.9/x86_64-linux-thread-multi
    /home/sand/src/perl/repoperls/installed-perls/host/k93x64sid/v5.25.9/113d/lib/site_perl/5.25.9
    /home/sand/src/perl/repoperls/installed-perls/host/k93x64sid/v5.25.9/113d/lib/5.25.9/x86_64-linux-thread-multi
    /home/sand/src/perl/repoperls/installed-perls/host/k93x64sid/v5.25.9/113d/lib/5.25.9
    .