Back
From: metabase:user:314402c4-2aae-11df-837a-5e0a49663a4f
Subject: PASS IO-Iron-0.11 v5.21.4 FreeBSD
Date: 2014-09-22T01:02:40Z
This distribution has been tested as part of the CPAN Testers
project, supporting the Perl programming language. See
http://wiki.cpantesters.org/ for more information or email
questions to cpan-testers-discuss@perl.org
--
Dear Mikko Koivunalho,
This is a computer-generated report for IO-Iron-0.11
on perl 5.21.4, created by CPAN-Reporter-1.2011.
Thank you for uploading your work to CPAN. Congratulations!
All tests were successful.
Sections of this report:
* Tester comments
* Program output
* Prerequisites
* Environment and other context
------------------------------
TESTER COMMENTS
------------------------------
Additional comments from tester:
none provided
------------------------------
PROGRAM OUTPUT
------------------------------
Output from '/usr/bin/make test':
PERL_DL_NONLAZY=1 /usr/perl5.21.4/bin/perl5.21.4 "-MExtUtils::Command::MM" "-MTest::Harness" "-e" "undef *Test::Harness::Switches; test_harness(0, 'blib/lib', 'blib/arch')" t/Iron/*.t t/IronCache/*.t t/IronMQ/*.t t/IronWorker/*.t
# Testing IO::Iron::IronMQ 0.11, Perl 5.021004, /usr/perl5.21.4/bin/perl5.21.4
# test ReadIronMQConfig
# Current dir config filename: ./iron.json
# Extra config filename: t/.IronMQTestConfig.json
t/Iron/client_readconfig.t ... ok
# Testing IO::Iron 0.11, Perl 5.021004, /usr/perl5.21.4/bin/perl5.21.4
t/Iron/load.t ................ ok
# Testing IO::Iron::IronCache::Client with policies, Perl 5.021004, /usr/perl5.21.4/bin/perl5.21.4
Redundant argument in sprintf at /usr/perl5.21.4/lib/site_perl/5.21.4/Log/Any/Adapter/Core.pm line 34.
t/IronCache/cache_policy.t ... ok
# Testing IO::Iron::IronCache::Client with policies, Perl 5.021004, /usr/perl5.21.4/bin/perl5.21.4
Redundant argument in sprintf at /usr/perl5.21.4/lib/site_perl/5.21.4/Log/Any/Adapter/Core.pm line 34.
Redundant argument in sprintf at /usr/perl5.21.4/lib/site_perl/5.21.4/Log/Any/Adapter/Core.pm line 34.
Redundant argument in sprintf at /usr/perl5.21.4/lib/site_perl/5.21.4/Log/Any/Adapter/Core.pm line 34.
Redundant argument in sprintf at /usr/perl5.21.4/lib/site_perl/5.21.4/Log/Any/Adapter/Core.pm line 34.
Redundant argument in sprintf at /usr/perl5.21.4/lib/site_perl/5.21.4/Log/Any/Adapter/Core.pm line 34.
Redundant argument in sprintf at /usr/perl5.21.4/lib/site_perl/5.21.4/Log/Any/Adapter/Core.pm line 34.
Redundant argument in sprintf at /usr/perl5.21.4/lib/site_perl/5.21.4/Log/Any/Adapter/Core.pm line 34.
Redundant argument in sprintf at /usr/perl5.21.4/lib/site_perl/5.21.4/Log/Any/Adapter/Core.pm line 34.
Redundant argument in sprintf at /usr/perl5.21.4/lib/site_perl/5.21.4/Log/Any/Adapter/Core.pm line 34.
Redundant argument in sprintf at /usr/perl5.21.4/lib/site_perl/5.21.4/Log/Any/Adapter/Core.pm line 34.
Redundant argument in sprintf at /usr/perl5.21.4/lib/site_perl/5.21.4/Log/Any/Adapter/Core.pm line 34.
Redundant argument in sprintf at /usr/perl5.21.4/lib/site_perl/5.21.4/Log/Any/Adapter/Core.pm line 34.
Redundant argument in sprintf at /usr/perl5.21.4/lib/site_perl/5.21.4/Log/Any/Adapter/Core.pm line 34.
Redundant argument in sprintf at /usr/perl5.21.4/lib/site_perl/5.21.4/Log/Any/Adapter/Core.pm line 34.
Redundant argument in sprintf at /usr/perl5.21.4/lib/site_perl/5.21.4/Log/Any/Adapter/Core.pm line 34.
Redundant argument in sprintf at /usr/perl5.21.4/lib/site_perl/5.21.4/Log/Any/Adapter/Core.pm line 34.
Redundant argument in sprintf at /usr/perl5.21.4/lib/site_perl/5.21.4/Log/Any/Adapter/Core.pm line 34.
Redundant argument in sprintf at /usr/perl5.21.4/lib/site_perl/5.21.4/Log/Any/Adapter/Core.pm line 34.
Redundant argument in sprintf at /usr/perl5.21.4/lib/site_perl/5.21.4/Log/Any/Adapter/Core.pm line 34.
Redundant argument in sprintf at /usr/perl5.21.4/lib/site_perl/5.21.4/Log/Any/Adapter/Core.pm line 34.
Redundant argument in sprintf at /usr/perl5.21.4/lib/site_perl/5.21.4/Log/Any/Adapter/Core.pm line 34.
Redundant argument in sprintf at /usr/perl5.21.4/lib/site_perl/5.21.4/Log/Any/Adapter/Core.pm line 34.
Redundant argument in sprintf at /usr/perl5.21.4/lib/site_perl/5.21.4/Log/Any/Adapter/Core.pm line 34.
Redundant argument in sprintf at /usr/perl5.21.4/lib/site_perl/5.21.4/Log/Any/Adapter/Core.pm line 34.
Redundant argument in sprintf at /usr/perl5.21.4/lib/site_perl/5.21.4/Log/Any/Adapter/Core.pm line 34.
Redundant argument in sprintf at /usr/perl5.21.4/lib/site_perl/5.21.4/Log/Any/Adapter/Core.pm line 34.
Redundant argument in sprintf at /usr/perl5.21.4/lib/site_perl/5.21.4/Log/Any/Adapter/Core.pm line 34.
Redundant argument in sprintf at /usr/perl5.21.4/lib/site_perl/5.21.4/Log/Any/Adapter/Core.pm line 34.
Redundant argument in sprintf at /usr/perl5.21.4/lib/site_perl/5.21.4/Log/Any/Adapter/Core.pm line 34.
Redundant argument in sprintf at /usr/perl5.21.4/lib/site_perl/5.21.4/Log/Any/Adapter/Core.pm line 34.
Redundant argument in sprintf at /usr/perl5.21.4/lib/site_perl/5.21.4/Log/Any/Adapter/Core.pm line 34.
Redundant argument in sprintf at /usr/perl5.21.4/lib/site_perl/5.21.4/Log/Any/Adapter/Core.pm line 34.
Redundant argument in sprintf at /usr/perl5.21.4/lib/site_perl/5.21.4/Log/Any/Adapter/Core.pm line 34.
Redundant argument in sprintf at /usr/perl5.21.4/lib/site_perl/5.21.4/Log/Any/Adapter/Core.pm line 34.
Redundant argument in sprintf at /usr/perl5.21.4/lib/site_perl/5.21.4/Log/Any/Adapter/Core.pm line 34.
Redundant argument in sprintf at /usr/perl5.21.4/lib/site_perl/5.21.4/Log/Any/Adapter/Core.pm line 34.
Redundant argument in sprintf at /usr/perl5.21.4/lib/site_perl/5.21.4/Log/Any/Adapter/Core.pm line 34.
Redundant argument in sprintf at /usr/perl5.21.4/lib/site_perl/5.21.4/Log/Any/Adapter/Core.pm line 34.
Redundant argument in sprintf at /usr/perl5.21.4/lib/site_perl/5.21.4/Log/Any/Adapter/Core.pm line 34.
Redundant argument in sprintf at /usr/perl5.21.4/lib/site_perl/5.21.4/Log/Any/Adapter/Core.pm line 34.
Redundant argument in sprintf at /usr/perl5.21.4/lib/site_perl/5.21.4/Log/Any/Adapter/Core.pm line 34.
Redundant argument in sprintf at /usr/perl5.21.4/lib/site_perl/5.21.4/Log/Any/Adapter/Core.pm line 34.
Redundant argument in sprintf at /usr/perl5.21.4/lib/site_perl/5.21.4/Log/Any/Adapter/Core.pm line 34.
Redundant argument in sprintf at /usr/perl5.21.4/lib/site_perl/5.21.4/Log/Any/Adapter/Core.pm line 34.
Redundant argument in sprintf at /usr/perl5.21.4/lib/site_perl/5.21.4/Log/Any/Adapter/Core.pm line 34.
Redundant argument in sprintf at /usr/perl5.21.4/lib/site_perl/5.21.4/Log/Any/Adapter/Core.pm line 34.
Redundant argument in sprintf at /usr/perl5.21.4/lib/site_perl/5.21.4/Log/Any/Adapter/Core.pm line 34.
Redundant argument in sprintf at /usr/perl5.21.4/lib/site_perl/5.21.4/Log/Any/Adapter/Core.pm line 34.
Redundant argument in sprintf at /usr/perl5.21.4/lib/site_perl/5.21.4/Log/Any/Adapter/Core.pm line 34.
Redundant argument in sprintf at /usr/perl5.21.4/lib/site_perl/5.21.4/Log/Any/Adapter/Core.pm line 34.
Redundant argument in sprintf at /usr/perl5.21.4/lib/site_perl/5.21.4/Log/Any/Adapter/Core.pm line 34.
Redundant argument in sprintf at /usr/perl5.21.4/lib/site_perl/5.21.4/Log/Any/Adapter/Core.pm line 34.
Redundant argument in sprintf at /usr/perl5.21.4/lib/site_perl/5.21.4/Log/Any/Adapter/Core.pm line 34.
Redundant argument in sprintf at /usr/perl5.21.4/lib/site_perl/5.21.4/Log/Any/Adapter/Core.pm line 34.
Redundant argument in sprintf at /usr/perl5.21.4/lib/site_perl/5.21.4/Log/Any/Adapter/Core.pm line 34.
Redundant argument in sprintf at /usr/perl5.21.4/lib/site_perl/5.21.4/Log/Any/Adapter/Core.pm line 34.
Redundant argument in sprintf at /usr/perl5.21.4/lib/site_perl/5.21.4/Log/Any/Adapter/Core.pm line 34.
Redundant argument in sprintf at /usr/perl5.21.4/lib/site_perl/5.21.4/Log/Any/Adapter/Core.pm line 34.
Redundant argument in sprintf at /usr/perl5.21.4/lib/site_perl/5.21.4/Log/Any/Adapter/Core.pm line 34.
Redundant argument in sprintf at /usr/perl5.21.4/lib/site_perl/5.21.4/Log/Any/Adapter/Core.pm line 34.
Redundant argument in sprintf at /usr/perl5.21.4/lib/site_perl/5.21.4/Log/Any/Adapter/Core.pm line 34.
Redundant argument in sprintf at /usr/perl5.21.4/lib/site_perl/5.21.4/Log/Any/Adapter/Core.pm line 34.
Redundant argument in sprintf at /usr/perl5.21.4/lib/site_perl/5.21.4/Log/Any/Adapter/Core.pm line 34.
Redundant argument in sprintf at /usr/perl5.21.4/lib/site_perl/5.21.4/Log/Any/Adapter/Core.pm line 34.
Redundant argument in sprintf at /usr/perl5.21.4/lib/site_perl/5.21.4/Log/Any/Adapter/Core.pm line 34.
Redundant argument in sprintf at /usr/perl5.21.4/lib/site_perl/5.21.4/Log/Any/Adapter/Core.pm line 34.
Redundant argument in sprintf at /usr/perl5.21.4/lib/site_perl/5.21.4/Log/Any/Adapter/Core.pm line 34.
Redundant argument in sprintf at /usr/perl5.21.4/lib/site_perl/5.21.4/Log/Any/Adapter/Core.pm line 34.
Redundant argument in sprintf at /usr/perl5.21.4/lib/site_perl/5.21.4/Log/Any/Adapter/Core.pm line 34.
Redundant argument in sprintf at /usr/perl5.21.4/lib/site_perl/5.21.4/Log/Any/Adapter/Core.pm line 34.
Redundant argument in sprintf at /usr/perl5.21.4/lib/site_perl/5.21.4/Log/Any/Adapter/Core.pm line 34.
Redundant argument in sprintf at /usr/perl5.21.4/lib/site_perl/5.21.4/Log/Any/Adapter/Core.pm line 34.
Redundant argument in sprintf at /usr/perl5.21.4/lib/site_perl/5.21.4/Log/Any/Adapter/Core.pm line 34.
Redundant argument in sprintf at /usr/perl5.21.4/lib/site_perl/5.21.4/Log/Any/Adapter/Core.pm line 34.
Redundant argument in sprintf at /usr/perl5.21.4/lib/site_perl/5.21.4/Log/Any/Adapter/Core.pm line 34.
Redundant argument in sprintf at /usr/perl5.21.4/lib/site_perl/5.21.4/Log/Any/Adapter/Core.pm line 34.
Redundant argument in sprintf at /usr/perl5.21.4/lib/site_perl/5.21.4/Log/Any/Adapter/Core.pm line 34.
Redundant argument in sprintf at /usr/perl5.21.4/lib/site_perl/5.21.4/Log/Any/Adapter/Core.pm line 34.
Redundant argument in sprintf at /usr/perl5.21.4/lib/site_perl/5.21.4/Log/Any/Adapter/Core.pm line 34.
Redundant argument in sprintf at /usr/perl5.21.4/lib/site_perl/5.21.4/Log/Any/Adapter/Core.pm line 34.
Redundant argument in sprintf at /usr/perl5.21.4/lib/site_perl/5.21.4/Log/Any/Adapter/Core.pm line 34.
Redundant argument in sprintf at /usr/perl5.21.4/lib/site_perl/5.21.4/Log/Any/Adapter/Core.pm line 34.
Redundant argument in sprintf at /usr/perl5.21.4/lib/site_perl/5.21.4/Log/Any/Adapter/Core.pm line 34.
Redundant argument in sprintf at /usr/perl5.21.4/lib/site_perl/5.21.4/Log/Any/Adapter/Core.pm line 34.
Redundant argument in sprintf at /usr/perl5.21.4/lib/site_perl/5.21.4/Log/Any/Adapter/Core.pm line 34.
Redundant argument in sprintf at /usr/perl5.21.4/lib/site_perl/5.21.4/Log/Any/Adapter/Core.pm line 34.
Redundant argument in sprintf at /usr/perl5.21.4/lib/site_perl/5.21.4/Log/Any/Adapter/Core.pm line 34.
Redundant argument in sprintf at /usr/perl5.21.4/lib/site_perl/5.21.4/Log/Any/Adapter/Core.pm line 34.
Redundant argument in sprintf at /usr/perl5.21.4/lib/site_perl/5.21.4/Log/Any/Adapter/Core.pm line 34.
Redundant argument in sprintf at /usr/perl5.21.4/lib/site_perl/5.21.4/Log/Any/Adapter/Core.pm line 34.
Redundant argument in sprintf at /usr/perl5.21.4/lib/site_perl/5.21.4/Log/Any/Adapter/Core.pm line 34.
Redundant argument in sprintf at /usr/perl5.21.4/lib/site_perl/5.21.4/Log/Any/Adapter/Core.pm line 34.
Redundant argument in sprintf at /usr/perl5.21.4/lib/site_perl/5.21.4/Log/Any/Adapter/Core.pm line 34.
Redundant argument in sprintf at /usr/perl5.21.4/lib/site_perl/5.21.4/Log/Any/Adapter/Core.pm line 34.
Redundant argument in sprintf at /usr/perl5.21.4/lib/site_perl/5.21.4/Log/Any/Adapter/Core.pm line 34.
Redundant argument in sprintf at /usr/perl5.21.4/lib/site_perl/5.21.4/Log/Any/Adapter/Core.pm line 34.
Redundant argument in sprintf at /usr/perl5.21.4/lib/site_perl/5.21.4/Log/Any/Adapter/Core.pm line 34.
Redundant argument in sprintf at /usr/perl5.21.4/lib/site_perl/5.21.4/Log/Any/Adapter/Core.pm line 34.
Redundant argument in sprintf at /usr/perl5.21.4/lib/site_perl/5.21.4/Log/Any/Adapter/Core.pm line 34.
Redundant argument in sprintf at /usr/perl5.21.4/lib/site_perl/5.21.4/Log/Any/Adapter/Core.pm line 34.
Redundant argument in sprintf at /usr/perl5.21.4/lib/site_perl/5.21.4/Log/Any/Adapter/Core.pm line 34.
Redundant argument in sprintf at /usr/perl5.21.4/lib/site_perl/5.21.4/Log/Any/Adapter/Core.pm line 34.
Redundant argument in sprintf at /usr/perl5.21.4/lib/site_perl/5.21.4/Log/Any/Adapter/Core.pm line 34.
Redundant argument in sprintf at /usr/perl5.21.4/lib/site_perl/5.21.4/Log/Any/Adapter/Core.pm line 34.
Redundant argument in sprintf at /usr/perl5.21.4/lib/site_perl/5.21.4/Log/Any/Adapter/Core.pm line 34.
Redundant argument in sprintf at /usr/perl5.21.4/lib/site_perl/5.21.4/Log/Any/Adapter/Core.pm line 34.
Redundant argument in sprintf at /usr/perl5.21.4/lib/site_perl/5.21.4/Log/Any/Adapter/Core.pm line 34.
Redundant argument in sprintf at /usr/perl5.21.4/lib/site_perl/5.21.4/Log/Any/Adapter/Core.pm line 34.
Redundant argument in sprintf at /usr/perl5.21.4/lib/site_perl/5.21.4/Log/Any/Adapter/Core.pm line 34.
Redundant argument in sprintf at /usr/perl5.21.4/lib/site_perl/5.21.4/Log/Any/Adapter/Core.pm line 34.
Redundant argument in sprintf at /usr/perl5.21.4/lib/site_perl/5.21.4/Log/Any/Adapter/Core.pm line 34.
Redundant argument in sprintf at /usr/perl5.21.4/lib/site_perl/5.21.4/Log/Any/Adapter/Core.pm line 34.
Redundant argument in sprintf at /usr/perl5.21.4/lib/site_perl/5.21.4/Log/Any/Adapter/Core.pm line 34.
Redundant argument in sprintf at /usr/perl5.21.4/lib/site_perl/5.21.4/Log/Any/Adapter/Core.pm line 34.
Redundant argument in sprintf at /usr/perl5.21.4/lib/site_perl/5.21.4/Log/Any/Adapter/Core.pm line 34.
Redundant argument in sprintf at /usr/perl5.21.4/lib/site_perl/5.21.4/Log/Any/Adapter/Core.pm line 34.
Redundant argument in sprintf at /usr/perl5.21.4/lib/site_perl/5.21.4/Log/Any/Adapter/Core.pm line 34.
Redundant argument in sprintf at /usr/perl5.21.4/lib/site_perl/5.21.4/Log/Any/Adapter/Core.pm line 34.
Redundant argument in sprintf at /usr/perl5.21.4/lib/site_perl/5.21.4/Log/Any/Adapter/Core.pm line 34.
Redundant argument in sprintf at /usr/perl5.21.4/lib/site_perl/5.21.4/Log/Any/Adapter/Core.pm line 34.
Redundant argument in sprintf at /usr/perl5.21.4/lib/site_perl/5.21.4/Log/Any/Adapter/Core.pm line 34.
Redundant argument in sprintf at /usr/perl5.21.4/lib/site_perl/5.21.4/Log/Any/Adapter/Core.pm line 34.
Redundant argument in sprintf at /usr/perl5.21.4/lib/site_perl/5.21.4/Log/Any/Adapter/Core.pm line 34.
Redundant argument in sprintf at /usr/perl5.21.4/lib/site_perl/5.21.4/Log/Any/Adapter/Core.pm line 34.
Redundant argument in sprintf at /usr/perl5.21.4/lib/site_perl/5.21.4/Log/Any/Adapter/Core.pm line 34.
Redundant argument in sprintf at /usr/perl5.21.4/lib/site_perl/5.21.4/Log/Any/Adapter/Core.pm line 34.
Redundant argument in sprintf at /usr/perl5.21.4/lib/site_perl/5.21.4/Log/Any/Adapter/Core.pm line 34.
Redundant argument in sprintf at /usr/perl5.21.4/lib/site_perl/5.21.4/Log/Any/Adapter/Core.pm line 34.
Redundant argument in sprintf at /usr/perl5.21.4/lib/site_perl/5.21.4/Log/Any/Adapter/Core.pm line 34.
Redundant argument in sprintf at /usr/perl5.21.4/lib/site_perl/5.21.4/Log/Any/Adapter/Core.pm line 34.
Redundant argument in sprintf at /usr/perl5.21.4/lib/site_perl/5.21.4/Log/Any/Adapter/Core.pm line 34.
Redundant argument in sprintf at /usr/perl5.21.4/lib/site_perl/5.21.4/Log/Any/Adapter/Core.pm line 34.
Redundant argument in sprintf at /usr/perl5.21.4/lib/site_perl/5.21.4/Log/Any/Adapter/Core.pm line 34.
Redundant argument in sprintf at /usr/perl5.21.4/lib/site_perl/5.21.4/Log/Any/Adapter/Core.pm line 34.
Redundant argument in sprintf at /usr/perl5.21.4/lib/site_perl/5.21.4/Log/Any/Adapter/Core.pm line 34.
Redundant argument in sprintf at /usr/perl5.21.4/lib/site_perl/5.21.4/Log/Any/Adapter/Core.pm line 34.
Redundant argument in sprintf at /usr/perl5.21.4/lib/site_perl/5.21.4/Log/Any/Adapter/Core.pm line 34.
Redundant argument in sprintf at /usr/perl5.21.4/lib/site_perl/5.21.4/Log/Any/Adapter/Core.pm line 34.
Redundant argument in sprintf at /usr/perl5.21.4/lib/site_perl/5.21.4/Log/Any/Adapter/Core.pm line 34.
Redundant argument in sprintf at /usr/perl5.21.4/lib/site_perl/5.21.4/Log/Any/Adapter/Core.pm line 34.
Redundant argument in sprintf at /usr/perl5.21.4/lib/site_perl/5.21.4/Log/Any/Adapter/Core.pm line 34.
Redundant argument in sprintf at /usr/perl5.21.4/lib/site_perl/5.21.4/Log/Any/Adapter/Core.pm line 34.
Redundant argument in sprintf at /usr/perl5.21.4/lib/site_perl/5.21.4/Log/Any/Adapter/Core.pm line 34.
Redundant argument in sprintf at /usr/perl5.21.4/lib/site_perl/5.21.4/Log/Any/Adapter/Core.pm line 34.
Redundant argument in sprintf at /usr/perl5.21.4/lib/site_perl/5.21.4/Log/Any/Adapter/Core.pm line 34.
Redundant argument in sprintf at /usr/perl5.21.4/lib/site_perl/5.21.4/Log/Any/Adapter/Core.pm line 34.
Redundant argument in sprintf at /usr/perl5.21.4/lib/site_perl/5.21.4/Log/Any/Adapter/Core.pm line 34.
Redundant argument in sprintf at /usr/perl5.21.4/lib/site_perl/5.21.4/Log/Any/Adapter/Core.pm line 34.
Redundant argument in sprintf at /usr/perl5.21.4/lib/site_perl/5.21.4/Log/Any/Adapter/Core.pm line 34.
Redundant argument in sprintf at /usr/perl5.21.4/lib/site_perl/5.21.4/Log/Any/Adapter/Core.pm line 34.
Redundant argument in sprintf at /usr/perl5.21.4/lib/site_perl/5.21.4/Log/Any/Adapter/Core.pm line 34.
Redundant argument in sprintf at /usr/perl5.21.4/lib/site_perl/5.21.4/Log/Any/Adapter/Core.pm line 34.
Redundant argument in sprintf at /usr/perl5.21.4/lib/site_perl/5.21.4/Log/Any/Adapter/Core.pm line 34.
Redundant argument in sprintf at /usr/perl5.21.4/lib/site_perl/5.21.4/Log/Any/Adapter/Core.pm line 34.
Redundant argument in sprintf at /usr/perl5.21.4/lib/site_perl/5.21.4/Log/Any/Adapter/Core.pm line 34.
Redundant argument in sprintf at /usr/perl5.21.4/lib/site_perl/5.21.4/Log/Any/Adapter/Core.pm line 34.
Redundant argument in sprintf at /usr/perl5.21.4/lib/site_perl/5.21.4/Log/Any/Adapter/Core.pm line 34.
Redundant argument in sprintf at /usr/perl5.21.4/lib/site_perl/5.21.4/Log/Any/Adapter/Core.pm line 34.
Redundant argument in sprintf at /usr/perl5.21.4/lib/site_perl/5.21.4/Log/Any/Adapter/Core.pm line 34.
Redundant argument in sprintf at /usr/perl5.21.4/lib/site_perl/5.21.4/Log/Any/Adapter/Core.pm line 34.
Redundant argument in sprintf at /usr/perl5.21.4/lib/site_perl/5.21.4/Log/Any/Adapter/Core.pm line 34.
Redundant argument in sprintf at /usr/perl5.21.4/lib/site_perl/5.21.4/Log/Any/Adapter/Core.pm line 34.
Redundant argument in sprintf at /usr/perl5.21.4/lib/site_perl/5.21.4/Log/Any/Adapter/Core.pm line 34.
Redundant argument in sprintf at /usr/perl5.21.4/lib/site_perl/5.21.4/Log/Any/Adapter/Core.pm line 34.
Redundant argument in sprintf at /usr/perl5.21.4/lib/site_perl/5.21.4/Log/Any/Adapter/Core.pm line 34.
Redundant argument in sprintf at /usr/perl5.21.4/lib/site_perl/5.21.4/Log/Any/Adapter/Core.pm line 34.
Redundant argument in sprintf at /usr/perl5.21.4/lib/site_perl/5.21.4/Log/Any/Adapter/Core.pm line 34.
Redundant argument in sprintf at /usr/perl5.21.4/lib/site_perl/5.21.4/Log/Any/Adapter/Core.pm line 34.
Redundant argument in sprintf at /usr/perl5.21.4/lib/site_perl/5.21.4/Log/Any/Adapter/Core.pm line 34.
Redundant argument in sprintf at /usr/perl5.21.4/lib/site_perl/5.21.4/Log/Any/Adapter/Core.pm line 34.
Redundant argument in sprintf at /usr/perl5.21.4/lib/site_perl/5.21.4/Log/Any/Adapter/Core.pm line 34.
Redundant argument in sprintf at /usr/perl5.21.4/lib/site_perl/5.21.4/Log/Any/Adapter/Core.pm line 34.
Redundant argument in sprintf at /usr/perl5.21.4/lib/site_perl/5.21.4/Log/Any/Adapter/Core.pm line 34.
Redundant argument in sprintf at /usr/perl5.21.4/lib/site_perl/5.21.4/Log/Any/Adapter/Core.pm line 34.
Redundant argument in sprintf at /usr/perl5.21.4/lib/site_perl/5.21.4/Log/Any/Adapter/Core.pm line 34.
Redundant argument in sprintf at /usr/perl5.21.4/lib/site_perl/5.21.4/Log/Any/Adapter/Core.pm line 34.
Redundant argument in sprintf at /usr/perl5.21.4/lib/site_perl/5.21.4/Log/Any/Adapter/Core.pm line 34.
Redundant argument in sprintf at /usr/perl5.21.4/lib/site_perl/5.21.4/Log/Any/Adapter/Core.pm line 34.
Redundant argument in sprintf at /usr/perl5.21.4/lib/site_perl/5.21.4/Log/Any/Adapter/Core.pm line 34.
Redundant argument in sprintf at /usr/perl5.21.4/lib/site_perl/5.21.4/Log/Any/Adapter/Core.pm line 34.
Redundant argument in sprintf at /usr/perl5.21.4/lib/site_perl/5.21.4/Log/Any/Adapter/Core.pm line 34.
Redundant argument in sprintf at /usr/perl5.21.4/lib/site_perl/5.21.4/Log/Any/Adapter/Core.pm line 34.
Redundant argument in sprintf at /usr/perl5.21.4/lib/site_perl/5.21.4/Log/Any/Adapter/Core.pm line 34.
Redundant argument in sprintf at /usr/perl5.21.4/lib/site_perl/5.21.4/Log/Any/Adapter/Core.pm line 34.
Redundant argument in sprintf at /usr/perl5.21.4/lib/site_perl/5.21.4/Log/Any/Adapter/Core.pm line 34.
Redundant argument in sprintf at /usr/perl5.21.4/lib/site_perl/5.21.4/Log/Any/Adapter/Core.pm line 34.
Redundant argument in sprintf at /usr/perl5.21.4/lib/site_perl/5.21.4/Log/Any/Adapter/Core.pm line 34.
Redundant argument in sprintf at /usr/perl5.21.4/lib/site_perl/5.21.4/Log/Any/Adapter/Core.pm line 34.
Redundant argument in sprintf at /usr/perl5.21.4/lib/site_perl/5.21.4/Log/Any/Adapter/Core.pm line 34.
Redundant argument in sprintf at /usr/perl5.21.4/lib/site_perl/5.21.4/Log/Any/Adapter/Core.pm line 34.
Redundant argument in sprintf at /usr/perl5.21.4/lib/site_perl/5.21.4/Log/Any/Adapter/Core.pm line 34.
Redundant argument in sprintf at /usr/perl5.21.4/lib/site_perl/5.21.4/Log/Any/Adapter/Core.pm line 34.
Redundant argument in sprintf at /usr/perl5.21.4/lib/site_perl/5.21.4/Log/Any/Adapter/Core.pm line 34.
Redundant argument in sprintf at /usr/perl5.21.4/lib/site_perl/5.21.4/Log/Any/Adapter/Core.pm line 34.
Redundant argument in sprintf at /usr/perl5.21.4/lib/site_perl/5.21.4/Log/Any/Adapter/Core.pm line 34.
Redundant argument in sprintf at /usr/perl5.21.4/lib/site_perl/5.21.4/Log/Any/Adapter/Core.pm line 34.
Redundant argument in sprintf at /usr/perl5.21.4/lib/site_perl/5.21.4/Log/Any/Adapter/Core.pm line 34.
Redundant argument in sprintf at /usr/perl5.21.4/lib/site_perl/5.21.4/Log/Any/Adapter/Core.pm line 34.
Redundant argument in sprintf at /usr/perl5.21.4/lib/site_perl/5.21.4/Log/Any/Adapter/Core.pm line 34.
Redundant argument in sprintf at /usr/perl5.21.4/lib/site_perl/5.21.4/Log/Any/Adapter/Core.pm line 34.
Redundant argument in sprintf at /usr/perl5.21.4/lib/site_perl/5.21.4/Log/Any/Adapter/Core.pm line 34.
Redundant argument in sprintf at /usr/perl5.21.4/lib/site_perl/5.21.4/Log/Any/Adapter/Core.pm line 34.
Redundant argument in sprintf at /usr/perl5.21.4/lib/site_perl/5.21.4/Log/Any/Adapter/Core.pm line 34.
Redundant argument in sprintf at /usr/perl5.21.4/lib/site_perl/5.21.4/Log/Any/Adapter/Core.pm line 34.
Redundant argument in sprintf at /usr/perl5.21.4/lib/site_perl/5.21.4/Log/Any/Adapter/Core.pm line 34.
Redundant argument in sprintf at /usr/perl5.21.4/lib/site_perl/5.21.4/Log/Any/Adapter/Core.pm line 34.
Redundant argument in sprintf at /usr/perl5.21.4/lib/site_perl/5.21.4/Log/Any/Adapter/Core.pm line 34.
Redundant argument in sprintf at /usr/perl5.21.4/lib/site_perl/5.21.4/Log/Any/Adapter/Core.pm line 34.
Redundant argument in sprintf at /usr/perl5.21.4/lib/site_perl/5.21.4/Log/Any/Adapter/Core.pm line 34.
Redundant argument in sprintf at /usr/perl5.21.4/lib/site_perl/5.21.4/Log/Any/Adapter/Core.pm line 34.
Redundant argument in sprintf at /usr/perl5.21.4/lib/site_perl/5.21.4/Log/Any/Adapter/Core.pm line 34.
Redundant argument in sprintf at /usr/perl5.21.4/lib/site_perl/5.21.4/Log/Any/Adapter/Core.pm line 34.
Redundant argument in sprintf at /usr/perl5.21.4/lib/site_perl/5.21.4/Log/Any/Adapter/Core.pm line 34.
Redundant argument in sprintf at /usr/perl5.21.4/lib/site_perl/5.21.4/Log/Any/Adapter/Core.pm line 34.
Redundant argument in sprintf at /usr/perl5.21.4/lib/site_perl/5.21.4/Log/Any/Adapter/Core.pm line 34.
Redundant argument in sprintf at /usr/perl5.21.4/lib/site_perl/5.21.4/Log/Any/Adapter/Core.pm line 34.
Redundant argument in sprintf at /usr/perl5.21.4/lib/site_perl/5.21.4/Log/Any/Adapter/Core.pm line 34.
Redundant argument in sprintf at /usr/perl5.21.4/lib/site_perl/5.21.4/Log/Any/Adapter/Core.pm line 34.
Redundant argument in sprintf at /usr/perl5.21.4/lib/site_perl/5.21.4/Log/Any/Adapter/Core.pm line 34.
Redundant argument in sprintf at /usr/perl5.21.4/lib/site_perl/5.21.4/Log/Any/Adapter/Core.pm line 34.
Redundant argument in sprintf at /usr/perl5.21.4/lib/site_perl/5.21.4/Log/Any/Adapter/Core.pm line 34.
Redundant argument in sprintf at /usr/perl5.21.4/lib/site_perl/5.21.4/Log/Any/Adapter/Core.pm line 34.
Redundant argument in sprintf at /usr/perl5.21.4/lib/site_perl/5.21.4/Log/Any/Adapter/Core.pm line 34.
Redundant argument in sprintf at /usr/perl5.21.4/lib/site_perl/5.21.4/Log/Any/Adapter/Core.pm line 34.
Redundant argument in sprintf at /usr/perl5.21.4/lib/site_perl/5.21.4/Log/Any/Adapter/Core.pm line 34.
Redundant argument in sprintf at /usr/perl5.21.4/lib/site_perl/5.21.4/Log/Any/Adapter/Core.pm line 34.
Redundant argument in sprintf at /usr/perl5.21.4/lib/site_perl/5.21.4/Log/Any/Adapter/Core.pm line 34.
Redundant argument in sprintf at /usr/perl5.21.4/lib/site_perl/5.21.4/Log/Any/Adapter/Core.pm line 34.
Redundant argument in sprintf at /usr/perl5.21.4/lib/site_perl/5.21.4/Log/Any/Adapter/Core.pm line 34.
Redundant argument in sprintf at /usr/perl5.21.4/lib/site_perl/5.21.4/Log/Any/Adapter/Core.pm line 34.
Redundant argument in sprintf at /usr/perl5.21.4/lib/site_perl/5.21.4/Log/Any/Adapter/Core.pm line 34.
Redundant argument in sprintf at /usr/perl5.21.4/lib/site_perl/5.21.4/Log/Any/Adapter/Core.pm line 34.
Redundant argument in sprintf at /usr/perl5.21.4/lib/site_perl/5.21.4/Log/Any/Adapter/Core.pm line 34.
Redundant argument in sprintf at /usr/perl5.21.4/lib/site_perl/5.21.4/Log/Any/Adapter/Core.pm line 34.
Redundant argument in sprintf at /usr/perl5.21.4/lib/site_perl/5.21.4/Log/Any/Adapter/Core.pm line 34.
Redundant argument in sprintf at /usr/perl5.21.4/lib/site_perl/5.21.4/Log/Any/Adapter/Core.pm line 34.
Redundant argument in sprintf at /usr/perl5.21.4/lib/site_perl/5.21.4/Log/Any/Adapter/Core.pm line 34.
Redundant argument in sprintf at /usr/perl5.21.4/lib/site_perl/5.21.4/Log/Any/Adapter/Core.pm line 34.
Redundant argument in sprintf at /usr/perl5.21.4/lib/site_perl/5.21.4/Log/Any/Adapter/Core.pm line 34.
Redundant argument in sprintf at /usr/perl5.21.4/lib/site_perl/5.21.4/Log/Any/Adapter/Core.pm line 34.
Redundant argument in sprintf at /usr/perl5.21.4/lib/site_perl/5.21.4/Log/Any/Adapter/Core.pm line 34.
Redundant argument in sprintf at /usr/perl5.21.4/lib/site_perl/5.21.4/Log/Any/Adapter/Core.pm line 34.
Redundant argument in sprintf at /usr/perl5.21.4/lib/site_perl/5.21.4/Log/Any/Adapter/Core.pm line 34.
Redundant argument in sprintf at /usr/perl5.21.4/lib/site_perl/5.21.4/Log/Any/Adapter/Core.pm line 34.
Redundant argument in sprintf at /usr/perl5.21.4/lib/site_perl/5.21.4/Log/Any/Adapter/Core.pm line 34.
Redundant argument in sprintf at /usr/perl5.21.4/lib/site_perl/5.21.4/Log/Any/Adapter/Core.pm line 34.
Redundant argument in sprintf at /usr/perl5.21.4/lib/site_perl/5.21.4/Log/Any/Adapter/Core.pm line 34.
Redundant argument in sprintf at /usr/perl5.21.4/lib/site_perl/5.21.4/Log/Any/Adapter/Core.pm line 34.
Redundant argument in sprintf at /usr/perl5.21.4/lib/site_perl/5.21.4/Log/Any/Adapter/Core.pm line 34.
Redundant argument in sprintf at /usr/perl5.21.4/lib/site_perl/5.21.4/Log/Any/Adapter/Core.pm line 34.
Redundant argument in sprintf at /usr/perl5.21.4/lib/site_perl/5.21.4/Log/Any/Adapter/Core.pm line 34.
Redundant argument in sprintf at /usr/perl5.21.4/lib/site_perl/5.21.4/Log/Any/Adapter/Core.pm line 34.
Redundant argument in sprintf at /usr/perl5.21.4/lib/site_perl/5.21.4/Log/Any/Adapter/Core.pm line 34.
Redundant argument in sprintf at /usr/perl5.21.4/lib/site_perl/5.21.4/Log/Any/Adapter/Core.pm line 34.
Redundant argument in sprintf at /usr/perl5.21.4/lib/site_perl/5.21.4/Log/Any/Adapter/Core.pm line 34.
Redundant argument in sprintf at /usr/perl5.21.4/lib/site_perl/5.21.4/Log/Any/Adapter/Core.pm line 34.
Redundant argument in sprintf at /usr/perl5.21.4/lib/site_perl/5.21.4/Log/Any/Adapter/Core.pm line 34.
Redundant argument in sprintf at /usr/perl5.21.4/lib/site_perl/5.21.4/Log/Any/Adapter/Core.pm line 34.
Redundant argument in sprintf at /usr/perl5.21.4/lib/site_perl/5.21.4/Log/Any/Adapter/Core.pm line 34.
Redundant argument in sprintf at /usr/perl5.21.4/lib/site_perl/5.21.4/Log/Any/Adapter/Core.pm line 34.
Redundant argument in sprintf at /usr/perl5.21.4/lib/site_perl/5.21.4/Log/Any/Adapter/Core.pm line 34.
Redundant argument in sprintf at /usr/perl5.21.4/lib/site_perl/5.21.4/Log/Any/Adapter/Core.pm line 34.
Redundant argument in sprintf at /usr/perl5.21.4/lib/site_perl/5.21.4/Log/Any/Adapter/Core.pm line 34.
Redundant argument in sprintf at /usr/perl5.21.4/lib/site_perl/5.21.4/Log/Any/Adapter/Core.pm line 34.
Redundant argument in sprintf at /usr/perl5.21.4/lib/site_perl/5.21.4/Log/Any/Adapter/Core.pm line 34.
Redundant argument in sprintf at /usr/perl5.21.4/lib/site_perl/5.21.4/Log/Any/Adapter/Core.pm line 34.
Redundant argument in sprintf at /usr/perl5.21.4/lib/site_perl/5.21.4/Log/Any/Adapter/Core.pm line 34.
Redundant argument in sprintf at /usr/perl5.21.4/lib/site_perl/5.21.4/Log/Any/Adapter/Core.pm line 34.
Redundant argument in sprintf at /usr/perl5.21.4/lib/site_perl/5.21.4/Log/Any/Adapter/Core.pm line 34.
Redundant argument in sprintf at /usr/perl5.21.4/lib/site_perl/5.21.4/Log/Any/Adapter/Core.pm line 34.
Redundant argument in sprintf at /usr/perl5.21.4/lib/site_perl/5.21.4/Log/Any/Adapter/Core.pm line 34.
Redundant argument in sprintf at /usr/perl5.21.4/lib/site_perl/5.21.4/Log/Any/Adapter/Core.pm line 34.
Redundant argument in sprintf at /usr/perl5.21.4/lib/site_perl/5.21.4/Log/Any/Adapter/Core.pm line 34.
Redundant argument in sprintf at /usr/perl5.21.4/lib/site_perl/5.21.4/Log/Any/Adapter/Core.pm line 34.
Redundant argument in sprintf at /usr/perl5.21.4/lib/site_perl/5.21.4/Log/Any/Adapter/Core.pm line 34.
Redundant argument in sprintf at /usr/perl5.21.4/lib/site_perl/5.21.4/Log/Any/Adapter/Core.pm line 34.
Redundant argument in sprintf at /usr/perl5.21.4/lib/site_perl/5.21.4/Log/Any/Adapter/Core.pm line 34.
Redundant argument in sprintf at /usr/perl5.21.4/lib/site_perl/5.21.4/Log/Any/Adapter/Core.pm line 34.
Redundant argument in sprintf at /usr/perl5.21.4/lib/site_perl/5.21.4/Log/Any/Adapter/Core.pm line 34.
Redundant argument in sprintf at /usr/perl5.21.4/lib/site_perl/5.21.4/Log/Any/Adapter/Core.pm line 34.
Redundant argument in sprintf at /usr/perl5.21.4/lib/site_perl/5.21.4/Log/Any/Adapter/Core.pm line 34.
Redundant argument in sprintf at /usr/perl5.21.4/lib/site_perl/5.21.4/Log/Any/Adapter/Core.pm line 34.
Redundant argument in sprintf at /usr/perl5.21.4/lib/site_perl/5.21.4/Log/Any/Adapter/Core.pm line 34.
Redundant argument in sprintf at /usr/perl5.21.4/lib/site_perl/5.21.4/Log/Any/Adapter/Core.pm line 34.
Redundant argument in sprintf at /usr/perl5.21.4/lib/site_perl/5.21.4/Log/Any/Adapter/Core.pm line 34.
Redundant argument in sprintf at /usr/perl5.21.4/lib/site_perl/5.21.4/Log/Any/Adapter/Core.pm line 34.
Redundant argument in sprintf at /usr/perl5.21.4/lib/site_perl/5.21.4/Log/Any/Adapter/Core.pm line 34.
Redundant argument in sprintf at /usr/perl5.21.4/lib/site_perl/5.21.4/Log/Any/Adapter/Core.pm line 34.
Redundant argument in sprintf at /usr/perl5.21.4/lib/site_perl/5.21.4/Log/Any/Adapter/Core.pm line 34.
Redundant argument in sprintf at /usr/perl5.21.4/lib/site_perl/5.21.4/Log/Any/Adapter/Core.pm line 34.
Redundant argument in sprintf at /usr/perl5.21.4/lib/site_perl/5.21.4/Log/Any/Adapter/Core.pm line 34.
Redundant argument in sprintf at /usr/perl5.21.4/lib/site_perl/5.21.4/Log/Any/Adapter/Core.pm line 34.
Redundant argument in sprintf at /usr/perl5.21.4/lib/site_perl/5.21.4/Log/Any/Adapter/Core.pm line 34.
Redundant argument in sprintf at /usr/perl5.21.4/lib/site_perl/5.21.4/Log/Any/Adapter/Core.pm line 34.
Redundant argument in sprintf at /usr/perl5.21.4/lib/site_perl/5.21.4/Log/Any/Adapter/Core.pm line 34.
Redundant argument in sprintf at /usr/perl5.21.4/lib/site_perl/5.21.4/Log/Any/Adapter/Core.pm line 34.
Redundant argument in sprintf at /usr/perl5.21.4/lib/site_perl/5.21.4/Log/Any/Adapter/Core.pm line 34.
Redundant argument in sprintf at /usr/perl5.21.4/lib/site_perl/5.21.4/Log/Any/Adapter/Core.pm line 34.
Redundant argument in sprintf at /usr/perl5.21.4/lib/site_perl/5.21.4/Log/Any/Adapter/Core.pm line 34.
Redundant argument in sprintf at /usr/perl5.21.4/lib/site_perl/5.21.4/Log/Any/Adapter/Core.pm line 34.
Redundant argument in sprintf at /usr/perl5.21.4/lib/site_perl/5.21.4/Log/Any/Adapter/Core.pm line 34.
Redundant argument in sprintf at /usr/perl5.21.4/lib/site_perl/5.21.4/Log/Any/Adapter/Core.pm line 34.
Redundant argument in sprintf at /usr/perl5.21.4/lib/site_perl/5.21.4/Log/Any/Adapter/Core.pm line 34.
Redundant argument in sprintf at /usr/perl5.21.4/lib/site_perl/5.21.4/Log/Any/Adapter/Core.pm line 34.
Redundant argument in sprintf at /usr/perl5.21.4/lib/site_perl/5.21.4/Log/Any/Adapter/Core.pm line 34.
Redundant argument in sprintf at /usr/perl5.21.4/lib/site_perl/5.21.4/Log/Any/Adapter/Core.pm line 34.
Redundant argument in sprintf at /usr/perl5.21.4/lib/site_perl/5.21.4/Log/Any/Adapter/Core.pm line 34.
Redundant argument in sprintf at /usr/perl5.21.4/lib/site_perl/5.21.4/Log/Any/Adapter/Core.pm line 34.
Redundant argument in sprintf at /usr/perl5.21.4/lib/site_perl/5.21.4/Log/Any/Adapter/Core.pm line 34.
Redundant argument in sprintf at /usr/perl5.21.4/lib/site_perl/5.21.4/Log/Any/Adapter/Core.pm line 34.
Redundant argument in sprintf at /usr/perl5.21.4/lib/site_perl/5.21.4/Log/Any/Adapter/Core.pm line 34.
Redundant argument in sprintf at /usr/perl5.21.4/lib/site_perl/5.21.4/Log/Any/Adapter/Core.pm line 34.
Redundant argument in sprintf at /usr/perl5.21.4/lib/site_perl/5.21.4/Log/Any/Adapter/Core.pm line 34.
Redundant argument in sprintf at /usr/perl5.21.4/lib/site_perl/5.21.4/Log/Any/Adapter/Core.pm line 34.
Redundant argument in sprintf at /usr/perl5.21.4/lib/site_perl/5.21.4/Log/Any/Adapter/Core.pm line 34.
Redundant argument in sprintf at /usr/perl5.21.4/lib/site_perl/5.21.4/Log/Any/Adapter/Core.pm line 34.
Redundant argument in sprintf at /usr/perl5.21.4/lib/site_perl/5.21.4/Log/Any/Adapter/Core.pm line 34.
Redundant argument in sprintf at /usr/perl5.21.4/lib/site_perl/5.21.4/Log/Any/Adapter/Core.pm line 34.
Redundant argument in sprintf at /usr/perl5.21.4/lib/site_perl/5.21.4/Log/Any/Adapter/Core.pm line 34.
Redundant argument in sprintf at /usr/perl5.21.4/lib/site_perl/5.21.4/Log/Any/Adapter/Core.pm line 34.
Redundant argument in sprintf at /usr/perl5.21.4/lib/site_perl/5.21.4/Log/Any/Adapter/Core.pm line 34.
Redundant argument in sprintf at /usr/perl5.21.4/lib/site_perl/5.21.4/Log/Any/Adapter/Core.pm line 34.
Redundant argument in sprintf at /usr/perl5.21.4/lib/site_perl/5.21.4/Log/Any/Adapter/Core.pm line 34.
Redundant argument in sprintf at /usr/perl5.21.4/lib/site_perl/5.21.4/Log/Any/Adapter/Core.pm line 34.
Redundant argument in sprintf at /usr/perl5.21.4/lib/site_perl/5.21.4/Log/Any/Adapter/Core.pm line 34.
Redundant argument in sprintf at /usr/perl5.21.4/lib/site_perl/5.21.4/Log/Any/Adapter/Core.pm line 34.
Redundant argument in sprintf at /usr/perl5.21.4/lib/site_perl/5.21.4/Log/Any/Adapter/Core.pm line 34.
Redundant argument in sprintf at /usr/perl5.21.4/lib/site_perl/5.21.4/Log/Any/Adapter/Core.pm line 34.
Redundant argument in sprintf at /usr/perl5.21.4/lib/site_perl/5.21.4/Log/Any/Adapter/Core.pm line 34.
Redundant argument in sprintf at /usr/perl5.21.4/lib/site_perl/5.21.4/Log/Any/Adapter/Core.pm line 34.
Redundant argument in sprintf at /usr/perl5.21.4/lib/site_perl/5.21.4/Log/Any/Adapter/Core.pm line 34.
Redundant argument in sprintf at /usr/perl5.21.4/lib/site_perl/5.21.4/Log/Any/Adapter/Core.pm line 34.
Redundant argument in sprintf at /usr/perl5.21.4/lib/site_perl/5.21.4/Log/Any/Adapter/Core.pm line 34.
Redundant argument in sprintf at /usr/perl5.21.4/lib/site_perl/5.21.4/Log/Any/Adapter/Core.pm line 34.
Redundant argument in sprintf at /usr/perl5.21.4/lib/site_perl/5.21.4/Log/Any/Adapter/Core.pm line 34.
Redundant argument in sprintf at /usr/perl5.21.4/lib/site_perl/5.21.4/Log/Any/Adapter/Core.pm line 34.
Redundant argument in sprintf at /usr/perl5.21.4/lib/site_perl/5.21.4/Log/Any/Adapter/Core.pm line 34.
Redundant argument in sprintf at /usr/perl5.21.4/lib/site_perl/5.21.4/Log/Any/Adapter/Core.pm line 34.
Redundant argument in sprintf at /usr/perl5.21.4/lib/site_perl/5.21.4/Log/Any/Adapter/Core.pm line 34.
Redundant argument in sprintf at /usr/perl5.21.4/lib/site_perl/5.21.4/Log/Any/Adapter/Core.pm line 34.
Redundant argument in sprintf at /usr/perl5.21.4/lib/site_perl/5.21.4/Log/Any/Adapter/Core.pm line 34.
Redundant argument in sprintf at /usr/perl5.21.4/lib/site_perl/5.21.4/Log/Any/Adapter/Core.pm line 34.
Redundant argument in sprintf at /usr/perl5.21.4/lib/site_perl/5.21.4/Log/Any/Adapter/Core.pm line 34.
Redundant argument in sprintf at /usr/perl5.21.4/lib/site_perl/5.21.4/Log/Any/Adapter/Core.pm line 34.
Redundant argument in sprintf at /usr/perl5.21.4/lib/site_perl/5.21.4/Log/Any/Adapter/Core.pm line 34.
Redundant argument in sprintf at /usr/perl5.21.4/lib/site_perl/5.21.4/Log/Any/Adapter/Core.pm line 34.
Redundant argument in sprintf at /usr/perl5.21.4/lib/site_perl/5.21.4/Log/Any/Adapter/Core.pm line 34.
Redundant argument in sprintf at /usr/perl5.21.4/lib/site_perl/5.21.4/Log/Any/Adapter/Core.pm line 34.
Redundant argument in sprintf at /usr/perl5.21.4/lib/site_perl/5.21.4/Log/Any/Adapter/Core.pm line 34.
Redundant argument in sprintf at /usr/perl5.21.4/lib/site_perl/5.21.4/Log/Any/Adapter/Core.pm line 34.
Redundant argument in sprintf at /usr/perl5.21.4/lib/site_perl/5.21.4/Log/Any/Adapter/Core.pm line 34.
Redundant argument in sprintf at /usr/perl5.21.4/lib/site_perl/5.21.4/Log/Any/Adapter/Core.pm line 34.
Redundant argument in sprintf at /usr/perl5.21.4/lib/site_perl/5.21.4/Log/Any/Adapter/Core.pm line 34.
Redundant argument in sprintf at /usr/perl5.21.4/lib/site_perl/5.21.4/Log/Any/Adapter/Core.pm line 34.
Redundant argument in sprintf at /usr/perl5.21.4/lib/site_perl/5.21.4/Log/Any/Adapter/Core.pm line 34.
Redundant argument in sprintf at /usr/perl5.21.4/lib/site_perl/5.21.4/Log/Any/Adapter/Core.pm line 34.
Redundant argument in sprintf at /usr/perl5.21.4/lib/site_perl/5.21.4/Log/Any/Adapter/Core.pm line 34.
Redundant argument in sprintf at /usr/perl5.21.4/lib/site_perl/5.21.4/Log/Any/Adapter/Core.pm line 34.
Redundant argument in sprintf at /usr/perl5.21.4/lib/site_perl/5.21.4/Log/Any/Adapter/Core.pm line 34.
Redundant argument in sprintf at /usr/perl5.21.4/lib/site_perl/5.21.4/Log/Any/Adapter/Core.pm line 34.
Redundant argument in sprintf at /usr/perl5.21.4/lib/site_perl/5.21.4/Log/Any/Adapter/Core.pm line 34.
Redundant argument in sprintf at /usr/perl5.21.4/lib/site_perl/5.21.4/Log/Any/Adapter/Core.pm line 34.
Redundant argument in sprintf at /usr/perl5.21.4/lib/site_perl/5.21.4/Log/Any/Adapter/Core.pm line 34.
Redundant argument in sprintf at /usr/perl5.21.4/lib/site_perl/5.21.4/Log/Any/Adapter/Core.pm line 34.
Redundant argument in sprintf at /usr/perl5.21.4/lib/site_perl/5.21.4/Log/Any/Adapter/Core.pm line 34.
Redundant argument in sprintf at /usr/perl5.21.4/lib/site_perl/5.21.4/Log/Any/Adapter/Core.pm line 34.
Redundant argument in sprintf at /usr/perl5.21.4/lib/site_perl/5.21.4/Log/Any/Adapter/Core.pm line 34.
Redundant argument in sprintf at /usr/perl5.21.4/lib/site_perl/5.21.4/Log/Any/Adapter/Core.pm line 34.
Redundant argument in sprintf at /usr/perl5.21.4/lib/site_perl/5.21.4/Log/Any/Adapter/Core.pm line 34.
Redundant argument in sprintf at /usr/perl5.21.4/lib/site_perl/5.21.4/Log/Any/Adapter/Core.pm line 34.
Redundant argument in sprintf at /usr/perl5.21.4/lib/site_perl/5.21.4/Log/Any/Adapter/Core.pm line 34.
Redundant argument in sprintf at /usr/perl5.21.4/lib/site_perl/5.21.4/Log/Any/Adapter/Core.pm line 34.
Redundant argument in sprintf at /usr/perl5.21.4/lib/site_perl/5.21.4/Log/Any/Adapter/Core.pm line 34.
Redundant argument in sprintf at /usr/perl5.21.4/lib/site_perl/5.21.4/Log/Any/Adapter/Core.pm line 34.
Redundant argument in sprintf at /usr/perl5.21.4/lib/site_perl/5.21.4/Log/Any/Adapter/Core.pm line 34.
Redundant argument in sprintf at /usr/perl5.21.4/lib/site_perl/5.21.4/Log/Any/Adapter/Core.pm line 34.
Redundant argument in sprintf at /usr/perl5.21.4/lib/site_perl/5.21.4/Log/Any/Adapter/Core.pm line 34.
Redundant argument in sprintf at /usr/perl5.21.4/lib/site_perl/5.21.4/Log/Any/Adapter/Core.pm line 34.
Redundant argument in sprintf at /usr/perl5.21.4/lib/site_perl/5.21.4/Log/Any/Adapter/Core.pm line 34.
Redundant argument in sprintf at /usr/perl5.21.4/lib/site_perl/5.21.4/Log/Any/Adapter/Core.pm line 34.
Redundant argument in sprintf at /usr/perl5.21.4/lib/site_perl/5.21.4/Log/Any/Adapter/Core.pm line 34.
Redundant argument in sprintf at /usr/perl5.21.4/lib/site_perl/5.21.4/Log/Any/Adapter/Core.pm line 34.
Redundant argument in sprintf at /usr/perl5.21.4/lib/site_perl/5.21.4/Log/Any/Adapter/Core.pm line 34.
Redundant argument in sprintf at /usr/perl5.21.4/lib/site_perl/5.21.4/Log/Any/Adapter/Core.pm line 34.
Redundant argument in sprintf at /usr/perl5.21.4/lib/site_perl/5.21.4/Log/Any/Adapter/Core.pm line 34.
Redundant argument in sprintf at /usr/perl5.21.4/lib/site_perl/5.21.4/Log/Any/Adapter/Core.pm line 34.
Redundant argument in sprintf at /usr/perl5.21.4/lib/site_perl/5.21.4/Log/Any/Adapter/Core.pm line 34.
Redundant argument in sprintf at /usr/perl5.21.4/lib/site_perl/5.21.4/Log/Any/Adapter/Core.pm line 34.
Redundant argument in sprintf at /usr/perl5.21.4/lib/site_perl/5.21.4/Log/Any/Adapter/Core.pm line 34.
Redundant argument in sprintf at /usr/perl5.21.4/lib/site_perl/5.21.4/Log/Any/Adapter/Core.pm line 34.
Redundant argument in sprintf at /usr/perl5.21.4/lib/site_perl/5.21.4/Log/Any/Adapter/Core.pm line 34.
Redundant argument in sprintf at /usr/perl5.21.4/lib/site_perl/5.21.4/Log/Any/Adapter/Core.pm line 34.
Redundant argument in sprintf at /usr/perl5.21.4/lib/site_perl/5.21.4/Log/Any/Adapter/Core.pm line 34.
Redundant argument in sprintf at /usr/perl5.21.4/lib/site_perl/5.21.4/Log/Any/Adapter/Core.pm line 34.
Redundant argument in sprintf at /usr/perl5.21.4/lib/site_perl/5.21.4/Log/Any/Adapter/Core.pm line 34.
Redundant argument in sprintf at /usr/perl5.21.4/lib/site_perl/5.21.4/Log/Any/Adapter/Core.pm line 34.
Redundant argument in sprintf at /usr/perl5.21.4/lib/site_perl/5.21.4/Log/Any/Adapter/Core.pm line 34.
Redundant argument in sprintf at /usr/perl5.21.4/lib/site_perl/5.21.4/Log/Any/Adapter/Core.pm line 34.
Redundant argument in sprintf at /usr/perl5.21.4/lib/site_perl/5.21.4/Log/Any/Adapter/Core.pm line 34.
Redundant argument in sprintf at /usr/perl5.21.4/lib/site_perl/5.21.4/Log/Any/Adapter/Core.pm line 34.
Redundant argument in sprintf at /usr/perl5.21.4/lib/site_perl/5.21.4/Log/Any/Adapter/Core.pm line 34.
Redundant argument in sprintf at /usr/perl5.21.4/lib/site_perl/5.21.4/Log/Any/Adapter/Core.pm line 34.
Redundant argument in sprintf at /usr/perl5.21.4/lib/site_perl/5.21.4/Log/Any/Adapter/Core.pm line 34.
Redundant argument in sprintf at /usr/perl5.21.4/lib/site_perl/5.21.4/Log/Any/Adapter/Core.pm line 34.
Redundant argument in sprintf at /usr/perl5.21.4/lib/site_perl/5.21.4/Log/Any/Adapter/Core.pm line 34.
Redundant argument in sprintf at /usr/perl5.21.4/lib/site_perl/5.21.4/Log/Any/Adapter/Core.pm line 34.
Redundant argument in sprintf at /usr/perl5.21.4/lib/site_perl/5.21.4/Log/Any/Adapter/Core.pm line 34.
Redundant argument in sprintf at /usr/perl5.21.4/lib/site_perl/5.21.4/Log/Any/Adapter/Core.pm line 34.
Redundant argument in sprintf at /usr/perl5.21.4/lib/site_perl/5.21.4/Log/Any/Adapter/Core.pm line 34.
Redundant argument in sprintf at /usr/perl5.21.4/lib/site_perl/5.21.4/Log/Any/Adapter/Core.pm line 34.
Redundant argument in sprintf at /usr/perl5.21.4/lib/site_perl/5.21.4/Log/Any/Adapter/Core.pm line 34.
Redundant argument in sprintf at /usr/perl5.21.4/lib/site_perl/5.21.4/Log/Any/Adapter/Core.pm line 34.
Redundant argument in sprintf at /usr/perl5.21.4/lib/site_perl/5.21.4/Log/Any/Adapter/Core.pm line 34.
Redundant argument in sprintf at /usr/perl5.21.4/lib/site_perl/5.21.4/Log/Any/Adapter/Core.pm line 34.
Redundant argument in sprintf at /usr/perl5.21.4/lib/site_perl/5.21.4/Log/Any/Adapter/Core.pm line 34.
Redundant argument in sprintf at /usr/perl5.21.4/lib/site_perl/5.21.4/Log/Any/Adapter/Core.pm line 34.
Redundant argument in sprintf at /usr/perl5.21.4/lib/site_perl/5.21.4/Log/Any/Adapter/Core.pm line 34.
Redundant argument in sprintf at /usr/perl5.21.4/lib/site_perl/5.21.4/Log/Any/Adapter/Core.pm line 34.
Redundant argument in sprintf at /usr/perl5.21.4/lib/site_perl/5.21.4/Log/Any/Adapter/Core.pm line 34.
Redundant argument in sprintf at /usr/perl5.21.4/lib/site_perl/5.21.4/Log/Any/Adapter/Core.pm line 34.
Redundant argument in sprintf at /usr/perl5.21.4/lib/site_perl/5.21.4/Log/Any/Adapter/Core.pm line 34.
Redundant argument in sprintf at /usr/perl5.21.4/lib/site_perl/5.21.4/Log/Any/Adapter/Core.pm line 34.
Redundant argument in sprintf at /usr/perl5.21.4/lib/site_perl/5.21.4/Log/Any/Adapter/Core.pm line 34.
Redundant argument in sprintf at /usr/perl5.21.4/lib/site_perl/5.21.4/Log/Any/Adapter/Core.pm line 34.
Redundant argument in sprintf at /usr/perl5.21.4/lib/site_perl/5.21.4/Log/Any/Adapter/Core.pm line 34.
Redundant argument in sprintf at /usr/perl5.21.4/lib/site_perl/5.21.4/Log/Any/Adapter/Core.pm line 34.
Redundant argument in sprintf at /usr/perl5.21.4/lib/site_perl/5.21.4/Log/Any/Adapter/Core.pm line 34.
Redundant argument in sprintf at /usr/perl5.21.4/lib/site_perl/5.21.4/Log/Any/Adapter/Core.pm line 34.
Redundant argument in sprintf at /usr/perl5.21.4/lib/site_perl/5.21.4/Log/Any/Adapter/Core.pm line 34.
Redundant argument in sprintf at /usr/perl5.21.4/lib/site_perl/5.21.4/Log/Any/Adapter/Core.pm line 34.
Redundant argument in sprintf at /usr/perl5.21.4/lib/site_perl/5.21.4/Log/Any/Adapter/Core.pm line 34.
Redundant argument in sprintf at /usr/perl5.21.4/lib/site_perl/5.21.4/Log/Any/Adapter/Core.pm line 34.
Redundant argument in sprintf at /usr/perl5.21.4/lib/site_perl/5.21.4/Log/Any/Adapter/Core.pm line 34.
Redundant argument in sprintf at /usr/perl5.21.4/lib/site_perl/5.21.4/Log/Any/Adapter/Core.pm line 34.
Redundant argument in sprintf at /usr/perl5.21.4/lib/site_perl/5.21.4/Log/Any/Adapter/Core.pm line 34.
Redundant argument in sprintf at /usr/perl5.21.4/lib/site_perl/5.21.4/Log/Any/Adapter/Core.pm line 34.
Redundant argument in sprintf at /usr/perl5.21.4/lib/site_perl/5.21.4/Log/Any/Adapter/Core.pm line 34.
Redundant argument in sprintf at /usr/perl5.21.4/lib/site_perl/5.21.4/Log/Any/Adapter/Core.pm line 34.
Redundant argument in sprintf at /usr/perl5.21.4/lib/site_perl/5.21.4/Log/Any/Adapter/Core.pm line 34.
Redundant argument in sprintf at /usr/perl5.21.4/lib/site_perl/5.21.4/Log/Any/Adapter/Core.pm line 34.
Redundant argument in sprintf at /usr/perl5.21.4/lib/site_perl/5.21.4/Log/Any/Adapter/Core.pm line 34.
Redundant argument in sprintf at /usr/perl5.21.4/lib/site_perl/5.21.4/Log/Any/Adapter/Core.pm line 34.
Redundant argument in sprintf at /usr/perl5.21.4/lib/site_perl/5.21.4/Log/Any/Adapter/Core.pm line 34.
Redundant argument in sprintf at /usr/perl5.21.4/lib/site_perl/5.21.4/Log/Any/Adapter/Core.pm line 34.
Redundant argument in sprintf at /usr/perl5.21.4/lib/site_perl/5.21.4/Log/Any/Adapter/Core.pm line 34.
Redundant argument in sprintf at /usr/perl5.21.4/lib/site_perl/5.21.4/Log/Any/Adapter/Core.pm line 34.
Redundant argument in sprintf at /usr/perl5.21.4/lib/site_perl/5.21.4/Log/Any/Adapter/Core.pm line 34.
Redundant argument in sprintf at /usr/perl5.21.4/lib/site_perl/5.21.4/Log/Any/Adapter/Core.pm line 34.
Redundant argument in sprintf at /usr/perl5.21.4/lib/site_perl/5.21.4/Log/Any/Adapter/Core.pm line 34.
Redundant argument in sprintf at /usr/perl5.21.4/lib/site_perl/5.21.4/Log/Any/Adapter/Core.pm line 34.
Redundant argument in sprintf at /usr/perl5.21.4/lib/site_perl/5.21.4/Log/Any/Adapter/Core.pm line 34.
Redundant argument in sprintf at /usr/perl5.21.4/lib/site_perl/5.21.4/Log/Any/Adapter/Core.pm line 34.
Redundant argument in sprintf at /usr/perl5.21.4/lib/site_perl/5.21.4/Log/Any/Adapter/Core.pm line 34.
Redundant argument in sprintf at /usr/perl5.21.4/lib/site_perl/5.21.4/Log/Any/Adapter/Core.pm line 34.
Redundant argument in sprintf at /usr/perl5.21.4/lib/site_perl/5.21.4/Log/Any/Adapter/Core.pm line 34.
Redundant argument in sprintf at /usr/perl5.21.4/lib/site_perl/5.21.4/Log/Any/Adapter/Core.pm line 34.
Redundant argument in sprintf at /usr/perl5.21.4/lib/site_perl/5.21.4/Log/Any/Adapter/Core.pm line 34.
Redundant argument in sprintf at /usr/perl5.21.4/lib/site_perl/5.21.4/Log/Any/Adapter/Core.pm line 34.
Redundant argument in sprintf at /usr/perl5.21.4/lib/site_perl/5.21.4/Log/Any/Adapter/Core.pm line 34.
Redundant argument in sprintf at /usr/perl5.21.4/lib/site_perl/5.21.4/Log/Any/Adapter/Core.pm line 34.
Redundant argument in sprintf at /usr/perl5.21.4/lib/site_perl/5.21.4/Log/Any/Adapter/Core.pm line 34.
Redundant argument in sprintf at /usr/perl5.21.4/lib/site_perl/5.21.4/Log/Any/Adapter/Core.pm line 34.
Redundant argument in sprintf at /usr/perl5.21.4/lib/site_perl/5.21.4/Log/Any/Adapter/Core.pm line 34.
Redundant argument in sprintf at /usr/perl5.21.4/lib/site_perl/5.21.4/Log/Any/Adapter/Core.pm line 34.
Redundant argument in sprintf at /usr/perl5.21.4/lib/site_perl/5.21.4/Log/Any/Adapter/Core.pm line 34.
Redundant argument in sprintf at /usr/perl5.21.4/lib/site_perl/5.21.4/Log/Any/Adapter/Core.pm line 34.
Redundant argument in sprintf at /usr/perl5.21.4/lib/site_perl/5.21.4/Log/Any/Adapter/Core.pm line 34.
Redundant argument in sprintf at /usr/perl5.21.4/lib/site_perl/5.21.4/Log/Any/Adapter/Core.pm line 34.
Redundant argument in sprintf at /usr/perl5.21.4/lib/site_perl/5.21.4/Log/Any/Adapter/Core.pm line 34.
Redundant argument in sprintf at /usr/perl5.21.4/lib/site_perl/5.21.4/Log/Any/Adapter/Core.pm line 34.
Redundant argument in sprintf at /usr/perl5.21.4/lib/site_perl/5.21.4/Log/Any/Adapter/Core.pm line 34.
Redundant argument in sprintf at /usr/perl5.21.4/lib/site_perl/5.21.4/Log/Any/Adapter/Core.pm line 34.
Redundant argument in sprintf at /usr/perl5.21.4/lib/site_perl/5.21.4/Log/Any/Adapter/Core.pm line 34.
Redundant argument in sprintf at /usr/perl5.21.4/lib/site_perl/5.21.4/Log/Any/Adapter/Core.pm line 34.
Redundant argument in sprintf at /usr/perl5.21.4/lib/site_perl/5.21.4/Log/Any/Adapter/Core.pm line 34.
Redundant argument in sprintf at /usr/perl5.21.4/lib/site_perl/5.21.4/Log/Any/Adapter/Core.pm line 34.
Redundant argument in sprintf at /usr/perl5.21.4/lib/site_perl/5.21.4/Log/Any/Adapter/Core.pm line 34.
Redundant argument in sprintf at /usr/perl5.21.4/lib/site_perl/5.21.4/Log/Any/Adapter/Core.pm line 34.
Redundant argument in sprintf at /usr/perl5.21.4/lib/site_perl/5.21.4/Log/Any/Adapter/Core.pm line 34.
Redundant argument in sprintf at /usr/perl5.21.4/lib/site_perl/5.21.4/Log/Any/Adapter/Core.pm line 34.
Redundant argument in sprintf at /usr/perl5.21.4/lib/site_perl/5.21.4/Log/Any/Adapter/Core.pm line 34.
Redundant argument in sprintf at /usr/perl5.21.4/lib/site_perl/5.21.4/Log/Any/Adapter/Core.pm line 34.
Redundant argument in sprintf at /usr/perl5.21.4/lib/site_perl/5.21.4/Log/Any/Adapter/Core.pm line 34.
Redundant argument in sprintf at /usr/perl5.21.4/lib/site_perl/5.21.4/Log/Any/Adapter/Core.pm line 34.
Redundant argument in sprintf at /usr/perl5.21.4/lib/site_perl/5.21.4/Log/Any/Adapter/Core.pm line 34.
Redundant argument in sprintf at /usr/perl5.21.4/lib/site_perl/5.21.4/Log/Any/Adapter/Core.pm line 34.
Redundant argument in sprintf at /usr/perl5.21.4/lib/site_perl/5.21.4/Log/Any/Adapter/Core.pm line 34.
Redundant argument in sprintf at /usr/perl5.21.4/lib/site_perl/5.21.4/Log/Any/Adapter/Core.pm line 34.
Redundant argument in sprintf at /usr/perl5.21.4/lib/site_perl/5.21.4/Log/Any/Adapter/Core.pm line 34.
Redundant argument in sprintf at /usr/perl5.21.4/lib/site_perl/5.21.4/Log/Any/Adapter/Core.pm line 34.
Redundant argument in sprintf at /usr/perl5.21.4/lib/site_perl/5.21.4/Log/Any/Adapter/Core.pm line 34.
Redundant argument in sprintf at /usr/perl5.21.4/lib/site_perl/5.21.4/Log/Any/Adapter/Core.pm line 34.
Redundant argument in sprintf at /usr/perl5.21.4/lib/site_perl/5.21.4/Log/Any/Adapter/Core.pm line 34.
Redundant argument in sprintf at /usr/perl5.21.4/lib/site_perl/5.21.4/Log/Any/Adapter/Core.pm line 34.
Redundant argument in sprintf at /usr/perl5.21.4/lib/site_perl/5.21.4/Log/Any/Adapter/Core.pm line 34.
Redundant argument in sprintf at /usr/perl5.21.4/lib/site_perl/5.21.4/Log/Any/Adapter/Core.pm line 34.
Redundant argument in sprintf at /usr/perl5.21.4/lib/site_perl/5.21.4/Log/Any/Adapter/Core.pm line 34.
Redundant argument in sprintf at /usr/perl5.21.4/lib/site_perl/5.21.4/Log/Any/Adapter/Core.pm line 34.
Redundant argument in sprintf at /usr/perl5.21.4/lib/site_perl/5.21.4/Log/Any/Adapter/Core.pm line 34.
Redundant argument in sprintf at /usr/perl5.21.4/lib/site_perl/5.21.4/Log/Any/Adapter/Core.pm line 34.
Redundant argument in sprintf at /usr/perl5.21.4/lib/site_perl/5.21.4/Log/Any/Adapter/Core.pm line 34.
Redundant argument in sprintf at /usr/perl5.21.4/lib/site_perl/5.21.4/Log/Any/Adapter/Core.pm line 34.
Redundant argument in sprintf at /usr/perl5.21.4/lib/site_perl/5.21.4/Log/Any/Adapter/Core.pm line 34.
Redundant argument in sprintf at /usr/perl5.21.4/lib/site_perl/5.21.4/Log/Any/Adapter/Core.pm line 34.
Redundant argument in sprintf at /usr/perl5.21.4/lib/site_perl/5.21.4/Log/Any/Adapter/Core.pm line 34.
Redundant argument in sprintf at /usr/perl5.21.4/lib/site_perl/5.21.4/Log/Any/Adapter/Core.pm line 34.
Redundant argument in sprintf at /usr/perl5.21.4/lib/site_perl/5.21.4/Log/Any/Adapter/Core.pm line 34.
Redundant argument in sprintf at /usr/perl5.21.4/lib/site_perl/5.21.4/Log/Any/Adapter/Core.pm line 34.
Redundant argument in sprintf at /usr/perl5.21.4/lib/site_perl/5.21.4/Log/Any/Adapter/Core.pm line 34.
Redundant argument in sprintf at /usr/perl5.21.4/lib/site_perl/5.21.4/Log/Any/Adapter/Core.pm line 34.
Redundant argument in sprintf at /usr/perl5.21.4/lib/site_perl/5.21.4/Log/Any/Adapter/Core.pm line 34.
Redundant argument in sprintf at /usr/perl5.21.4/lib/site_perl/5.21.4/Log/Any/Adapter/Core.pm line 34.
Redundant argument in sprintf at /usr/perl5.21.4/lib/site_perl/5.21.4/Log/Any/Adapter/Core.pm line 34.
Redundant argument in sprintf at /usr/perl5.21.4/lib/site_perl/5.21.4/Log/Any/Adapter/Core.pm line 34.
Redundant argument in sprintf at /usr/perl5.21.4/lib/site_perl/5.21.4/Log/Any/Adapter/Core.pm line 34.
Redundant argument in sprintf at /usr/perl5.21.4/lib/site_perl/5.21.4/Log/Any/Adapter/Core.pm line 34.
Redundant argument in sprintf at /usr/perl5.21.4/lib/site_perl/5.21.4/Log/Any/Adapter/Core.pm line 34.
Redundant argument in sprintf at /usr/perl5.21.4/lib/site_perl/5.21.4/Log/Any/Adapter/Core.pm line 34.
Redundant argument in sprintf at /usr/perl5.21.4/lib/site_perl/5.21.4/Log/Any/Adapter/Core.pm line 34.
Redundant argument in sprintf at /usr/perl5.21.4/lib/site_perl/5.21.4/Log/Any/Adapter/Core.pm line 34.
Redundant argument in sprintf at /usr/perl5.21.4/lib/site_perl/5.21.4/Log/Any/Adapter/Core.pm line 34.
Redundant argument in sprintf at /usr/perl5.21.4/lib/site_perl/5.21.4/Log/Any/Adapter/Core.pm line 34.
Redundant argument in sprintf at /usr/perl5.21.4/lib/site_perl/5.21.4/Log/Any/Adapter/Core.pm line 34.
Redundant argument in sprintf at /usr/perl5.21.4/lib/site_perl/5.21.4/Log/Any/Adapter/Core.pm line 34.
Redundant argument in sprintf at /usr/perl5.21.4/lib/site_perl/5.21.4/Log/Any/Adapter/Core.pm line 34.
Redundant argument in sprintf at /usr/perl5.21.4/lib/site_perl/5.21.4/Log/Any/Adapter/Core.pm line 34.
Redundant argument in sprintf at /usr/perl5.21.4/lib/site_perl/5.21.4/Log/Any/Adapter/Core.pm line 34.
Redundant argument in sprintf at /usr/perl5.21.4/lib/site_perl/5.21.4/Log/Any/Adapter/Core.pm line 34.
Redundant argument in sprintf at /usr/perl5.21.4/lib/site_perl/5.21.4/Log/Any/Adapter/Core.pm line 34.
Redundant argument in sprintf at /usr/perl5.21.4/lib/site_perl/5.21.4/Log/Any/Adapter/Core.pm line 34.
Redundant argument in sprintf at /usr/perl5.21.4/lib/site_perl/5.21.4/Log/Any/Adapter/Core.pm line 34.
Redundant argument in sprintf at /usr/perl5.21.4/lib/site_perl/5.21.4/Log/Any/Adapter/Core.pm line 34.
Redundant argument in sprintf at /usr/perl5.21.4/lib/site_perl/5.21.4/Log/Any/Adapter/Core.pm line 34.
Redundant argument in sprintf at /usr/perl5.21.4/lib/site_perl/5.21.4/Log/Any/Adapter/Core.pm line 34.
Redundant argument in sprintf at /usr/perl5.21.4/lib/site_perl/5.21.4/Log/Any/Adapter/Core.pm line 34.
Redundant argument in sprintf at /usr/perl5.21.4/lib/site_perl/5.21.4/Log/Any/Adapter/Core.pm line 34.
Redundant argument in sprintf at /usr/perl5.21.4/lib/site_perl/5.21.4/Log/Any/Adapter/Core.pm line 34.
Redundant argument in sprintf at /usr/perl5.21.4/lib/site_perl/5.21.4/Log/Any/Adapter/Core.pm line 34.
Redundant argument in sprintf at /usr/perl5.21.4/lib/site_perl/5.21.4/Log/Any/Adapter/Core.pm line 34.
Redundant argument in sprintf at /usr/perl5.21.4/lib/site_perl/5.21.4/Log/Any/Adapter/Core.pm line 34.
Redundant argument in sprintf at /usr/perl5.21.4/lib/site_perl/5.21.4/Log/Any/Adapter/Core.pm line 34.
Redundant argument in sprintf at /usr/perl5.21.4/lib/site_perl/5.21.4/Log/Any/Adapter/Core.pm line 34.
Redundant argument in sprintf at /usr/perl5.21.4/lib/site_perl/5.21.4/Log/Any/Adapter/Core.pm line 34.
Redundant argument in sprintf at /usr/perl5.21.4/lib/site_perl/5.21.4/Log/Any/Adapter/Core.pm line 34.
Redundant argument in sprintf at /usr/perl5.21.4/lib/site_perl/5.21.4/Log/Any/Adapter/Core.pm line 34.
Redundant argument in sprintf at /usr/perl5.21.4/lib/site_perl/5.21.4/Log/Any/Adapter/Core.pm line 34.
Redundant argument in sprintf at /usr/perl5.21.4/lib/site_perl/5.21.4/Log/Any/Adapter/Core.pm line 34.
Redundant argument in sprintf at /usr/perl5.21.4/lib/site_perl/5.21.4/Log/Any/Adapter/Core.pm line 34.
Redundant argument in sprintf at /usr/perl5.21.4/lib/site_perl/5.21.4/Log/Any/Adapter/Core.pm line 34.
Redundant argument in sprintf at /usr/perl5.21.4/lib/site_perl/5.21.4/Log/Any/Adapter/Core.pm line 34.
Redundant argument in sprintf at /usr/perl5.21.4/lib/site_perl/5.21.4/Log/Any/Adapter/Core.pm line 34.
Redundant argument in sprintf at /usr/perl5.21.4/lib/site_perl/5.21.4/Log/Any/Adapter/Core.pm line 34.
Redundant argument in sprintf at /usr/perl5.21.4/lib/site_perl/5.21.4/Log/Any/Adapter/Core.pm line 34.
Redundant argument in sprintf at /usr/perl5.21.4/lib/site_perl/5.21.4/Log/Any/Adapter/Core.pm line 34.
Redundant argument in sprintf at /usr/perl5.21.4/lib/site_perl/5.21.4/Log/Any/Adapter/Core.pm line 34.
Redundant argument in sprintf at /usr/perl5.21.4/lib/site_perl/5.21.4/Log/Any/Adapter/Core.pm line 34.
Redundant argument in sprintf at /usr/perl5.21.4/lib/site_perl/5.21.4/Log/Any/Adapter/Core.pm line 34.
Redundant argument in sprintf at /usr/perl5.21.4/lib/site_perl/5.21.4/Log/Any/Adapter/Core.pm line 34.
Redundant argument in sprintf at /usr/perl5.21.4/lib/site_perl/5.21.4/Log/Any/Adapter/Core.pm line 34.
Redundant argument in sprintf at /usr/perl5.21.4/lib/site_perl/5.21.4/Log/Any/Adapter/Core.pm line 34.
Redundant argument in sprintf at /usr/perl5.21.4/lib/site_perl/5.21.4/Log/Any/Adapter/Core.pm line 34.
Redundant argument in sprintf at /usr/perl5.21.4/lib/site_perl/5.21.4/Log/Any/Adapter/Core.pm line 34.
Redundant argument in sprintf at /usr/perl5.21.4/lib/site_perl/5.21.4/Log/Any/Adapter/Core.pm line 34.
Redundant argument in sprintf at /usr/perl5.21.4/lib/site_perl/5.21.4/Log/Any/Adapter/Core.pm line 34.
Redundant argument in sprintf at /usr/perl5.21.4/lib/site_perl/5.21.4/Log/Any/Adapter/Core.pm line 34.
Redundant argument in sprintf at /usr/perl5.21.4/lib/site_perl/5.21.4/Log/Any/Adapter/Core.pm line 34.
Redundant argument in sprintf at /usr/perl5.21.4/lib/site_perl/5.21.4/Log/Any/Adapter/Core.pm line 34.
Redundant argument in sprintf at /usr/perl5.21.4/lib/site_perl/5.21.4/Log/Any/Adapter/Core.pm line 34.
Redundant argument in sprintf at /usr/perl5.21.4/lib/site_perl/5.21.4/Log/Any/Adapter/Core.pm line 34.
Redundant argument in sprintf at /usr/perl5.21.4/lib/site_perl/5.21.4/Log/Any/Adapter/Core.pm line 34.
Redundant argument in sprintf at /usr/perl5.21.4/lib/site_perl/5.21.4/Log/Any/Adapter/Core.pm line 34.
Redundant argument in sprintf at /usr/perl5.21.4/lib/site_perl/5.21.4/Log/Any/Adapter/Core.pm line 34.
Redundant argument in sprintf at /usr/perl5.21.4/lib/site_perl/5.21.4/Log/Any/Adapter/Core.pm line 34.
Redundant argument in sprintf at /usr/perl5.21.4/lib/site_perl/5.21.4/Log/Any/Adapter/Core.pm line 34.
Redundant argument in sprintf at /usr/perl5.21.4/lib/site_perl/5.21.4/Log/Any/Adapter/Core.pm line 34.
Redundant argument in sprintf at /usr/perl5.21.4/lib/site_perl/5.21.4/Log/Any/Adapter/Core.pm line 34.
Redundant argument in sprintf at /usr/perl5.21.4/lib/site_perl/5.21.4/Log/Any/Adapter/Core.pm line 34.
Redundant argument in sprintf at /usr/perl5.21.4/lib/site_perl/5.21.4/Log/Any/Adapter/Core.pm line 34.
Redundant argument in sprintf at /usr/perl5.21.4/lib/site_perl/5.21.4/Log/Any/Adapter/Core.pm line 34.
Redundant argument in sprintf at /usr/perl5.21.4/lib/site_perl/5.21.4/Log/Any/Adapter/Core.pm line 34.
Redundant argument in sprintf at /usr/perl5.21.4/lib/site_perl/5.21.4/Log/Any/Adapter/Core.pm line 34.
Redundant argument in sprintf at /usr/perl5.21.4/lib/site_perl/5.21.4/Log/Any/Adapter/Core.pm line 34.
Redundant argument in sprintf at /usr/perl5.21.4/lib/site_perl/5.21.4/Log/Any/Adapter/Core.pm line 34.
Redundant argument in sprintf at /usr/perl5.21.4/lib/site_perl/5.21.4/Log/Any/Adapter/Core.pm line 34.
Redundant argument in sprintf at /usr/perl5.21.4/lib/site_perl/5.21.4/Log/Any/Adapter/Core.pm line 34.
Redundant argument in sprintf at /usr/perl5.21.4/lib/site_perl/5.21.4/Log/Any/Adapter/Core.pm line 34.
Redundant argument in sprintf at /usr/perl5.21.4/lib/site_perl/5.21.4/Log/Any/Adapter/Core.pm line 34.
Redundant argument in sprintf at /usr/perl5.21.4/lib/site_perl/5.21.4/Log/Any/Adapter/Core.pm line 34.
Redundant argument in sprintf at /usr/perl5.21.4/lib/site_perl/5.21.4/Log/Any/Adapter/Core.pm line 34.
Redundant argument in sprintf at /usr/perl5.21.4/lib/site_perl/5.21.4/Log/Any/Adapter/Core.pm line 34.
Redundant argument in sprintf at /usr/perl5.21.4/lib/site_perl/5.21.4/Log/Any/Adapter/Core.pm line 34.
Redundant argument in sprintf at /usr/perl5.21.4/lib/site_perl/5.21.4/Log/Any/Adapter/Core.pm line 34.
Redundant argument in sprintf at /usr/perl5.21.4/lib/site_perl/5.21.4/Log/Any/Adapter/Core.pm line 34.
Redundant argument in sprintf at /usr/perl5.21.4/lib/site_perl/5.21.4/Log/Any/Adapter/Core.pm line 34.
Redundant argument in sprintf at /usr/perl5.21.4/lib/site_perl/5.21.4/Log/Any/Adapter/Core.pm line 34.
Redundant argument in sprintf at /usr/perl5.21.4/lib/site_perl/5.21.4/Log/Any/Adapter/Core.pm line 34.
Redundant argument in sprintf at /usr/perl5.21.4/lib/site_perl/5.21.4/Log/Any/Adapter/Core.pm line 34.
Redundant argument in sprintf at /usr/perl5.21.4/lib/site_perl/5.21.4/Log/Any/Adapter/Core.pm line 34.
Redundant argument in sprintf at /usr/perl5.21.4/lib/site_perl/5.21.4/Log/Any/Adapter/Core.pm line 34.
Redundant argument in sprintf at /usr/perl5.21.4/lib/site_perl/5.21.4/Log/Any/Adapter/Core.pm line 34.
Redundant argument in sprintf at /usr/perl5.21.4/lib/site_perl/5.21.4/Log/Any/Adapter/Core.pm line 34.
Redundant argument in sprintf at /usr/perl5.21.4/lib/site_perl/5.21.4/Log/Any/Adapter/Core.pm line 34.
Redundant argument in sprintf at /usr/perl5.21.4/lib/site_perl/5.21.4/Log/Any/Adapter/Core.pm line 34.
Redundant argument in sprintf at /usr/perl5.21.4/lib/site_perl/5.21.4/Log/Any/Adapter/Core.pm line 34.
Redundant argument in sprintf at /usr/perl5.21.4/lib/site_perl/5.21.4/Log/Any/Adapter/Core.pm line 34.
Redundant argument in sprintf at /usr/perl5.21.4/lib/site_perl/5.21.4/Log/Any/Adapter/Core.pm line 34.
Redundant argument in sprintf at /usr/perl5.21.4/lib/site_perl/5.21.4/Log/Any/Adapter/Core.pm line 34.
Redundant argument in sprintf at /usr/perl5.21.4/lib/site_perl/5.21.4/Log/Any/Adapter/Core.pm line 34.
Redundant argument in sprintf at /usr/perl5.21.4/lib/site_perl/5.21.4/Log/Any/Adapter/Core.pm line 34.
Redundant argument in sprintf at /usr/perl5.21.4/lib/site_perl/5.21.4/Log/Any/Adapter/Core.pm line 34.
Redundant argument in sprintf at /usr/perl5.21.4/lib/site_perl/5.21.4/Log/Any/Adapter/Core.pm line 34.
Redundant argument in sprintf at /usr/perl5.21.4/lib/site_perl/5.21.4/Log/Any/Adapter/Core.pm line 34.
Redundant argument in sprintf at /usr/perl5.21.4/lib/site_perl/5.21.4/Log/Any/Adapter/Core.pm line 34.
Redundant argument in sprintf at /usr/perl5.21.4/lib/site_perl/5.21.4/Log/Any/Adapter/Core.pm line 34.
Redundant argument in sprintf at /usr/perl5.21.4/lib/site_perl/5.21.4/Log/Any/Adapter/Core.pm line 34.
Redundant argument in sprintf at /usr/perl5.21.4/lib/site_perl/5.21.4/Log/Any/Adapter/Core.pm line 34.
Redundant argument in sprintf at /usr/perl5.21.4/lib/site_perl/5.21.4/Log/Any/Adapter/Core.pm line 34.
Redundant argument in sprintf at /usr/perl5.21.4/lib/site_perl/5.21.4/Log/Any/Adapter/Core.pm line 34.
t/IronCache/cache_policy2.t .. ok
# Testing IO::Iron::IronCache, Perl 5.021004, /usr/perl5.21.4/bin/perl5.21.4
t/IronCache/load.t ........... ok
# Testing IO::Iron::IronMQ 0.11, Perl 5.021004, /usr/perl5.21.4/bin/perl5.21.4
t/IronMQ/load.t .............. ok
# Testing IO::Iron::IronWorker 0.11, Perl 5.021004, /usr/perl5.21.4/bin/perl5.21.4
t/IronWorker/load.t .......... ok
All tests successful.
Files=7, Tests=92, 10 wallclock secs ( 0.18 usr 0.10 sys + 3.40 cusr 0.91 csys = 4.59 CPU)
Result: PASS
------------------------------
PREREQUISITES
------------------------------
Prerequisite modules loaded:
requires:
Module Need Have
------------------ ---- --------
Carp 0 1.34
Carp::Assert 0 0.21
Carp::Assert::More 0 1.14
constant 0 1.32
Data::Dumper 0 2.154
Data::UUID 0 1.219
English 0 1.09
Exception::Class 0 1.38
Exporter 0 5.71
File::HomeDir 0 1.00
File::Slurp 0 9999.19
File::Spec 0 3.50
Hash::Util 0.06 0.18
JSON::MaybeXS 0 1.002002
Log::Any 0 0.15
Params::Validate 0 1.13
parent 0 0.228
REST::Client 0 271
Scalar::Util 0 1.41
strict 0 1.08
Try::Tiny 0 0.22
URI::Escape 0 3.31
warnings 0 1.26
build_requires:
Module Need Have
------------------ ---- --------
File::Copy 0 2.30
File::Remove 0 1.52
lib 0 0.63
Log::Any::Test 0 0.15
Test::Exception 0 0.34
Test::More 0 1.001006
------------------------------
ENVIRONMENT AND OTHER CONTEXT
------------------------------
Environment variables:
DBIC_NO_WARN_BAD_PERL = 1
LC_ALL = de_DE.ISO8859-1
PATH = /usr/local/bin:/usr/bin:/bin:/usr/local/sbin:/usr/sbin:/sbin:/home/cpansand/bin/freebsd10.0:/home/cpansand/bin/sh:/home/cpansand/bin:/usr/games:/home/cpansand/devel:/home/eserte/src/srezic-misc/scripts
PERL5LIB =
PERL5OPT =
PERL5_CPANPLUS_IS_RUNNING = 60320
PERL5_CPAN_IS_RUNNING = 60320
PERL5_CPAN_IS_RUNNING_IN_RECURSION = 60298,60320
PERLDOC = -MPod::Perldoc::ToTextOverstrike
PERL_BATCH = yes
PERL_CPAN_REPORTER_CONFIG = /var/tmp/cpansmoker-1023/S2uau0ca_M_config.ini
PERL_EXTUTILS_AUTOINSTALL = --defaultdeps
PERL_HTML_DISPLAY_CLASS = HTML::Display::Mozilla
SHELL = /usr/local/bin/zsh
TERM = screen
TMPDIR = /var/tmp/cpansmoker-1023
Perl special variables (and OS-specific diagnostics, for MSWin32):
$^X = /usr/perl5.21.4/bin/perl5.21.4
$UID/$EUID = 1023 / 1023
$GID = 1023 1023
$EGID = 1023 1023
Perl module toolchain versions installed:
Module Have
------------------- --------
CPAN 2.05
CPAN::Meta 2.142060
Cwd 3.50
ExtUtils::CBuilder 0.280219
ExtUtils::Command 1.18
ExtUtils::Install 2.04
ExtUtils::MakeMaker 6.98
ExtUtils::Manifest 1.68
ExtUtils::ParseXS 3.25
File::Spec 3.50
JSON 2.90
JSON::PP 2.27203
Module::Build 0.4210
Module::Signature n/a
Parse::CPAN::Meta 1.4414
Test::Harness 3.33
Test::More 1.001006
YAML 1.11
YAML::Syck 1.27
version 0.9909
--
Summary of my perl5 (revision 5 version 21 subversion 4) configuration:
Platform:
osname=freebsd, osvers=10.0-release-p1, archname=amd64-freebsd
uname='freebsd cvrsnica-freebsd-10-64bit.herceg.de 10.0-release-p1 freebsd 10.0-release-p1 #0: tue apr 8 06:45:06 utc 2014 root@amd64-builder.daemonology.net:usrobjusrsrcsysgeneric amd64 '
config_args='-ds -e -Dprefix=/usr/perl5.21.4 -Dusedevel -Dusemallocwrap=no'
hint=recommended, useposix=true, d_sigaction=define
useithreads=undef, usemultiplicity=undef
use64bitint=define, use64bitall=define, uselongdouble=undef
usemymalloc=n, bincompat5005=undef
Compiler:
cc='cc', ccflags ='-DHAS_FPSETMASK -DHAS_FLOATINGPOINT_H -fno-strict-aliasing -pipe -fstack-protector -I/usr/local/include -D_FORTIFY_SOURCE=2',
optimize='-O',
cppflags='-DHAS_FPSETMASK -DHAS_FLOATINGPOINT_H -fno-strict-aliasing -pipe -fstack-protector -I/usr/local/include'
ccversion='', gccversion='4.2.1 Compatible FreeBSD Clang 3.3 (tags/RELEASE_33/final 183502)', gccosandvers=''
intsize=4, longsize=8, ptrsize=8, doublesize=8, byteorder=12345678
d_longlong=define, longlongsize=8, d_longdbl=define, longdblsize=16, longdblkind=3
ivtype='long', ivsize=8, nvtype='double', nvsize=8, Off_t='off_t', lseeksize=8
alignbytes=8, prototype=define
Linker and Libraries:
ld='cc', ldflags ='-Wl,-E -fstack-protector -L/usr/local/lib'
libpth=/usr/lib /usr/local/lib /usr/include/clang/3.3 /usr/lib
libs=-lgdbm -lm -lcrypt -lutil -lc
perllibs=-lm -lcrypt -lutil -lc
libc=, so=so, useshrplib=false, libperl=libperl.a
gnulibc_version=''
Dynamic Linking:
dlsrc=dl_dlopen.xs, dlext=so, d_dlsymun=undef, ccdlflags=' '
cccdlflags='-DPIC -fPIC', lddlflags='-shared -L/usr/local/lib -fstack-protector'
Characteristics of this binary (from libperl):
Compile-time options: HAS_TIMES PERLIO_LAYERS PERL_DONT_CREATE_GVSV
PERL_HASH_FUNC_ONE_AT_A_TIME_HARD
PERL_NEW_COPY_ON_WRITE PERL_PRESERVE_IVUV
PERL_USE_DEVEL USE_64_BIT_ALL USE_64_BIT_INT
USE_LARGE_FILES USE_LOCALE USE_LOCALE_COLLATE
USE_LOCALE_CTYPE USE_LOCALE_NUMERIC USE_LOCALE_TIME
USE_PERLIO USE_PERL_ATOF
Built under freebsd
Compiled at Sep 20 2014 18:01:37
%ENV:
PERL5LIB=""
PERL5OPT=""
PERL5_CPANPLUS_IS_RUNNING="60320"
PERL5_CPAN_IS_RUNNING="60320"
PERL5_CPAN_IS_RUNNING_IN_RECURSION="60298,60320"
PERLDOC="-MPod::Perldoc::ToTextOverstrike"
PERL_BATCH="yes"
PERL_CPAN_REPORTER_CONFIG="/var/tmp/cpansmoker-1023/S2uau0ca_M_config.ini"
PERL_EXTUTILS_AUTOINSTALL="--defaultdeps"
PERL_HTML_DISPLAY_CLASS="HTML::Display::Mozilla"
@INC:
/usr/perl5.21.4/lib/site_perl/5.21.4/amd64-freebsd
/usr/perl5.21.4/lib/site_perl/5.21.4
/usr/perl5.21.4/lib/5.21.4/amd64-freebsd
/usr/perl5.21.4/lib/5.21.4
.