HTTP-Session2 v1.10 Perl 5 v5.36.0 x86_64-linux

Status
Pass
From
Slaven Rezić
Dist
HTTP-Session2 v1.10
Platform
Perl 5 v5.36.0 x86_64-linux
Date
2024-05-26 03:50:53
ID
268dc33c-1b13-11ef-90a8-36066e8775ea
This distribution has been tested as part of the CPAN Testers
project, supporting the Perl programming language.  See
http://wiki.cpantesters.org/ for more information or email
questions to cpan-testers-discuss@perl.org


--
Dear Tokuhiro Matsuno'xmp,

This is a computer-generated report for HTTP-Session2-1.10
on perl 5.36.0, created by CPAN-Reporter-1.2019.

Thank you for uploading your work to CPAN.  Congratulations!
All tests were successful.

Sections of this report:

    * Tester comments
    * Program output
    * Prerequisites
    * Environment and other context

------------------------------
TESTER COMMENTS
------------------------------

Additional comments from tester:

none provided

------------------------------
PROGRAM OUTPUT
------------------------------

Output from './Build test':

t/00_compile.t .............. ok
Secret string too short at /home/cpansand/.cpan/build/2024052603/HTTP-Session2-1.10-1/blib/lib/HTTP/Session2/Base.pm line 79.
	HTTP::Session2::Base::__ANON__(HTTP::Session2::ServerStore=HASH(0x564d2fe88d98), "s3cret") called at t/01_server_side.t line 23
	main::__ANON__("client -> server: request without cookie", CODE(0x564d2fe885e8)) called at t/01_server_side.t line 25
	main::__ANON__() called at /opt/perl-5.36.0/lib/site_perl/5.36.0/Test/Builder.pm line 374
	eval {...} called at /opt/perl-5.36.0/lib/site_perl/5.36.0/Test/Builder.pm line 374
	Test::Builder::subtest(Test::Builder=HASH(0x564d2f51d7e8), "First request", CODE(0x564d2fbe2d30)) called at /opt/perl-5.36.0/lib/site_perl/5.36.0/Test/More.pm line 831
	Test::More::subtest("First request", CODE(0x564d2fbe2d30)) called at t/01_server_side.t line 11
	main::scenario("First request", CODE(0x564d2fbe2d30)) called at t/01_server_side.t line 31
Secret string too short at /home/cpansand/.cpan/build/2024052603/HTTP-Session2-1.10-1/blib/lib/HTTP/Session2/Base.pm line 79.
	HTTP::Session2::Base::__ANON__(HTTP::Session2::ServerStore=HASH(0x564d2fe7e038), "s3cret") called at t/01_server_side.t line 40
	main::__ANON__("client -> server: request without cookie", CODE(0x564d2fe8b1d0)) called at t/01_server_side.t line 42
	main::__ANON__() called at /opt/perl-5.36.0/lib/site_perl/5.36.0/Test/Builder.pm line 374
	eval {...} called at /opt/perl-5.36.0/lib/site_perl/5.36.0/Test/Builder.pm line 374
	Test::Builder::subtest(Test::Builder=HASH(0x564d2f51d7e8), "Store something without login", CODE(0x564d2fbd6c58)) called at /opt/perl-5.36.0/lib/site_perl/5.36.0/Test/More.pm line 831
	Test::More::subtest("Store something without login", CODE(0x564d2fbd6c58)) called at t/01_server_side.t line 11
	main::scenario("Store something without login", CODE(0x564d2fbd6c58)) called at t/01_server_side.t line 58
Secret string too short at /home/cpansand/.cpan/build/2024052603/HTTP-Session2-1.10-1/blib/lib/HTTP/Session2/Base.pm line 79.
	HTTP::Session2::Base::__ANON__(HTTP::Session2::ServerStore=HASH(0x564d2fe8afd8), "s3cret") called at t/01_server_side.t line 70
	main::__ANON__("client -> server: request without cookie", CODE(0x564d2fe7dd80)) called at t/01_server_side.t line 72
	main::__ANON__() called at /opt/perl-5.36.0/lib/site_perl/5.36.0/Test/Builder.pm line 374
	eval {...} called at /opt/perl-5.36.0/lib/site_perl/5.36.0/Test/Builder.pm line 374
	Test::Builder::subtest(Test::Builder=HASH(0x564d2f51d7e8), "Login", CODE(0x564d2fe622d0)) called at /opt/perl-5.36.0/lib/site_perl/5.36.0/Test/More.pm line 831
	Test::More::subtest("Login", CODE(0x564d2fe622d0)) called at t/01_server_side.t line 11
	main::scenario("Login", CODE(0x564d2fe622d0)) called at t/01_server_side.t line 96
Secret string too short at /home/cpansand/.cpan/build/2024052603/HTTP-Session2-1.10-1/blib/lib/HTTP/Session2/Base.pm line 79.
	HTTP::Session2::Base::__ANON__(HTTP::Session2::ServerStore=HASH(0x564d2fe96bf8), "s3cret") called at t/01_server_side.t line 108
	main::__ANON__("client -> server: request without cookie", CODE(0x564d2fe920e0)) called at t/01_server_side.t line 110
	main::__ANON__() called at /opt/perl-5.36.0/lib/site_perl/5.36.0/Test/Builder.pm line 374
	eval {...} called at /opt/perl-5.36.0/lib/site_perl/5.36.0/Test/Builder.pm line 374
	Test::Builder::subtest(Test::Builder=HASH(0x564d2f51d7e8), "In a login session", CODE(0x564d2fe6c408)) called at /opt/perl-5.36.0/lib/site_perl/5.36.0/Test/More.pm line 831
	Test::More::subtest("In a login session", CODE(0x564d2fe6c408)) called at t/01_server_side.t line 11
	main::scenario("In a login session", CODE(0x564d2fe6c408)) called at t/01_server_side.t line 124
Secret string too short at /home/cpansand/.cpan/build/2024052603/HTTP-Session2-1.10-1/blib/lib/HTTP/Session2/Base.pm line 79.
	HTTP::Session2::Base::__ANON__(HTTP::Session2::ServerStore=HASH(0x564d2fe88c90), "s3cret") called at t/01_server_side.t line 136
	main::__ANON__("client -> server: request without cookie", CODE(0x564d2fe8b3c8)) called at t/01_server_side.t line 138
	main::__ANON__() called at /opt/perl-5.36.0/lib/site_perl/5.36.0/Test/Builder.pm line 374
	eval {...} called at /opt/perl-5.36.0/lib/site_perl/5.36.0/Test/Builder.pm line 374
	Test::Builder::subtest(Test::Builder=HASH(0x564d2f51d7e8), "Invalid session id", CODE(0x564d2fe6cae0)) called at /opt/perl-5.36.0/lib/site_perl/5.36.0/Test/More.pm line 831
	Test::More::subtest("Invalid session id", CODE(0x564d2fe6cae0)) called at t/01_server_side.t line 11
	main::scenario("Invalid session id", CODE(0x564d2fe6cae0)) called at t/01_server_side.t line 153
Secret string too short at /home/cpansand/.cpan/build/2024052603/HTTP-Session2-1.10-1/blib/lib/HTTP/Session2/Base.pm line 79.
	HTTP::Session2::Base::__ANON__(HTTP::Session2::ServerStore=HASH(0x564d2fe9ece8), "s3cret") called at t/01_server_side.t line 160
	main::__ANON__("client -> server: request without cookie", CODE(0x564d2fe96f58)) called at t/01_server_side.t line 167
	main::__ANON__() called at /opt/perl-5.36.0/lib/site_perl/5.36.0/Test/Builder.pm line 374
	eval {...} called at /opt/perl-5.36.0/lib/site_perl/5.36.0/Test/Builder.pm line 374
	Test::Builder::subtest(Test::Builder=HASH(0x564d2f51d7e8), "Logout", CODE(0x564d2fe6cf78)) called at /opt/perl-5.36.0/lib/site_perl/5.36.0/Test/More.pm line 831
	Test::More::subtest("Logout", CODE(0x564d2fe6cf78)) called at t/01_server_side.t line 11
	main::scenario("Logout", CODE(0x564d2fe6cf78)) called at t/01_server_side.t line 182
t/01_server_side.t .......... ok
Secret string too short at /home/cpansand/.cpan/build/2024052603/HTTP-Session2-1.10-1/blib/lib/HTTP/Session2/Base.pm line 79.
	HTTP::Session2::Base::__ANON__(HTTP::Session2::ClientStore=HASH(0x55e04694dc38), "s3cret") called at t/02_client_side.t line 17
	main::__ANON__("client -> server: request without cookie", CODE(0x55e045f941e8)) called at t/02_client_side.t line 22
	main::__ANON__() called at /opt/perl-5.36.0/lib/site_perl/5.36.0/Test/Builder.pm line 374
	eval {...} called at /opt/perl-5.36.0/lib/site_perl/5.36.0/Test/Builder.pm line 374
	Test::Builder::subtest(Test::Builder=HASH(0x55e045fba2d8), "First request", CODE(0x55e04675e668)) called at /opt/perl-5.36.0/lib/site_perl/5.36.0/Test/More.pm line 831
	Test::More::subtest("First request", CODE(0x55e04675e668)) called at t/02_client_side.t line 9
	main::scenario("First request", CODE(0x55e04675e668)) called at t/02_client_side.t line 28
Secret string too short at /home/cpansand/.cpan/build/2024052603/HTTP-Session2-1.10-1/blib/lib/HTTP/Session2/Base.pm line 79.
	HTTP::Session2::Base::__ANON__(HTTP::Session2::ClientStore=HASH(0x55e045f93cd8), "s3cret") called at t/02_client_side.t line 33
	main::__ANON__("client -> server: request without cookie", CODE(0x55e04694eaa8)) called at t/02_client_side.t line 38
	main::__ANON__() called at /opt/perl-5.36.0/lib/site_perl/5.36.0/Test/Builder.pm line 374
	eval {...} called at /opt/perl-5.36.0/lib/site_perl/5.36.0/Test/Builder.pm line 374
	Test::Builder::subtest(Test::Builder=HASH(0x55e045fba2d8), "Store something without login", CODE(0x55e04692dfb8)) called at /opt/perl-5.36.0/lib/site_perl/5.36.0/Test/More.pm line 831
	Test::More::subtest("Store something without login", CODE(0x55e04692dfb8)) called at t/02_client_side.t line 9
	main::scenario("Store something without login", CODE(0x55e04692dfb8)) called at t/02_client_side.t line 54
Do not use HTTP::Session2::ClientStore. Use HTTP::Session2::ServerStore or HTTP::Session2::ClientStore2 instead. at /home/cpansand/.cpan/build/2024052603/HTTP-Session2-1.10-1/blib/lib/HTTP/Session2/ClientStore.pm line 25.
Secret string too short at /home/cpansand/.cpan/build/2024052603/HTTP-Session2-1.10-1/blib/lib/HTTP/Session2/Base.pm line 79.
	HTTP::Session2::Base::__ANON__(HTTP::Session2::ClientStore=HASH(0x55e04694e9d0), "s3cret") called at t/02_client_side.t line 60
	main::__ANON__("client -> server: request without cookie", CODE(0x55e045f945f0)) called at t/02_client_side.t line 66
	main::__ANON__() called at /opt/perl-5.36.0/lib/site_perl/5.36.0/Test/Builder.pm line 374
	eval {...} called at /opt/perl-5.36.0/lib/site_perl/5.36.0/Test/Builder.pm line 374
	Test::Builder::subtest(Test::Builder=HASH(0x55e045fba2d8), "Login", CODE(0x55e04692e1e0)) called at /opt/perl-5.36.0/lib/site_perl/5.36.0/Test/More.pm line 831
	Test::More::subtest("Login", CODE(0x55e04692e1e0)) called at t/02_client_side.t line 9
	main::scenario("Login", CODE(0x55e04692e1e0)) called at t/02_client_side.t line 86
Do not use HTTP::Session2::ClientStore. Use HTTP::Session2::ServerStore or HTTP::Session2::ClientStore2 instead. at /home/cpansand/.cpan/build/2024052603/HTTP-Session2-1.10-1/blib/lib/HTTP/Session2/ClientStore.pm line 35.
Do not use HTTP::Session2::ClientStore. Use HTTP::Session2::ServerStore or HTTP::Session2::ClientStore2 instead. at /home/cpansand/.cpan/build/2024052603/HTTP-Session2-1.10-1/blib/lib/HTTP/Session2/ClientStore.pm line 25.
Secret string too short at /home/cpansand/.cpan/build/2024052603/HTTP-Session2-1.10-1/blib/lib/HTTP/Session2/Base.pm line 79.
	HTTP::Session2::Base::__ANON__(HTTP::Session2::ClientStore=HASH(0x55e046959ba8), "s3cret") called at t/02_client_side.t line 92
	main::__ANON__("client -> server: request without cookie", CODE(0x55e046959c50)) called at t/02_client_side.t line 98
	main::__ANON__() called at /opt/perl-5.36.0/lib/site_perl/5.36.0/Test/Builder.pm line 374
	eval {...} called at /opt/perl-5.36.0/lib/site_perl/5.36.0/Test/Builder.pm line 374
	Test::Builder::subtest(Test::Builder=HASH(0x55e045fba2d8), "In a login session", CODE(0x55e04693a140)) called at /opt/perl-5.36.0/lib/site_perl/5.36.0/Test/More.pm line 831
	Test::More::subtest("In a login session", CODE(0x55e04693a140)) called at t/02_client_side.t line 9
	main::scenario("In a login session", CODE(0x55e04693a140)) called at t/02_client_side.t line 107
Do not use HTTP::Session2::ClientStore. Use HTTP::Session2::ServerStore or HTTP::Session2::ClientStore2 instead. at /home/cpansand/.cpan/build/2024052603/HTTP-Session2-1.10-1/blib/lib/HTTP/Session2/ClientStore.pm line 35.
Do not use HTTP::Session2::ClientStore. Use HTTP::Session2::ServerStore or HTTP::Session2::ClientStore2 instead. at /home/cpansand/.cpan/build/2024052603/HTTP-Session2-1.10-1/blib/lib/HTTP/Session2/ClientStore.pm line 25.
Secret string too short at /home/cpansand/.cpan/build/2024052603/HTTP-Session2-1.10-1/blib/lib/HTTP/Session2/Base.pm line 79.
	HTTP::Session2::Base::__ANON__(HTTP::Session2::ClientStore=HASH(0x55e045f946b0), "s3cret") called at t/02_client_side.t line 112
	main::__ANON__("client -> server: request without cookie", CODE(0x55e04694e7c0)) called at t/02_client_side.t line 118
	main::__ANON__() called at /opt/perl-5.36.0/lib/site_perl/5.36.0/Test/Builder.pm line 374
	eval {...} called at /opt/perl-5.36.0/lib/site_perl/5.36.0/Test/Builder.pm line 374
	Test::Builder::subtest(Test::Builder=HASH(0x55e045fba2d8), "Logout", CODE(0x55e04693a1b8)) called at /opt/perl-5.36.0/lib/site_perl/5.36.0/Test/More.pm line 831
	Test::More::subtest("Logout", CODE(0x55e04693a1b8)) called at t/02_client_side.t line 9
	main::scenario("Logout", CODE(0x55e04693a1b8)) called at t/02_client_side.t line 131
t/02_client_side.t .......... ok
Secret string too short at /home/cpansand/.cpan/build/2024052603/HTTP-Session2-1.10-1/blib/lib/HTTP/Session2/Base.pm line 79.
	HTTP::Session2::Base::__ANON__(HTTP::Session2::ServerStore=HASH(0x55e7b2ae4a88), "s3cret") called at t/03_mech.t line 121
	main::server_session(HASH(0x55e7b1ba0400)) called at t/03_mech.t line 17
	main::__ANON__(HASH(0x55e7b1ba0400)) called at /opt/perl-5.36.0/lib/site_perl/5.36.0/Test/WWW/Mechanize/PSGI.pm line 46
	Test::WWW::Mechanize::PSGI::try {...} () called at /opt/perl-5.36.0/lib/site_perl/5.36.0/Try/Tiny.pm line 102
	eval {...} called at /opt/perl-5.36.0/lib/site_perl/5.36.0/Try/Tiny.pm line 93
	Try::Tiny::try(CODE(0x55e7b2ae4638), Try::Tiny::Catch=REF(0x55e7b14ef6f0)) called at /opt/perl-5.36.0/lib/site_perl/5.36.0/Test/WWW/Mechanize/PSGI.pm line 53
	Test::WWW::Mechanize::PSGI::simple_request(Test::WWW::Mechanize::PSGI=HASH(0x55e7b298fa70), HTTP::Request=HASH(0x55e7b2a7fc00), undef, undef) called at /opt/perl-5.36.0/lib/site_perl/5.36.0/LWP/UserAgent.pm line 308
	LWP::UserAgent::request(Test::WWW::Mechanize::PSGI=HASH(0x55e7b298fa70), HTTP::Request=HASH(0x55e7b2a7fc00)) called at /opt/perl-5.36.0/lib/site_perl/5.36.0/WWW/Mechanize.pm line 1593
	WWW::Mechanize::_make_request(Test::WWW::Mechanize::PSGI=HASH(0x55e7b298fa70), HTTP::Request=HASH(0x55e7b2a7fc00)) called at /opt/perl-5.36.0/lib/site_perl/5.36.0/WWW/Mechanize.pm line 1433
	WWW::Mechanize::request(Test::WWW::Mechanize::PSGI=HASH(0x55e7b298fa70), HTTP::Request=HASH(0x55e7b2a7fc00)) called at /opt/perl-5.36.0/lib/site_perl/5.36.0/LWP/UserAgent.pm line 452
	LWP::UserAgent::get(Test::WWW::Mechanize::PSGI=HASH(0x55e7b298fa70), "/") called at /opt/perl-5.36.0/lib/site_perl/5.36.0/WWW/Mechanize.pm line 119
	WWW::Mechanize::get(Test::WWW::Mechanize::PSGI=HASH(0x55e7b298fa70), "/") called at /opt/perl-5.36.0/lib/site_perl/5.36.0/Test/WWW/Mechanize.pm line 192
	Test::WWW::Mechanize::get_ok(Test::WWW::Mechanize::PSGI=HASH(0x55e7b298fa70), "/") called at t/03_mech.t line 74
Secret string too short at /home/cpansand/.cpan/build/2024052603/HTTP-Session2-1.10-1/blib/lib/HTTP/Session2/Base.pm line 79.
	HTTP::Session2::Base::__ANON__(HTTP::Session2::ServerStore=HASH(0x55e7b2b08a48), "s3cret") called at t/03_mech.t line 121
	main::server_session(HASH(0x55e7b2ae4890)) called at t/03_mech.t line 17
	main::__ANON__(HASH(0x55e7b2ae4890)) called at /opt/perl-5.36.0/lib/site_perl/5.36.0/Test/WWW/Mechanize/PSGI.pm line 46
	Test::WWW::Mechanize::PSGI::try {...} () called at /opt/perl-5.36.0/lib/site_perl/5.36.0/Try/Tiny.pm line 102
	eval {...} called at /opt/perl-5.36.0/lib/site_perl/5.36.0/Try/Tiny.pm line 93
	Try::Tiny::try(CODE(0x55e7b2ae4b90), Try::Tiny::Catch=REF(0x55e7b2ae4908)) called at /opt/perl-5.36.0/lib/site_perl/5.36.0/Test/WWW/Mechanize/PSGI.pm line 53
	Test::WWW::Mechanize::PSGI::simple_request(Test::WWW::Mechanize::PSGI=HASH(0x55e7b298fa70), HTTP::Request=HASH(0x55e7b2ae4a40), undef, undef) called at /opt/perl-5.36.0/lib/site_perl/5.36.0/LWP/UserAgent.pm line 308
	LWP::UserAgent::request(Test::WWW::Mechanize::PSGI=HASH(0x55e7b298fa70), HTTP::Request=HASH(0x55e7b2ae4a40)) called at /opt/perl-5.36.0/lib/site_perl/5.36.0/WWW/Mechanize.pm line 1593
	WWW::Mechanize::_make_request(Test::WWW::Mechanize::PSGI=HASH(0x55e7b298fa70), HTTP::Request=HASH(0x55e7b2ae4a40)) called at /opt/perl-5.36.0/lib/site_perl/5.36.0/WWW/Mechanize.pm line 1433
	WWW::Mechanize::request(Test::WWW::Mechanize::PSGI=HASH(0x55e7b298fa70), HTTP::Request=HASH(0x55e7b2ae4a40)) called at /opt/perl-5.36.0/lib/site_perl/5.36.0/LWP/UserAgent.pm line 498
	LWP::UserAgent::post(Test::WWW::Mechanize::PSGI=HASH(0x55e7b298fa70), "http://localhost/wishlist?foo", HASH(0x55e7b2675c58)) called at /opt/perl-5.36.0/lib/site_perl/5.36.0/WWW/Mechanize.pm line 131
	WWW::Mechanize::post(Test::WWW::Mechanize::PSGI=HASH(0x55e7b298fa70), "/wishlist?foo", HASH(0x55e7b2675c58)) called at /opt/perl-5.36.0/lib/site_perl/5.36.0/Test/WWW/Mechanize.pm line 321
	Test::WWW::Mechanize::post_ok(Test::WWW::Mechanize::PSGI=HASH(0x55e7b298fa70), "/wishlist?foo") called at t/03_mech.t line 75
Secret string too short at /home/cpansand/.cpan/build/2024052603/HTTP-Session2-1.10-1/blib/lib/HTTP/Session2/Base.pm line 79.
	HTTP::Session2::Base::__ANON__(HTTP::Session2::ServerStore=HASH(0x55e7b2b092a0), "s3cret") called at t/03_mech.t line 121
	main::server_session(HASH(0x55e7b2b088f8)) called at t/03_mech.t line 17
	main::__ANON__(HASH(0x55e7b2b088f8)) called at /opt/perl-5.36.0/lib/site_perl/5.36.0/Test/WWW/Mechanize/PSGI.pm line 46
	Test::WWW::Mechanize::PSGI::try {...} () called at /opt/perl-5.36.0/lib/site_perl/5.36.0/Try/Tiny.pm line 102
	eval {...} called at /opt/perl-5.36.0/lib/site_perl/5.36.0/Try/Tiny.pm line 93
	Try::Tiny::try(CODE(0x55e7b2b08bf8), Try::Tiny::Catch=REF(0x55e7b2b08850)) called at /opt/perl-5.36.0/lib/site_perl/5.36.0/Test/WWW/Mechanize/PSGI.pm line 53
	Test::WWW::Mechanize::PSGI::simple_request(Test::WWW::Mechanize::PSGI=HASH(0x55e7b298fa70), HTTP::Request=HASH(0x55e7b29c0240), undef, undef) called at /opt/perl-5.36.0/lib/site_perl/5.36.0/LWP/UserAgent.pm line 308
	LWP::UserAgent::request(Test::WWW::Mechanize::PSGI=HASH(0x55e7b298fa70), HTTP::Request=HASH(0x55e7b29c0240)) called at /opt/perl-5.36.0/lib/site_perl/5.36.0/WWW/Mechanize.pm line 1593
	WWW::Mechanize::_make_request(Test::WWW::Mechanize::PSGI=HASH(0x55e7b298fa70), HTTP::Request=HASH(0x55e7b29c0240)) called at /opt/perl-5.36.0/lib/site_perl/5.36.0/WWW/Mechanize.pm line 1433
	WWW::Mechanize::request(Test::WWW::Mechanize::PSGI=HASH(0x55e7b298fa70), HTTP::Request=HASH(0x55e7b29c0240)) called at /opt/perl-5.36.0/lib/site_perl/5.36.0/LWP/UserAgent.pm line 452
	LWP::UserAgent::get(Test::WWW::Mechanize::PSGI=HASH(0x55e7b298fa70), "http://localhost/wishlist") called at /opt/perl-5.36.0/lib/site_perl/5.36.0/WWW/Mechanize.pm line 119
	WWW::Mechanize::get(Test::WWW::Mechanize::PSGI=HASH(0x55e7b298fa70), "/wishlist") called at /opt/perl-5.36.0/lib/site_perl/5.36.0/Test/WWW/Mechanize.pm line 192
	Test::WWW::Mechanize::get_ok(Test::WWW::Mechanize::PSGI=HASH(0x55e7b298fa70), "/wishlist") called at t/03_mech.t line 76
Secret string too short at /home/cpansand/.cpan/build/2024052603/HTTP-Session2-1.10-1/blib/lib/HTTP/Session2/Base.pm line 79.
	HTTP::Session2::Base::__ANON__(HTTP::Session2::ServerStore=HASH(0x55e7b2b09618), "s3cret") called at t/03_mech.t line 121
	main::server_session(HASH(0x55e7b2b1bf58)) called at t/03_mech.t line 17
	main::__ANON__(HASH(0x55e7b2b1bf58)) called at /opt/perl-5.36.0/lib/site_perl/5.36.0/Test/WWW/Mechanize/PSGI.pm line 46
	Test::WWW::Mechanize::PSGI::try {...} () called at /opt/perl-5.36.0/lib/site_perl/5.36.0/Try/Tiny.pm line 102
	eval {...} called at /opt/perl-5.36.0/lib/site_perl/5.36.0/Try/Tiny.pm line 93
	Try::Tiny::try(CODE(0x55e7b2b08a30), Try::Tiny::Catch=REF(0x55e7b2b092b8)) called at /opt/perl-5.36.0/lib/site_perl/5.36.0/Test/WWW/Mechanize/PSGI.pm line 53
	Test::WWW::Mechanize::PSGI::simple_request(Test::WWW::Mechanize::PSGI=HASH(0x55e7b298fa70), HTTP::Request=HASH(0x55e7b2ae5298), undef, undef) called at /opt/perl-5.36.0/lib/site_perl/5.36.0/LWP/UserAgent.pm line 308
	LWP::UserAgent::request(Test::WWW::Mechanize::PSGI=HASH(0x55e7b298fa70), HTTP::Request=HASH(0x55e7b2ae5298)) called at /opt/perl-5.36.0/lib/site_perl/5.36.0/WWW/Mechanize.pm line 1593
	WWW::Mechanize::_make_request(Test::WWW::Mechanize::PSGI=HASH(0x55e7b298fa70), HTTP::Request=HASH(0x55e7b2ae5298)) called at /opt/perl-5.36.0/lib/site_perl/5.36.0/WWW/Mechanize.pm line 1433
	WWW::Mechanize::request(Test::WWW::Mechanize::PSGI=HASH(0x55e7b298fa70), HTTP::Request=HASH(0x55e7b2ae5298)) called at /opt/perl-5.36.0/lib/site_perl/5.36.0/LWP/UserAgent.pm line 498
	LWP::UserAgent::post(Test::WWW::Mechanize::PSGI=HASH(0x55e7b298fa70), "http://localhost/wishlist?bar") called at /opt/perl-5.36.0/lib/site_perl/5.36.0/WWW/Mechanize.pm line 131
	WWW::Mechanize::post(Test::WWW::Mechanize::PSGI=HASH(0x55e7b298fa70), "/wishlist?bar") called at t/03_mech.t line 78
Secret string too short at /home/cpansand/.cpan/build/2024052603/HTTP-Session2-1.10-1/blib/lib/HTTP/Session2/Base.pm line 79.
	HTTP::Session2::Base::__ANON__(HTTP::Session2::ServerStore=HASH(0x55e7b2b1c120), "s3cret") called at t/03_mech.t line 121
	main::server_session(HASH(0x55e7b2b08c40)) called at t/03_mech.t line 17
	main::__ANON__(HASH(0x55e7b2b08c40)) called at /opt/perl-5.36.0/lib/site_perl/5.36.0/Test/WWW/Mechanize/PSGI.pm line 46
	Test::WWW::Mechanize::PSGI::try {...} () called at /opt/perl-5.36.0/lib/site_perl/5.36.0/Try/Tiny.pm line 102
	eval {...} called at /opt/perl-5.36.0/lib/site_perl/5.36.0/Try/Tiny.pm line 93
	Try::Tiny::try(CODE(0x55e7b2b1c360), Try::Tiny::Catch=REF(0x55e7b2b1c228)) called at /opt/perl-5.36.0/lib/site_perl/5.36.0/Test/WWW/Mechanize/PSGI.pm line 53
	Test::WWW::Mechanize::PSGI::simple_request(Test::WWW::Mechanize::PSGI=HASH(0x55e7b298fa70), HTTP::Request=HASH(0x55e7b2b08790), undef, undef) called at /opt/perl-5.36.0/lib/site_perl/5.36.0/LWP/UserAgent.pm line 308
	LWP::UserAgent::request(Test::WWW::Mechanize::PSGI=HASH(0x55e7b298fa70), HTTP::Request=HASH(0x55e7b2b08790)) called at /opt/perl-5.36.0/lib/site_perl/5.36.0/WWW/Mechanize.pm line 1593
	WWW::Mechanize::_make_request(Test::WWW::Mechanize::PSGI=HASH(0x55e7b298fa70), HTTP::Request=HASH(0x55e7b2b08790)) called at /opt/perl-5.36.0/lib/site_perl/5.36.0/WWW/Mechanize.pm line 1433
	WWW::Mechanize::request(Test::WWW::Mechanize::PSGI=HASH(0x55e7b298fa70), HTTP::Request=HASH(0x55e7b2b08790)) called at /opt/perl-5.36.0/lib/site_perl/5.36.0/LWP/UserAgent.pm line 498
	LWP::UserAgent::post(Test::WWW::Mechanize::PSGI=HASH(0x55e7b298fa70), "http://localhost/wishlist?bar", HASH(0x55e7b2675c58)) called at /opt/perl-5.36.0/lib/site_perl/5.36.0/WWW/Mechanize.pm line 131
	WWW::Mechanize::post(Test::WWW::Mechanize::PSGI=HASH(0x55e7b298fa70), "/wishlist?bar", HASH(0x55e7b2675c58)) called at /opt/perl-5.36.0/lib/site_perl/5.36.0/Test/WWW/Mechanize.pm line 321
	Test::WWW::Mechanize::post_ok(Test::WWW::Mechanize::PSGI=HASH(0x55e7b298fa70), "/wishlist?bar") called at t/03_mech.t line 81
Secret string too short at /home/cpansand/.cpan/build/2024052603/HTTP-Session2-1.10-1/blib/lib/HTTP/Session2/Base.pm line 79.
	HTTP::Session2::Base::__ANON__(HTTP::Session2::ServerStore=HASH(0x55e7b2b1ca20), "s3cret") called at t/03_mech.t line 121
	main::server_session(HASH(0x55e7b2b1c120)) called at t/03_mech.t line 17
	main::__ANON__(HASH(0x55e7b2b1c120)) called at /opt/perl-5.36.0/lib/site_perl/5.36.0/Test/WWW/Mechanize/PSGI.pm line 46
	Test::WWW::Mechanize::PSGI::try {...} () called at /opt/perl-5.36.0/lib/site_perl/5.36.0/Try/Tiny.pm line 102
	eval {...} called at /opt/perl-5.36.0/lib/site_perl/5.36.0/Try/Tiny.pm line 93
	Try::Tiny::try(CODE(0x55e7b2b1c570), Try::Tiny::Catch=REF(0x55e7b2b1c4c8)) called at /opt/perl-5.36.0/lib/site_perl/5.36.0/Test/WWW/Mechanize/PSGI.pm line 53
	Test::WWW::Mechanize::PSGI::simple_request(Test::WWW::Mechanize::PSGI=HASH(0x55e7b298fa70), HTTP::Request=HASH(0x55e7b2b1c210), undef, undef) called at /opt/perl-5.36.0/lib/site_perl/5.36.0/LWP/UserAgent.pm line 308
	LWP::UserAgent::request(Test::WWW::Mechanize::PSGI=HASH(0x55e7b298fa70), HTTP::Request=HASH(0x55e7b2b1c210)) called at /opt/perl-5.36.0/lib/site_perl/5.36.0/WWW/Mechanize.pm line 1593
	WWW::Mechanize::_make_request(Test::WWW::Mechanize::PSGI=HASH(0x55e7b298fa70), HTTP::Request=HASH(0x55e7b2b1c210)) called at /opt/perl-5.36.0/lib/site_perl/5.36.0/WWW/Mechanize.pm line 1433
	WWW::Mechanize::request(Test::WWW::Mechanize::PSGI=HASH(0x55e7b298fa70), HTTP::Request=HASH(0x55e7b2b1c210)) called at /opt/perl-5.36.0/lib/site_perl/5.36.0/LWP/UserAgent.pm line 452
	LWP::UserAgent::get(Test::WWW::Mechanize::PSGI=HASH(0x55e7b298fa70), "http://localhost/wishlist") called at /opt/perl-5.36.0/lib/site_perl/5.36.0/WWW/Mechanize.pm line 119
	WWW::Mechanize::get(Test::WWW::Mechanize::PSGI=HASH(0x55e7b298fa70), "/wishlist") called at /opt/perl-5.36.0/lib/site_perl/5.36.0/Test/WWW/Mechanize.pm line 192
	Test::WWW::Mechanize::get_ok(Test::WWW::Mechanize::PSGI=HASH(0x55e7b298fa70), "/wishlist") called at t/03_mech.t line 82
Secret string too short at /home/cpansand/.cpan/build/2024052603/HTTP-Session2-1.10-1/blib/lib/HTTP/Session2/Base.pm line 79.
	HTTP::Session2::Base::__ANON__(HTTP::Session2::ServerStore=HASH(0x55e7b2b20cc8), "s3cret") called at t/03_mech.t line 121
	main::server_session(HASH(0x55e7b2b20bd8)) called at t/03_mech.t line 17
	main::__ANON__(HASH(0x55e7b2b20bd8)) called at /opt/perl-5.36.0/lib/site_perl/5.36.0/Test/WWW/Mechanize/PSGI.pm line 46
	Test::WWW::Mechanize::PSGI::try {...} () called at /opt/perl-5.36.0/lib/site_perl/5.36.0/Try/Tiny.pm line 102
	eval {...} called at /opt/perl-5.36.0/lib/site_perl/5.36.0/Try/Tiny.pm line 93
	Try::Tiny::try(CODE(0x55e7b2b1c3f0), Try::Tiny::Catch=REF(0x55e7b2b08e08)) called at /opt/perl-5.36.0/lib/site_perl/5.36.0/Test/WWW/Mechanize/PSGI.pm line 53
	Test::WWW::Mechanize::PSGI::simple_request(Test::WWW::Mechanize::PSGI=HASH(0x55e7b298fa70), HTTP::Request=HASH(0x55e7b2b1c330), undef, undef) called at /opt/perl-5.36.0/lib/site_perl/5.36.0/LWP/UserAgent.pm line 308
	LWP::UserAgent::request(Test::WWW::Mechanize::PSGI=HASH(0x55e7b298fa70), HTTP::Request=HASH(0x55e7b2b1c330)) called at /opt/perl-5.36.0/lib/site_perl/5.36.0/WWW/Mechanize.pm line 1593
	WWW::Mechanize::_make_request(Test::WWW::Mechanize::PSGI=HASH(0x55e7b298fa70), HTTP::Request=HASH(0x55e7b2b1c330)) called at /opt/perl-5.36.0/lib/site_perl/5.36.0/WWW/Mechanize.pm line 1433
	WWW::Mechanize::request(Test::WWW::Mechanize::PSGI=HASH(0x55e7b298fa70), HTTP::Request=HASH(0x55e7b2b1c330)) called at /opt/perl-5.36.0/lib/site_perl/5.36.0/LWP/UserAgent.pm line 498
	LWP::UserAgent::post(Test::WWW::Mechanize::PSGI=HASH(0x55e7b298fa70), "http://localhost/account/login?john", HASH(0x55e7b2675c58)) called at /opt/perl-5.36.0/lib/site_perl/5.36.0/WWW/Mechanize.pm line 131
	WWW::Mechanize::post(Test::WWW::Mechanize::PSGI=HASH(0x55e7b298fa70), "/account/login?john", HASH(0x55e7b2675c58)) called at /opt/perl-5.36.0/lib/site_perl/5.36.0/Test/WWW/Mechanize.pm line 321
	Test::WWW::Mechanize::post_ok(Test::WWW::Mechanize::PSGI=HASH(0x55e7b298fa70), "/account/login?john") called at t/03_mech.t line 84
Secret string too short at /home/cpansand/.cpan/build/2024052603/HTTP-Session2-1.10-1/blib/lib/HTTP/Session2/Base.pm line 79.
	HTTP::Session2::Base::__ANON__(HTTP::Session2::ServerStore=HASH(0x55e7b2b1cd50), "s3cret") called at t/03_mech.t line 121
	main::server_session(HASH(0x55e7b2b20cc8)) called at t/03_mech.t line 17
	main::__ANON__(HASH(0x55e7b2b20cc8)) called at /opt/perl-5.36.0/lib/site_perl/5.36.0/Test/WWW/Mechanize/PSGI.pm line 46
	Test::WWW::Mechanize::PSGI::try {...} () called at /opt/perl-5.36.0/lib/site_perl/5.36.0/Try/Tiny.pm line 102
	eval {...} called at /opt/perl-5.36.0/lib/site_perl/5.36.0/Try/Tiny.pm line 93
	Try::Tiny::try(CODE(0x55e7b2b08a60), Try::Tiny::Catch=REF(0x55e7b2b1ccc0)) called at /opt/perl-5.36.0/lib/site_perl/5.36.0/Test/WWW/Mechanize/PSGI.pm line 53
	Test::WWW::Mechanize::PSGI::simple_request(Test::WWW::Mechanize::PSGI=HASH(0x55e7b298fa70), HTTP::Request=HASH(0x55e7b2b1cbb8), undef, undef) called at /opt/perl-5.36.0/lib/site_perl/5.36.0/LWP/UserAgent.pm line 308
	LWP::UserAgent::request(Test::WWW::Mechanize::PSGI=HASH(0x55e7b298fa70), HTTP::Request=HASH(0x55e7b2b1cbb8)) called at /opt/perl-5.36.0/lib/site_perl/5.36.0/WWW/Mechanize.pm line 1593
	WWW::Mechanize::_make_request(Test::WWW::Mechanize::PSGI=HASH(0x55e7b298fa70), HTTP::Request=HASH(0x55e7b2b1cbb8)) called at /opt/perl-5.36.0/lib/site_perl/5.36.0/WWW/Mechanize.pm line 1433
	WWW::Mechanize::request(Test::WWW::Mechanize::PSGI=HASH(0x55e7b298fa70), HTTP::Request=HASH(0x55e7b2b1cbb8)) called at /opt/perl-5.36.0/lib/site_perl/5.36.0/LWP/UserAgent.pm line 452
	LWP::UserAgent::get(Test::WWW::Mechanize::PSGI=HASH(0x55e7b298fa70), "http://localhost/wishlist") called at /opt/perl-5.36.0/lib/site_perl/5.36.0/WWW/Mechanize.pm line 119
	WWW::Mechanize::get(Test::WWW::Mechanize::PSGI=HASH(0x55e7b298fa70), "/wishlist") called at /opt/perl-5.36.0/lib/site_perl/5.36.0/Test/WWW/Mechanize.pm line 192
	Test::WWW::Mechanize::get_ok(Test::WWW::Mechanize::PSGI=HASH(0x55e7b298fa70), "/wishlist", "Wishlist is still available") called at t/03_mech.t line 85
Secret string too short at /home/cpansand/.cpan/build/2024052603/HTTP-Session2-1.10-1/blib/lib/HTTP/Session2/Base.pm line 79.
	HTTP::Session2::Base::__ANON__(HTTP::Session2::ServerStore=HASH(0x55e7b2b21340), "s3cret") called at t/03_mech.t line 121
	main::server_session(HASH(0x55e7b2b21310)) called at t/03_mech.t line 17
	main::__ANON__(HASH(0x55e7b2b21310)) called at /opt/perl-5.36.0/lib/site_perl/5.36.0/Test/WWW/Mechanize/PSGI.pm line 46
	Test::WWW::Mechanize::PSGI::try {...} () called at /opt/perl-5.36.0/lib/site_perl/5.36.0/Try/Tiny.pm line 102
	eval {...} called at /opt/perl-5.36.0/lib/site_perl/5.36.0/Try/Tiny.pm line 93
	Try::Tiny::try(CODE(0x55e7b2b20e60), Try::Tiny::Catch=REF(0x55e7b2b20f80)) called at /opt/perl-5.36.0/lib/site_perl/5.36.0/Test/WWW/Mechanize/PSGI.pm line 53
	Test::WWW::Mechanize::PSGI::simple_request(Test::WWW::Mechanize::PSGI=HASH(0x55e7b298fa70), HTTP::Request=HASH(0x55e7b2b21148), undef, undef) called at /opt/perl-5.36.0/lib/site_perl/5.36.0/LWP/UserAgent.pm line 308
	LWP::UserAgent::request(Test::WWW::Mechanize::PSGI=HASH(0x55e7b298fa70), HTTP::Request=HASH(0x55e7b2b21148)) called at /opt/perl-5.36.0/lib/site_perl/5.36.0/WWW/Mechanize.pm line 1593
	WWW::Mechanize::_make_request(Test::WWW::Mechanize::PSGI=HASH(0x55e7b298fa70), HTTP::Request=HASH(0x55e7b2b21148)) called at /opt/perl-5.36.0/lib/site_perl/5.36.0/WWW/Mechanize.pm line 1433
	WWW::Mechanize::request(Test::WWW::Mechanize::PSGI=HASH(0x55e7b298fa70), HTTP::Request=HASH(0x55e7b2b21148)) called at /opt/perl-5.36.0/lib/site_perl/5.36.0/LWP/UserAgent.pm line 498
	LWP::UserAgent::post(Test::WWW::Mechanize::PSGI=HASH(0x55e7b298fa70), "http://localhost/wishlist?baz") called at /opt/perl-5.36.0/lib/site_perl/5.36.0/WWW/Mechanize.pm line 131
	WWW::Mechanize::post(Test::WWW::Mechanize::PSGI=HASH(0x55e7b298fa70), "/wishlist?baz") called at t/03_mech.t line 87
Secret string too short at /home/cpansand/.cpan/build/2024052603/HTTP-Session2-1.10-1/blib/lib/HTTP/Session2/Base.pm line 79.
	HTTP::Session2::Base::__ANON__(HTTP::Session2::ServerStore=HASH(0x55e7b2b212c8), "s3cret") called at t/03_mech.t line 121
	main::server_session(HASH(0x55e7b2b21778)) called at t/03_mech.t line 17
	main::__ANON__(HASH(0x55e7b2b21778)) called at /opt/perl-5.36.0/lib/site_perl/5.36.0/Test/WWW/Mechanize/PSGI.pm line 46
	Test::WWW::Mechanize::PSGI::try {...} () called at /opt/perl-5.36.0/lib/site_perl/5.36.0/Try/Tiny.pm line 102
	eval {...} called at /opt/perl-5.36.0/lib/site_perl/5.36.0/Try/Tiny.pm line 93
	Try::Tiny::try(CODE(0x55e7b2b214d8), Try::Tiny::Catch=REF(0x55e7b2b20ba8)) called at /opt/perl-5.36.0/lib/site_perl/5.36.0/Test/WWW/Mechanize/PSGI.pm line 53
	Test::WWW::Mechanize::PSGI::simple_request(Test::WWW::Mechanize::PSGI=HASH(0x55e7b298fa70), HTTP::Request=HASH(0x55e7b2b1c270), undef, undef) called at /opt/perl-5.36.0/lib/site_perl/5.36.0/LWP/UserAgent.pm line 308
	LWP::UserAgent::request(Test::WWW::Mechanize::PSGI=HASH(0x55e7b298fa70), HTTP::Request=HASH(0x55e7b2b1c270)) called at /opt/perl-5.36.0/lib/site_perl/5.36.0/WWW/Mechanize.pm line 1593
	WWW::Mechanize::_make_request(Test::WWW::Mechanize::PSGI=HASH(0x55e7b298fa70), HTTP::Request=HASH(0x55e7b2b1c270)) called at /opt/perl-5.36.0/lib/site_perl/5.36.0/WWW/Mechanize.pm line 1433
	WWW::Mechanize::request(Test::WWW::Mechanize::PSGI=HASH(0x55e7b298fa70), HTTP::Request=HASH(0x55e7b2b1c270)) called at /opt/perl-5.36.0/lib/site_perl/5.36.0/LWP/UserAgent.pm line 498
	LWP::UserAgent::post(Test::WWW::Mechanize::PSGI=HASH(0x55e7b298fa70), "http://localhost/wishlist?baz", HASH(0x55e7b2675c58)) called at /opt/perl-5.36.0/lib/site_perl/5.36.0/WWW/Mechanize.pm line 131
	WWW::Mechanize::post(Test::WWW::Mechanize::PSGI=HASH(0x55e7b298fa70), "/wishlist?baz", HASH(0x55e7b2675c58)) called at /opt/perl-5.36.0/lib/site_perl/5.36.0/Test/WWW/Mechanize.pm line 321
	Test::WWW::Mechanize::post_ok(Test::WWW::Mechanize::PSGI=HASH(0x55e7b298fa70), "/wishlist?baz") called at t/03_mech.t line 90
Secret string too short at /home/cpansand/.cpan/build/2024052603/HTTP-Session2-1.10-1/blib/lib/HTTP/Session2/Base.pm line 79.
	HTTP::Session2::Base::__ANON__(HTTP::Session2::ServerStore=HASH(0x55e7b2b24498), "s3cret") called at t/03_mech.t line 121
	main::server_session(HASH(0x55e7b2b212c8)) called at t/03_mech.t line 17
	main::__ANON__(HASH(0x55e7b2b212c8)) called at /opt/perl-5.36.0/lib/site_perl/5.36.0/Test/WWW/Mechanize/PSGI.pm line 46
	Test::WWW::Mechanize::PSGI::try {...} () called at /opt/perl-5.36.0/lib/site_perl/5.36.0/Try/Tiny.pm line 102
	eval {...} called at /opt/perl-5.36.0/lib/site_perl/5.36.0/Try/Tiny.pm line 93
	Try::Tiny::try(CODE(0x55e7b2b21718), Try::Tiny::Catch=REF(0x55e7b2b243a8)) called at /opt/perl-5.36.0/lib/site_perl/5.36.0/Test/WWW/Mechanize/PSGI.pm line 53
	Test::WWW::Mechanize::PSGI::simple_request(Test::WWW::Mechanize::PSGI=HASH(0x55e7b298fa70), HTTP::Request=HASH(0x55e7b2b215f8), undef, undef) called at /opt/perl-5.36.0/lib/site_perl/5.36.0/LWP/UserAgent.pm line 308
	LWP::UserAgent::request(Test::WWW::Mechanize::PSGI=HASH(0x55e7b298fa70), HTTP::Request=HASH(0x55e7b2b215f8)) called at /opt/perl-5.36.0/lib/site_perl/5.36.0/WWW/Mechanize.pm line 1593
	WWW::Mechanize::_make_request(Test::WWW::Mechanize::PSGI=HASH(0x55e7b298fa70), HTTP::Request=HASH(0x55e7b2b215f8)) called at /opt/perl-5.36.0/lib/site_perl/5.36.0/WWW/Mechanize.pm line 1433
	WWW::Mechanize::request(Test::WWW::Mechanize::PSGI=HASH(0x55e7b298fa70), HTTP::Request=HASH(0x55e7b2b215f8)) called at /opt/perl-5.36.0/lib/site_perl/5.36.0/LWP/UserAgent.pm line 452
	LWP::UserAgent::get(Test::WWW::Mechanize::PSGI=HASH(0x55e7b298fa70), "http://localhost/wishlist") called at /opt/perl-5.36.0/lib/site_perl/5.36.0/WWW/Mechanize.pm line 119
	WWW::Mechanize::get(Test::WWW::Mechanize::PSGI=HASH(0x55e7b298fa70), "/wishlist") called at /opt/perl-5.36.0/lib/site_perl/5.36.0/Test/WWW/Mechanize.pm line 192
	Test::WWW::Mechanize::get_ok(Test::WWW::Mechanize::PSGI=HASH(0x55e7b298fa70), "/wishlist", "Wishlist is still available") called at t/03_mech.t line 91
Secret string too short at /home/cpansand/.cpan/build/2024052603/HTTP-Session2-1.10-1/blib/lib/HTTP/Session2/Base.pm line 79.
	HTTP::Session2::Base::__ANON__(HTTP::Session2::ServerStore=HASH(0x55e7b2b248d0), "s3cret") called at t/03_mech.t line 121
	main::server_session(HASH(0x55e7b2b24498)) called at t/03_mech.t line 17
	main::__ANON__(HASH(0x55e7b2b24498)) called at /opt/perl-5.36.0/lib/site_perl/5.36.0/Test/WWW/Mechanize/PSGI.pm line 46
	Test::WWW::Mechanize::PSGI::try {...} () called at /opt/perl-5.36.0/lib/site_perl/5.36.0/Try/Tiny.pm line 102
	eval {...} called at /opt/perl-5.36.0/lib/site_perl/5.36.0/Try/Tiny.pm line 93
	Try::Tiny::try(CODE(0x55e7b2b21a60), Try::Tiny::Catch=REF(0x55e7b2b219d0)) called at /opt/perl-5.36.0/lib/site_perl/5.36.0/Test/WWW/Mechanize/PSGI.pm line 53
	Test::WWW::Mechanize::PSGI::simple_request(Test::WWW::Mechanize::PSGI=HASH(0x55e7b298fa70), HTTP::Request=HASH(0x55e7b2b24240), undef, undef) called at /opt/perl-5.36.0/lib/site_perl/5.36.0/LWP/UserAgent.pm line 308
	LWP::UserAgent::request(Test::WWW::Mechanize::PSGI=HASH(0x55e7b298fa70), HTTP::Request=HASH(0x55e7b2b24240)) called at /opt/perl-5.36.0/lib/site_perl/5.36.0/WWW/Mechanize.pm line 1593
	WWW::Mechanize::_make_request(Test::WWW::Mechanize::PSGI=HASH(0x55e7b298fa70), HTTP::Request=HASH(0x55e7b2b24240)) called at /opt/perl-5.36.0/lib/site_perl/5.36.0/WWW/Mechanize.pm line 1433
	WWW::Mechanize::request(Test::WWW::Mechanize::PSGI=HASH(0x55e7b298fa70), HTTP::Request=HASH(0x55e7b2b24240)) called at /opt/perl-5.36.0/lib/site_perl/5.36.0/LWP/UserAgent.pm line 452
	LWP::UserAgent::get(Test::WWW::Mechanize::PSGI=HASH(0x55e7b298fa70), "http://localhost/my/name") called at /opt/perl-5.36.0/lib/site_perl/5.36.0/WWW/Mechanize.pm line 119
	WWW::Mechanize::get(Test::WWW::Mechanize::PSGI=HASH(0x55e7b298fa70), "/my/name") called at /opt/perl-5.36.0/lib/site_perl/5.36.0/Test/WWW/Mechanize.pm line 192
	Test::WWW::Mechanize::get_ok(Test::WWW::Mechanize::PSGI=HASH(0x55e7b298fa70), "/my/name") called at t/03_mech.t line 93
Secret string too short at /home/cpansand/.cpan/build/2024052603/HTTP-Session2-1.10-1/blib/lib/HTTP/Session2/Base.pm line 79.
	HTTP::Session2::Base::__ANON__(HTTP::Session2::ServerStore=HASH(0x55e7b2b20f08), "s3cret") called at t/03_mech.t line 121
	main::server_session(HASH(0x55e7b2b24bd0)) called at t/03_mech.t line 17
	main::__ANON__(HASH(0x55e7b2b24bd0)) called at /opt/perl-5.36.0/lib/site_perl/5.36.0/Test/WWW/Mechanize/PSGI.pm line 46
	Test::WWW::Mechanize::PSGI::try {...} () called at /opt/perl-5.36.0/lib/site_perl/5.36.0/Try/Tiny.pm line 102
	eval {...} called at /opt/perl-5.36.0/lib/site_perl/5.36.0/Try/Tiny.pm line 93
	Try::Tiny::try(CODE(0x55e7b2b24e58), Try::Tiny::Catch=REF(0x55e7b2b24798)) called at /opt/perl-5.36.0/lib/site_perl/5.36.0/Test/WWW/Mechanize/PSGI.pm line 53
	Test::WWW::Mechanize::PSGI::simple_request(Test::WWW::Mechanize::PSGI=HASH(0x55e7b298fa70), HTTP::Request=HASH(0x55e7b2b241f8), undef, undef) called at /opt/perl-5.36.0/lib/site_perl/5.36.0/LWP/UserAgent.pm line 308
	LWP::UserAgent::request(Test::WWW::Mechanize::PSGI=HASH(0x55e7b298fa70), HTTP::Request=HASH(0x55e7b2b241f8)) called at /opt/perl-5.36.0/lib/site_perl/5.36.0/WWW/Mechanize.pm line 1593
	WWW::Mechanize::_make_request(Test::WWW::Mechanize::PSGI=HASH(0x55e7b298fa70), HTTP::Request=HASH(0x55e7b2b241f8)) called at /opt/perl-5.36.0/lib/site_perl/5.36.0/WWW/Mechanize.pm line 1433
	WWW::Mechanize::request(Test::WWW::Mechanize::PSGI=HASH(0x55e7b298fa70), HTTP::Request=HASH(0x55e7b2b241f8)) called at /opt/perl-5.36.0/lib/site_perl/5.36.0/LWP/UserAgent.pm line 498
	LWP::UserAgent::post(Test::WWW::Mechanize::PSGI=HASH(0x55e7b298fa70), "http://localhost/account/logout?john") called at /opt/perl-5.36.0/lib/site_perl/5.36.0/WWW/Mechanize.pm line 131
	WWW::Mechanize::post(Test::WWW::Mechanize::PSGI=HASH(0x55e7b298fa70), "/account/logout?john") called at t/03_mech.t line 97
Secret string too short at /home/cpansand/.cpan/build/2024052603/HTTP-Session2-1.10-1/blib/lib/HTTP/Session2/Base.pm line 79.
	HTTP::Session2::Base::__ANON__(HTTP::Session2::ClientStore=HASH(0x55e7b2b08bb0), "s3cret") called at t/03_mech.t line 127
	main::client_session(HASH(0x55e7b298fbf0)) called at t/03_mech.t line 17
	main::__ANON__(HASH(0x55e7b298fbf0)) called at /opt/perl-5.36.0/lib/site_perl/5.36.0/Test/WWW/Mechanize/PSGI.pm line 46
	Test::WWW::Mechanize::PSGI::try {...} () called at /opt/perl-5.36.0/lib/site_perl/5.36.0/Try/Tiny.pm line 102
	eval {...} called at /opt/perl-5.36.0/lib/site_perl/5.36.0/Try/Tiny.pm line 93
	Try::Tiny::try(CODE(0x55e7b2a35c00), Try::Tiny::Catch=REF(0x55e7b2a35000)) called at /opt/perl-5.36.0/lib/site_perl/5.36.0/Test/WWW/Mechanize/PSGI.pm line 53
	Test::WWW::Mechanize::PSGI::simple_request(Test::WWW::Mechanize::PSGI=HASH(0x55e7b2b24900), HTTP::Request=HASH(0x55e7b2b21760), undef, undef) called at /opt/perl-5.36.0/lib/site_perl/5.36.0/LWP/UserAgent.pm line 308
	LWP::UserAgent::request(Test::WWW::Mechanize::PSGI=HASH(0x55e7b2b24900), HTTP::Request=HASH(0x55e7b2b21760)) called at /opt/perl-5.36.0/lib/site_perl/5.36.0/WWW/Mechanize.pm line 1593
	WWW::Mechanize::_make_request(Test::WWW::Mechanize::PSGI=HASH(0x55e7b2b24900), HTTP::Request=HASH(0x55e7b2b21760)) called at /opt/perl-5.36.0/lib/site_perl/5.36.0/WWW/Mechanize.pm line 1433
	WWW::Mechanize::request(Test::WWW::Mechanize::PSGI=HASH(0x55e7b2b24900), HTTP::Request=HASH(0x55e7b2b21760)) called at /opt/perl-5.36.0/lib/site_perl/5.36.0/LWP/UserAgent.pm line 452
	LWP::UserAgent::get(Test::WWW::Mechanize::PSGI=HASH(0x55e7b2b24900), "/") called at /opt/perl-5.36.0/lib/site_perl/5.36.0/WWW/Mechanize.pm line 119
	WWW::Mechanize::get(Test::WWW::Mechanize::PSGI=HASH(0x55e7b2b24900), "/") called at /opt/perl-5.36.0/lib/site_perl/5.36.0/Test/WWW/Mechanize.pm line 192
	Test::WWW::Mechanize::get_ok(Test::WWW::Mechanize::PSGI=HASH(0x55e7b2b24900), "/") called at t/03_mech.t line 74
Secret string too short at /home/cpansand/.cpan/build/2024052603/HTTP-Session2-1.10-1/blib/lib/HTTP/Session2/Base.pm line 79.
	HTTP::Session2::Base::__ANON__(HTTP::Session2::ClientStore=HASH(0x55e7b2b1bf88), "s3cret") called at t/03_mech.t line 127
	main::client_session(HASH(0x55e7b2b087f0)) called at t/03_mech.t line 17
	main::__ANON__(HASH(0x55e7b2b087f0)) called at /opt/perl-5.36.0/lib/site_perl/5.36.0/Test/WWW/Mechanize/PSGI.pm line 46
	Test::WWW::Mechanize::PSGI::try {...} () called at /opt/perl-5.36.0/lib/site_perl/5.36.0/Try/Tiny.pm line 102
	eval {...} called at /opt/perl-5.36.0/lib/site_perl/5.36.0/Try/Tiny.pm line 93
	Try::Tiny::try(CODE(0x55e7b2b08cd0), Try::Tiny::Catch=REF(0x55e7b2ae5178)) called at /opt/perl-5.36.0/lib/site_perl/5.36.0/Test/WWW/Mechanize/PSGI.pm line 53
	Test::WWW::Mechanize::PSGI::simple_request(Test::WWW::Mechanize::PSGI=HASH(0x55e7b2b24900), HTTP::Request=HASH(0x55e7b2b2a330), undef, undef) called at /opt/perl-5.36.0/lib/site_perl/5.36.0/LWP/UserAgent.pm line 308
	LWP::UserAgent::request(Test::WWW::Mechanize::PSGI=HASH(0x55e7b2b24900), HTTP::Request=HASH(0x55e7b2b2a330)) called at /opt/perl-5.36.0/lib/site_perl/5.36.0/WWW/Mechanize.pm line 1593
	WWW::Mechanize::_make_request(Test::WWW::Mechanize::PSGI=HASH(0x55e7b2b24900), HTTP::Request=HASH(0x55e7b2b2a330)) called at /opt/perl-5.36.0/lib/site_perl/5.36.0/WWW/Mechanize.pm line 1433
	WWW::Mechanize::request(Test::WWW::Mechanize::PSGI=HASH(0x55e7b2b24900), HTTP::Request=HASH(0x55e7b2b2a330)) called at /opt/perl-5.36.0/lib/site_perl/5.36.0/LWP/UserAgent.pm line 498
	LWP::UserAgent::post(Test::WWW::Mechanize::PSGI=HASH(0x55e7b2b24900), "http://localhost/wishlist?foo", HASH(0x55e7b2675c58)) called at /opt/perl-5.36.0/lib/site_perl/5.36.0/WWW/Mechanize.pm line 131
	WWW::Mechanize::post(Test::WWW::Mechanize::PSGI=HASH(0x55e7b2b24900), "/wishlist?foo", HASH(0x55e7b2675c58)) called at /opt/perl-5.36.0/lib/site_perl/5.36.0/Test/WWW/Mechanize.pm line 321
	Test::WWW::Mechanize::post_ok(Test::WWW::Mechanize::PSGI=HASH(0x55e7b2b24900), "/wishlist?foo") called at t/03_mech.t line 75
Do not use HTTP::Session2::ClientStore. Use HTTP::Session2::ServerStore or HTTP::Session2::ClientStore2 instead. at /home/cpansand/.cpan/build/2024052603/HTTP-Session2-1.10-1/blib/lib/HTTP/Session2/ClientStore.pm line 25.
Secret string too short at /home/cpansand/.cpan/build/2024052603/HTTP-Session2-1.10-1/blib/lib/HTTP/Session2/Base.pm line 79.
	HTTP::Session2::Base::__ANON__(HTTP::Session2::ClientStore=HASH(0x55e7b2b1bf70), "s3cret") called at t/03_mech.t line 127
	main::client_session(HASH(0x55e7b2b088c8)) called at t/03_mech.t line 17
	main::__ANON__(HASH(0x55e7b2b088c8)) called at /opt/perl-5.36.0/lib/site_perl/5.36.0/Test/WWW/Mechanize/PSGI.pm line 46
	Test::WWW::Mechanize::PSGI::try {...} () called at /opt/perl-5.36.0/lib/site_perl/5.36.0/Try/Tiny.pm line 102
	eval {...} called at /opt/perl-5.36.0/lib/site_perl/5.36.0/Try/Tiny.pm line 93
	Try::Tiny::try(CODE(0x55e7b2b092e8), Try::Tiny::Catch=REF(0x55e7b2b094e0)) called at /opt/perl-5.36.0/lib/site_perl/5.36.0/Test/WWW/Mechanize/PSGI.pm line 53
	Test::WWW::Mechanize::PSGI::simple_request(Test::WWW::Mechanize::PSGI=HASH(0x55e7b2b24900), HTTP::Request=HASH(0x55e7b2b2a378), undef, undef) called at /opt/perl-5.36.0/lib/site_perl/5.36.0/LWP/UserAgent.pm line 308
	LWP::UserAgent::request(Test::WWW::Mechanize::PSGI=HASH(0x55e7b2b24900), HTTP::Request=HASH(0x55e7b2b2a378)) called at /opt/perl-5.36.0/lib/site_perl/5.36.0/WWW/Mechanize.pm line 1593
	WWW::Mechanize::_make_request(Test::WWW::Mechanize::PSGI=HASH(0x55e7b2b24900), HTTP::Request=HASH(0x55e7b2b2a378)) called at /opt/perl-5.36.0/lib/site_perl/5.36.0/WWW/Mechanize.pm line 1433
	WWW::Mechanize::request(Test::WWW::Mechanize::PSGI=HASH(0x55e7b2b24900), HTTP::Request=HASH(0x55e7b2b2a378)) called at /opt/perl-5.36.0/lib/site_perl/5.36.0/LWP/UserAgent.pm line 452
	LWP::UserAgent::get(Test::WWW::Mechanize::PSGI=HASH(0x55e7b2b24900), "http://localhost/wishlist") called at /opt/perl-5.36.0/lib/site_perl/5.36.0/WWW/Mechanize.pm line 119
	WWW::Mechanize::get(Test::WWW::Mechanize::PSGI=HASH(0x55e7b2b24900), "/wishlist") called at /opt/perl-5.36.0/lib/site_perl/5.36.0/Test/WWW/Mechanize.pm line 192
	Test::WWW::Mechanize::get_ok(Test::WWW::Mechanize::PSGI=HASH(0x55e7b2b24900), "/wishlist") called at t/03_mech.t line 76
Do not use HTTP::Session2::ClientStore. Use HTTP::Session2::ServerStore or HTTP::Session2::ClientStore2 instead. at /home/cpansand/.cpan/build/2024052603/HTTP-Session2-1.10-1/blib/lib/HTTP/Session2/ClientStore.pm line 35.
Secret string too short at /home/cpansand/.cpan/build/2024052603/HTTP-Session2-1.10-1/blib/lib/HTTP/Session2/Base.pm line 79.
	HTTP::Session2::Base::__ANON__(HTTP::Session2::ClientStore=HASH(0x55e7b2b1c7f8), "s3cret") called at t/03_mech.t line 127
	main::client_session(HASH(0x55e7b2b1bf40)) called at t/03_mech.t line 17
	main::__ANON__(HASH(0x55e7b2b1bf40)) called at /opt/perl-5.36.0/lib/site_perl/5.36.0/Test/WWW/Mechanize/PSGI.pm line 46
	Test::WWW::Mechanize::PSGI::try {...} () called at /opt/perl-5.36.0/lib/site_perl/5.36.0/Try/Tiny.pm line 102
	eval {...} called at /opt/perl-5.36.0/lib/site_perl/5.36.0/Try/Tiny.pm line 93
	Try::Tiny::try(CODE(0x55e7b2b20f38), Try::Tiny::Catch=REF(0x55e7b2b095d0)) called at /opt/perl-5.36.0/lib/site_perl/5.36.0/Test/WWW/Mechanize/PSGI.pm line 53
	Test::WWW::Mechanize::PSGI::simple_request(Test::WWW::Mechanize::PSGI=HASH(0x55e7b2b24900), HTTP::Request=HASH(0x55e7b2b09408), undef, undef) called at /opt/perl-5.36.0/lib/site_perl/5.36.0/LWP/UserAgent.pm line 308
	LWP::UserAgent::request(Test::WWW::Mechanize::PSGI=HASH(0x55e7b2b24900), HTTP::Request=HASH(0x55e7b2b09408)) called at /opt/perl-5.36.0/lib/site_perl/5.36.0/WWW/Mechanize.pm line 1593
	WWW::Mechanize::_make_request(Test::WWW::Mechanize::PSGI=HASH(0x55e7b2b24900), HTTP::Request=HASH(0x55e7b2b09408)) called at /opt/perl-5.36.0/lib/site_perl/5.36.0/WWW/Mechanize.pm line 1433
	WWW::Mechanize::request(Test::WWW::Mechanize::PSGI=HASH(0x55e7b2b24900), HTTP::Request=HASH(0x55e7b2b09408)) called at /opt/perl-5.36.0/lib/site_perl/5.36.0/LWP/UserAgent.pm line 498
	LWP::UserAgent::post(Test::WWW::Mechanize::PSGI=HASH(0x55e7b2b24900), "http://localhost/wishlist?bar") called at /opt/perl-5.36.0/lib/site_perl/5.36.0/WWW/Mechanize.pm line 131
	WWW::Mechanize::post(Test::WWW::Mechanize::PSGI=HASH(0x55e7b2b24900), "/wishlist?bar") called at t/03_mech.t line 78
Do not use HTTP::Session2::ClientStore. Use HTTP::Session2::ServerStore or HTTP::Session2::ClientStore2 instead. at /home/cpansand/.cpan/build/2024052603/HTTP-Session2-1.10-1/blib/lib/HTTP/Session2/ClientStore.pm line 35.
Secret string too short at /home/cpansand/.cpan/build/2024052603/HTTP-Session2-1.10-1/blib/lib/HTTP/Session2/Base.pm line 79.
	HTTP::Session2::Base::__ANON__(HTTP::Session2::ClientStore=HASH(0x55e7b2b1c0a8), "s3cret") called at t/03_mech.t line 127
	main::client_session(HASH(0x55e7b2b08af0)) called at t/03_mech.t line 17
	main::__ANON__(HASH(0x55e7b2b08af0)) called at /opt/perl-5.36.0/lib/site_perl/5.36.0/Test/WWW/Mechanize/PSGI.pm line 46
	Test::WWW::Mechanize::PSGI::try {...} () called at /opt/perl-5.36.0/lib/site_perl/5.36.0/Try/Tiny.pm line 102
	eval {...} called at /opt/perl-5.36.0/lib/site_perl/5.36.0/Try/Tiny.pm line 93
	Try::Tiny::try(CODE(0x55e7b2b20d58), Try::Tiny::Catch=REF(0x55e7b2b087c0)) called at /opt/perl-5.36.0/lib/site_perl/5.36.0/Test/WWW/Mechanize/PSGI.pm line 53
	Test::WWW::Mechanize::PSGI::simple_request(Test::WWW::Mechanize::PSGI=HASH(0x55e7b2b24900), HTTP::Request=HASH(0x55e7b2b21328), undef, undef) called at /opt/perl-5.36.0/lib/site_perl/5.36.0/LWP/UserAgent.pm line 308
	LWP::UserAgent::request(Test::WWW::Mechanize::PSGI=HASH(0x55e7b2b24900), HTTP::Request=HASH(0x55e7b2b21328)) called at /opt/perl-5.36.0/lib/site_perl/5.36.0/WWW/Mechanize.pm line 1593
	WWW::Mechanize::_make_request(Test::WWW::Mechanize::PSGI=HASH(0x55e7b2b24900), HTTP::Request=HASH(0x55e7b2b21328)) called at /opt/perl-5.36.0/lib/site_perl/5.36.0/WWW/Mechanize.pm line 1433
	WWW::Mechanize::request(Test::WWW::Mechanize::PSGI=HASH(0x55e7b2b24900), HTTP::Request=HASH(0x55e7b2b21328)) called at /opt/perl-5.36.0/lib/site_perl/5.36.0/LWP/UserAgent.pm line 498
	LWP::UserAgent::post(Test::WWW::Mechanize::PSGI=HASH(0x55e7b2b24900), "http://localhost/wishlist?bar", HASH(0x55e7b2675c58)) called at /opt/perl-5.36.0/lib/site_perl/5.36.0/WWW/Mechanize.pm line 131
	WWW::Mechanize::post(Test::WWW::Mechanize::PSGI=HASH(0x55e7b2b24900), "/wishlist?bar", HASH(0x55e7b2675c58)) called at /opt/perl-5.36.0/lib/site_perl/5.36.0/Test/WWW/Mechanize.pm line 321
	Test::WWW::Mechanize::post_ok(Test::WWW::Mechanize::PSGI=HASH(0x55e7b2b24900), "/wishlist?bar") called at t/03_mech.t line 81
Do not use HTTP::Session2::ClientStore. Use HTTP::Session2::ServerStore or HTTP::Session2::ClientStore2 instead. at /home/cpansand/.cpan/build/2024052603/HTTP-Session2-1.10-1/blib/lib/HTTP/Session2/ClientStore.pm line 35.
Do not use HTTP::Session2::ClientStore. Use HTTP::Session2::ServerStore or HTTP::Session2::ClientStore2 instead. at /home/cpansand/.cpan/build/2024052603/HTTP-Session2-1.10-1/blib/lib/HTTP/Session2/ClientStore.pm line 25.
Secret string too short at /home/cpansand/.cpan/build/2024052603/HTTP-Session2-1.10-1/blib/lib/HTTP/Session2/Base.pm line 79.
	HTTP::Session2::Base::__ANON__(HTTP::Session2::ClientStore=HASH(0x55e7b2ae4e90), "s3cret") called at t/03_mech.t line 127
	main::client_session(HASH(0x55e7b2b1c0a8)) called at t/03_mech.t line 17
	main::__ANON__(HASH(0x55e7b2b1c0a8)) called at /opt/perl-5.36.0/lib/site_perl/5.36.0/Test/WWW/Mechanize/PSGI.pm line 46
	Test::WWW::Mechanize::PSGI::try {...} () called at /opt/perl-5.36.0/lib/site_perl/5.36.0/Try/Tiny.pm line 102
	eval {...} called at /opt/perl-5.36.0/lib/site_perl/5.36.0/Try/Tiny.pm line 93
	Try::Tiny::try(CODE(0x55e7b2b1ccf0), Try::Tiny::Catch=REF(0x55e7b2b21850)) called at /opt/perl-5.36.0/lib/site_perl/5.36.0/Test/WWW/Mechanize/PSGI.pm line 53
	Test::WWW::Mechanize::PSGI::simple_request(Test::WWW::Mechanize::PSGI=HASH(0x55e7b2b24900), HTTP::Request=HASH(0x55e7b2b21700), undef, undef) called at /opt/perl-5.36.0/lib/site_perl/5.36.0/LWP/UserAgent.pm line 308
	LWP::UserAgent::request(Test::WWW::Mechanize::PSGI=HASH(0x55e7b2b24900), HTTP::Request=HASH(0x55e7b2b21700)) called at /opt/perl-5.36.0/lib/site_perl/5.36.0/WWW/Mechanize.pm line 1593
	WWW::Mechanize::_make_request(Test::WWW::Mechanize::PSGI=HASH(0x55e7b2b24900), HTTP::Request=HASH(0x55e7b2b21700)) called at /opt/perl-5.36.0/lib/site_perl/5.36.0/WWW/Mechanize.pm line 1433
	WWW::Mechanize::request(Test::WWW::Mechanize::PSGI=HASH(0x55e7b2b24900), HTTP::Request=HASH(0x55e7b2b21700)) called at /opt/perl-5.36.0/lib/site_perl/5.36.0/LWP/UserAgent.pm line 452
	LWP::UserAgent::get(Test::WWW::Mechanize::PSGI=HASH(0x55e7b2b24900), "http://localhost/wishlist") called at /opt/perl-5.36.0/lib/site_perl/5.36.0/WWW/Mechanize.pm line 119
	WWW::Mechanize::get(Test::WWW::Mechanize::PSGI=HASH(0x55e7b2b24900), "/wishlist") called at /opt/perl-5.36.0/lib/site_perl/5.36.0/Test/WWW/Mechanize.pm line 192
	Test::WWW::Mechanize::get_ok(Test::WWW::Mechanize::PSGI=HASH(0x55e7b2b24900), "/wishlist") called at t/03_mech.t line 82
Do not use HTTP::Session2::ClientStore. Use HTTP::Session2::ServerStore or HTTP::Session2::ClientStore2 instead. at /home/cpansand/.cpan/build/2024052603/HTTP-Session2-1.10-1/blib/lib/HTTP/Session2/ClientStore.pm line 35.
Secret string too short at /home/cpansand/.cpan/build/2024052603/HTTP-Session2-1.10-1/blib/lib/HTTP/Session2/Base.pm line 79.
	HTTP::Session2::Base::__ANON__(HTTP::Session2::ClientStore=HASH(0x55e7b2b215c8), "s3cret") called at t/03_mech.t line 127
	main::client_session(HASH(0x55e7b2b21a90)) called at t/03_mech.t line 17
	main::__ANON__(HASH(0x55e7b2b21a90)) called at /opt/perl-5.36.0/lib/site_perl/5.36.0/Test/WWW/Mechanize/PSGI.pm line 46
	Test::WWW::Mechanize::PSGI::try {...} () called at /opt/perl-5.36.0/lib/site_perl/5.36.0/Try/Tiny.pm line 102
	eval {...} called at /opt/perl-5.36.0/lib/site_perl/5.36.0/Try/Tiny.pm line 93
	Try::Tiny::try(CODE(0x55e7b2b09300), Try::Tiny::Catch=REF(0x55e7b2b1cc78)) called at /opt/perl-5.36.0/lib/site_perl/5.36.0/Test/WWW/Mechanize/PSGI.pm line 53
	Test::WWW::Mechanize::PSGI::simple_request(Test::WWW::Mechanize::PSGI=HASH(0x55e7b2b24900), HTTP::Request=HASH(0x55e7b2b1caf8), undef, undef) called at /opt/perl-5.36.0/lib/site_perl/5.36.0/LWP/UserAgent.pm line 308
	LWP::UserAgent::request(Test::WWW::Mechanize::PSGI=HASH(0x55e7b2b24900), HTTP::Request=HASH(0x55e7b2b1caf8)) called at /opt/perl-5.36.0/lib/site_perl/5.36.0/WWW/Mechanize.pm line 1593
	WWW::Mechanize::_make_request(Test::WWW::Mechanize::PSGI=HASH(0x55e7b2b24900), HTTP::Request=HASH(0x55e7b2b1caf8)) called at /opt/perl-5.36.0/lib/site_perl/5.36.0/WWW/Mechanize.pm line 1433
	WWW::Mechanize::request(Test::WWW::Mechanize::PSGI=HASH(0x55e7b2b24900), HTTP::Request=HASH(0x55e7b2b1caf8)) called at /opt/perl-5.36.0/lib/site_perl/5.36.0/LWP/UserAgent.pm line 498
	LWP::UserAgent::post(Test::WWW::Mechanize::PSGI=HASH(0x55e7b2b24900), "http://localhost/account/login?john", HASH(0x55e7b2675c58)) called at /opt/perl-5.36.0/lib/site_perl/5.36.0/WWW/Mechanize.pm line 131
	WWW::Mechanize::post(Test::WWW::Mechanize::PSGI=HASH(0x55e7b2b24900), "/account/login?john", HASH(0x55e7b2675c58)) called at /opt/perl-5.36.0/lib/site_perl/5.36.0/Test/WWW/Mechanize.pm line 321
	Test::WWW::Mechanize::post_ok(Test::WWW::Mechanize::PSGI=HASH(0x55e7b2b24900), "/account/login?john") called at t/03_mech.t line 84
Do not use HTTP::Session2::ClientStore. Use HTTP::Session2::ServerStore or HTTP::Session2::ClientStore2 instead. at /home/cpansand/.cpan/build/2024052603/HTTP-Session2-1.10-1/blib/lib/HTTP/Session2/ClientStore.pm line 35.
Do not use HTTP::Session2::ClientStore. Use HTTP::Session2::ServerStore or HTTP::Session2::ClientStore2 instead. at /home/cpansand/.cpan/build/2024052603/HTTP-Session2-1.10-1/blib/lib/HTTP/Session2/ClientStore.pm line 35.
Do not use HTTP::Session2::ClientStore. Use HTTP::Session2::ServerStore or HTTP::Session2::ClientStore2 instead. at /home/cpansand/.cpan/build/2024052603/HTTP-Session2-1.10-1/blib/lib/HTTP/Session2/ClientStore.pm line 25.
Secret string too short at /home/cpansand/.cpan/build/2024052603/HTTP-Session2-1.10-1/blib/lib/HTTP/Session2/Base.pm line 79.
	HTTP::Session2::Base::__ANON__(HTTP::Session2::ClientStore=HASH(0x55e7b2a34ef8), "s3cret") called at t/03_mech.t line 127
	main::client_session(HASH(0x55e7b2b215c8)) called at t/03_mech.t line 17
	main::__ANON__(HASH(0x55e7b2b215c8)) called at /opt/perl-5.36.0/lib/site_perl/5.36.0/Test/WWW/Mechanize/PSGI.pm line 46
	Test::WWW::Mechanize::PSGI::try {...} () called at /opt/perl-5.36.0/lib/site_perl/5.36.0/Try/Tiny.pm line 102
	eval {...} called at /opt/perl-5.36.0/lib/site_perl/5.36.0/Try/Tiny.pm line 93
	Try::Tiny::try(CODE(0x55e7b2b216d0), Try::Tiny::Catch=REF(0x55e7b2b21268)) called at /opt/perl-5.36.0/lib/site_perl/5.36.0/Test/WWW/Mechanize/PSGI.pm line 53
	Test::WWW::Mechanize::PSGI::simple_request(Test::WWW::Mechanize::PSGI=HASH(0x55e7b2b24900), HTTP::Request=HASH(0x55e7b2b243d8), undef, undef) called at /opt/perl-5.36.0/lib/site_perl/5.36.0/LWP/UserAgent.pm line 308
	LWP::UserAgent::request(Test::WWW::Mechanize::PSGI=HASH(0x55e7b2b24900), HTTP::Request=HASH(0x55e7b2b243d8)) called at /opt/perl-5.36.0/lib/site_perl/5.36.0/WWW/Mechanize.pm line 1593
	WWW::Mechanize::_make_request(Test::WWW::Mechanize::PSGI=HASH(0x55e7b2b24900), HTTP::Request=HASH(0x55e7b2b243d8)) called at /opt/perl-5.36.0/lib/site_perl/5.36.0/WWW/Mechanize.pm line 1433
	WWW::Mechanize::request(Test::WWW::Mechanize::PSGI=HASH(0x55e7b2b24900), HTTP::Request=HASH(0x55e7b2b243d8)) called at /opt/perl-5.36.0/lib/site_perl/5.36.0/LWP/UserAgent.pm line 452
	LWP::UserAgent::get(Test::WWW::Mechanize::PSGI=HASH(0x55e7b2b24900), "http://localhost/wishlist") called at /opt/perl-5.36.0/lib/site_perl/5.36.0/WWW/Mechanize.pm line 119
	WWW::Mechanize::get(Test::WWW::Mechanize::PSGI=HASH(0x55e7b2b24900), "/wishlist") called at /opt/perl-5.36.0/lib/site_perl/5.36.0/Test/WWW/Mechanize.pm line 192
	Test::WWW::Mechanize::get_ok(Test::WWW::Mechanize::PSGI=HASH(0x55e7b2b24900), "/wishlist", "Wishlist is still available") called at t/03_mech.t line 85
Do not use HTTP::Session2::ClientStore. Use HTTP::Session2::ServerStore or HTTP::Session2::ClientStore2 instead. at /home/cpansand/.cpan/build/2024052603/HTTP-Session2-1.10-1/blib/lib/HTTP/Session2/ClientStore.pm line 35.
Secret string too short at /home/cpansand/.cpan/build/2024052603/HTTP-Session2-1.10-1/blib/lib/HTTP/Session2/Base.pm line 79.
	HTTP::Session2::Base::__ANON__(HTTP::Session2::ClientStore=HASH(0x55e7b2b08fb8), "s3cret") called at t/03_mech.t line 127
	main::client_session(HASH(0x55e7b2b24270)) called at t/03_mech.t line 17
	main::__ANON__(HASH(0x55e7b2b24270)) called at /opt/perl-5.36.0/lib/site_perl/5.36.0/Test/WWW/Mechanize/PSGI.pm line 46
	Test::WWW::Mechanize::PSGI::try {...} () called at /opt/perl-5.36.0/lib/site_perl/5.36.0/Try/Tiny.pm line 102
	eval {...} called at /opt/perl-5.36.0/lib/site_perl/5.36.0/Try/Tiny.pm line 93
	Try::Tiny::try(CODE(0x55e7b14ef570), Try::Tiny::Catch=REF(0x55e7b14ef558)) called at /opt/perl-5.36.0/lib/site_perl/5.36.0/Test/WWW/Mechanize/PSGI.pm line 53
	Test::WWW::Mechanize::PSGI::simple_request(Test::WWW::Mechanize::PSGI=HASH(0x55e7b2b24900), HTTP::Request=HASH(0x55e7b29ae3f0), undef, undef) called at /opt/perl-5.36.0/lib/site_perl/5.36.0/LWP/UserAgent.pm line 308
	LWP::UserAgent::request(Test::WWW::Mechanize::PSGI=HASH(0x55e7b2b24900), HTTP::Request=HASH(0x55e7b29ae3f0)) called at /opt/perl-5.36.0/lib/site_perl/5.36.0/WWW/Mechanize.pm line 1593
	WWW::Mechanize::_make_request(Test::WWW::Mechanize::PSGI=HASH(0x55e7b2b24900), HTTP::Request=HASH(0x55e7b29ae3f0)) called at /opt/perl-5.36.0/lib/site_perl/5.36.0/WWW/Mechanize.pm line 1433
	WWW::Mechanize::request(Test::WWW::Mechanize::PSGI=HASH(0x55e7b2b24900), HTTP::Request=HASH(0x55e7b29ae3f0)) called at /opt/perl-5.36.0/lib/site_perl/5.36.0/LWP/UserAgent.pm line 498
	LWP::UserAgent::post(Test::WWW::Mechanize::PSGI=HASH(0x55e7b2b24900), "http://localhost/wishlist?baz") called at /opt/perl-5.36.0/lib/site_perl/5.36.0/WWW/Mechanize.pm line 131
	WWW::Mechanize::post(Test::WWW::Mechanize::PSGI=HASH(0x55e7b2b24900), "/wishlist?baz") called at t/03_mech.t line 87
Do not use HTTP::Session2::ClientStore. Use HTTP::Session2::ServerStore or HTTP::Session2::ClientStore2 instead. at /home/cpansand/.cpan/build/2024052603/HTTP-Session2-1.10-1/blib/lib/HTTP/Session2/ClientStore.pm line 35.
Secret string too short at /home/cpansand/.cpan/build/2024052603/HTTP-Session2-1.10-1/blib/lib/HTTP/Session2/Base.pm line 79.
	HTTP::Session2::Base::__ANON__(HTTP::Session2::ClientStore=HASH(0x55e7b2b24dc8), "s3cret") called at t/03_mech.t line 127
	main::client_session(HASH(0x55e7b2b2a558)) called at t/03_mech.t line 17
	main::__ANON__(HASH(0x55e7b2b2a558)) called at /opt/perl-5.36.0/lib/site_perl/5.36.0/Test/WWW/Mechanize/PSGI.pm line 46
	Test::WWW::Mechanize::PSGI::try {...} () called at /opt/perl-5.36.0/lib/site_perl/5.36.0/Try/Tiny.pm line 102
	eval {...} called at /opt/perl-5.36.0/lib/site_perl/5.36.0/Try/Tiny.pm line 93
	Try::Tiny::try(CODE(0x55e7b2b21718), Try::Tiny::Catch=REF(0x55e7b2191af8)) called at /opt/perl-5.36.0/lib/site_perl/5.36.0/Test/WWW/Mechanize/PSGI.pm line 53
	Test::WWW::Mechanize::PSGI::simple_request(Test::WWW::Mechanize::PSGI=HASH(0x55e7b2b24900), HTTP::Request=HASH(0x55e7b2b211d8), undef, undef) called at /opt/perl-5.36.0/lib/site_perl/5.36.0/LWP/UserAgent.pm line 308
	LWP::UserAgent::request(Test::WWW::Mechanize::PSGI=HASH(0x55e7b2b24900), HTTP::Request=HASH(0x55e7b2b211d8)) called at /opt/perl-5.36.0/lib/site_perl/5.36.0/WWW/Mechanize.pm line 1593
	WWW::Mechanize::_make_request(Test::WWW::Mechanize::PSGI=HASH(0x55e7b2b24900), HTTP::Request=HASH(0x55e7b2b211d8)) called at /opt/perl-5.36.0/lib/site_perl/5.36.0/WWW/Mechanize.pm line 1433
	WWW::Mechanize::request(Test::WWW::Mechanize::PSGI=HASH(0x55e7b2b24900), HTTP::Request=HASH(0x55e7b2b211d8)) called at /opt/perl-5.36.0/lib/site_perl/5.36.0/LWP/UserAgent.pm line 498
	LWP::UserAgent::post(Test::WWW::Mechanize::PSGI=HASH(0x55e7b2b24900), "http://localhost/wishlist?baz", HASH(0x55e7b2675c58)) called at /opt/perl-5.36.0/lib/site_perl/5.36.0/WWW/Mechanize.pm line 131
	WWW::Mechanize::post(Test::WWW::Mechanize::PSGI=HASH(0x55e7b2b24900), "/wishlist?baz", HASH(0x55e7b2675c58)) called at /opt/perl-5.36.0/lib/site_perl/5.36.0/Test/WWW/Mechanize.pm line 321
	Test::WWW::Mechanize::post_ok(Test::WWW::Mechanize::PSGI=HASH(0x55e7b2b24900), "/wishlist?baz") called at t/03_mech.t line 90
Do not use HTTP::Session2::ClientStore. Use HTTP::Session2::ServerStore or HTTP::Session2::ClientStore2 instead. at /home/cpansand/.cpan/build/2024052603/HTTP-Session2-1.10-1/blib/lib/HTTP/Session2/ClientStore.pm line 35.
Do not use HTTP::Session2::ClientStore. Use HTTP::Session2::ServerStore or HTTP::Session2::ClientStore2 instead. at /home/cpansand/.cpan/build/2024052603/HTTP-Session2-1.10-1/blib/lib/HTTP/Session2/ClientStore.pm line 25.
Secret string too short at /home/cpansand/.cpan/build/2024052603/HTTP-Session2-1.10-1/blib/lib/HTTP/Session2/Base.pm line 79.
	HTTP::Session2::Base::__ANON__(HTTP::Session2::ClientStore=HASH(0x55e7b2b24af8), "s3cret") called at t/03_mech.t line 127
	main::client_session(HASH(0x55e7b2b24dc8)) called at t/03_mech.t line 17
	main::__ANON__(HASH(0x55e7b2b24dc8)) called at /opt/perl-5.36.0/lib/site_perl/5.36.0/Test/WWW/Mechanize/PSGI.pm line 46
	Test::WWW::Mechanize::PSGI::try {...} () called at /opt/perl-5.36.0/lib/site_perl/5.36.0/Try/Tiny.pm line 102
	eval {...} called at /opt/perl-5.36.0/lib/site_perl/5.36.0/Try/Tiny.pm line 93
	Try::Tiny::try(CODE(0x55e7b14ef798), Try::Tiny::Catch=REF(0x55e7b2b2a6a8)) called at /opt/perl-5.36.0/lib/site_perl/5.36.0/Test/WWW/Mechanize/PSGI.pm line 53
	Test::WWW::Mechanize::PSGI::simple_request(Test::WWW::Mechanize::PSGI=HASH(0x55e7b2b24900), HTTP::Request=HASH(0x55e7b2b24b70), undef, undef) called at /opt/perl-5.36.0/lib/site_perl/5.36.0/LWP/UserAgent.pm line 308
	LWP::UserAgent::request(Test::WWW::Mechanize::PSGI=HASH(0x55e7b2b24900), HTTP::Request=HASH(0x55e7b2b24b70)) called at /opt/perl-5.36.0/lib/site_perl/5.36.0/WWW/Mechanize.pm line 1593
	WWW::Mechanize::_make_request(Test::WWW::Mechanize::PSGI=HASH(0x55e7b2b24900), HTTP::Request=HASH(0x55e7b2b24b70)) called at /opt/perl-5.36.0/lib/site_perl/5.36.0/WWW/Mechanize.pm line 1433
	WWW::Mechanize::request(Test::WWW::Mechanize::PSGI=HASH(0x55e7b2b24900), HTTP::Request=HASH(0x55e7b2b24b70)) called at /opt/perl-5.36.0/lib/site_perl/5.36.0/LWP/UserAgent.pm line 452
	LWP::UserAgent::get(Test::WWW::Mechanize::PSGI=HASH(0x55e7b2b24900), "http://localhost/wishlist") called at /opt/perl-5.36.0/lib/site_perl/5.36.0/WWW/Mechanize.pm line 119
	WWW::Mechanize::get(Test::WWW::Mechanize::PSGI=HASH(0x55e7b2b24900), "/wishlist") called at /opt/perl-5.36.0/lib/site_perl/5.36.0/Test/WWW/Mechanize.pm line 192
	Test::WWW::Mechanize::get_ok(Test::WWW::Mechanize::PSGI=HASH(0x55e7b2b24900), "/wishlist", "Wishlist is still available") called at t/03_mech.t line 91
Do not use HTTP::Session2::ClientStore. Use HTTP::Session2::ServerStore or HTTP::Session2::ClientStore2 instead. at /home/cpansand/.cpan/build/2024052603/HTTP-Session2-1.10-1/blib/lib/HTTP/Session2/ClientStore.pm line 35.
Secret string too short at /home/cpansand/.cpan/build/2024052603/HTTP-Session2-1.10-1/blib/lib/HTTP/Session2/Base.pm line 79.
	HTTP::Session2::Base::__ANON__(HTTP::Session2::ClientStore=HASH(0x55e7b14ef540), "s3cret") called at t/03_mech.t line 127
	main::client_session(HASH(0x55e7b2b24af8)) called at t/03_mech.t line 17
	main::__ANON__(HASH(0x55e7b2b24af8)) called at /opt/perl-5.36.0/lib/site_perl/5.36.0/Test/WWW/Mechanize/PSGI.pm line 46
	Test::WWW::Mechanize::PSGI::try {...} () called at /opt/perl-5.36.0/lib/site_perl/5.36.0/Try/Tiny.pm line 102
	eval {...} called at /opt/perl-5.36.0/lib/site_perl/5.36.0/Try/Tiny.pm line 93
	Try::Tiny::try(CODE(0x55e7b2b2a510), Try::Tiny::Catch=REF(0x55e7b2b24fc0)) called at /opt/perl-5.36.0/lib/site_perl/5.36.0/Test/WWW/Mechanize/PSGI.pm line 53
	Test::WWW::Mechanize::PSGI::simple_request(Test::WWW::Mechanize::PSGI=HASH(0x55e7b2b24900), HTTP::Request=HASH(0x55e7b2b2a798), undef, undef) called at /opt/perl-5.36.0/lib/site_perl/5.36.0/LWP/UserAgent.pm line 308
	LWP::UserAgent::request(Test::WWW::Mechanize::PSGI=HASH(0x55e7b2b24900), HTTP::Request=HASH(0x55e7b2b2a798)) called at /opt/perl-5.36.0/lib/site_perl/5.36.0/WWW/Mechanize.pm line 1593
	WWW::Mechanize::_make_request(Test::WWW::Mechanize::PSGI=HASH(0x55e7b2b24900), HTTP::Request=HASH(0x55e7b2b2a798)) called at /opt/perl-5.36.0/lib/site_perl/5.36.0/WWW/Mechanize.pm line 1433
	WWW::Mechanize::request(Test::WWW::Mechanize::PSGI=HASH(0x55e7b2b24900), HTTP::Request=HASH(0x55e7b2b2a798)) called at /opt/perl-5.36.0/lib/site_perl/5.36.0/LWP/UserAgent.pm line 452
	LWP::UserAgent::get(Test::WWW::Mechanize::PSGI=HASH(0x55e7b2b24900), "http://localhost/my/name") called at /opt/perl-5.36.0/lib/site_perl/5.36.0/WWW/Mechanize.pm line 119
	WWW::Mechanize::get(Test::WWW::Mechanize::PSGI=HASH(0x55e7b2b24900), "/my/name") called at /opt/perl-5.36.0/lib/site_perl/5.36.0/Test/WWW/Mechanize.pm line 192
	Test::WWW::Mechanize::get_ok(Test::WWW::Mechanize::PSGI=HASH(0x55e7b2b24900), "/my/name") called at t/03_mech.t line 93
Do not use HTTP::Session2::ClientStore. Use HTTP::Session2::ServerStore or HTTP::Session2::ClientStore2 instead. at /home/cpansand/.cpan/build/2024052603/HTTP-Session2-1.10-1/blib/lib/HTTP/Session2/ClientStore.pm line 35.
Secret string too short at /home/cpansand/.cpan/build/2024052603/HTTP-Session2-1.10-1/blib/lib/HTTP/Session2/Base.pm line 79.
	HTTP::Session2::Base::__ANON__(HTTP::Session2::ClientStore=HASH(0x55e7b2b2a9c0), "s3cret") called at t/03_mech.t line 127
	main::client_session(HASH(0x55e7b2b2a450)) called at t/03_mech.t line 17
	main::__ANON__(HASH(0x55e7b2b2a450)) called at /opt/perl-5.36.0/lib/site_perl/5.36.0/Test/WWW/Mechanize/PSGI.pm line 46
	Test::WWW::Mechanize::PSGI::try {...} () called at /opt/perl-5.36.0/lib/site_perl/5.36.0/Try/Tiny.pm line 102
	eval {...} called at /opt/perl-5.36.0/lib/site_perl/5.36.0/Try/Tiny.pm line 93
	Try::Tiny::try(CODE(0x55e7b2b2b080), Try::Tiny::Catch=REF(0x55e7b2b2ab58)) called at /opt/perl-5.36.0/lib/site_perl/5.36.0/Test/WWW/Mechanize/PSGI.pm line 53
	Test::WWW::Mechanize::PSGI::simple_request(Test::WWW::Mechanize::PSGI=HASH(0x55e7b2b24900), HTTP::Request=HASH(0x55e7b2b2ab28), undef, undef) called at /opt/perl-5.36.0/lib/site_perl/5.36.0/LWP/UserAgent.pm line 308
	LWP::UserAgent::request(Test::WWW::Mechanize::PSGI=HASH(0x55e7b2b24900), HTTP::Request=HASH(0x55e7b2b2ab28)) called at /opt/perl-5.36.0/lib/site_perl/5.36.0/WWW/Mechanize.pm line 1593
	WWW::Mechanize::_make_request(Test::WWW::Mechanize::PSGI=HASH(0x55e7b2b24900), HTTP::Request=HASH(0x55e7b2b2ab28)) called at /opt/perl-5.36.0/lib/site_perl/5.36.0/WWW/Mechanize.pm line 1433
	WWW::Mechanize::request(Test::WWW::Mechanize::PSGI=HASH(0x55e7b2b24900), HTTP::Request=HASH(0x55e7b2b2ab28)) called at /opt/perl-5.36.0/lib/site_perl/5.36.0/LWP/UserAgent.pm line 498
	LWP::UserAgent::post(Test::WWW::Mechanize::PSGI=HASH(0x55e7b2b24900), "http://localhost/account/logout?john") called at /opt/perl-5.36.0/lib/site_perl/5.36.0/WWW/Mechanize.pm line 131
	WWW::Mechanize::post(Test::WWW::Mechanize::PSGI=HASH(0x55e7b2b24900), "/account/logout?john") called at t/03_mech.t line 97
Do not use HTTP::Session2::ClientStore. Use HTTP::Session2::ServerStore or HTTP::Session2::ClientStore2 instead. at /home/cpansand/.cpan/build/2024052603/HTTP-Session2-1.10-1/blib/lib/HTTP/Session2/ClientStore.pm line 35.
Do not use HTTP::Session2::ClientStore. Use HTTP::Session2::ServerStore or HTTP::Session2::ClientStore2 instead. at /home/cpansand/.cpan/build/2024052603/HTTP-Session2-1.10-1/blib/lib/HTTP/Session2/ClientStore.pm line 35.
t/03_mech.t ................. ok
Do not use HTTP::Session2::ClientStore. Use HTTP::Session2::ServerStore or HTTP::Session2::ClientStore2 instead. at /home/cpansand/.cpan/build/2024052603/HTTP-Session2-1.10-1/blib/lib/HTTP/Session2/ClientStore.pm line 25.
t/04_plack_response.t ....... ok
Secret string too short at /home/cpansand/.cpan/build/2024052603/HTTP-Session2-1.10-1/blib/lib/HTTP/Session2/Base.pm line 79.
	HTTP::Session2::Base::__ANON__(HTTP::Session2::ClientStore=HASH(0x55a10b054e08), "s3cret") called at t/05_keep_me_signed_in.t line 20
Do not use HTTP::Session2::ClientStore. Use HTTP::Session2::ServerStore or HTTP::Session2::ClientStore2 instead. at /home/cpansand/.cpan/build/2024052603/HTTP-Session2-1.10-1/blib/lib/HTTP/Session2/ClientStore.pm line 25.
t/05_keep_me_signed_in.t .... ok
Secret string too short at /home/cpansand/.cpan/build/2024052603/HTTP-Session2-1.10-1/blib/lib/HTTP/Session2/Base.pm line 79.
	HTTP::Session2::Base::__ANON__(HTTP::Session2::Base=HASH(0x559452bb39e0), "i am secret") called at t/06_base_abstract.t line 7
t/06_base_abstract.t ........ ok
Secret string too short at /home/cpansand/.cpan/build/2024052603/HTTP-Session2-1.10-1/blib/lib/HTTP/Session2/Base.pm line 79.
	HTTP::Session2::Base::__ANON__(HTTP::Session2::ClientStore=HASH(0x55d4a6b4b188), "secret") called at t/07_client_store.t line 23
	main::__ANON__() called at /opt/perl-5.36.0/lib/site_perl/5.36.0/Test/Builder.pm line 374
	eval {...} called at /opt/perl-5.36.0/lib/site_perl/5.36.0/Test/Builder.pm line 374
	Test::Builder::subtest(Test::Builder=HASH(0x55d4a6b70988), "get/set/remove", CODE(0x55d4a71fe8b0)) called at /opt/perl-5.36.0/lib/site_perl/5.36.0/Test/More.pm line 831
	Test::More::subtest("get/set/remove", CODE(0x55d4a71fe8b0)) called at t/07_client_store.t line 31
Secret string too short at /home/cpansand/.cpan/build/2024052603/HTTP-Session2-1.10-1/blib/lib/HTTP/Session2/Base.pm line 79.
	HTTP::Session2::Base::__ANON__(HTTP::Session2::ClientStore=HASH(0x55d4a6b42b48), "secret") called at t/07_client_store.t line 35
	main::__ANON__() called at /opt/perl-5.36.0/lib/site_perl/5.36.0/Test/Builder.pm line 374
	eval {...} called at /opt/perl-5.36.0/lib/site_perl/5.36.0/Test/Builder.pm line 374
	Test::Builder::subtest(Test::Builder=HASH(0x55d4a6b70988), "validate_token", CODE(0x55d4a78ca220)) called at /opt/perl-5.36.0/lib/site_perl/5.36.0/Test/More.pm line 831
	Test::More::subtest("validate_token", CODE(0x55d4a78ca220)) called at t/07_client_store.t line 71
Do not use HTTP::Session2::ClientStore. Use HTTP::Session2::ServerStore or HTTP::Session2::ClientStore2 instead. at /home/cpansand/.cpan/build/2024052603/HTTP-Session2-1.10-1/blib/lib/HTTP/Session2/ClientStore.pm line 25.
Secret string too short at /home/cpansand/.cpan/build/2024052603/HTTP-Session2-1.10-1/blib/lib/HTTP/Session2/Base.pm line 79.
	HTTP::Session2::Base::__ANON__(HTTP::Session2::ClientStore=HASH(0x55d4a78fece8), "secret") called at t/07_client_store.t line 51
	main::__ANON__() called at /opt/perl-5.36.0/lib/site_perl/5.36.0/Test/Builder.pm line 374
	eval {...} called at /opt/perl-5.36.0/lib/site_perl/5.36.0/Test/Builder.pm line 374
	Test::Builder::subtest(Test::Builder=HASH(0x55d4a6b70988), "bad", CODE(0x55d4a6b4a780)) called at /opt/perl-5.36.0/lib/site_perl/5.36.0/Test/More.pm line 831
	Test::More::subtest("bad", CODE(0x55d4a6b4a780)) called at t/07_client_store.t line 57
	main::__ANON__() called at /opt/perl-5.36.0/lib/site_perl/5.36.0/Test/Builder.pm line 374
	eval {...} called at /opt/perl-5.36.0/lib/site_perl/5.36.0/Test/Builder.pm line 374
	Test::Builder::subtest(Test::Builder=HASH(0x55d4a6b70988), "validate_token", CODE(0x55d4a78ca220)) called at /opt/perl-5.36.0/lib/site_perl/5.36.0/Test/More.pm line 831
	Test::More::subtest("validate_token", CODE(0x55d4a78ca220)) called at t/07_client_store.t line 71
Do not use HTTP::Session2::ClientStore. Use HTTP::Session2::ServerStore or HTTP::Session2::ClientStore2 instead. at /home/cpansand/.cpan/build/2024052603/HTTP-Session2-1.10-1/blib/lib/HTTP/Session2/ClientStore.pm line 35.
Secret string too short at /home/cpansand/.cpan/build/2024052603/HTTP-Session2-1.10-1/blib/lib/HTTP/Session2/Base.pm line 79.
	HTTP::Session2::Base::__ANON__(HTTP::Session2::ClientStore=HASH(0x55d4a7904668), "secret") called at t/07_client_store.t line 65
	main::__ANON__() called at /opt/perl-5.36.0/lib/site_perl/5.36.0/Test/Builder.pm line 374
	eval {...} called at /opt/perl-5.36.0/lib/site_perl/5.36.0/Test/Builder.pm line 374
	Test::Builder::subtest(Test::Builder=HASH(0x55d4a6b70988), "good", CODE(0x55d4a6b4a780)) called at /opt/perl-5.36.0/lib/site_perl/5.36.0/Test/More.pm line 831
	Test::More::subtest("good", CODE(0x55d4a6b4a780)) called at t/07_client_store.t line 70
	main::__ANON__() called at /opt/perl-5.36.0/lib/site_perl/5.36.0/Test/Builder.pm line 374
	eval {...} called at /opt/perl-5.36.0/lib/site_perl/5.36.0/Test/Builder.pm line 374
	Test::Builder::subtest(Test::Builder=HASH(0x55d4a6b70988), "validate_token", CODE(0x55d4a78ca220)) called at /opt/perl-5.36.0/lib/site_perl/5.36.0/Test/More.pm line 831
	Test::More::subtest("validate_token", CODE(0x55d4a78ca220)) called at t/07_client_store.t line 71
Do not use HTTP::Session2::ClientStore. Use HTTP::Session2::ServerStore or HTTP::Session2::ClientStore2 instead. at /home/cpansand/.cpan/build/2024052603/HTTP-Session2-1.10-1/blib/lib/HTTP/Session2/ClientStore.pm line 35.
Secret string too short at /home/cpansand/.cpan/build/2024052603/HTTP-Session2-1.10-1/blib/lib/HTTP/Session2/Base.pm line 79.
	HTTP::Session2::Base::__ANON__(HTTP::Session2::ClientStore=HASH(0x55d4a6b4a9c0), "secret") called at t/07_client_store.t line 76
	main::__ANON__() called at /opt/perl-5.36.0/lib/site_perl/5.36.0/Test/Builder.pm line 374
	eval {...} called at /opt/perl-5.36.0/lib/site_perl/5.36.0/Test/Builder.pm line 374
	Test::Builder::subtest(Test::Builder=HASH(0x55d4a6b70988), "ignore_old", CODE(0x55d4a74e56b8)) called at /opt/perl-5.36.0/lib/site_perl/5.36.0/Test/More.pm line 831
	Test::More::subtest("ignore_old", CODE(0x55d4a74e56b8)) called at t/07_client_store.t line 106
Do not use HTTP::Session2::ClientStore. Use HTTP::Session2::ServerStore or HTTP::Session2::ClientStore2 instead. at /home/cpansand/.cpan/build/2024052603/HTTP-Session2-1.10-1/blib/lib/HTTP/Session2/ClientStore.pm line 25.
Secret string too short at /home/cpansand/.cpan/build/2024052603/HTTP-Session2-1.10-1/blib/lib/HTTP/Session2/Base.pm line 79.
	HTTP::Session2::Base::__ANON__(HTTP::Session2::ClientStore=HASH(0x55d4a790d148), "secret") called at t/07_client_store.t line 87
	main::__ANON__() called at /opt/perl-5.36.0/lib/site_perl/5.36.0/Test/Builder.pm line 374
	eval {...} called at /opt/perl-5.36.0/lib/site_perl/5.36.0/Test/Builder.pm line 374
	Test::Builder::subtest(Test::Builder=HASH(0x55d4a6b70988), "ignore_old disabled", CODE(0x55d4a790b1c0)) called at /opt/perl-5.36.0/lib/site_perl/5.36.0/Test/More.pm line 831
	Test::More::subtest("ignore_old disabled", CODE(0x55d4a790b1c0)) called at t/07_client_store.t line 95
	main::__ANON__() called at /opt/perl-5.36.0/lib/site_perl/5.36.0/Test/Builder.pm line 374
	eval {...} called at /opt/perl-5.36.0/lib/site_perl/5.36.0/Test/Builder.pm line 374
	Test::Builder::subtest(Test::Builder=HASH(0x55d4a6b70988), "ignore_old", CODE(0x55d4a74e56b8)) called at /opt/perl-5.36.0/lib/site_perl/5.36.0/Test/More.pm line 831
	Test::More::subtest("ignore_old", CODE(0x55d4a74e56b8)) called at t/07_client_store.t line 106
Do not use HTTP::Session2::ClientStore. Use HTTP::Session2::ServerStore or HTTP::Session2::ClientStore2 instead. at /home/cpansand/.cpan/build/2024052603/HTTP-Session2-1.10-1/blib/lib/HTTP/Session2/ClientStore.pm line 35.
Secret string too short at /home/cpansand/.cpan/build/2024052603/HTTP-Session2-1.10-1/blib/lib/HTTP/Session2/Base.pm line 79.
	HTTP::Session2::Base::__ANON__(HTTP::Session2::ClientStore=HASH(0x55d4a790bad8), "secret") called at t/07_client_store.t line 97
	main::__ANON__() called at /opt/perl-5.36.0/lib/site_perl/5.36.0/Test/Builder.pm line 374
	eval {...} called at /opt/perl-5.36.0/lib/site_perl/5.36.0/Test/Builder.pm line 374
	Test::Builder::subtest(Test::Builder=HASH(0x55d4a6b70988), "ignore_old enabled", CODE(0x55d4a790b1c0)) called at /opt/perl-5.36.0/lib/site_perl/5.36.0/Test/More.pm line 831
	Test::More::subtest("ignore_old enabled", CODE(0x55d4a790b1c0)) called at t/07_client_store.t line 105
	main::__ANON__() called at /opt/perl-5.36.0/lib/site_perl/5.36.0/Test/Builder.pm line 374
	eval {...} called at /opt/perl-5.36.0/lib/site_perl/5.36.0/Test/Builder.pm line 374
	Test::Builder::subtest(Test::Builder=HASH(0x55d4a6b70988), "ignore_old", CODE(0x55d4a74e56b8)) called at /opt/perl-5.36.0/lib/site_perl/5.36.0/Test/More.pm line 831
	Test::More::subtest("ignore_old", CODE(0x55d4a74e56b8)) called at t/07_client_store.t line 106
t/07_client_store.t ......... ok
Secret string too short at /home/cpansand/.cpan/build/2024052603/HTTP-Session2-1.10-1/blib/lib/HTTP/Session2/Base.pm line 79.
	HTTP::Session2::Base::__ANON__(HTTP::Session2::Expired=HASH(0x55701820a638), 33333) called at t/08_expired.t line 7
t/08_expired.t .............. ok
# /dev/urandom available
# /dev/urandom(1): KEN6fnlv7VJzicVM8ZFcjRG4dus_HWI
# /dev/urandom(2): IGe1qETKIvHnsxBZ_E4bwfYqJrQbq9b
# perl:            b5eee2315b8ecc80b6bcf948daafe38
t/09_random.t ............... ok
t/11_secret_string.t ........ ok
Secret string too short at /home/cpansand/.cpan/build/2024052603/HTTP-Session2-1.10-1/blib/lib/HTTP/Session2/Base.pm line 79.
	HTTP::Session2::Base::__ANON__(HTTP::Session2::ClientStore2=HASH(0x55fe275c31f0), "s3cret") called at t/client_store2/01_basic.t line 24
	main::__ANON__("client -> server: request without cookie", CODE(0x55fe275be5d0)) called at t/client_store2/01_basic.t line 30
	main::__ANON__() called at /opt/perl-5.36.0/lib/site_perl/5.36.0/Test/Builder.pm line 374
	eval {...} called at /opt/perl-5.36.0/lib/site_perl/5.36.0/Test/Builder.pm line 374
	Test::Builder::subtest(Test::Builder=HASH(0x55fe26b43ff8), "First request", CODE(0x55fe26af15e8)) called at /opt/perl-5.36.0/lib/site_perl/5.36.0/Test/More.pm line 831
	Test::More::subtest("First request", CODE(0x55fe26af15e8)) called at t/client_store2/01_basic.t line 9
	main::scenario("First request", CODE(0x55fe26af15e8)) called at t/client_store2/01_basic.t line 36
Secret string too short at /home/cpansand/.cpan/build/2024052603/HTTP-Session2-1.10-1/blib/lib/HTTP/Session2/Base.pm line 79.
	HTTP::Session2::Base::__ANON__(HTTP::Session2::ClientStore2=HASH(0x55fe275be2b8), "s3cret") called at t/client_store2/01_basic.t line 41
	main::__ANON__("client -> server: request without cookie", CODE(0x55fe275c3c58)) called at t/client_store2/01_basic.t line 47
	main::__ANON__() called at /opt/perl-5.36.0/lib/site_perl/5.36.0/Test/Builder.pm line 374
	eval {...} called at /opt/perl-5.36.0/lib/site_perl/5.36.0/Test/Builder.pm line 374
	Test::Builder::subtest(Test::Builder=HASH(0x55fe26b43ff8), "Store something without login", CODE(0x55fe26af15e8)) called at /opt/perl-5.36.0/lib/site_perl/5.36.0/Test/More.pm line 831
	Test::More::subtest("Store something without login", CODE(0x55fe26af15e8)) called at t/client_store2/01_basic.t line 9
	main::scenario("Store something without login", CODE(0x55fe26af15e8)) called at t/client_store2/01_basic.t line 63
WARNING: The key derivation method "opensslv1" is deprecated. Using -pbkdf=>'pbkdf2' would be better.
Pass -nodeprecate=>1 to inhibit this message.
 at /home/cpansand/.cpan/build/2024052603/HTTP-Session2-1.10-1/blib/lib/HTTP/Session2/ClientStore2.pm line 177.
Secret string too short at /home/cpansand/.cpan/build/2024052603/HTTP-Session2-1.10-1/blib/lib/HTTP/Session2/Base.pm line 79.
	HTTP::Session2::Base::__ANON__(HTTP::Session2::ClientStore2=HASH(0x55fe275d5df8), "s3cret") called at t/client_store2/01_basic.t line 69
	main::__ANON__("client -> server: request without cookie", CODE(0x55fe275c3b98)) called at t/client_store2/01_basic.t line 76
	main::__ANON__() called at /opt/perl-5.36.0/lib/site_perl/5.36.0/Test/Builder.pm line 374
	eval {...} called at /opt/perl-5.36.0/lib/site_perl/5.36.0/Test/Builder.pm line 374
	Test::Builder::subtest(Test::Builder=HASH(0x55fe26b43ff8), "Login", CODE(0x55fe26af15e8)) called at /opt/perl-5.36.0/lib/site_perl/5.36.0/Test/More.pm line 831
	Test::More::subtest("Login", CODE(0x55fe26af15e8)) called at t/client_store2/01_basic.t line 9
	main::scenario("Login", CODE(0x55fe26af15e8)) called at t/client_store2/01_basic.t line 96
Ciphertext does not begin with a valid header for 'salt' header mode at /home/cpansand/.cpan/build/2024052603/HTTP-Session2-1.10-1/blib/lib/HTTP/Session2/ClientStore2.pm line 81.
Ciphertext does not begin with a valid header for 'salt' header mode at /home/cpansand/.cpan/build/2024052603/HTTP-Session2-1.10-1/blib/lib/HTTP/Session2/ClientStore2.pm line 81.
WARNING: The key derivation method "opensslv1" is deprecated. Using -pbkdf=>'pbkdf2' would be better.
Pass -nodeprecate=>1 to inhibit this message.
 at /home/cpansand/.cpan/build/2024052603/HTTP-Session2-1.10-1/blib/lib/HTTP/Session2/ClientStore2.pm line 177.
Secret string too short at /home/cpansand/.cpan/build/2024052603/HTTP-Session2-1.10-1/blib/lib/HTTP/Session2/Base.pm line 79.
	HTTP::Session2::Base::__ANON__(HTTP::Session2::ClientStore2=HASH(0x55fe275c3520), "s3cret") called at t/client_store2/01_basic.t line 102
	main::__ANON__("client -> server: request without cookie", CODE(0x55fe275d6080)) called at t/client_store2/01_basic.t line 109
	main::__ANON__() called at /opt/perl-5.36.0/lib/site_perl/5.36.0/Test/Builder.pm line 374
	eval {...} called at /opt/perl-5.36.0/lib/site_perl/5.36.0/Test/Builder.pm line 374
	Test::Builder::subtest(Test::Builder=HASH(0x55fe26b43ff8), "In a login session", CODE(0x55fe26af15e8)) called at /opt/perl-5.36.0/lib/site_perl/5.36.0/Test/More.pm line 831
	Test::More::subtest("In a login session", CODE(0x55fe26af15e8)) called at t/client_store2/01_basic.t line 9
	main::scenario("In a login session", CODE(0x55fe26af15e8)) called at t/client_store2/01_basic.t line 118
Ciphertext does not begin with a valid header for 'salt' header mode at /home/cpansand/.cpan/build/2024052603/HTTP-Session2-1.10-1/blib/lib/HTTP/Session2/ClientStore2.pm line 81.
WARNING: The key derivation method "opensslv1" is deprecated. Using -pbkdf=>'pbkdf2' would be better.
Pass -nodeprecate=>1 to inhibit this message.
 at /home/cpansand/.cpan/build/2024052603/HTTP-Session2-1.10-1/blib/lib/HTTP/Session2/ClientStore2.pm line 177.
Secret string too short at /home/cpansand/.cpan/build/2024052603/HTTP-Session2-1.10-1/blib/lib/HTTP/Session2/Base.pm line 79.
	HTTP::Session2::Base::__ANON__(HTTP::Session2::ClientStore2=HASH(0x55fe275cdef0), "s3cret") called at t/client_store2/01_basic.t line 123
	main::__ANON__("client -> server: request without cookie", CODE(0x55fe275cabd0)) called at t/client_store2/01_basic.t line 130
	main::__ANON__() called at /opt/perl-5.36.0/lib/site_perl/5.36.0/Test/Builder.pm line 374
	eval {...} called at /opt/perl-5.36.0/lib/site_perl/5.36.0/Test/Builder.pm line 374
	Test::Builder::subtest(Test::Builder=HASH(0x55fe26b43ff8), "Logout", CODE(0x55fe26af15e8)) called at /opt/perl-5.36.0/lib/site_perl/5.36.0/Test/More.pm line 831
	Test::More::subtest("Logout", CODE(0x55fe26af15e8)) called at t/client_store2/01_basic.t line 9
	main::scenario("Logout", CODE(0x55fe26af15e8)) called at t/client_store2/01_basic.t line 143
Ciphertext does not begin with a valid header for 'salt' header mode at /home/cpansand/.cpan/build/2024052603/HTTP-Session2-1.10-1/blib/lib/HTTP/Session2/ClientStore2.pm line 81.
t/client_store2/01_basic.t .. ok
WARNING: The key derivation method "opensslv1" is deprecated. Using -pbkdf=>'pbkdf2' would be better.
Pass -nodeprecate=>1 to inhibit this message.
 at /home/cpansand/.cpan/build/2024052603/HTTP-Session2-1.10-1/blib/lib/HTTP/Session2/ClientStore2.pm line 177.
WARNING: The key derivation method "opensslv1" is deprecated. Using -pbkdf=>'pbkdf2' would be better.
Pass -nodeprecate=>1 to inhibit this message.
 at /home/cpansand/.cpan/build/2024052603/HTTP-Session2-1.10-1/blib/lib/HTTP/Session2/ClientStore2.pm line 177.
WARNING: The key derivation method "opensslv1" is deprecated. Using -pbkdf=>'pbkdf2' would be better.
Pass -nodeprecate=>1 to inhibit this message.
 at /home/cpansand/.cpan/build/2024052603/HTTP-Session2-1.10-1/blib/lib/HTTP/Session2/ClientStore2.pm line 177.
t/client_store2/02_mech.t ... ok
WARNING: The key derivation method "opensslv1" is deprecated. Using -pbkdf=>'pbkdf2' would be better.
Pass -nodeprecate=>1 to inhibit this message.
 at /home/cpansand/.cpan/build/2024052603/HTTP-Session2-1.10-1/blib/lib/HTTP/Session2/ClientStore2.pm line 177.
t/client_store2/03_colon.t .. ok
All tests successful.
Files=14, Tests=84,  1 wallclock secs ( 0.04 usr  0.01 sys +  1.06 cusr  0.14 csys =  1.25 CPU)
Result: PASS

------------------------------
PREREQUISITES
------------------------------

Prerequisite modules loaded:

requires:

    Module                     Need     Have    
    -------------------------- -------- --------
    Cookie::Baker              0        0.11    
    Crypt::CBC                 0        3.04    
    Data::MessagePack          0        1.02    
    Digest::HMAC               0        1.04    
    Digest::SHA                0        6.04    
    Digest::SHA1               0        2.13    
    MIME::Base64               3.11     3.16    
    Mouse                      0        v2.5.10 
    parent                     0        0.238   
    perl                       5.008005 5.036000
    Time::HiRes                0        1.9770  

build_requires:

    Module                     Need     Have    
    -------------------------- -------- --------
    Crypt::Rijndael            0        1.16    
    Plack::Request             0        1.0050  
    Plack::Response            0        1.0050  
    Test::More                 0.98     1.302199
    Test::WWW::Mechanize::PSGI 0        0.39    

configure_requires:

    Module                     Need     Have    
    -------------------------- -------- --------
    Module::Build::Tiny        0.035    0.047   


------------------------------
ENVIRONMENT AND OTHER CONTEXT
------------------------------

Environment variables:

    LANG = en_US.UTF-8
    PATH = /usr/local/bin:/usr/bin:/bin:/usr/local/sbin:/usr/sbin:/sbin:/home/cpansand/bin/linux-gnu:/home/cpansand/bin/sh:/home/cpansand/bin:/usr/games:/home/cpansand/devel:/home/eserte/src/srezic-misc/scripts
    PERL5LIB = 
    PERL5OPT = 
    PERL5_CPANPLUS_IS_RUNNING = 2320832
    PERL5_CPAN_IS_RUNNING = 2320832
    PERL5_CPAN_IS_RUNNING_IN_RECURSION = 2319547,2320832
    PERLDOC = -MPod::Perldoc::ToTextOverstrike
    PERL_BATCH = yes
    PERL_CANARY_STABILITY_NOPROMPT = 1
    PERL_CPAN_REPORTER_CONFIG = /var/tmp/cpansmoker-1023/2024052603/cpanreporter_000_config.ini
    PERL_EXTUTILS_AUTOINSTALL = --defaultdeps
    PERL_USE_UNSAFE_INC = 1
    SHELL = /usr/bin/zsh
    TERM = screen
    TMPDIR = /var/tmp/cpansmoker-1023/2024052603

Perl special variables (and OS-specific diagnostics, for MSWin32):

    $^X = /opt/perl-5.36.0/bin/perl
    $UID/$EUID = 1023 / 1023
    $GID = 1023 1023
    $EGID = 1023 1023

Perl module toolchain versions installed:

    Module              Have    
    ------------------- --------
    CPAN                2.33    
    CPAN::Meta          2.150010
    Cwd                 3.84    
    ExtUtils::CBuilder  0.280236
    ExtUtils::Command   7.70    
    ExtUtils::Install   2.22    
    ExtUtils::MakeMaker 7.70    
    ExtUtils::Manifest  1.75    
    ExtUtils::ParseXS   3.51    
    File::Spec          3.84    
    JSON                4.10    
    JSON::PP            4.16    
    Module::Build       0.4234  
    Module::Signature   0.88    
    Parse::CPAN::Meta   2.150010
    Test2               1.302199
    Test::Harness       3.48    
    Test::More          1.302199
    YAML                1.31    
    YAML::Syck          1.34    
    version             0.9929  


--

Summary of my perl5 (revision 5 version 36 subversion 0) configuration:
   
  Platform:
    osname=linux
    osvers=5.15.0-56-generic
    archname=x86_64-linux
    uname='linux cloud14.bbbike.org 5.15.0-56-generic #62-ubuntu smp tue nov 22 19:54:14 utc 2022 x86_64 x86_64 x86_64 gnulinux '
    config_args='-ds -e -Dprefix=/opt/perl-5.36.0 -Dcf_email=srezic@cpan.org'
    hint=recommended
    useposix=true
    d_sigaction=define
    useithreads=undef
    usemultiplicity=undef
    use64bitint=define
    use64bitall=define
    uselongdouble=undef
    usemymalloc=n
    default_inc_excludes_dot=define
  Compiler:
    cc='cc'
    ccflags ='-fwrapv -fno-strict-aliasing -pipe -fstack-protector-strong -I/usr/local/include -D_LARGEFILE_SOURCE -D_FILE_OFFSET_BITS=64'
    optimize='-O2'
    cppflags='-fwrapv -fno-strict-aliasing -pipe -fstack-protector-strong -I/usr/local/include'
    ccversion=''
    gccversion='11.3.0'
    gccosandvers=''
    intsize=4
    longsize=8
    ptrsize=8
    doublesize=8
    byteorder=12345678
    doublekind=3
    d_longlong=define
    longlongsize=8
    d_longdbl=define
    longdblsize=16
    longdblkind=3
    ivtype='long'
    ivsize=8
    nvtype='double'
    nvsize=8
    Off_t='off_t'
    lseeksize=8
    alignbytes=8
    prototype=define
  Linker and Libraries:
    ld='cc'
    ldflags =' -fstack-protector-strong -L/usr/local/lib'
    libpth=/usr/local/lib /usr/lib/x86_64-linux-gnu /usr/lib /usr/lib64
    libs=-lpthread -lnsl -lgdbm -ldb -ldl -lm -lcrypt -lutil -lc
    perllibs=-lpthread -lnsl -ldl -lm -lcrypt -lutil -lc
    libc=/lib/x86_64-linux-gnu/libc.so.6
    so=so
    useshrplib=false
    libperl=libperl.a
    gnulibc_version='2.35'
  Dynamic Linking:
    dlsrc=dl_dlopen.xs
    dlext=so
    d_dlsymun=undef
    ccdlflags='-Wl,-E'
    cccdlflags='-fPIC'
    lddlflags='-shared -O2 -L/usr/local/lib -fstack-protector-strong'


Characteristics of this binary (from libperl): 
  Compile-time options:
    HAS_TIMES
    PERLIO_LAYERS
    PERL_COPY_ON_WRITE
    PERL_DONT_CREATE_GVSV
    PERL_MALLOC_WRAP
    PERL_OP_PARENT
    PERL_PRESERVE_IVUV
    USE_64_BIT_ALL
    USE_64_BIT_INT
    USE_LARGE_FILES
    USE_LOCALE
    USE_LOCALE_COLLATE
    USE_LOCALE_CTYPE
    USE_LOCALE_NUMERIC
    USE_LOCALE_TIME
    USE_PERLIO
    USE_PERL_ATOF
  Built under linux
  Compiled at Dec 18 2022 14:30:04
  %ENV:
    PERL5LIB=""
    PERL5OPT=""
    PERL5_CPANPLUS_IS_RUNNING="2320832"
    PERL5_CPAN_IS_RUNNING="2320832"
    PERL5_CPAN_IS_RUNNING_IN_RECURSION="2319547,2320832"
    PERLDOC="-MPod::Perldoc::ToTextOverstrike"
    PERL_BATCH="yes"
    PERL_CANARY_STABILITY_NOPROMPT="1"
    PERL_CPAN_REPORTER_CONFIG="/var/tmp/cpansmoker-1023/2024052603/cpanreporter_000_config.ini"
    PERL_EXTUTILS_AUTOINSTALL="--defaultdeps"
    PERL_USE_UNSAFE_INC="1"
  @INC:
    /opt/perl-5.36.0/lib/site_perl/5.36.0/x86_64-linux
    /opt/perl-5.36.0/lib/site_perl/5.36.0
    /opt/perl-5.36.0/lib/5.36.0/x86_64-linux
    /opt/perl-5.36.0/lib/5.36.0
    .