Alien-SeleniumRC v3.7 Perl 5 v5.28.1 i686-linux-thread-multi

Status
Pass
From
Nigel Horne
Dist
Alien-SeleniumRC v3.7
Platform
Perl 5 v5.28.1 i686-linux-thread-multi
Date
2019-02-08 05:55:34
ID
266ded5c-2b66-11e9-bf31-80c71e9d5857
This distribution has been tested as part of the CPAN Testers
project, supporting the Perl programming language.  See
http://wiki.cpantesters.org/ for more information or email
questions to cpan-testers-discuss@perl.org


--
Dear Daniel Austin,

This is a computer-generated report for Alien-SeleniumRC-3.7
on perl 5.28.1, created by CPAN-Reporter-1.2018.

Thank you for uploading your work to CPAN.  Congratulations!
All tests were successful.

Sections of this report:

    * Tester comments
    * Program output
    * Prerequisites
    * Environment and other context

------------------------------
TESTER COMMENTS
------------------------------

Additional comments from tester:

this report is from an automated smoke testing program
and was not reviewed by a human for accuracy

------------------------------
PROGRAM OUTPUT
------------------------------

Output from '/usr/bin/make test':

PERL_DL_NONLAZY=1 "/home/njh/perl5/perlbrew/perls/perl-5.28.1-sanitize-undefined/bin/perl5.28.1" "-MExtUtils::Command::MM" "-MTest::Harness" "-e" "undef *Test::Harness::Switches; test_harness(0, 'inc', 'blib/lib', 'blib/arch')" t/script.t t/seleniumrc.t t/signature.t
zaphod32_hash.h:280:19: runtime error: load of misaligned address 0xb67c1311 for type 'const U32', which requires 4 byte alignment
0xb67c1311: note: pointer points here
 72 6f 3a  3a 69 6e 76 61 6c 69 64  61 74 65 5f 61 6c 6c 5f  6d 65 74 68 6f 64 5f 63  61 63 68 65 73
              ^ 
zaphod32_hash.h:281:19: runtime error: load of misaligned address 0xb67c1315 for type 'const U32', which requires 4 byte alignment
0xb67c1315: note: pointer points here
 69 6e 76 61 6c 69 64  61 74 65 5f 61 6c 6c 5f  6d 65 74 68 6f 64 5f 63  61 63 68 65 73 00 00 00  01
             ^ 
zaphod32_hash.h:288:15: runtime error: load of misaligned address 0xb67c1329 for type 'const U32', which requires 4 byte alignment
0xb67c1329: note: pointer points here
 64 5f 63  61 63 68 65 73 00 00 00  01 1b 03 3b 88 00 00 00  10 00 00 00 f0 3c ff ff  a4 00 00 00 90
              ^ 
zaphod32_hash.h:280:19: runtime error: load of misaligned address 0xb67c1311 for type 'const U32', which requires 4 byte alignment
0xb67c1311: note: pointer points here
 72 6f 3a  3a 69 6e 76 61 6c 69 64  61 74 65 5f 61 6c 6c 5f  6d 65 74 68 6f 64 5f 63  61 63 68 65 73
              ^ 
zaphod32_hash.h:281:19: runtime error: load of misaligned address 0xb67c1315 for type 'const U32', which requires 4 byte alignment
0xb67c1315: note: pointer points here
 69 6e 76 61 6c 69 64  61 74 65 5f 61 6c 6c 5f  6d 65 74 68 6f 64 5f 63  61 63 68 65 73 00 00 00  01
             ^ 
zaphod32_hash.h:288:15: runtime error: load of misaligned address 0xb67c1329 for type 'const U32', which requires 4 byte alignment
0xb67c1329: note: pointer points here
 64 5f 63  61 63 68 65 73 00 00 00  01 1b 03 3b 88 00 00 00  10 00 00 00 f0 3c ff ff  a4 00 00 00 90
              ^ 
zaphod32_hash.h:280:19: runtime error: load of misaligned address 0xb677b311 for type 'const U32', which requires 4 byte alignment
0xb677b311: note: pointer points here
 72 6f 3a  3a 69 6e 76 61 6c 69 64  61 74 65 5f 61 6c 6c 5f  6d 65 74 68 6f 64 5f 63  61 63 68 65 73
              ^ 
zaphod32_hash.h:281:19: runtime error: load of misaligned address 0xb677b315 for type 'const U32', which requires 4 byte alignment
0xb677b315: note: pointer points here
 69 6e 76 61 6c 69 64  61 74 65 5f 61 6c 6c 5f  6d 65 74 68 6f 64 5f 63  61 63 68 65 73 00 00 00  01
             ^ 
zaphod32_hash.h:288:15: runtime error: load of misaligned address 0xb677b329 for type 'const U32', which requires 4 byte alignment
0xb677b329: note: pointer points here
 64 5f 63  61 63 68 65 73 00 00 00  01 1b 03 3b 88 00 00 00  10 00 00 00 f0 3c ff ff  a4 00 00 00 90
              ^ 
zaphod32_hash.h:280:19: runtime error: load of misaligned address 0xb677b311 for type 'const U32', which requires 4 byte alignment
0xb677b311: note: pointer points here
 72 6f 3a  3a 69 6e 76 61 6c 69 64  61 74 65 5f 61 6c 6c 5f  6d 65 74 68 6f 64 5f 63  61 63 68 65 73
              ^ 
zaphod32_hash.h:281:19: runtime error: load of misaligned address 0xb677b315 for type 'const U32', which requires 4 byte alignment
0xb677b315: note: pointer points here
 69 6e 76 61 6c 69 64  61 74 65 5f 61 6c 6c 5f  6d 65 74 68 6f 64 5f 63  61 63 68 65 73 00 00 00  01
             ^ 
zaphod32_hash.h:288:15: runtime error: load of misaligned address 0xb677b329 for type 'const U32', which requires 4 byte alignment
0xb677b329: note: pointer points here
 64 5f 63  61 63 68 65 73 00 00 00  01 1b 03 3b 88 00 00 00  10 00 00 00 f0 3c ff ff  a4 00 00 00 90
              ^ 
t/seleniumrc.t .. ok
t/script.t ...... ok
zaphod32_hash.h:280:19: runtime error: load of misaligned address 0xb6847311 for type 'const U32', which requires 4 byte alignment
0xb6847311: note: pointer points here
 72 6f 3a  3a 69 6e 76 61 6c 69 64  61 74 65 5f 61 6c 6c 5f  6d 65 74 68 6f 64 5f 63  61 63 68 65 73
              ^ 
zaphod32_hash.h:281:19: runtime error: load of misaligned address 0xb6847315 for type 'const U32', which requires 4 byte alignment
0xb6847315: note: pointer points here
 69 6e 76 61 6c 69 64  61 74 65 5f 61 6c 6c 5f  6d 65 74 68 6f 64 5f 63  61 63 68 65 73 00 00 00  01
             ^ 
zaphod32_hash.h:288:15: runtime error: load of misaligned address 0xb6847329 for type 'const U32', which requires 4 byte alignment
0xb6847329: note: pointer points here
 64 5f 63  61 63 68 65 73 00 00 00  01 1b 03 3b 88 00 00 00  10 00 00 00 f0 3c ff ff  a4 00 00 00 90
              ^ 
zaphod32_hash.h:280:19: runtime error: load of misaligned address 0xb6847311 for type 'const U32', which requires 4 byte alignment
0xb6847311: note: pointer points here
 72 6f 3a  3a 69 6e 76 61 6c 69 64  61 74 65 5f 61 6c 6c 5f  6d 65 74 68 6f 64 5f 63  61 63 68 65 73
              ^ 
zaphod32_hash.h:281:19: runtime error: load of misaligned address 0xb6847315 for type 'const U32', which requires 4 byte alignment
0xb6847315: note: pointer points here
 69 6e 76 61 6c 69 64  61 74 65 5f 61 6c 6c 5f  6d 65 74 68 6f 64 5f 63  61 63 68 65 73 00 00 00  01
             ^ 
zaphod32_hash.h:288:15: runtime error: load of misaligned address 0xb6847329 for type 'const U32', which requires 4 byte alignment
0xb6847329: note: pointer points here
 64 5f 63  61 63 68 65 73 00 00 00  01 1b 03 3b 88 00 00 00  10 00 00 00 f0 3c ff ff  a4 00 00 00 90
              ^ 
t/signature.t ... skipped: Set the environment variable TEST_SIGNATURE to enable this test.
All tests successful.
Files=3, Tests=6,  1 wallclock secs ( 0.06 usr  0.02 sys +  0.79 cusr  0.06 csys =  0.93 CPU)
Result: PASS

------------------------------
PREREQUISITES
------------------------------

Prerequisite modules loaded:

requires:

    Module              Need Have    
    ------------------- ---- --------
    Test::More          0.42 1.302133

build_requires:

    Module              Need Have    
    ------------------- ---- --------
    ExtUtils::MakeMaker 0    7.34    


------------------------------
ENVIRONMENT AND OTHER CONTEXT
------------------------------

Environment variables:

    AUTOMATED_TESTING = 1
    HARNESS_OPTIONS = j2
    LANG = en_US.UTF-8
    PATH = /home/njh/perl5/perlbrew/bin:/home/njh/perl5/perlbrew/perls/perl-5.28.1-sanitize-undefined/bin:/home/njh/src/njh/smoker/bin:/usr/bin:/bin
    PERL5LIB = 
    PERL5OPT = 
    PERL5_CPANPLUS_IS_RUNNING = 25736
    PERL5_CPAN_IS_RUNNING = 25736
    PERLBREW_HOME = /home/njh/.perlbrew
    PERLBREW_MANPATH = /home/njh/perl5/perlbrew/perls/perl-5.28.1-sanitize-undefined/man
    PERLBREW_PATH = /home/njh/perl5/perlbrew/bin:/home/njh/perl5/perlbrew/perls/perl-5.28.1-sanitize-undefined/bin
    PERLBREW_PERL = perl-5.28.1-sanitize-undefined
    PERLBREW_ROOT = /home/njh/perl5/perlbrew
    PERLBREW_SHELLRC_VERSION = 0.84
    PERLBREW_VERSION = 0.84
    PERL_USE_UNSAFE_INC = 1
    SHELL = /bin/sh
    TEMP = /tmp/user/1000
    TMPDIR = /tmp/user/1000/testwrapper.25723

Perl special variables (and OS-specific diagnostics, for MSWin32):

    $^X = /home/njh/perl5/perlbrew/perls/perl-5.28.1-sanitize-undefined/bin/perl5.28.1
    $UID/$EUID = 1000 / 1000
    $GID = 1000 4 24 25 29 30 44 46 108 1000
    $EGID = 1000 4 24 25 29 30 44 46 108 1000

Perl module toolchain versions installed:

    Module              Have    
    ------------------- --------
    CPAN                2.20    
    CPAN::Meta          2.150010
    Cwd                 3.74    
    ExtUtils::CBuilder  0.280230
    ExtUtils::Command   7.34    
    ExtUtils::Install   2.14    
    ExtUtils::MakeMaker 7.34    
    ExtUtils::Manifest  1.70    
    ExtUtils::ParseXS   3.39    
    File::Spec          3.74    
    JSON                n/a     
    JSON::PP            2.97001 
    Module::Build       n/a     
    Module::Signature   n/a     
    Parse::CPAN::Meta   2.150010
    Test::Harness       3.42    
    Test::More          1.302133
    YAML                n/a     
    YAML::Syck          n/a     
    version             0.9923  


--

Summary of my perl5 (revision 5 version 28 subversion 1) configuration:
   
  Platform:
    osname=linux
    osvers=4.3.0-1-686-pae
    archname=i686-linux-thread-multi
    uname='linux zack 4.3.0-1-686-pae #1 smp debian 4.3.5-1 (2016-02-06) i686 gnulinux '
    config_args='-de -Dprefix=/home/njh/perl5/perlbrew/perls/perl-5.28.1-sanitize-undefined -Dusedevel -Dcc= -Dusethreads -Accflags=-fsanitize=undefined -g -O2 -Aldflags=-fsanitize=undefined -g -lubsan -Alddlflags=-shared -O2 -L/usr/local/lib -fstack-protector-strong -fsanitize=undefined -g -lubsan -Aeval:scriptdir=/home/njh/perl5/perlbrew/perls/perl-5.28.1-sanitize-undefined/bin'
    hint=recommended
    useposix=true
    d_sigaction=define
    useithreads=define
    usemultiplicity=define
    use64bitint=undef
    use64bitall=undef
    uselongdouble=undef
    usemymalloc=n
    default_inc_excludes_dot=define
    bincompat5005=undef
  Compiler:
    cc='cc'
    ccflags ='-D_REENTRANT -D_GNU_SOURCE -fsanitize=undefined -g -O2 -fno-strict-aliasing -pipe -fstack-protector-strong -I/usr/local/include -D_LARGEFILE_SOURCE -D_FILE_OFFSET_BITS=64'
    optimize='-O2'
    cppflags='-D_REENTRANT -D_GNU_SOURCE -fsanitize=undefined -g -O2 -fno-strict-aliasing -pipe -fstack-protector-strong -I/usr/local/include'
    ccversion=''
    gccversion='8.2.0'
    gccosandvers=''
    intsize=4
    longsize=4
    ptrsize=4
    doublesize=8
    byteorder=1234
    doublekind=3
    d_longlong=define
    longlongsize=8
    d_longdbl=define
    longdblsize=12
    longdblkind=3
    ivtype='long'
    ivsize=4
    nvtype='double'
    nvsize=8
    Off_t='off_t'
    lseeksize=8
    alignbytes=4
    prototype=define
  Linker and Libraries:
    ld='cc'
    ldflags =' -fsanitize=undefined -g -lubsan -fstack-protector-strong -L/usr/local/lib'
    libpth=/usr/local/lib /usr/lib/gcc/i686-linux-gnu/8/include-fixed /usr/include/i386-linux-gnu /usr/lib /lib/i386-linux-gnu /lib/../lib /usr/lib/i386-linux-gnu /usr/lib/../lib /lib /lib64 /usr/lib64
    libs=-lpthread -lnsl -lgdbm -ldb -ldl -lm -lcrypt -lutil -lc
    perllibs=-lpthread -lnsl -ldl -lm -lcrypt -lutil -lc
    libc=libc-2.28.so
    so=so
    useshrplib=false
    libperl=libperl.a
    gnulibc_version='2.28'
  Dynamic Linking:
    dlsrc=dl_dlopen.xs
    dlext=so
    d_dlsymun=undef
    ccdlflags='-Wl,-E'
    cccdlflags='-fPIC'
    lddlflags=' -shared -O2 -L/usr/local/lib -fstack-protector-strong -fsanitize=undefined -g -lubsan'


Characteristics of this binary (from libperl): 
  Compile-time options:
    HAS_TIMES
    MULTIPLICITY
    PERLIO_LAYERS
    PERL_COPY_ON_WRITE
    PERL_DONT_CREATE_GVSV
    PERL_IMPLICIT_CONTEXT
    PERL_MALLOC_WRAP
    PERL_OP_PARENT
    PERL_PRESERVE_IVUV
    PERL_USE_DEVEL
    USE_ITHREADS
    USE_LARGE_FILES
    USE_LOCALE
    USE_LOCALE_COLLATE
    USE_LOCALE_CTYPE
    USE_LOCALE_NUMERIC
    USE_LOCALE_TIME
    USE_PERLIO
    USE_PERL_ATOF
    USE_REENTRANT_API
  Locally applied patches:
    Devel::PatchPerl 1.38
  Built under linux
  Compiled at Dec  5 2018 01:46:27
  %ENV:
    PERL5LIB=""
    PERL5OPT=""
    PERL5_CPANPLUS_IS_RUNNING="25736"
    PERL5_CPAN_IS_RUNNING="25736"
    PERLBREW_HOME="/home/njh/.perlbrew"
    PERLBREW_MANPATH="/home/njh/perl5/perlbrew/perls/perl-5.28.1-sanitize-undefined/man"
    PERLBREW_PATH="/home/njh/perl5/perlbrew/bin:/home/njh/perl5/perlbrew/perls/perl-5.28.1-sanitize-undefined/bin"
    PERLBREW_PERL="perl-5.28.1-sanitize-undefined"
    PERLBREW_ROOT="/home/njh/perl5/perlbrew"
    PERLBREW_SHELLRC_VERSION="0.84"
    PERLBREW_VERSION="0.84"
    PERL_USE_UNSAFE_INC="1"
  @INC:
    /home/njh/perl5/perlbrew/perls/perl-5.28.1-sanitize-undefined/lib/site_perl/5.28.1/i686-linux-thread-multi
    /home/njh/perl5/perlbrew/perls/perl-5.28.1-sanitize-undefined/lib/site_perl/5.28.1
    /home/njh/perl5/perlbrew/perls/perl-5.28.1-sanitize-undefined/lib/5.28.1/i686-linux-thread-multi
    /home/njh/perl5/perlbrew/perls/perl-5.28.1-sanitize-undefined/lib/5.28.1
    .