Report for PerlIO-utf8_strict-0.005

Back
From: metabase:user:c086eaf4-c8a4-11e2-b158-c35ef8e388f9
Subject: PASS PerlIO-utf8_strict-0.005 v5.16.3 Mac OS X
Date: 2014-11-13T05:30:16Z

This distribution has been tested as part of the CPAN Testers
project, supporting the Perl programming language.  See
http://wiki.cpantesters.org/ for more information or email
questions to cpan-testers-discuss@perl.org


--
Dear LEONT,

This is a computer-generated report for PerlIO-utf8_strict-0.005
on perl 5.16.3, created by App::cpanminus::reporter 0.11 (1.7014).

Thank you for uploading your work to CPAN.  Congratulations!
All tests were successful.

Sections of this report:

    * Tester comments
    * Program output
    * Prerequisites
    * Environment and other context

------------------------------
TESTER COMMENTS
------------------------------

Additional comments from tester:

none provided

------------------------------
PROGRAM OUTPUT
------------------------------

Output from '':

Building and testing PerlIO-utf8_strict-0.005
Building PerlIO-utf8_strict
cc -I/Users/ether/perl5/perlbrew/perls/16.3/lib/5.16.3/darwin-2level/CORE -DXS_VERSION="0.005" -DVERSION="0.005" -c -fno-common -DPERL_DARWIN -fno-strict-aliasing -pipe -fstack-protector -I/usr/local/include -I/opt/local/include -O3 -o lib/PerlIO/utf8_strict.o lib/PerlIO/utf8_strict.c
ExtUtils::Mkbootstrap::Mkbootstrap('blib/arch/auto/PerlIO/utf8_strict/utf8_strict.bs')
env MACOSX_DEPLOYMENT_TARGET=10.3 cc -bundle -undefined dynamic_lookup -L/usr/local/lib -L/opt/local/lib -fstack-protector -o blib/arch/auto/PerlIO/utf8_strict/utf8_strict.bundle lib/PerlIO/utf8_strict.o
t/00-compile.t ............ ok
t/bug.t ................... ok
t/basics.t ................ ok
t/release-pod-syntax.t .... skipped: these tests are for release candidate testing
t/release-pod-coverage.t .. skipped: these tests are for release candidate testing
t/non-shortest-form.t ..... ok
t/noncharacters.t ......... ok
t/incomplete.t ............ ok
t/unicode.t ............... ok
t/super.t ................. ok
t/surrogates.t ............ ok
All tests successful.
Files=11, Tests=5817,  4 wallclock secs ( 0.97 usr  0.11 sys +  2.18 cusr  1.51 csys =  4.77 CPU)
Result: PASS

------------------------------
PREREQUISITES
------------------------------

Prerequisite modules loaded:

    No requirements found

------------------------------
ENVIRONMENT AND OTHER CONTEXT
------------------------------

Environment variables:

    LANG = en_CA.UTF-8
    PATH = /Users/ether/.perlbrew/libs/16.3@std/bin:/Users/ether/perl5/perlbrew/bin:/Users/ether/perl5/perlbrew/perls/16.3/bin:/Users/ether/bin:/Users/ether/git/misc/install/tequila/bin:/Users/ether/git/misc/install/generic/bin:/opt/local/bin:/opt/local/sbin:/Users/ether/git/git-hub/lib:/Users/ether/src/CE/devtools:/Users/ether/git/CE/devtools:/Users/ether/src/CE/bin:/Users/ether/git/CE/bin:/usr/bin:/bin:/usr/sbin:/sbin:/usr/local/bin:/usr/X11/bin:/opt/local/share/git-core/contrib/workdir
    PERL5LIB = /Users/ether/.perlbrew/libs/16.3@std/lib/perl5
    PERLBREW_BASHRC_VERSION = 0.71
    PERLBREW_HOME = /Users/ether/.perlbrew
    PERLBREW_LIB = std
    PERLBREW_MANPATH = /Users/ether/.perlbrew/libs/16.3@std/man:/Users/ether/perl5/perlbrew/perls/16.3/man
    PERLBREW_PATH = /Users/ether/.perlbrew/libs/16.3@std/bin:/Users/ether/perl5/perlbrew/bin:/Users/ether/perl5/perlbrew/perls/16.3/bin
    PERLBREW_PERL = 16.3
    PERLBREW_ROOT = /Users/ether/perl5/perlbrew
    PERLBREW_VERSION = 0.71
    PERLDOC_PAGER = less -sicMr
    PERL_AUTOINSTALL_PREFER_CPAN = 1
    PERL_INSTALL_QUIET = 1
    PERL_LOCAL_LIB_ROOT = /Users/ether/.perlbrew/libs/16.3@std
    PERL_MB_OPT = --install_base /Users/ether/.perlbrew/libs/16.3@std
    PERL_MM_OPT = INSTALL_BASE=/Users/ether/.perlbrew/libs/16.3@std
    SHELL = /bin/bash
    TERM = xterm-color
    TMPDIR = /var/folders/+h/+hzG2W8MHem4qQiRP616jE+++TQ/-Tmp-/

Perl special variables (and OS-specific diagnostics, for MSWin32):

    EGID = 20 20 402 204 100 98 81 80 79 61 12 404 401 403
    EUID = 503
    EXECUTABLE_NAME = /Users/ether/perl5/perlbrew/perls/16.3/bin/perl
    GID = 20 20 402 204 100 98 81 80 79 61 12 404 401 403
    UID = 503

Perl module toolchain versions installed:

    Module              Have    
    ------------------- --------
    CPAN                1.9800  
    CPAN::Meta          2.142690
    Cwd                 3.47    
    ExtUtils::CBuilder  0.280206
    ExtUtils::Command   1.17    
    ExtUtils::Install   1.58    
    ExtUtils::MakeMaker 7.02    
    ExtUtils::Manifest  1.68    
    ExtUtils::ParseXS   3.24    
    File::Spec          3.47    
    JSON                2.90    
    JSON::PP            2.27300 
    Module::Build       0.4205  
    Module::Signature   0.70    
    Parse::CPAN::Meta   1.4414  
    Test::Harness       3.34    
    Test::More          1.001009
    YAML                1.13    
    YAML::Syck          1.27    
    version             0.9909  


--

Summary of my perl5 (revision 5 version 16 subversion 3) configuration:
   
  Platform:
    osname=darwin, osvers=10.8.0, archname=darwin-2level
    uname='darwin tequila 10.8.0 darwin kernel version 10.8.0: tue jun 7 16:33:36 pdt 2011; root:xnu-1504.15.3~1release_i386 i386 '
    config_args='-de -Dprefix=/Users/ether/perl5/perlbrew/perls/16.3 -Dman1dir=none -Dman3dir=none -Aeval:scriptdir=/Users/ether/perl5/perlbrew/perls/16.3/bin'
    hint=recommended, useposix=true, d_sigaction=define
    useithreads=undef, usemultiplicity=undef
    useperlio=define, d_sfio=undef, uselargefiles=define, usesocks=undef
    use64bitint=define, use64bitall=define, uselongdouble=undef
    usemymalloc=n, bincompat5005=undef
  Compiler:
    cc='cc', ccflags ='-fno-common -DPERL_DARWIN -fno-strict-aliasing -pipe -fstack-protector -I/usr/local/include -I/opt/local/include',
    optimize='-O3',
    cppflags='-fno-common -DPERL_DARWIN -fno-strict-aliasing -pipe -fstack-protector -I/usr/local/include -I/opt/local/include'
    ccversion='', gccversion='4.2.1 (Apple Inc. build 5666) (dot 3)', gccosandvers=''
    intsize=4, longsize=8, ptrsize=8, doublesize=8, byteorder=12345678
    d_longlong=define, longlongsize=8, d_longdbl=define, longdblsize=16
    ivtype='long', ivsize=8, nvtype='double', nvsize=8, Off_t='off_t', lseeksize=8
    alignbytes=8, prototype=define
  Linker and Libraries:
    ld='env MACOSX_DEPLOYMENT_TARGET=10.3 cc', ldflags =' -fstack-protector -L/usr/local/lib -L/opt/local/lib'
    libpth=/usr/local/lib /opt/local/lib /usr/lib
    libs=-lgdbm -ldbm -ldl -lm -lutil -lc
    perllibs=-ldl -lm -lutil -lc
    libc=, so=dylib, useshrplib=false, libperl=libperl.a
    gnulibc_version=''
  Dynamic Linking:
    dlsrc=dl_dlopen.xs, dlext=bundle, d_dlsymun=undef, ccdlflags=' '
    cccdlflags=' ', lddlflags=' -bundle -undefined dynamic_lookup -L/usr/local/lib -L/opt/local/lib -fstack-protector'


Characteristics of this binary (from libperl): 
  Compile-time options: HAS_TIMES PERLIO_LAYERS PERL_DONT_CREATE_GVSV
                        PERL_MALLOC_WRAP PERL_PRESERVE_IVUV USE_64_BIT_ALL
                        USE_64_BIT_INT USE_LARGE_FILES USE_LOCALE
                        USE_LOCALE_COLLATE USE_LOCALE_CTYPE
                        USE_LOCALE_NUMERIC USE_PERLIO USE_PERL_ATOF
  Built under darwin
  Compiled at Mar 15 2013 10:56:44
  %ENV:
    PERL5LIB="/Users/ether/.perlbrew/libs/16.3@std/lib/perl5"
    PERLBREW_BASHRC_VERSION="0.71"
    PERLBREW_HOME="/Users/ether/.perlbrew"
    PERLBREW_LIB="std"
    PERLBREW_MANPATH="/Users/ether/.perlbrew/libs/16.3@std/man:/Users/ether/perl5/perlbrew/perls/16.3/man"
    PERLBREW_PATH="/Users/ether/.perlbrew/libs/16.3@std/bin:/Users/ether/perl5/perlbrew/bin:/Users/ether/perl5/perlbrew/perls/16.3/bin"
    PERLBREW_PERL="16.3"
    PERLBREW_ROOT="/Users/ether/perl5/perlbrew"
    PERLBREW_VERSION="0.71"
    PERLDOC_PAGER="less -sicMr"
    PERL_AUTOINSTALL_PREFER_CPAN="1"
    PERL_INSTALL_QUIET="1"
    PERL_LOCAL_LIB_ROOT="/Users/ether/.perlbrew/libs/16.3@std"
    PERL_MB_OPT="--install_base /Users/ether/.perlbrew/libs/16.3@std"
    PERL_MM_OPT="INSTALL_BASE=/Users/ether/.perlbrew/libs/16.3@std"
  @INC:
    /Users/ether/.perlbrew/libs/16.3@std/lib/perl5/darwin-2level
    /Users/ether/.perlbrew/libs/16.3@std/lib/perl5
    /Users/ether/perl5/perlbrew/perls/16.3/lib/site_perl/5.16.3/darwin-2level
    /Users/ether/perl5/perlbrew/perls/16.3/lib/site_perl/5.16.3
    /Users/ether/perl5/perlbrew/perls/16.3/lib/5.16.3/darwin-2level
    /Users/ether/perl5/perlbrew/perls/16.3/lib/5.16.3
    .