Data-Tubes v0.737-TRIAL Perl 5 v5.22.2 x86_64-linux

Status
Pass
From
Slaven Rezić
Dist
Data-Tubes v0.737-TRIAL
Platform
Perl 5 v5.22.2 x86_64-linux
Date
2022-01-13 22:57:14
ID
2617e3ee-74c4-11ec-945e-b9201f24ea8f
This distribution has been tested as part of the CPAN Testers
project, supporting the Perl programming language.  See
http://wiki.cpantesters.org/ for more information or email
questions to cpan-testers-discuss@perl.org


--
Dear Flavio Poletti,

This is a computer-generated report for Data-Tubes-0.737-TRIAL
on perl 5.22.2, created by CPAN-Reporter-1.2018.

Thank you for uploading your work to CPAN.  Congratulations!
All tests were successful.

Sections of this report:

    * Tester comments
    * Program output
    * Prerequisites
    * Environment and other context

------------------------------
TESTER COMMENTS
------------------------------

Additional comments from tester:

none provided

------------------------------
PROGRAM OUTPUT
------------------------------

Output from './Build test':

# Testing Data::Tubes 0.737
t/00-load.t ........................................... ok
t/11.summon.t ......................................... ok
t/12.normalize_args.t ................................. ok
t/13.generalized_hashy.t .............................. ok
t/14.pipeline.t ....................................... ok
t/15.drain.t .......................................... ok
t/20.plugin.plumbing.t ................................ ok
t/20.plugin.plumbing/01.fallback.t .................... ok
t/20.plugin.plumbing/02.alternatives.t ................ ok
t/20.plugin.plumbing/03.alt-and-fallback.t ............ ok
t/20.plugin.plumbing/04.cache.t ....................... ok
t/20.plugin.plumbing/05.cache-file.t .................. ok
t/20.plugin.plumbing/06.dispatch.t .................... ok
t/21.plugin.reader.t .................................. ok
t/22.plugin.parser.t .................................. ok
t/22.plugin.parser/01.hashy.t ......................... ok
t/22.plugin.parser/02.single.t ........................ ok
t/22.plugin.parser/03.format.t ........................ ok
t/22.plugin.parser/04.regex.t ......................... ok
t/22.plugin.parser/05.ghashy.t ........................ ok
t/22.plugin.parser/06.format-specials.t ............... ok
t/22.plugin.parser/07.by_separators.t ................. ok
t/22.plugin.parser/08.by_value_separator.t ............ ok
t/23.plugin.renderer.t ................................ ok
t/23.plugin.renderer/01.template-in-record.t .......... ok
t/23.plugin.renderer/02.tp-in-record.t ................ ok
t/23.plugin.renderer/03.tmpl-and-tp-in-record.t ....... ok
t/24.plugin.writer.t .................................. ok
t/25.plugin.validator/01.thoroughly-plain.t ........... ok
t/25.plugin.validator/02.thoroughly-try.t ............. ok
t/25.plugin.validator/03.thoroughly-keep_positives.t .. ok
t/25.plugin.validator/04.thoroughly-keep_empty.t ...... ok
t/25.plugin.validator/05.admit.t ...................... ok
t/25.plugin.validator/06.refuse.t ..................... ok
t/25.plugin.validator/07.refusers.t ................... ok
t/26.plugin.util/01.read_file.t ....................... ok
t/26.plugin.util/02.tubify.t .......................... ok
t/30.output.t ......................................... ok
t/author-pod-coverage.t ............................... skipped: these tests are for testing by the author
t/author-pod-syntax.t ................................. skipped: these tests are for testing by the author
t/release-pod-version.t ............................... skipped: these tests are for release candidate testing
All tests successful.
Files=41, Tests=602,  3 wallclock secs ( 0.07 usr  0.06 sys +  1.65 cusr  0.33 csys =  2.11 CPU)
Result: PASS

------------------------------
PREREQUISITES
------------------------------

Prerequisite modules loaded:

requires:

    Module              Need     Have    
    ------------------- -------- --------
    Log::Log4perl::Tiny v1.4.0   1.4.0   
    Mo                  0.39     0.40    
    perl                5.010000 5.022002
    Template::Perlish   1.56     1.56    

build_requires:

    Module              Need     Have    
    ------------------- -------- --------
    Path::Tiny          0.120    0.120   
    Test::Exception     0.43     0.43    
    Try::Catch          v1.1.0   1.1.0   

configure_requires:

    Module              Need     Have    
    ------------------- -------- --------
    Module::Build::Tiny 0.034    0.039   


------------------------------
ENVIRONMENT AND OTHER CONTEXT
------------------------------

Environment variables:

    LANG = en_US.UTF-8
    LANGUAGE = en_US:en
    LC_ALL = en_US.UTF-8
    PATH = /usr/local/bin:/usr/bin:/bin:/usr/local/sbin:/usr/sbin:/sbin:/home/cpansand/bin/linux-gnu:/home/cpansand/bin/sh:/home/cpansand/bin:/usr/games:/home/cpansand/devel:/home/eserte/src/srezic-misc/scripts
    PERL5LIB = /home/cpansand/.cpan/build/2022011323/Try-Catch-1.1.0-1/blib/arch:/home/cpansand/.cpan/build/2022011323/Try-Catch-1.1.0-1/blib/lib:/home/cpansand/.cpan/build/2022011323/Template-Perlish-1.56-1/blib/arch:/home/cpansand/.cpan/build/2022011323/Template-Perlish-1.56-1/blib/lib:/home/cpansand/.cpan/build/2022011323/Path-Tiny-0.120-1/blib/arch:/home/cpansand/.cpan/build/2022011323/Path-Tiny-0.120-1/blib/lib
    PERL5OPT = 
    PERL5_CPANPLUS_IS_RUNNING = 12665
    PERL5_CPAN_IS_RUNNING = 12665
    PERL5_CPAN_IS_RUNNING_IN_RECURSION = 12181,12665
    PERLDOC = -MPod::Perldoc::ToTextOverstrike
    PERL_BATCH = yes
    PERL_CANARY_STABILITY_NOPROMPT = 1
    PERL_CPAN_REPORTER_CONFIG = /var/tmp/cpansmoker-1023/2022011323/cpanreporter_000_config.ini
    PERL_EXTUTILS_AUTOINSTALL = --defaultdeps
    PERL_USE_UNSAFE_INC = 1
    SHELL = /bin/zsh
    TERM = screen
    TMPDIR = /var/tmp/cpansmoker-1023/2022011323

Perl special variables (and OS-specific diagnostics, for MSWin32):

    $^X = /opt/perl-5.22.2/bin/perl
    $UID/$EUID = 1023 / 1023
    $GID = 1023 1023
    $EGID = 1023 1023

Perl module toolchain versions installed:

    Module              Have    
    ------------------- --------
    CPAN                2.16    
    CPAN::Meta          2.150010
    Cwd                 3.62    
    ExtUtils::CBuilder  0.280221
    ExtUtils::Command   7.24    
    ExtUtils::Install   2.04    
    ExtUtils::MakeMaker 7.24    
    ExtUtils::Manifest  1.70    
    ExtUtils::ParseXS   3.28    
    File::Spec          3.62    
    JSON                2.90    
    JSON::PP            2.27300 
    Module::Build       0.4220  
    Module::Signature   0.81    
    Parse::CPAN::Meta   2.150010
    Test::Harness       3.35    
    Test::More          1.302052
    YAML                1.17    
    YAML::Syck          1.29    
    version             0.9917  


--

Summary of my perl5 (revision 5 version 22 subversion 2) configuration:
   
  Platform:
    osname=linux, osvers=3.2.0-4-amd64, archname=x86_64-linux
    uname='linux cvrsnica-wheezy 3.2.0-4-amd64 #1 smp debian 3.2.54-2 x86_64 gnulinux '
    config_args='-ds -e -Dprefix=/opt/perl-5.22.2 -Dcf_email=srezic@cpan.org'
    hint=recommended, useposix=true, d_sigaction=define
    useithreads=undef, usemultiplicity=undef
    use64bitint=define, use64bitall=define, uselongdouble=undef
    usemymalloc=n, bincompat5005=undef
  Compiler:
    cc='cc', ccflags ='-fwrapv -fno-strict-aliasing -pipe -fstack-protector -I/usr/local/include -D_LARGEFILE_SOURCE -D_FILE_OFFSET_BITS=64 -D_FORTIFY_SOURCE=2',
    optimize='-O2',
    cppflags='-fwrapv -fno-strict-aliasing -pipe -fstack-protector -I/usr/local/include'
    ccversion='', gccversion='4.7.2', gccosandvers=''
    intsize=4, longsize=8, ptrsize=8, doublesize=8, byteorder=12345678, doublekind=3
    d_longlong=define, longlongsize=8, d_longdbl=define, longdblsize=16, longdblkind=3
    ivtype='long', ivsize=8, nvtype='double', nvsize=8, Off_t='off_t', lseeksize=8
    alignbytes=8, prototype=define
  Linker and Libraries:
    ld='cc', ldflags =' -fstack-protector -L/usr/local/lib'
    libpth=/usr/local/lib /usr/lib/gcc/x86_64-linux-gnu/4.7/include-fixed /usr/include/x86_64-linux-gnu /usr/lib /lib/x86_64-linux-gnu /lib/../lib /usr/lib/x86_64-linux-gnu /usr/lib/../lib /lib
    libs=-lpthread -lnsl -ldb -ldl -lm -lcrypt -lutil -lc
    perllibs=-lpthread -lnsl -ldl -lm -lcrypt -lutil -lc
    libc=libc-2.13.so, so=so, useshrplib=false, libperl=libperl.a
    gnulibc_version='2.13'
  Dynamic Linking:
    dlsrc=dl_dlopen.xs, dlext=so, d_dlsymun=undef, ccdlflags='-Wl,-E'
    cccdlflags='-fPIC', lddlflags='-shared -O2 -L/usr/local/lib -fstack-protector'


Characteristics of this binary (from libperl): 
  Compile-time options: HAS_TIMES PERLIO_LAYERS PERL_DONT_CREATE_GVSV
                        PERL_HASH_FUNC_ONE_AT_A_TIME_HARD PERL_MALLOC_WRAP
                        PERL_NEW_COPY_ON_WRITE PERL_PRESERVE_IVUV
                        USE_64_BIT_ALL USE_64_BIT_INT USE_LARGE_FILES
                        USE_LOCALE USE_LOCALE_COLLATE USE_LOCALE_CTYPE
                        USE_LOCALE_NUMERIC USE_LOCALE_TIME USE_PERLIO
                        USE_PERL_ATOF
  Built under linux
  Compiled at May 29 2016 23:41:57
  %ENV:
    PERL5LIB="/home/cpansand/.cpan/build/2022011323/Try-Catch-1.1.0-1/blib/arch:/home/cpansand/.cpan/build/2022011323/Try-Catch-1.1.0-1/blib/lib:/home/cpansand/.cpan/build/2022011323/Template-Perlish-1.56-1/blib/arch:/home/cpansand/.cpan/build/2022011323/Template-Perlish-1.56-1/blib/lib:/home/cpansand/.cpan/build/2022011323/Path-Tiny-0.120-1/blib/arch:/home/cpansand/.cpan/build/2022011323/Path-Tiny-0.120-1/blib/lib"
    PERL5OPT=""
    PERL5_CPANPLUS_IS_RUNNING="12665"
    PERL5_CPAN_IS_RUNNING="12665"
    PERL5_CPAN_IS_RUNNING_IN_RECURSION="12181,12665"
    PERLDOC="-MPod::Perldoc::ToTextOverstrike"
    PERL_BATCH="yes"
    PERL_CANARY_STABILITY_NOPROMPT="1"
    PERL_CPAN_REPORTER_CONFIG="/var/tmp/cpansmoker-1023/2022011323/cpanreporter_000_config.ini"
    PERL_EXTUTILS_AUTOINSTALL="--defaultdeps"
    PERL_USE_UNSAFE_INC="1"
  @INC:
    /home/cpansand/.cpan/build/2022011323/Try-Catch-1.1.0-1/blib/arch
    /home/cpansand/.cpan/build/2022011323/Try-Catch-1.1.0-1/blib/lib
    /home/cpansand/.cpan/build/2022011323/Template-Perlish-1.56-1/blib/arch
    /home/cpansand/.cpan/build/2022011323/Template-Perlish-1.56-1/blib/lib
    /home/cpansand/.cpan/build/2022011323/Path-Tiny-0.120-1/blib/arch
    /home/cpansand/.cpan/build/2022011323/Path-Tiny-0.120-1/blib/lib
    /opt/perl-5.22.2/lib/site_perl/5.22.2/x86_64-linux
    /opt/perl-5.22.2/lib/site_perl/5.22.2
    /opt/perl-5.22.2/lib/5.22.2/x86_64-linux
    /opt/perl-5.22.2/lib/5.22.2
    .