Back
From: metabase:user:e83797c6-6da0-1014-84df-33ea7e0f01d3
Subject: PASS Devel-SizeMe-0.19 v5.10.1 GNU/Linux
Date: 2013-09-06T00:56:22Z
This distribution has been tested as part of the CPAN Testers
project, supporting the Perl programming language. See
http://wiki.cpantesters.org/ for more information or email
questions to cpan-testers-discuss@perl.org
--
Dear Tim Bunce,
This is a computer-generated report for Devel-SizeMe-0.19
on perl 5.10.1, created by CPAN-Reporter-1.2010.
Thank you for uploading your work to CPAN. Congratulations!
All tests were successful.
Sections of this report:
* Tester comments
* Program output
* Prerequisites
* Environment and other context
------------------------------
TESTER COMMENTS
------------------------------
Additional comments from tester:
this report is from an automated smoke testing program
and was not reviewed by a human for accuracy
------------------------------
PROGRAM OUTPUT
------------------------------
Output from 'make test':
PERL_DL_NONLAZY=1 /usr/bin/perl "-MExtUtils::Command::MM" "-e" "test_harness(0, 'blib/lib', 'blib/arch')" t/*.t
bin/sizeme_store.pl syntax OK
t/00-load.t ....... ok
t/10-sizeme.t ..... ok
t/20-smt-basic.t .. ok
t/basic.t ......... ok
t/code.t .......... ok
t/globs.t ......... ok
t/magic.t ......... ok
t/pod.t ........... ok
t/pod_cov.t ....... ok
t/pvbm.t .......... ok
t/recurse.t ....... ok
t/warnings.t ...... skipped: no Test::PerlRun found
All tests successful.
Files=12, Tests=175, 1 wallclock secs ( 0.07 usr 0.03 sys + 0.86 cusr 0.10 csys = 1.06 CPU)
Result: PASS
------------------------------
PREREQUISITES
------------------------------
Prerequisite modules loaded:
requires:
Module Need Have
------------------- -------- --------
autodie 2.12 2.20
DBD::SQLite 1.37 1.40
DBI 0 1.628
Devel::Dwarn 0 0
HTML::Entities 0 3.69
JSON::XS 0 2.34
Moo 1.000007 1.003000
perl 5.008 5.010001
Test::More 0.98 0.98
XSLoader 0 0.16
build_requires:
Module Need Have
------------------- -------- --------
ExtUtils::MakeMaker 0 6.74
configure_requires:
Module Need Have
------------------- -------- --------
ExtUtils::MakeMaker 0 6.74
------------------------------
ENVIRONMENT AND OTHER CONTEXT
------------------------------
Environment variables:
AUTOMATED_TESTING = 1
LANG = en_US.UTF-8
PATH = /usr/lib64/qt-3.3/bin:/usr/local/sbin:/usr/sbin:/sbin:/usr/local/bin:/usr/bin:/bin:/root/bin
PERL5LIB =
PERL5OPT =
PERL5_CPANPLUS_IS_RUNNING = 10216
PERL5_CPAN_IS_RUNNING = 10216
PERL5_CPAN_IS_RUNNING_IN_RECURSION = 3483,10216
PERL_CR_SMOKER_CURRENT = Devel-SizeMe-0.19
PERL_EXTUTILS_AUTOINSTALL = --defaultdeps
PERL_MM_USE_DEFAULT = 1
SHELL = /bin/bash
TERM = xterm
Perl special variables (and OS-specific diagnostics, for MSWin32):
$^X = /usr/bin/perl
$UID/$EUID = 0 / 0
$GID = 0 0
$EGID = 0 0
Perl module toolchain versions installed:
Module Have
------------------- --------
CPAN 2.00
CPAN::Meta 2.132140
Cwd 3.40
ExtUtils::CBuilder 0.280205
ExtUtils::Command 1.17
ExtUtils::Install 1.54
ExtUtils::MakeMaker 6.74
ExtUtils::Manifest 1.61
ExtUtils::ParseXS 3.18
File::Spec 3.40
JSON 2.59
JSON::PP 2.27202
Module::Build 0.4007
Module::Signature n/a
Parse::CPAN::Meta 1.4405
Test::Harness 3.28
Test::More 0.98
YAML 0.84
YAML::Syck 1.27
version 0.9903
--
Summary of my perl5 (revision 5 version 10 subversion 1) configuration:
Platform:
osname=linux, osvers=2.6.32-220.el6.x86_64, archname=x86_64-linux-thread-multi
uname='linux c6b8.bsys.dev.centos.org 2.6.32-220.el6.x86_64 #1 smp tue dec 6 19:48:22 gmt 2011 x86_64 x86_64 x86_64 gnulinux '
config_args='-des -Doptimize=-O2 -g -pipe -Wall -Wp,-D_FORTIFY_SOURCE=2 -fexceptions -fstack-protector --param=ssp-buffer-size=4 -m64 -mtune=generic -DDEBUGGING=-g -Dversion=5.10.1 -Dmyhostname=localhost -Dperladmin=root@localhost -Dcc=gcc -Dcf_by=Red Hat, Inc. -Dprefix=/usr -Dvendorprefix=/usr -Dsiteprefix=/usr/local -Dsitelib=/usr/local/share/perl5 -Dsitearch=/usr/local/lib64/perl5 -Dprivlib=/usr/share/perl5 -Darchlib=/usr/lib64/perl5 -Dvendorlib=/usr/share/perl5/vendor_perl -Dvendorarch=/usr/lib64/perl5/vendor_perl -Dinc_version_list=5.10.0 -Darchname=x86_64-linux-thread-multi -Dlibpth=/usr/local/lib64 /lib64 /usr/lib64 -Duseshrplib -Dusethreads -Duseithreads -Duselargefiles -Dd_dosuid -Dd_semctl_semun -Di_db -Ui_ndbm -Di_gdbm -Di_shadow -Di_syslog -Dman3ext=3pm -Duseperlio -Dinstallusrbinperl=n -Ubincompat5005 -Uversiononly -Dpager=/usr/bin/less -isr -Dd_gethostent_r_proto -Ud_endhostent_r_proto -Ud_sethostent_r_proto -Ud_endprotoent_r_proto -Ud_setprotoent_r_proto -Ud_endservent_r_proto -Ud_setservent_r_proto -Dscriptdir=/usr/bin -Dusesitecustomize'
hint=recommended, useposix=true, d_sigaction=define
useithreads=define, usemultiplicity=define
useperlio=define, d_sfio=undef, uselargefiles=define, usesocks=undef
use64bitint=define, use64bitall=define, uselongdouble=undef
usemymalloc=n, bincompat5005=undef
Compiler:
cc='gcc', ccflags ='-D_REENTRANT -D_GNU_SOURCE -fno-strict-aliasing -pipe -fstack-protector -I/usr/local/include -D_LARGEFILE_SOURCE -D_FILE_OFFSET_BITS=64',
optimize='-O2 -g -pipe -Wall -Wp,-D_FORTIFY_SOURCE=2 -fexceptions -fstack-protector --param=ssp-buffer-size=4 -m64 -mtune=generic',
cppflags='-D_REENTRANT -D_GNU_SOURCE -fno-strict-aliasing -pipe -fstack-protector -I/usr/local/include'
ccversion='', gccversion='4.4.7 20120313 (Red Hat 4.4.7-3)', gccosandvers=''
intsize=4, longsize=8, ptrsize=8, doublesize=8, byteorder=12345678
d_longlong=define, longlongsize=8, d_longdbl=define, longdblsize=16
ivtype='long', ivsize=8, nvtype='double', nvsize=8, Off_t='off_t', lseeksize=8
alignbytes=8, prototype=define
Linker and Libraries:
ld='gcc', ldflags =' -fstack-protector'
libpth=/usr/local/lib64 /lib64 /usr/lib64
libs=-lresolv -lnsl -lgdbm -ldb -ldl -lm -lcrypt -lutil -lpthread -lc
perllibs=-lresolv -lnsl -ldl -lm -lcrypt -lutil -lpthread -lc
libc=, so=so, useshrplib=true, libperl=libperl.so
gnulibc_version='2.12'
Dynamic Linking:
dlsrc=dl_dlopen.xs, dlext=so, d_dlsymun=undef, ccdlflags='-Wl,-E -Wl,-rpath,/usr/lib64/perl5/CORE'
cccdlflags='-fPIC', lddlflags='-shared -O2 -g -pipe -Wall -Wp,-D_FORTIFY_SOURCE=2 -fexceptions -fstack-protector --param=ssp-buffer-size=4 -m64 -mtune=generic'
Characteristics of this binary (from libperl):
Compile-time options: MULTIPLICITY PERL_DONT_CREATE_GVSV
PERL_IMPLICIT_CONTEXT PERL_MALLOC_WRAP USE_64_BIT_ALL
USE_64_BIT_INT USE_ITHREADS USE_LARGE_FILES
USE_PERLIO USE_REENTRANT_API USE_SITECUSTOMIZE
Built under linux
Compiled at Apr 30 2013 12:24:05
%ENV:
PERL5LIB=""
PERL5OPT=""
PERL5_CPANPLUS_IS_RUNNING="10216"
PERL5_CPAN_IS_RUNNING="10216"
PERL5_CPAN_IS_RUNNING_IN_RECURSION="3483,10216"
PERL_CR_SMOKER_CURRENT="Devel-SizeMe-0.19"
PERL_EXTUTILS_AUTOINSTALL="--defaultdeps"
PERL_MM_USE_DEFAULT="1"
@INC:
/usr/local/lib64/perl5
/usr/local/share/perl5
/usr/lib64/perl5/vendor_perl
/usr/share/perl5/vendor_perl
/usr/lib64/perl5
/usr/share/perl5
.