Back
From: metabase:user:68a9c4ac-1ec7-11e0-bf29-9c4bfeb2ac3f
Subject: PASS Net-DBus-1.0.0 v5.15.3 GNU/Linux
Date: 2011-09-23T18:37:53Z
This distribution has been tested as part of the CPAN Testers
project, supporting the Perl programming language. See
http://wiki.cpantesters.org/ for more information or email
questions to cpan-testers-discuss@perl.org
--
Dear Daniel P. Berrange,
This is a computer-generated report for Net-DBus-1.0.0
on perl 5.15.3, created by CPAN-Reporter-1.2002.
Thank you for uploading your work to CPAN. Congratulations!
All tests were successful.
Sections of this report:
* Tester comments
* Program output
* Prerequisites
* Environment and other context
------------------------------
TESTER COMMENTS
------------------------------
Additional comments from tester:
none provided
------------------------------
PROGRAM OUTPUT
------------------------------
Output from '/usr/bin/make test':
PERL_DL_NONLAZY=1 /home/rando/perl5/perlbrew/perls/perl-5.15.3/bin/perl5.15.3 "-MExtUtils::Command::MM" "-e" "test_harness(0, 'blib/lib', 'blib/arch')" t/*.t
t/00-constants.t ................ ok
t/05-pod.t ...................... ok
t/10-pod-coverage.t ............. ok
t/15-message.t .................. ok
t/20-callback.t ................. ok
t/25-reactor.t .................. ok
t/30-server.t ................... ok
t/40-introspector.t ............. ok
t/42-object-introspect-avahi.t .. ok
t/45-exporter.t ................. ok
t/50-object-introspect.t ........ ok
t/55-method-calls.t ............. ok
t/56-scalar-param-typing.t ...... ok
t/60-object-props.t ............. ok
t/65-object-magic.t ............. ok
t/66-child-objects.t ............ ok
t/70-errors.t ................... ok
t/75-notifications.t ............ ok
All tests successful.
Files=18, Tests=735, 4 wallclock secs ( 0.16 usr 0.02 sys + 1.90 cusr 0.24 csys = 2.32 CPU)
Result: PASS
------------------------------
PREREQUISITES
------------------------------
Prerequisite modules loaded:
requires:
Module Need Have
------------------- ---- ------
Test::More 0 0.98
Time::HiRes 0 1.9724
XML::Twig 0 3.38
build_requires:
Module Need Have
------------------- ---- ------
ExtUtils::MakeMaker 0 6.59
------------------------------
ENVIRONMENT AND OTHER CONTEXT
------------------------------
Environment variables:
LANG = en_US.utf8
LANGUAGE = en_US.utf8
LC_ALL = en_US.utf8
LC_CTYPE = en_US.utf8
PATH = /home/rando/perl5/perlbrew/bin:/home/rando/perl5/perlbrew/perls/perl-5.15.3/bin:/opt/imagemagick/bin:/home/rando/devel/linux:/home/rando/bin:/usr/local/sbin:/usr/local/bin:/usr/sbin:/usr/bin:/sbin:/bin:/usr/games
PATH_WITHOUT_PERLBREW = /opt/imagemagick/bin:/home/rando/devel/linux:/home/rando/bin:/usr/local/sbin:/usr/local/bin:/usr/sbin:/usr/bin:/sbin:/bin:/usr/games
PERL5LIB =
PERL5OPT =
PERL5_CPANPLUS_IS_RUNNING = 7886
PERL5_CPAN_IS_RUNNING = 7886
PERLBREW_HOME = /home/rando/.perlbrew
PERLBREW_PATH = /home/rando/perl5/perlbrew/bin:/home/rando/perl5/perlbrew/perls/perl-5.15.3/bin
PERLBREW_PERL = perl-5.15.3
PERLBREW_ROOT = /home/rando/perl5/perlbrew
PERLBREW_VERSION = 0.28
PERL_CPANM_OPT = --save-dists /home/rando/perl5/cpan/mini --mirror http://localhost:4999/CPAN/ --mirror http://cpan.ezarticleinformation.com/ --mirror http://search.cpan.org/CPAN/
SHELL = /bin/bash
TERM = screen-256color
Perl special variables (and OS-specific diagnostics, for MSWin32):
$^X = /home/rando/perl5/perlbrew/perls/perl-5.15.3/bin/perl5.15.3
$UID/$EUID = 1000 / 1000
$GID = 1000 4 20 24 46 112 120 122 128 1000
$EGID = 1000 4 20 24 46 112 120 122 128 1000
Perl module toolchain versions installed:
Module Have
------------------- --------
CPAN 1.9800
CPAN::Meta 2.112621
Cwd 3.37
ExtUtils::CBuilder 0.280204
ExtUtils::Command 1.17
ExtUtils::Install 1.57
ExtUtils::MakeMaker 6.59
ExtUtils::Manifest 1.60
ExtUtils::ParseXS 3.04_04
File::Spec 3.34
JSON 2.53
JSON::PP 2.27200
Module::Build 0.39_01
Module::Signature 0.68
Parse::CPAN::Meta 1.4401
Test::Harness 3.23
Test::More 0.98
YAML 0.73
YAML::Syck n/a
version 0.94
--
Summary of my perl5 (revision 5 version 15 subversion 3) configuration:
Platform:
osname=linux, osvers=2.6.38-11-generic, archname=x86_64-linux
uname='linux raptor 2.6.38-11-generic #50-ubuntu smp mon sep 12 21:17:25 utc 2011 x86_64 x86_64 x86_64 gnulinux '
config_args='-de -Dprefix=/home/rando/perl5/perlbrew/perls/perl-5.15.3 -Dusedevel'
hint=recommended, useposix=true, d_sigaction=define
useithreads=undef, usemultiplicity=undef
useperlio=define, d_sfio=undef, uselargefiles=define, usesocks=undef
use64bitint=define, use64bitall=define, uselongdouble=undef
usemymalloc=n, bincompat5005=undef
Compiler:
cc='cc', ccflags ='-fno-strict-aliasing -pipe -fstack-protector -I/usr/local/include -D_LARGEFILE_SOURCE -D_FILE_OFFSET_BITS=64',
optimize='-O2',
cppflags='-fno-strict-aliasing -pipe -fstack-protector -I/usr/local/include'
ccversion='', gccversion='4.5.2', gccosandvers=''
intsize=4, longsize=8, ptrsize=8, doublesize=8, byteorder=12345678
d_longlong=define, longlongsize=8, d_longdbl=define, longdblsize=16
ivtype='long', ivsize=8, nvtype='double', nvsize=8, Off_t='off_t', lseeksize=8
alignbytes=8, prototype=define
Linker and Libraries:
ld='cc', ldflags =' -fstack-protector -L/usr/local/lib'
libpth=/usr/local/lib /lib /usr/lib /usr/lib/x86_64-linux-gnu /lib64 /usr/lib64
libs=-lnsl -ldb -ldl -lm -lcrypt -lutil -lc
perllibs=-lnsl -ldl -lm -lcrypt -lutil -lc
libc=, so=so, useshrplib=false, libperl=libperl.a
gnulibc_version='2.13'
Dynamic Linking:
dlsrc=dl_dlopen.xs, dlext=so, d_dlsymun=undef, ccdlflags='-Wl,-E'
cccdlflags='-fPIC', lddlflags='-shared -O2 -L/usr/local/lib -fstack-protector'
Characteristics of this binary (from libperl):
Compile-time options: HAS_TIMES PERLIO_LAYERS PERL_DONT_CREATE_GVSV
PERL_MALLOC_WRAP PERL_PRESERVE_IVUV PERL_USE_DEVEL
USE_64_BIT_ALL USE_64_BIT_INT USE_LARGE_FILES
USE_LOCALE USE_LOCALE_COLLATE USE_LOCALE_CTYPE
USE_LOCALE_NUMERIC USE_PERLIO USE_PERL_ATOF
Built under linux
Compiled at Sep 23 2011 06:47:39
%ENV:
PERL5LIB=""
PERL5OPT=""
PERL5_CPANPLUS_IS_RUNNING="7886"
PERL5_CPAN_IS_RUNNING="7886"
PERLBREW_HOME="/home/rando/.perlbrew"
PERLBREW_PATH="/home/rando/perl5/perlbrew/bin:/home/rando/perl5/perlbrew/perls/perl-5.15.3/bin"
PERLBREW_PERL="perl-5.15.3"
PERLBREW_ROOT="/home/rando/perl5/perlbrew"
PERLBREW_VERSION="0.28"
PERL_CPANM_OPT="--save-dists /home/rando/perl5/cpan/mini --mirror http://localhost:4999/CPAN/ --mirror http://cpan.ezarticleinformation.com/ --mirror http://search.cpan.org/CPAN/"
@INC:
/home/rando/perl5/perlbrew/perls/perl-5.15.3/lib/site_perl/5.15.3/x86_64-linux
/home/rando/perl5/perlbrew/perls/perl-5.15.3/lib/site_perl/5.15.3
/home/rando/perl5/perlbrew/perls/perl-5.15.3/lib/5.15.3/x86_64-linux
/home/rando/perl5/perlbrew/perls/perl-5.15.3/lib/5.15.3
.