Net-SugarCRM v3.320000 Perl 5 v5.14.4 amd64-freebsd

Status
Pass
From
Slaven Rezić (SREZIC)
Dist
Net-SugarCRM v3.320000
Platform
Perl 5 v5.14.4 amd64-freebsd
Date
2018-08-04 12:08:50
ID
25c73b4e-97df-11e8-97a7-a95f801c78b6
This distribution has been tested as part of the CPAN Testers
project, supporting the Perl programming language.  See
http://wiki.cpantesters.org/ for more information or email
questions to cpan-testers-discuss@perl.org


--
Dear Nito Martinez,

This is a computer-generated report for Net-SugarCRM-3.320000
on perl 5.14.4, created by CPAN-Reporter-1.2018.

Thank you for uploading your work to CPAN.  Congratulations!
All tests were successful.

Sections of this report:

    * Tester comments
    * Program output
    * Prerequisites
    * Environment and other context

------------------------------
TESTER COMMENTS
------------------------------

Additional comments from tester:

none provided

------------------------------
PROGRAM OUTPUT
------------------------------

Output from './Build test':

# Testing Net::SugarCRM 3.320000, Perl 5.014004, /usr/perl5.14.4p/bin/perl
t/00-load.t ................ ok
t/10-login.t ............... skipped: Author test.  Set $ENV{TEST_AUTHOR_SUGAR} to a true value to run. Define it as DEBUG to see the debug messages
t/20-modules.t ............. skipped: Author test.  Set $ENV{TEST_AUTHOR_SUGAR} to a true value to run. Define it as DEBUG to see the debug messages
t/30-lead.t ................ skipped: Author test.  Set $ENV{TEST_AUTHOR_SUGAR} to a true value to run. Define it as DEBUG to see the debug messages
t/40-contact.t ............. skipped: Author test.  Set $ENV{TEST_AUTHOR_SUGAR} to a true value to run. Define it as DEBUG to see the debug messages
t/50-account.t ............. skipped: Author test.  Set $ENV{TEST_AUTHOR_SUGAR} to a true value to run. Define it as DEBUG to see the debug messages
t/60-opportunity.t ......... skipped: Author test.  Set $ENV{TEST_AUTHOR_SUGAR} to a true value to run. Define it as DEBUG to see the debug messages
t/70-getmailentry.t ........ skipped: Author test.  Set $ENV{TEST_AUTHOR_SUGAR} to a true value to run. Define it as DEBUG to see the debug messages
t/75-add-note.t ............ skipped: Author test.  Set $ENV{TEST_AUTHOR_SUGAR} to a true value to run. Define it as DEBUG to see the debug messages
t/77-currency.t ............ skipped: Author test.  Set $ENV{TEST_AUTHOR_SUGAR} to a true value to run. Define it as DEBUG to see the debug messages
t/80-mailinglist.t ......... skipped: Author test.  Set $ENV{TEST_AUTHOR_SUGAR} to a true value to run. Define it as DEBUG to see the debug messages
t/90-send-campaign-mail.t .. skipped: Author test.  Set $ENV{TEST_AUTHOR_SUGAR} to a true value to run. Define it as DEBUG to see the debug messages
t/manifest.t ............... skipped: Author tests not required for installation
t/perlcritic.t ............. skipped: Author test.  Set $ENV{TEST_AUTHOR} to a true value to run.
t/pod-coverage.t ........... ok
t/pod.t .................... ok
All tests successful.
Files=16, Tests=6,  7 wallclock secs ( 0.08 usr  0.02 sys +  5.18 cusr  0.80 csys =  6.07 CPU)
Result: PASS

------------------------------
PREREQUISITES
------------------------------

Prerequisite modules loaded:

requires:

    Module         Need Have    
    -------------- ---- --------
    DateTime       0    1.49    
    DBI            0    1.639   
    File::Spec     0    3.74    
    JSON           0    2.97001 
    Log::Log4perl  0    1.49    
    LWP::UserAgent 0    6.34    
    Moose          0    2.2011  
    Readonly       0    2.05    
    Tie::IxHash    0    1.23    
    Try::Tiny      0    0.30    

build_requires:

    Module         Need Have    
    -------------- ---- --------
    Test::More     0    1.302136

configure_requires:

    Module         Need Have    
    -------------- ---- --------
    Module::Build  0.42 0.4224  


------------------------------
ENVIRONMENT AND OTHER CONTEXT
------------------------------

Environment variables:

    PATH = /usr/local/bin:/usr/bin:/bin:/usr/local/sbin:/usr/sbin:/sbin:/home/cpansand/bin/sh:/home/cpansand/bin:/usr/games:/home/cpansand/devel:/home/eserte/src/srezic-misc/scripts
    PERL5LIB = 
    PERL5OPT = 
    PERL5_CPANPLUS_IS_RUNNING = 67611
    PERL5_CPAN_IS_RUNNING = 67611
    PERL5_CPAN_IS_RUNNING_IN_RECURSION = 67432,67611
    PERL_BATCH = yes
    PERL_CANARY_STABILITY_NOPROMPT = 1
    PERL_CPAN_REPORTER_CONFIG = /var/tmp/cpansmoker-1023/2018080420/cpanreporter_000_config.ini
    PERL_EXTUTILS_AUTOINSTALL = --defaultdeps
    SHELL = /bin/sh
    TMPDIR = /var/tmp/cpansmoker-1023/2018080420

Perl special variables (and OS-specific diagnostics, for MSWin32):

    $^X = /usr/perl5.14.4p/bin/perl
    $UID/$EUID = 1023 / 1023
    $GID = 1023 1023
    $EGID = 1023 1023

Perl module toolchain versions installed:

    Module              Have    
    ------------------- --------
    CPAN                2.16    
    CPAN::Meta          2.150010
    Cwd                 3.74    
    ExtUtils::CBuilder  0.280230
    ExtUtils::Command   7.34    
    ExtUtils::Install   2.06    
    ExtUtils::MakeMaker 7.34    
    ExtUtils::Manifest  1.70    
    ExtUtils::ParseXS   3.35    
    File::Spec          3.74    
    JSON                2.97001 
    JSON::PP            2.97001 
    Module::Build       0.4224  
    Module::Signature   0.81    
    Parse::CPAN::Meta   2.150010
    Test::Harness       3.42    
    Test::More          1.302136
    YAML                1.26    
    YAML::Syck          1.30    
    version             0.9922  


--

Summary of my perl5 (revision 5 version 14 subversion 4) configuration:
   
  Platform:
    osname=freebsd, osvers=12.0-current, archname=amd64-freebsd
    uname='freebsd ali1.bbbike.org 12.0-current freebsd 12.0-current #0 bd8385a990e(master)-dirty: fri nov 17 03:13:11 utc 2017 root@ali1.bbbike.org:usrobjhomeprojectsfreebsdamd64.amd64sysgeneric-nodebug amd64 '
    config_args='-ds -e -Dprefix=/usr/perl5.14.4p -Dcf_email=srezic@cpan.org -Doptimize=-O2 -pipe'
    hint=recommended, useposix=true, d_sigaction=define
    useithreads=undef, usemultiplicity=undef
    useperlio=define, d_sfio=undef, uselargefiles=define, usesocks=undef
    use64bitint=define, use64bitall=define, uselongdouble=undef
    usemymalloc=n, bincompat5005=undef
  Compiler:
    cc='cc', ccflags ='-DHAS_FPSETMASK -DHAS_FLOATINGPOINT_H -fno-strict-aliasing -pipe -fstack-protector -I/usr/local/include',
    optimize='-O2 -pipe',
    cppflags='-DHAS_FPSETMASK -DHAS_FLOATINGPOINT_H -fno-strict-aliasing -pipe -fstack-protector -I/usr/local/include'
    ccversion='', gccversion='4.2.1 Compatible FreeBSD Clang 5.0.0 (tags/RELEASE_500/final 312559)', gccosandvers=''
    intsize=4, longsize=8, ptrsize=8, doublesize=8, byteorder=12345678
    d_longlong=define, longlongsize=8, d_longdbl=define, longdblsize=16
    ivtype='long', ivsize=8, nvtype='double', nvsize=8, Off_t='off_t', lseeksize=8
    alignbytes=8, prototype=define
  Linker and Libraries:
    ld='cc', ldflags ='-pthread -Wl,-E  -fstack-protector -L/usr/local/lib'
    libpth=/usr/lib /usr/local/lib
    libs=-lgdbm -lm -lcrypt -lutil -lc
    perllibs=-lm -lcrypt -lutil -lc
    libc=, so=so, useshrplib=false, libperl=libperl.a
    gnulibc_version=''
  Dynamic Linking:
    dlsrc=dl_dlopen.xs, dlext=so, d_dlsymun=undef, ccdlflags=' '
    cccdlflags='-DPIC -fPIC', lddlflags='-shared  -L/usr/local/lib -fstack-protector'


Characteristics of this binary (from libperl): 
  Compile-time options: PERL_DONT_CREATE_GVSV PERL_MALLOC_WRAP
                        PERL_PRESERVE_IVUV USE_64_BIT_ALL USE_64_BIT_INT
                        USE_LARGE_FILES USE_PERLIO USE_PERL_ATOF
  Built under freebsd
  Compiled at Nov 17 2017 07:31:56
  %ENV:
    PERL5LIB=""
    PERL5OPT=""
    PERL5_CPANPLUS_IS_RUNNING="67611"
    PERL5_CPAN_IS_RUNNING="67611"
    PERL5_CPAN_IS_RUNNING_IN_RECURSION="67432,67611"
    PERL_BATCH="yes"
    PERL_CANARY_STABILITY_NOPROMPT="1"
    PERL_CPAN_REPORTER_CONFIG="/var/tmp/cpansmoker-1023/2018080420/cpanreporter_000_config.ini"
    PERL_EXTUTILS_AUTOINSTALL="--defaultdeps"
  @INC:
    /usr/perl5.14.4p/lib/site_perl/5.14.4/amd64-freebsd
    /usr/perl5.14.4p/lib/site_perl/5.14.4
    /usr/perl5.14.4p/lib/5.14.4/amd64-freebsd
    /usr/perl5.14.4p/lib/5.14.4
    .