Report for String-Sections-0.3.2

Back
From: metabase:user:30f4dfbe-2aae-11df-837a-5e0a49663a4f
Subject: PASS String-Sections-0.3.2 v5.12.5 Mac OS X
Date: 2013-10-02T16:39:03Z

This distribution has been tested as part of the CPAN Testers
project, supporting the Perl programming language.  See
http://wiki.cpantesters.org/ for more information or email
questions to cpan-testers-discuss@perl.org


--
Dear Kent Fredric,

This is a computer-generated report for String-Sections-0.3.2
on perl 5.12.5, created by CPAN-Reporter-1.2010.

Thank you for uploading your work to CPAN.  Congratulations!
All tests were successful.

Sections of this report:

    * Tester comments
    * Program output
    * Prerequisites
    * Environment and other context

------------------------------
TESTER COMMENTS
------------------------------

Additional comments from tester:

this report is from an automated smoke testing program
and was not reviewed by a human for accuracy

------------------------------
PROGRAM OUTPUT
------------------------------

Output from './Build test':

t/00-compile.t .................................................. ok
# 
# 
# Generated by Dist::Zilla::Plugin::ReportVersions::Tiny v1.09
# perl: 5.012005 (wanted 5.010001) on darwin from /Users/hornenj/perl5/perlbrew/perls/perl-5.12.5/bin/perl
# 
# Carp                                          => 1.26       (want any version)
# Data::Dump                                    => 1.22       (want any version)
# Dist::Zilla::PluginBundle::Author::KENTNL     => module not found. (want v1.8.3) 
# Dist::Zilla::PluginBundle::Author::KENTNL::Lite => module not found. (want v1.3.0) 
# File::Spec                                    => 3.40       (want any version)
# FindBin                                       => 1.50       (want any version)
# IO::Handle                                    => 1.28       (want any version)
# IPC::Open3                                    => 1.05       (want any version)
# Module::Build                                 => 0.4007     (want 0.4007) 
# Moo                                           => 1.003      (want 1.000008)
# Path::Tiny                                    => 0.031      (want any version)
# Pod::Coverage::TrustPod                       => module not found. (want any version)
# Scalar::Util                                  => 1.32       (want any version)
# Sub::Exporter::Progressive                    => 0.001010   (want any version)
# Test::CPAN::Changes                           => module not found. (want 0.19)   
# Test::CPAN::Meta                              => module not found. (want any version)
# Test::Fatal                                   => 0.010      (want any version)
# Test::Kwalitee                                => 1.13       (want 1.08)   
# Test::More                                    => 0.98       (want 0.98)   
# Test::Pod                                     => 1.48       (want 1.41)   
# Test::Pod::Coverage                           => 1.08       (want 1.08)   
# Types::Standard                               => 0.028      (want any version)
# lib                                           => 0.63       (want any version)
# strict                                        => 1.04       (want any version)
# version                                       => 0.9903     (want 0.9901) 
# warnings                                      => 1.09       (want any version)
# 
# Thanks for using my code.  I hope it works for you.
# If not, please try and include this output in the bug report.
# That will help me reproduce the issue and solve your problem.
# 
t/000-report-versions-tiny.t .................................... ok
t/01-String-Sections-Result/basic.t ............................. ok
t/01_parse_lines.t .............................................. ok
t/02-String-Sections/parse_filehandles/empty.t .................. ok
t/02-String-Sections/parse_filehandles/nosections.t ............. ok
t/02-String-Sections/parse_filehandles/onesection_full.t ........ ok
t/02-String-Sections/parse_filehandles/onesection_head.t ........ ok
t/02-String-Sections/parse_filehandles/prelude.t ................ ok
t/02-String-Sections/parse_filehandles/twosection_full.t ........ ok
t/02-String-Sections/parse_filehandles/twosection_secondhead.t .. ok
t/02-String-Sections/parse_list/empty.t ......................... ok
t/02-String-Sections/parse_list/nosections.t .................... ok
t/02-String-Sections/parse_list/onesection_full.t ............... ok
t/02-String-Sections/parse_list/onesection_head.t ............... ok
t/02-String-Sections/parse_list/prelude.t ....................... ok
t/02-String-Sections/parse_list/twosection_full.t ............... ok
t/02-String-Sections/parse_list/twosection_secondhead.t ......... ok
All tests successful.
Files=18, Tests=58,  2 wallclock secs ( 0.05 usr  0.03 sys +  1.62 cusr  0.16 csys =  1.86 CPU)
Result: PASS

------------------------------
PREREQUISITES
------------------------------

Prerequisite modules loaded:

requires:

    Module                     Need     Have    
    -------------------------- -------- --------
    Carp                       0        1.26    
    Moo                        1.000008 1.003000
    perl                       5.010001 5.012005
    Scalar::Util               0        1.32    
    strict                     0        1.04    
    Types::Standard            0        0.028   
    warnings                   0        1.09    

build_requires:

    Module                     Need     Have    
    -------------------------- -------- --------
    Data::Dump                 0        1.22    
    File::Spec                 0        3.40    
    FindBin                    0        1.50    
    IO::Handle                 0        1.28    
    IPC::Open3                 0        1.05    
    lib                        0        0.63    
    Module::Build              0.4007   0.4007  
    Path::Tiny                 0        0.031   
    Sub::Exporter::Progressive 0        0.001010
    Test::Fatal                0        0.010   
    Test::More                 0.98     0.98    

configure_requires:

    Module                     Need     Have    
    -------------------------- -------- --------
    Module::Build              0.4007   0.4007  


------------------------------
ENVIRONMENT AND OTHER CONTEXT
------------------------------

Environment variables:

    AUTOMATED_TESTING = 1
    LC_ALL = POSIX
    LD_LIBRARY_PATH = :/net/traces01.be-md.ncbi.nlm.nih.gov/trace_software/vdb/mac/release/x86_64/lib
    PATH = /Users/hornenj/perl5/perlbrew/bin:/Users/hornenj/perl5/perlbrew/perls/perl-5.12.5/bin:/Users/hornenj/perl5/perlbrew/bin:/sw/lib/perl5/ExtUtils:/sw/bin:/sw/sbin:/am/ncbiapdata/bin:/usr/bin:/bin:/usr/X11R6/bin:/Users/hornenj/bin:/netopt/ncbi_tools/bin:/usr/local/ncbi/blast/bin:/net/traces01.be-md.ncbi.nlm.nih.gov/trace_software/vdb/mac/release/x86_64/bin
    PERL5LIB = /Users/hornenj/.cpan/build/Type-Tiny-0.028-BKAexf/blib/arch:/Users/hornenj/.cpan/build/Type-Tiny-0.028-BKAexf/blib/lib
    PERL5OPT = 
    PERL5_CPANPLUS_IS_RUNNING = 39733
    PERL5_CPAN_IS_RUNNING = 39733
    PERL5_MINISMOKEBOX = 0.56
    PERLBREW_BASHRC_VERSION = 0.66
    PERLBREW_HOME = /Users/hornenj/.perlbrew
    PERLBREW_MANPATH = /Users/hornenj/perl5/perlbrew/perls/perl-5.12.5/man
    PERLBREW_PATH = /Users/hornenj/perl5/perlbrew/bin:/Users/hornenj/perl5/perlbrew/perls/perl-5.12.5/bin
    PERLBREW_PERL = perl-5.12.5
    PERLBREW_ROOT = /Users/hornenj/perl5/perlbrew
    PERLBREW_VERSION = 0.66
    PERL_EXTUTILS_AUTOINSTALL = --defaultdeps
    PERL_MM_USE_DEFAULT = 1
    SHELL = /bin/bash
    TERM = xterm
    TMPDIR = /var/folders/pz/pd7y1qjs6s3cbk170cw50fjc000c61/T/
    VERSIONER_PERL_PREFER_32_BIT = no
    VERSIONER_PERL_VERSION = 5.12
    ac_cv_path_INTLTOOL_PERL = /usr/bin/perl

Perl special variables (and OS-specific diagnostics, for MSWin32):

    $^X = /Users/hornenj/perl5/perlbrew/perls/perl-5.12.5/bin/perl
    $UID/$EUID = 12481 / 12481
    $GID = 14 14 5344 527 241 223 206 402 12 62 204
    $EGID = 14 14 5344 527 241 223 206 402 12 62 204

Perl module toolchain versions installed:

    Module              Have    
    ------------------- --------
    CPAN                2.00    
    CPAN::Meta          2.132140
    Cwd                 3.40    
    ExtUtils::CBuilder  0.280205
    ExtUtils::Command   1.17    
    ExtUtils::Install   1.55    
    ExtUtils::MakeMaker 6.74    
    ExtUtils::Manifest  1.61    
    ExtUtils::ParseXS   3.22    
    File::Spec          3.40    
    JSON                2.59    
    JSON::PP            2.27202 
    Module::Build       0.4007  
    Module::Signature   n/a     
    Parse::CPAN::Meta   1.4405  
    Test::Harness       3.28    
    Test::More          0.98    
    YAML                0.84    
    YAML::Syck          1.27    
    version             0.9903  


--

Summary of my perl5 (revision 5 version 12 subversion 5) configuration:
   
  Platform:
    osname=darwin, osvers=12.2.1, archname=darwin-2level
    uname='darwin ncbimac2008.ncbi.nlm.nih.gov 12.2.1 darwin kernel version 12.2.1: thu oct 18 12:13:47 pdt 2012; root:xnu-2050.20.9~1release_x86_64 x86_64 '
    config_args='-de -Dprefix=/Users/hornenj/perl5/perlbrew/perls/perl-5.12.5'
    hint=recommended, useposix=true, d_sigaction=define
    useithreads=undef, usemultiplicity=undef
    useperlio=define, d_sfio=undef, uselargefiles=define, usesocks=undef
    use64bitint=define, use64bitall=define, uselongdouble=undef
    usemymalloc=n, bincompat5005=undef
  Compiler:
    cc='cc', ccflags ='-fno-common -DPERL_DARWIN -no-cpp-precomp -fno-strict-aliasing -pipe -fstack-protector',
    optimize='-O3',
    cppflags='-no-cpp-precomp -fno-common -DPERL_DARWIN -no-cpp-precomp -fno-strict-aliasing -pipe -fstack-protector'
    ccversion='', gccversion='4.2.1 Compatible Apple LLVM 4.2 (clang-425.0.24)', gccosandvers=''
    intsize=4, longsize=8, ptrsize=8, doublesize=8, byteorder=12345678
    d_longlong=define, longlongsize=8, d_longdbl=define, longdblsize=16
    ivtype='long', ivsize=8, nvtype='double', nvsize=8, Off_t='off_t', lseeksize=8
    alignbytes=8, prototype=define
  Linker and Libraries:
    ld='env MACOSX_DEPLOYMENT_TARGET=10.3 cc', ldflags =' -fstack-protector'
    libpth=/usr/lib
    libs=-ldbm -ldl -lm -lutil -lc
    perllibs=-ldl -lm -lutil -lc
    libc=, so=dylib, useshrplib=false, libperl=libperl.a
    gnulibc_version=''
  Dynamic Linking:
    dlsrc=dl_dlopen.xs, dlext=bundle, d_dlsymun=undef, ccdlflags=' '
    cccdlflags=' ', lddlflags=' -bundle -undefined dynamic_lookup -fstack-protector'


Characteristics of this binary (from libperl): 
  Compile-time options: PERL_DONT_CREATE_GVSV PERL_MALLOC_WRAP USE_64_BIT_ALL
                        USE_64_BIT_INT USE_LARGE_FILES USE_PERLIO
                        USE_PERL_ATOF
  Built under darwin
  Compiled at Mar  5 2013 11:08:14
  %ENV:
    PERL5LIB="/Users/hornenj/.cpan/build/Type-Tiny-0.028-BKAexf/blib/arch:/Users/hornenj/.cpan/build/Type-Tiny-0.028-BKAexf/blib/lib"
    PERL5OPT=""
    PERL5_CPANPLUS_IS_RUNNING="39733"
    PERL5_CPAN_IS_RUNNING="39733"
    PERL5_MINISMOKEBOX="0.56"
    PERLBREW_BASHRC_VERSION="0.66"
    PERLBREW_HOME="/Users/hornenj/.perlbrew"
    PERLBREW_MANPATH="/Users/hornenj/perl5/perlbrew/perls/perl-5.12.5/man"
    PERLBREW_PATH="/Users/hornenj/perl5/perlbrew/bin:/Users/hornenj/perl5/perlbrew/perls/perl-5.12.5/bin"
    PERLBREW_PERL="perl-5.12.5"
    PERLBREW_ROOT="/Users/hornenj/perl5/perlbrew"
    PERLBREW_VERSION="0.66"
    PERL_EXTUTILS_AUTOINSTALL="--defaultdeps"
    PERL_MM_USE_DEFAULT="1"
  @INC:
    /Users/hornenj/.cpan/build/Type-Tiny-0.028-BKAexf/blib/arch
    /Users/hornenj/.cpan/build/Type-Tiny-0.028-BKAexf/blib/lib
    /Users/hornenj/perl5/perlbrew/perls/perl-5.12.5/lib/site_perl/5.12.5/darwin-2level
    /Users/hornenj/perl5/perlbrew/perls/perl-5.12.5/lib/site_perl/5.12.5
    /Users/hornenj/perl5/perlbrew/perls/perl-5.12.5/lib/5.12.5/darwin-2level
    /Users/hornenj/perl5/perlbrew/perls/perl-5.12.5/lib/5.12.5
    .