Back
From: metabase:user:314402c4-2aae-11df-837a-5e0a49663a4f
Subject: PASS Gtk2-1.24991 v5.14.4 FreeBSD
Date: 2017-02-03T06:36:51Z
This distribution has been tested as part of the CPAN Testers
project, supporting the Perl programming language. See
http://wiki.cpantesters.org/ for more information or email
questions to cpan-testers-discuss@perl.org
--
Dear Brian Manning,
This is a computer-generated report for Gtk2-1.24991
on perl 5.14.4, created by CPAN-Reporter-1.2018.
Thank you for uploading your work to CPAN. Congratulations!
All tests were successful.
Sections of this report:
* Tester comments
* Program output
* Prerequisites
* Environment and other context
------------------------------
TESTER COMMENTS
------------------------------
Additional comments from tester:
none provided
------------------------------
PROGRAM OUTPUT
------------------------------
Output from '/usr/bin/make test':
"/usr/perl5.14.4/bin/perl" -MExtUtils::Command::MM -e 'cp_nonempty' -- Gtk2.bs blib/arch/auto/Gtk2/Gtk2.bs 644
PERL_DL_NONLAZY=1 "/usr/perl5.14.4/bin/perl" "-MExtUtils::Command::MM" "-MTest::Harness" "-e" "undef *Test::Harness::Switches; test_harness(0, 'blib/lib', 'blib/arch')" t/*.t
# Testing Gtk2 1.24991
# Running against gtk+ 2.24.27
# Compiled against gtk+ 2.24.27
Xlib: extension "RANDR" missing on display ":37".
t/00.Gtk2.t ........................ ok
Xlib: extension "RANDR" missing on display ":37".
t/01.GtkWindow.t ................... ok
Xlib: extension "RANDR" missing on display ":37".
t/02.GtkContainer.t ................ ok
t/constants.t ...................... ok
Xlib: extension "RANDR" missing on display ":37".
t/Gdk.t ............................ ok
Xlib: extension "RANDR" missing on display ":37".
t/GdkCairo.t ....................... ok
Xlib: extension "RANDR" missing on display ":37".
t/GdkColor.t ....................... ok
Xlib: extension "RANDR" missing on display ":37".
t/GdkCursor.t ...................... ok
Xlib: extension "RANDR" missing on display ":37".
Xlib: extension "RANDR" missing on display ":37".
Xlib: extension "RANDR" missing on display ":37".
t/GdkDisplay.t ..................... ok
Xlib: extension "RANDR" missing on display ":37".
t/GdkDisplayManager.t .............. ok
Xlib: extension "RANDR" missing on display ":37".
t/GdkDrawable.t .................... ok
Xlib: extension "RANDR" missing on display ":37".
t/GdkEvent.t ....................... ok
Xlib: extension "RANDR" missing on display ":37".
t/GdkGC.t .......................... ok
Xlib: extension "RANDR" missing on display ":37".
t/GdkImage.t ....................... ok
Xlib: extension "RANDR" missing on display ":37".
t/GdkInput.t ....................... ok
Xlib: extension "RANDR" missing on display ":37".
t/GdkKeys.t ........................ ok
Xlib: extension "RANDR" missing on display ":37".
t/GdkPango.t ....................... ok
Xlib: extension "RANDR" missing on display ":37".
t/GdkPixbuf.t ...................... ok
t/GdkPixbufLoader.t ................ ok
t/GdkPixbufSimpleAnim.t ............ ok
Xlib: extension "RANDR" missing on display ":37".
Gdk-WARNING **: XID collision, trouble ahead at t/GdkPixmap.t line 16.
Gdk-WARNING **: XID collision, trouble ahead at t/GdkPixmap.t line 25.
Gdk-WARNING **: XID collision, trouble ahead at t/GdkPixmap.t line 40.
t/GdkPixmap.t ...................... ok
Xlib: extension "RANDR" missing on display ":37".
t/GdkProperty.t .................... ok
t/GdkRegion.t ...................... ok
Xlib: extension "RANDR" missing on display ":37".
t/GdkRgb.t ......................... ok
Xlib: extension "RANDR" missing on display ":37".
t/GdkScreen.t ...................... ok
Xlib: extension "RANDR" missing on display ":37".
t/GdkSelection.t ................... ok
Xlib: extension "RANDR" missing on display ":37".
t/GdkVisual.t ...................... ok
Xlib: extension "RANDR" missing on display ":37".
t/GdkWindow.t ...................... ok
Xlib: extension "RANDR" missing on display ":37".
t/GdkX11.t ......................... ok
Xlib: extension "RANDR" missing on display ":37".
t/GtkAboutDialog.t ................. ok
Xlib: extension "RANDR" missing on display ":37".
t/GtkAccelGroup.t .................. ok
Xlib: extension "RANDR" missing on display ":37".
t/GtkAccelLabel.t .................. ok
Xlib: extension "RANDR" missing on display ":37".
t/GtkAccelMap.t .................... ok
Xlib: extension "RANDR" missing on display ":37".
t/GtkAction.t ...................... ok
Xlib: extension "RANDR" missing on display ":37".
t/GtkActionGroup.t ................. ok
Xlib: extension "RANDR" missing on display ":37".
t/GtkActivatable.t ................. ok
t/GtkAdjustment.t .................. ok
t/GtkAlignment.t ................... ok
t/GtkArrow.t ....................... ok
t/GtkAspectFrame.t ................. ok
Xlib: extension "RANDR" missing on display ":37".
t/GtkAssistant.t ................... ok
Xlib: extension "RANDR" missing on display ":37".
t/GtkBin.t ......................... ok
Xlib: extension "RANDR" missing on display ":37".
t/GtkBindings.t .................... ok
Xlib: extension "RANDR" missing on display ":37".
t/GtkBox.t ......................... ok
Xlib: extension "RANDR" missing on display ":37".
t/GtkBuildable.t ................... ok
Xlib: extension "RANDR" missing on display ":37".
GLib-GObject-WARNING **: gsignal.c:1208: unable to lookup signal "changed" for non instantiatable type 'GtkBuildable' at /usr/perl5.14.4/lib/site_perl/5.14.4/amd64-freebsd/Glib/Object/Subclass.pm line 235.
t/GtkBuildableIface.t .............. ok
Xlib: extension "RANDR" missing on display ":37".
t/GtkBuilder.t ..................... ok
Xlib: extension "RANDR" missing on display ":37".
t/GtkButton.t ...................... ok
Xlib: extension "RANDR" missing on display ":37".
t/GtkButtonBox.t ................... ok
Xlib: extension "RANDR" missing on display ":37".
t/GtkCalendar.t .................... ok
Xlib: extension "RANDR" missing on display ":37".
GLib-GObject-CRITICAL **: Object class EditableTest doesn't implement property 'editing-canceled' from interface 'GtkCellEditable' at /usr/perl5.14.4/lib/site_perl/5.14.4/amd64-freebsd/Glib/Object/Subclass.pm line 235.
t/GtkCellEditable.t ................ ok
Xlib: extension "RANDR" missing on display ":37".
t/GtkCellLayout.t .................. ok
Xlib: extension "RANDR" missing on display ":37".
t/GtkCellLayoutIface.t ............. ok
Xlib: extension "RANDR" missing on display ":37".
t/GtkCellRenderer.t ................ ok
t/GtkCellRendererAccel.t ........... ok
t/GtkCellRendererCombo.t ........... ok
Xlib: extension "RANDR" missing on display ":37".
t/GtkCellRendererIface-Chaining.t .. ok
t/GtkCellRendererPixbuf.t .......... ok
t/GtkCellRendererProgress.t ........ ok
t/GtkCellRendererSpin.t ............ ok
t/GtkCellRendererSpinner.t ......... ok
t/GtkCellRendererText.t ............ ok
t/GtkCellRendererToggle.t .......... ok
Xlib: extension "RANDR" missing on display ":37".
t/GtkCellView.t .................... ok
Xlib: extension "RANDR" missing on display ":37".
t/GtkCheckButton.t ................. ok
Xlib: extension "RANDR" missing on display ":37".
t/GtkCheckMenuItem.t ............... ok
Xlib: extension "RANDR" missing on display ":37".
t/GtkClipboard.t ................... ok
Xlib: extension "RANDR" missing on display ":37".
t/GtkColorButton.t ................. ok
Xlib: extension "RANDR" missing on display ":37".
t/GtkColorSelection.t .............. ok
Xlib: extension "RANDR" missing on display ":37".
t/GtkColorSelectionDialog.t ........ ok
Xlib: extension "RANDR" missing on display ":37".
t/GtkCombo.t ....................... ok
Xlib: extension "RANDR" missing on display ":37".
t/GtkComboBox.t .................... ok
Xlib: extension "RANDR" missing on display ":37".
t/GtkComboBoxEntry.t ............... ok
Xlib: extension "RANDR" missing on display ":37".
t/GtkCurve.t ....................... ok
Xlib: extension "RANDR" missing on display ":37".
t/GtkDialog.t ...................... ok
t/GtkDrawingArea.t ................. ok
Xlib: extension "RANDR" missing on display ":37".
t/GtkEditable.t .................... ok
Xlib: extension "RANDR" missing on display ":37".
t/GtkEntry.t ....................... ok
Xlib: extension "RANDR" missing on display ":37".
t/GtkEntryBuffer.t ................. ok
Xlib: extension "RANDR" missing on display ":37".
t/GtkEntryCompletion.t ............. ok
t/GtkEventBox.t .................... ok
Xlib: extension "RANDR" missing on display ":37".
t/GtkExpander.t .................... ok
t/GtkFileChooser.t ................. skipped: this test is unreliable
t/GtkFileChooserButton.t ........... skipped: need a perl compiled with "-pthread" on freebsd
t/GtkFileChooserDialog.t ........... skipped: need a perl compiled with "-pthread" on freebsd
t/GtkFileChooserWidget.t ........... skipped: need a perl compiled with "-pthread" on freebsd
t/GtkFileFilter.t .................. ok
Xlib: extension "RANDR" missing on display ":37".
t/GtkFileSelection.t ............... ok
t/GtkFixed.t ....................... ok
Xlib: extension "RANDR" missing on display ":37".
t/GtkFontButton.t .................. ok
Xlib: extension "RANDR" missing on display ":37".
t/GtkFontSelection.t ............... ok
t/GtkFrame.t ....................... ok
Xlib: extension "RANDR" missing on display ":37".
t/GtkGammaCurve.t .................. ok
Xlib: extension "RANDR" missing on display ":37".
t/GtkGC.t .......................... ok
t/GtkHandleBox.t ................... ok
t/GtkHBox.t ........................ ok
t/GtkHButtonBox.t .................. ok
t/GtkHPaned.t ...................... ok
t/GtkHRuler.t ...................... ok
Xlib: extension "RANDR" missing on display ":37".
t/GtkHScale.t ...................... ok
t/GtkHScrollbar.t .................. ok
t/GtkHSeparator.t .................. ok
t/GtkHSV.t ......................... ok
Xlib: extension "RANDR" missing on display ":37".
t/GtkIconFactory.t ................. ok
Xlib: extension "RANDR" missing on display ":37".
t/GtkIconTheme.t ................... ok
Xlib: extension "RANDR" missing on display ":37".
t/GtkIconView.t .................... ok
Xlib: extension "RANDR" missing on display ":37".
t/GtkImage.t ....................... ok
Xlib: extension "RANDR" missing on display ":37".
t/GtkImageMenuItem.t ............... ok
Xlib: extension "RANDR" missing on display ":37".
t/GtkIMContext.t ................... ok
Xlib: extension "RANDR" missing on display ":37".
t/GtkInfoBar.t ..................... ok
Xlib: extension "RANDR" missing on display ":37".
t/GtkInputDialog.t ................. ok
Xlib: extension "RANDR" missing on display ":37".
t/GtkInvisible.t ................... ok
Xlib: extension "RANDR" missing on display ":37".
t/GtkItemFactory.t ................. ok
Xlib: extension "RANDR" missing on display ":37".
t/GtkLabel.t ....................... ok
Xlib: extension "RANDR" missing on display ":37".
t/GtkLayout.t ...................... ok
Xlib: extension "RANDR" missing on display ":37".
t/GtkLinkButton.t .................. ok
Xlib: extension "RANDR" missing on display ":37".
t/GtkListStore.t ................... ok
Xlib: extension "RANDR" missing on display ":37".
t/GtkMenu.t ........................ ok
t/GtkMenuBar.t ..................... ok
Xlib: extension "RANDR" missing on display ":37".
t/GtkMenuItem.t .................... ok
Xlib: extension "RANDR" missing on display ":37".
t/GtkMenuShell.t ................... ok
Xlib: extension "RANDR" missing on display ":37".
t/GtkMenuToolButton.t .............. ok
Xlib: extension "RANDR" missing on display ":37".
t/GtkMessageDialog.t ............... ok
t/GtkMisc.t ........................ ok
Xlib: extension "RANDR" missing on display ":37".
t/GtkNotebook.t .................... ok
t/GtkObject.t ...................... ok
Xlib: extension "RANDR" missing on display ":37".
t/GtkOffscreenWindow.t ............. ok
Xlib: extension "RANDR" missing on display ":37".
t/GtkOptionMenu.t .................. ok
Xlib: extension "RANDR" missing on display ":37".
t/GtkOrientable.t .................. ok
Xlib: extension "RANDR" missing on display ":37".
t/GtkPageSetup.t ................... ok
Xlib: extension "RANDR" missing on display ":37".
t/GtkPaned.t ....................... ok
Xlib: extension "RANDR" missing on display ":37".
t/GtkPaperSize.t ................... ok
Xlib: extension "RANDR" missing on display ":37".
t/GtkPrintContext.t ................ ok
Xlib: extension "RANDR" missing on display ":37".
t/GtkPrintOperation.t .............. ok
Xlib: extension "RANDR" missing on display ":37".
t/GtkPrintOperationPreview.t ....... ok
Xlib: extension "RANDR" missing on display ":37".
t/GtkPrintSettings.t ............... ok
t/GtkProgressBar.t ................. ok
t/GtkRadioAction.t ................. ok
Xlib: extension "RANDR" missing on display ":37".
t/GtkRadioButton.t ................. ok
Xlib: extension "RANDR" missing on display ":37".
t/GtkRadioMenuItem.t ............... ok
Xlib: extension "RANDR" missing on display ":37".
t/GtkRadioToolButton.t ............. ok
Xlib: extension "RANDR" missing on display ":37".
t/GtkRange.t ....................... ok
Xlib: extension "RANDR" missing on display ":37".
t/GtkRc.t .......................... ok
t/GtkRecentAction.t ................ skipped: need a perl compiled with "-pthread" on freebsd
t/GtkRecentChooser.t ............... skipped: need a perl compiled with "-pthread" on freebsd
t/GtkRecentChooserDialog.t ......... skipped: need a perl compiled with "-pthread" on freebsd
t/GtkRecentChooserMenu.t ........... skipped: need a perl compiled with "-pthread" on freebsd
t/GtkRecentChooserWidget.t ......... skipped: need a perl compiled with "-pthread" on freebsd
t/GtkRecentFilter.t ................ skipped: need a perl compiled with "-pthread" on freebsd
t/GtkRecentManager.t ............... skipped: need a perl compiled with "-pthread" on freebsd
t/GtkRuler.t ....................... ok
Xlib: extension "RANDR" missing on display ":37".
t/GtkScale.t ....................... ok
Xlib: extension "RANDR" missing on display ":37".
t/GtkScaleButton.t ................. ok
Xlib: extension "RANDR" missing on display ":37".
t/GtkScrolledWindow.t .............. ok
Xlib: extension "RANDR" missing on display ":37".
t/GtkSelection.t ................... ok
t/GtkSeparatorMenuItem.t ........... ok
Xlib: extension "RANDR" missing on display ":37".
t/GtkSeparatorToolItem.t ........... ok
t/GtkShow.t ........................ skipped: can only test interactively
Xlib: extension "RANDR" missing on display ":37".
t/GtkSimpleList.t .................. ok
Xlib: extension "RANDR" missing on display ":37".
t/GtkSimpleMenu.t .................. ok
t/GtkSizeGroup.t ................... ok
Xlib: extension "RANDR" missing on display ":37".
t/GtkSpinButton.t .................. ok
t/GtkSpinner.t ..................... ok
t/GtkStatusbar.t ................... ok
Xlib: extension "RANDR" missing on display ":37".
t/GtkStatusIcon.t .................. ok
t/GtkStock.t ....................... ok
Xlib: extension "RANDR" missing on display ":37".
t/GtkStyle.t ....................... ok
Xlib: extension "RANDR" missing on display ":37".
t/GtkTable.t ....................... ok
t/GtkTearoffMenuItem.t ............. ok
Xlib: extension "RANDR" missing on display ":37".
t/GtkTextBuffer.t .................. ok
Xlib: extension "RANDR" missing on display ":37".
GLib-WARNING **: (gerror.c:381):g_error_new_valist: runtime check failed: (domain != 0) at t/GtkTextBufferRichText.t line 210, <DATA> line 1.
t/GtkTextBufferRichText.t .......... ok
Xlib: extension "RANDR" missing on display ":37".
t/GtkTextChildAnchor.t ............. ok
t/GtkTextIter.t .................... ok
t/GtkTextMark.t .................... ok
Xlib: extension "RANDR" missing on display ":37".
t/GtkTextTag.t ..................... ok
t/GtkTextTagTable.t ................ ok
Xlib: extension "RANDR" missing on display ":37".
t/GtkTextView.t .................... ok
Xlib: extension "RANDR" missing on display ":37".
t/GtkToggleAction.t ................ ok
Xlib: extension "RANDR" missing on display ":37".
t/GtkToggleButton.t ................ ok
Xlib: extension "RANDR" missing on display ":37".
t/GtkToggleToolButton.t ............ ok
Xlib: extension "RANDR" missing on display ":37".
t/GtkToolbar.t ..................... ok
Xlib: extension "RANDR" missing on display ":37".
t/GtkToolButton.t .................. ok
Xlib: extension "RANDR" missing on display ":37".
t/GtkToolItem.t .................... ok
Xlib: extension "RANDR" missing on display ":37".
t/GtkToolItemGroup.t ............... ok
Xlib: extension "RANDR" missing on display ":37".
t/GtkToolPalette.t ................. ok
Xlib: extension "RANDR" missing on display ":37".
t/GtkToolShell.t ................... ok
Xlib: extension "RANDR" missing on display ":37".
t/GtkTooltip.t ..................... ok
Xlib: extension "RANDR" missing on display ":37".
t/GtkTooltips.t .................... ok
t/GtkTreeDnd.t ..................... ok
t/GtkTreeModel.t ................... ok
t/GtkTreeModelFilter.t ............. ok
t/GtkTreeModelIface.t .............. ok
t/GtkTreeModelSort.t ............... ok
Xlib: extension "RANDR" missing on display ":37".
t/GtkTreeSelection.t ............... ok
t/GtkTreeSortable.t ................ ok
t/GtkTreeStore.t ................... ok
t/GtkTreeView-Dnd.t ................ skipped: this test is interactive
Xlib: extension "RANDR" missing on display ":37".
t/GtkTreeView.t .................... ok
Xlib: extension "RANDR" missing on display ":37".
t/GtkUIManager.t ................... ok
t/GtkVBox.t ........................ ok
t/GtkVButtonBox.t .................. ok
Xlib: extension "RANDR" missing on display ":37".
t/GtkViewport.t .................... ok
Xlib: extension "RANDR" missing on display ":37".
t/GtkVolumeButton.t ................ ok
t/GtkVPaned.t ...................... ok
t/GtkVRuler.t ...................... ok
Xlib: extension "RANDR" missing on display ":37".
t/GtkVScale.t ...................... ok
t/GtkVScrollbar.t .................. ok
t/GtkVSeparator.t .................. ok
Xlib: extension "RANDR" missing on display ":37".
t/GtkWidget.t ...................... ok
Xlib: extension "RANDR" missing on display ":37".
t/options.t ........................ ok
Xlib: extension "RANDR" missing on display ":37".
t/pango-compat.t ................... ok
Xlib: extension "RANDR" missing on display ":37".
t/PangoAttributes.t ................ ok
t/PangoCairo.t ..................... ok
Xlib: extension "RANDR" missing on display ":37".
t/PangoContext.t ................... ok
Xlib: extension "RANDR" missing on display ":37".
t/PangoFont.t ...................... ok
Xlib: extension "RANDR" missing on display ":37".
t/PangoFontMap.t ................... ok
Xlib: extension "RANDR" missing on display ":37".
t/PangoFontset.t ................... ok
t/PangoGravity.t ................... ok
Xlib: extension "RANDR" missing on display ":37".
t/PangoLayout.t .................... ok
t/PangoMatrix.t .................... ok
Xlib: extension "RANDR" missing on display ":37".
t/PangoRenderer.t .................. ok
Xlib: extension "RANDR" missing on display ":37".
t/PangoScript.t .................... ok
t/PangoTabs.t ...................... ok
t/PangoTypes.t ..................... ok
Xlib: extension "RANDR" missing on display ":37".
t/set-scroll-adjustments-signal.t .. ok
Xlib: extension "RANDR" missing on display ":37".
t/signal-chaining.t ................ ok
Xlib: extension "RANDR" missing on display ":37".
t/tied-objects.t ................... ok
t/version-checks.t ................. ok
All tests successful.
Files=228, Tests=4954, 95 wallclock secs ( 2.09 usr 1.35 sys + 72.09 cusr 10.14 csys = 85.67 CPU)
Result: PASS
------------------------------
PREREQUISITES
------------------------------
Prerequisite modules loaded:
requires:
Module Need Have
------------------- ----- -----
Cairo 1.000 1.105
ExtUtils::Depends 0.300 0.405
ExtUtils::PkgConfig 1.030 1.15
Glib 1.280 1.324
Pango 1.220 1.226
build_requires:
Module Need Have
------------------- ----- -----
ExtUtils::MakeMaker 0 7.24
configure_requires:
Module Need Have
------------------- ----- -----
Cairo 1.000 1.105
ExtUtils::Depends 0.300 0.405
ExtUtils::MakeMaker 0 7.24
ExtUtils::PkgConfig 1.030 1.15
Glib 1.280 1.324
Pango 1.220 1.226
------------------------------
ENVIRONMENT AND OTHER CONTEXT
------------------------------
Environment variables:
LC_ALL = de_DE.ISO8859-1
PATH = /usr/local/bin:/usr/bin:/bin:/usr/local/sbin:/usr/sbin:/sbin:/home/cpansand/bin/freebsd9.3:/home/cpansand/bin/sh:/home/cpansand/bin:/usr/games:/home/cpansand/devel:/usr/home/eserte/src/srezic-misc/scripts
PERL5LIB =
PERL5OPT =
PERL5_CPANPLUS_IS_RUNNING = 88129
PERL5_CPAN_IS_RUNNING = 88129
PERL5_CPAN_IS_RUNNING_IN_RECURSION = 88077,88129
PERLDOC = -MPod::Perldoc::ToTextOverstrike
PERL_BATCH = yes
PERL_CANARY_STABILITY_NOPROMPT = 1
PERL_CPAN_REPORTER_CONFIG = /var/tmp/cpansmoker-1023/2017020306/cpanreporter_000_config.ini
PERL_EXTUTILS_AUTOINSTALL = --defaultdeps
SHELL = /usr/local/bin/zsh
TERM = screen
TMPDIR = /var/tmp/cpansmoker-1023/2017020306
Perl special variables (and OS-specific diagnostics, for MSWin32):
$^X = /usr/perl5.14.4/bin/perl
$UID/$EUID = 1023 / 1023
$GID = 1023 1023
$EGID = 1023 1023
Perl module toolchain versions installed:
Module Have
------------------- --------
CPAN 2.10
CPAN::Meta 2.150010
Cwd 3.62
ExtUtils::CBuilder 0.280224
ExtUtils::Command 7.24
ExtUtils::Install 2.04
ExtUtils::MakeMaker 7.24
ExtUtils::Manifest 1.70
ExtUtils::ParseXS 3.30
File::Spec 3.62
JSON 2.90
JSON::PP 2.27400
Module::Build 0.4220
Module::Signature 0.81
Parse::CPAN::Meta 2.150010
Test::Harness 3.36
Test::More 1.302075
YAML 1.20
YAML::Syck 1.29
version 0.9916
--
Summary of my perl5 (revision 5 version 14 subversion 4) configuration:
Platform:
osname=freebsd, osvers=9.2-release-p4, archname=amd64-freebsd
uname='freebsd cvrsnica-freebsd-92 9.2-release-p4 freebsd 9.2-release-p4 #0: tue apr 8 18:08:22 utc 2014 root@amd64-builder.daemonology.net:usrobjusrsrcsysgeneric amd64 '
config_args='-ds -e -Dprefix=/usr/perl5.14.4'
hint=recommended, useposix=true, d_sigaction=define
useithreads=undef, usemultiplicity=undef
useperlio=define, d_sfio=undef, uselargefiles=define, usesocks=undef
use64bitint=define, use64bitall=define, uselongdouble=undef
usemymalloc=n, bincompat5005=undef
Compiler:
cc='cc', ccflags ='-DHAS_FPSETMASK -DHAS_FLOATINGPOINT_H -fno-strict-aliasing -pipe -fstack-protector -I/usr/local/include',
optimize='-O',
cppflags='-DHAS_FPSETMASK -DHAS_FLOATINGPOINT_H -fno-strict-aliasing -pipe -fstack-protector -I/usr/local/include'
ccversion='', gccversion='4.2.1 20070831 patched [FreeBSD]', gccosandvers=''
intsize=4, longsize=8, ptrsize=8, doublesize=8, byteorder=12345678
d_longlong=define, longlongsize=8, d_longdbl=define, longdblsize=16
ivtype='long', ivsize=8, nvtype='double', nvsize=8, Off_t='off_t', lseeksize=8
alignbytes=8, prototype=define
Linker and Libraries:
ld='cc', ldflags ='-Wl,-E -fstack-protector -L/usr/local/lib'
libpth=/usr/lib /usr/local/lib
libs=-lgdbm -lm -lcrypt -lutil -lc
perllibs=-lm -lcrypt -lutil -lc
libc=, so=so, useshrplib=false, libperl=libperl.a
gnulibc_version=''
Dynamic Linking:
dlsrc=dl_dlopen.xs, dlext=so, d_dlsymun=undef, ccdlflags=' '
cccdlflags='-DPIC -fPIC', lddlflags='-shared -L/usr/local/lib -fstack-protector'
Characteristics of this binary (from libperl):
Compile-time options: PERL_DONT_CREATE_GVSV PERL_MALLOC_WRAP
PERL_PRESERVE_IVUV USE_64_BIT_ALL USE_64_BIT_INT
USE_LARGE_FILES USE_PERLIO USE_PERL_ATOF
Built under freebsd
Compiled at May 16 2014 00:20:44
%ENV:
PERL5LIB=""
PERL5OPT=""
PERL5_CPANPLUS_IS_RUNNING="88129"
PERL5_CPAN_IS_RUNNING="88129"
PERL5_CPAN_IS_RUNNING_IN_RECURSION="88077,88129"
PERLDOC="-MPod::Perldoc::ToTextOverstrike"
PERL_BATCH="yes"
PERL_CANARY_STABILITY_NOPROMPT="1"
PERL_CPAN_REPORTER_CONFIG="/var/tmp/cpansmoker-1023/2017020306/cpanreporter_000_config.ini"
PERL_EXTUTILS_AUTOINSTALL="--defaultdeps"
@INC:
/usr/perl5.14.4/lib/site_perl/5.14.4/amd64-freebsd
/usr/perl5.14.4/lib/site_perl/5.14.4
/usr/perl5.14.4/lib/5.14.4/amd64-freebsd
/usr/perl5.14.4/lib/5.14.4
.