Report for POE-1.367

Back
From: metabase:user:322078bc-2aae-11df-837a-5e0a49663a4f
Subject: PASS POE-1.367 v5.10.1 FreeBSD
Date: 2017-04-03T17:29:51Z

This distribution has been tested as part of the CPAN Testers
project, supporting the Perl programming language.  See
http://wiki.cpantesters.org/ for more information or email
questions to cpan-testers-discuss@perl.org


--

Dear Rocco Caputo,

This is a computer-generated error report created automatically by
CPANPLUS, version 0.9164. Testers personal comments may appear
at the end of this report.


Thank you for uploading your work to CPAN.  Congratulations!
All tests were successful.

TEST RESULTS:

Below is the error stack from stage 'make test':

"/usr/home/cpan/pit/bare/perl-5.10.1/bin/perl" mylib/gen-tests.perl lib/POE.pm
PERL_DL_NONLAZY=1 "/usr/home/cpan/pit/bare/perl-5.10.1/bin/perl" "-MExtUtils::Command::MM" "-MTest::Harness" "-e" "undef *Test::Harness::Switches; test_harness(0, 'blib/lib', 'blib/arch')" t/*.t t/*/*.t t/*/*/*.t
# Testing POE 1.367, POE::Test::Loops 1.360, Perl 5.010001, /usr/home/cpan/pit/bare/perl-5.10.1/bin/perl on freebsd
# pogomips: 26105361
t/00_info.t ........................................ ok
t/10_units/01_pod/01_pod.t ......................... skipped: enable by setting RELEASE_TESTING
t/10_units/01_pod/02_pod_coverage.t ................ skipped: enable by setting RELEASE_TESTING
t/10_units/01_pod/03_pod_no404s.t .................. skipped: enable by setting RELEASE_TESTING
t/10_units/01_pod/04_pod_linkcheck.t ............... skipped: enable by setting RELEASE_TESTING
t/10_units/02_pipes/01_base.t ...................... skipped: not implemented yet
t/10_units/02_pipes/02_oneway.t .................... ok
t/10_units/02_pipes/03_twoway.t .................... ok
t/10_units/03_base/01_poe.t ........................ ok
t/10_units/03_base/03_component.t .................. ok
t/10_units/03_base/04_driver.t ..................... ok
t/10_units/03_base/05_filter.t ..................... ok
t/10_units/03_base/06_loop.t ....................... ok
t/10_units/03_base/07_queue.t ...................... ok
t/10_units/03_base/08_resource.t ................... ok
t/10_units/03_base/09_resources.t .................. ok
t/10_units/03_base/10_wheel.t ...................... ok
t/10_units/03_base/11_assert_usage.t ............... ok
t/10_units/03_base/12_assert_retval.t .............. ok
t/10_units/03_base/13_assert_data.t ................ ok
t/10_units/03_base/14_kernel.t ..................... ok
t/10_units/03_base/15_kernel_internal.t ............ ok
t/10_units/03_base/16_nfa_usage.t .................. ok
t/10_units/03_base/17_detach_start.t ............... ok
t/10_units/04_drivers/01_sysrw.t ................... ok
t/10_units/05_filters/01_block.t ................... ok
t/10_units/05_filters/02_grep.t .................... ok
t/10_units/05_filters/03_http.t .................... skipped: HTTP::Request is needed for these tests.
t/10_units/05_filters/04_line.t .................... ok
t/10_units/05_filters/05_map.t ..................... ok
t/10_units/05_filters/06_recordblock.t ............. ok
t/10_units/05_filters/07_reference.t ............... ok
t/10_units/05_filters/08_stream.t .................. ok
t/10_units/05_filters/50_stackable.t ............... ok
t/10_units/05_filters/51_reference_die.t ........... skipped: YAML module not available
t/10_units/05_filters/99_filterchange.t ............ ok
t/10_units/06_queues/01_array.t .................... ok
t/10_units/07_exceptions/01_normal.t ............... ok
t/10_units/07_exceptions/02_turn_off.t ............. ok
t/10_units/07_exceptions/03_not_handled.t .......... ok
t/10_units/08_loops/01_explicit_loop.t ............. ok
t/10_units/08_loops/02_explicit_loop_fail.t ........ ok
t/10_units/08_loops/03_explicit_loop_poll.t ........ ok
t/10_units/08_loops/04_explicit_loop_envvar.t ...... ok
t/10_units/08_loops/05_kernel_loop.t ............... ok
t/10_units/08_loops/06_kernel_loop_poll.t .......... ok
t/10_units/08_loops/07_kernel_loop_fail.t .......... ok
t/10_units/08_loops/08_kernel_loop_search_poll.t ... ok
t/10_units/08_loops/09_naive_loop_load.t ........... ok
t/10_units/08_loops/10_naive_loop_load_poll.t ...... ok
t/10_units/08_loops/11_double_loop.t ............... ok
t/20_resources/10_perl/aliases.t ................... ok
t/20_resources/10_perl/caller_state.t .............. ok
t/20_resources/10_perl/events.t .................... ok
t/20_resources/10_perl/extrefs.t ................... ok
t/20_resources/10_perl/extrefs_gc.t ................ ok
t/20_resources/10_perl/filehandles.t ............... ok
t/20_resources/10_perl/sessions.t .................. ok
t/20_resources/10_perl/sids.t ...................... ok
t/20_resources/10_perl/signals.t ................... ok
# Testing POE 1.367, POE::Test::Loops 1.360, Using Loop(POE::Loop::IO_Poll), Perl 5.010001, /usr/home/cpan/pit/bare/perl-5.10.1/bin/perl on freebsd
t/30_loops/io_poll/00_info.t ....................... ok
t/30_loops/io_poll/all_errors.t .................... skipped: most of these should move into other test files
t/30_loops/io_poll/comp_tcp.t ...................... ok
# You might see a 'disconnect' error during this test.
# It may be ignored.
t/30_loops/io_poll/comp_tcp_concurrent.t ........... ok
t/30_loops/io_poll/connect_errors.t ................ ok
t/30_loops/io_poll/k_alarms.t ...................... ok
t/30_loops/io_poll/k_aliases.t ..................... ok
t/30_loops/io_poll/k_detach.t ...................... ok
t/30_loops/io_poll/k_run_returns.t ................. ok
t/30_loops/io_poll/k_selects.t ..................... ok
t/30_loops/io_poll/k_sig_child.t ................... ok
t/30_loops/io_poll/k_signals.t ..................... ok
t/30_loops/io_poll/k_signals_rerun.t ............... ok
t/30_loops/io_poll/sbk_signal_init.t ............... ok
t/30_loops/io_poll/ses_nfa.t ....................... ok
# This test generates some STDERR during trace testing.
=== 5522 === 23 -> _start (from /usr/home/cpan/pit/bare/conf/perl-5.10.1/.cpanplus/5.10.1/build/8TC048pKbw/POE-1.367/blib/lib/POE/Kernel.pm at 1497)
=== 5522 === 23 -> woot (from /usr/home/cpan/pit/bare/conf/perl-5.10.1/.cpanplus/5.10.1/build/8VpDlKn1Ne/POE-Test-Loops-1.360/blib/lib/POE/Test/Loops/ses_session.pm at 691)
=== 5522 === 23 -> narf (from /usr/home/cpan/pit/bare/conf/perl-5.10.1/.cpanplus/5.10.1/build/8VpDlKn1Ne/POE-Test-Loops-1.360/blib/lib/POE/Test/Loops/ses_session.pm at 692)
=== 5522 === 23 -> _stop (from /usr/home/cpan/pit/bare/conf/perl-5.10.1/.cpanplus/5.10.1/build/8TC048pKbw/POE-1.367/blib/lib/POE/Resource/Sessions.pm at 571)
t/30_loops/io_poll/ses_session.t ................... ok
t/30_loops/io_poll/wheel_accept.t .................. ok
t/30_loops/io_poll/wheel_curses.t .................. skipped: Curses not available
t/30_loops/io_poll/wheel_readline.t ................ skipped: This test requires Term::ReadKey
t/30_loops/io_poll/wheel_readwrite.t ............... ok
t/30_loops/io_poll/wheel_run.t ..................... ok
t/30_loops/io_poll/wheel_run_size.t ................ skipped: This test requires Term::Size
t/30_loops/io_poll/wheel_sf_ipv6.t ................. skipped: Socket::GetAddrInfo is needed for IPv6 tests
t/30_loops/io_poll/wheel_sf_tcp.t .................. ok
t/30_loops/io_poll/wheel_sf_udp.t .................. ok
t/30_loops/io_poll/wheel_sf_unix.t ................. ok
t/30_loops/io_poll/wheel_tail.t .................... ok
t/30_loops/io_poll/z_kogman_sig_order.t ............ ok
t/30_loops/io_poll/z_leolo_wheel_run.t ............. ok
# Using '/usr/bin/true' as our thing to run under system()
t/30_loops/io_poll/z_merijn_sigchld_system.t ....... ok
t/30_loops/io_poll/z_rt39872_sigchld.t ............. ok
# Parent 5561 waiting 3sec for slow systems to settle.
# sending sigusr1
# sent sigusr1
t/30_loops/io_poll/z_rt39872_sigchld_stop.t ........ ok
t/30_loops/io_poll/z_rt53302_fh_watchers.t ......... ok
t/30_loops/io_poll/z_rt54319_bazerka_followtail.t .. ok
t/30_loops/io_poll/z_steinert_signal_integrity.t ... ok
# Testing POE 1.367, POE::Test::Loops 1.360, Using Loop(POE::Loop::Select), Perl 5.010001, /usr/home/cpan/pit/bare/perl-5.10.1/bin/perl on freebsd
t/30_loops/select/00_info.t ........................ ok
t/30_loops/select/all_errors.t ..................... skipped: most of these should move into other test files
t/30_loops/select/comp_tcp.t ....................... ok
# You might see a 'disconnect' error during this test.
# It may be ignored.
t/30_loops/select/comp_tcp_concurrent.t ............ ok
t/30_loops/select/connect_errors.t ................. ok
t/30_loops/select/k_alarms.t ....................... ok
t/30_loops/select/k_aliases.t ...................... ok
t/30_loops/select/k_detach.t ....................... ok
t/30_loops/select/k_run_returns.t .................. ok
t/30_loops/select/k_selects.t ...................... ok
t/30_loops/select/k_sig_child.t .................... ok
t/30_loops/select/k_signals.t ...................... ok
t/30_loops/select/k_signals_rerun.t ................ ok
t/30_loops/select/sbk_signal_init.t ................ ok
t/30_loops/select/ses_nfa.t ........................ ok
# This test generates some STDERR during trace testing.
=== 5606 === 23 -> _start (from /usr/home/cpan/pit/bare/conf/perl-5.10.1/.cpanplus/5.10.1/build/8TC048pKbw/POE-1.367/blib/lib/POE/Kernel.pm at 1497)
=== 5606 === 23 -> woot (from /usr/home/cpan/pit/bare/conf/perl-5.10.1/.cpanplus/5.10.1/build/8VpDlKn1Ne/POE-Test-Loops-1.360/blib/lib/POE/Test/Loops/ses_session.pm at 691)
=== 5606 === 23 -> narf (from /usr/home/cpan/pit/bare/conf/perl-5.10.1/.cpanplus/5.10.1/build/8VpDlKn1Ne/POE-Test-Loops-1.360/blib/lib/POE/Test/Loops/ses_session.pm at 692)
=== 5606 === 23 -> _stop (from /usr/home/cpan/pit/bare/conf/perl-5.10.1/.cpanplus/5.10.1/build/8TC048pKbw/POE-1.367/blib/lib/POE/Resource/Sessions.pm at 571)
t/30_loops/select/ses_session.t .................... ok
t/30_loops/select/wheel_accept.t ................... ok
t/30_loops/select/wheel_curses.t ................... skipped: Curses not available
t/30_loops/select/wheel_readline.t ................. skipped: This test requires Term::ReadKey
t/30_loops/select/wheel_readwrite.t ................ ok
t/30_loops/select/wheel_run.t ...................... ok
t/30_loops/select/wheel_run_size.t ................. skipped: This test requires Term::Size
t/30_loops/select/wheel_sf_ipv6.t .................. skipped: Socket::GetAddrInfo is needed for IPv6 tests
t/30_loops/select/wheel_sf_tcp.t ................... ok
t/30_loops/select/wheel_sf_udp.t ................... ok
t/30_loops/select/wheel_sf_unix.t .................. ok
t/30_loops/select/wheel_tail.t ..................... ok
t/30_loops/select/z_kogman_sig_order.t ............. ok
t/30_loops/select/z_leolo_wheel_run.t .............. ok
# Using '/usr/bin/true' as our thing to run under system()
t/30_loops/select/z_merijn_sigchld_system.t ........ ok
t/30_loops/select/z_rt39872_sigchld.t .............. ok
# Parent 5645 waiting 3sec for slow systems to settle.
# sending sigusr1
# sent sigusr1
t/30_loops/select/z_rt39872_sigchld_stop.t ......... ok
t/30_loops/select/z_rt53302_fh_watchers.t .......... ok
t/30_loops/select/z_rt54319_bazerka_followtail.t ... ok
t/30_loops/select/z_steinert_signal_integrity.t .... ok
t/90_regression/agaran-filter-httpd.t .............. skipped: - HTTP::Request needed to test POE::Filter::HTTPD
t/90_regression/averell-callback-ret.t ............. ok
t/90_regression/bingos-followtail.t ................ ok
t/90_regression/broeren-win32-nbio.t ............... skipped: This test examines ActiveState Perl behavior.
t/90_regression/cfedde-filter-httpd.t .............. skipped: - HTTP::Request needed to test POE::Filter::HTTPD
t/90_regression/ferrari-server-unix.t .............. ok
t/90_regression/grinnz-die-in-die.t ................ ok
Died at t/90_regression/hinrik-wheel-run-die.t line 21.
t/90_regression/hinrik-wheel-run-die.t ............. ok
# This test can take up to 10 seconds
t/90_regression/kjeldahl-stop-start-polling.t ...... ok
# This test can take up to 10 seconds
t/90_regression/kjeldahl-stop-start-sig-nopipe.t ... ok
# This test can take up to 10 seconds
t/90_regression/kjeldahl-stop-start-sig-pipe.t ..... ok
t/90_regression/leolo-sig-die.t .................... ok
t/90_regression/meh-startstop-return.t ............. ok
t/90_regression/neyuki_detach.t .................... ok
t/90_regression/pipe-followtail.t .................. ok
t/90_regression/prumike-win32-stat.t ............... skipped: This test examines Strawberry/ActiveState Perl behavior.
t/90_regression/rt14444-arg1.t ..................... ok
t/90_regression/rt1648-tied-stderr.t ............... ok
t/90_regression/rt19908-merlyn-stop.t .............. ok
t/90_regression/rt23181-sigchld-rc.t ............... ok
t/90_regression/rt47966-sigchld.t .................. skipped: enable by setting RELEASE_TESTING
t/90_regression/rt56417-wheel-run.t ................ ok
t/90_regression/rt65460-forking.t .................. ok
t/90_regression/socketfactory-timeout.t ............ ok
t/90_regression/somni-poco-server-tcp.t ............ ok
t/90_regression/steinert-passed-wheel.t ............ ok
t/90_regression/suzman_windows.t ................... ok
t/90_regression/ton-stop-corruption.t .............. ok
t/90_regression/tracing-sane-exit.t ................ ok
t/90_regression/whelan-dieprop.t ................... ok
t/90_regression/whjackson-followtail.t ............. ok
All tests successful.
Files=161, Tests=4073, 125 wallclock secs ( 1.20 usr  0.89 sys + 14.36 cusr 26.35 csys = 42.80 CPU)
Result: PASS


PREREQUISITES:

Here is a list of prerequisites you specified and versions we
managed to load:

	  Module Name                        Have     Want
	  Carp                               1.38        0
	  Exporter                           5.72        0
	  File::Spec                         3.62     0.87
	  IO                                 1.25     1.24
	  IO::Handle                         1.28     1.27
	  IO::Pipely                        0.005    0.005
	  IO::Tty                            1.12     1.08
	  POE::Test::Loops                  1.360    1.360
	  POSIX                              1.17     1.02
	  Socket                             1.82      1.7
	  Storable                           2.51     2.16
	  Test::Harness                      3.38     2.26
	  Time::HiRes                      1.9719     1.59

Perl module toolchain versions installed:
	Module Name                        Have
	CPANPLUS                         0.9164
	CPANPLUS::Dist::Build              0.82
	Cwd                                3.62
	ExtUtils::CBuilder             0.280224
	ExtUtils::Command                  7.24
	ExtUtils::Install                  2.04
	ExtUtils::MakeMaker                7.24
	ExtUtils::Manifest                 1.70
	ExtUtils::ParseXS                  3.30
	File::Spec                         3.62
	Module::Build                    0.4220
	Pod::Parser                        1.37
	Pod::Simple                        3.07
	Test2                          1.302078
	Test::Harness                      3.38
	Test::More                     1.302078
	version                          0.9917

******************************** NOTE ********************************
The comments above are created mechanically, possibly without manual
checking by the sender.  As there are many people performing automatic
tests on each upload to CPAN, it is likely that you will receive
identical messages about the same problem.

If you believe that the message is mistaken, please reply to the first
one with correction and/or additional informations, and do not take
it personally.  We appreciate your patience. :)
**********************************************************************

Additional comments:


This report was machine-generated by CPANPLUS::Dist::YACSmoke 1.00.
Powered by minismokebox version 0.64

------------------------------
ENVIRONMENT AND OTHER CONTEXT
------------------------------

Environment variables:

    AUTOMATED_TESTING = 1
    NONINTERACTIVE_TESTING = 1
    PATH = /usr/home/cpan/pit/bare/conf/perl-5.10.1/.cpanplus/5.10.1/build/8VpDlKn1Ne/POE-Test-Loops-1.360/blib/script:/sbin:/bin:/usr/sbin:/usr/bin:/usr/local/sbin:/usr/local/bin:/home/cpan/bin
    PERL5LIB = :/usr/home/cpan/pit/bare/conf/perl-5.10.1/.cpanplus/5.10.1/build/ZZMHJiM9kV/IRC-Utils-0.12/blib/lib:/usr/home/cpan/pit/bare/conf/perl-5.10.1/.cpanplus/5.10.1/build/ZZMHJiM9kV/IRC-Utils-0.12/blib/arch:/usr/home/cpan/pit/bare/conf/perl-5.10.1/.cpanplus/5.10.1/build/8VpDlKn1Ne/POE-Test-Loops-1.360/blib/lib:/usr/home/cpan/pit/bare/conf/perl-5.10.1/.cpanplus/5.10.1/build/8VpDlKn1Ne/POE-Test-Loops-1.360/blib/arch:/usr/home/cpan/pit/bare/conf/perl-5.10.1/.cpanplus/5.10.1/build/My7x7H6wLV/Carp-1.38/blib/lib:/usr/home/cpan/pit/bare/conf/perl-5.10.1/.cpanplus/5.10.1/build/My7x7H6wLV/Carp-1.38/blib/arch:/usr/home/cpan/pit/bare/conf/perl-5.10.1/.cpanplus/5.10.1/build/72ry12UpcS/Exporter-5.72/blib/lib:/usr/home/cpan/pit/bare/conf/perl-5.10.1/.cpanplus/5.10.1/build/72ry12UpcS/Exporter-5.72/blib/arch:/usr/home/cpan/pit/bare/conf/perl-5.10.1/.cpanplus/5.10.1/build/l10TwAOlTm/Scalar-List-Utils-1.47/blib/lib:/usr/home/cpan/pit/bare/conf/perl-5.10.1/.cpanplus/5.10.1/build/l10TwAOlTm/Scalar-List-Utils-1.47/blib/arch:/usr/home/cpan/pit/bare/conf/perl-5.10.1/.cpanplus/5.10.1/build/1Gjp41wcwg/base-2.23/blib/lib:/usr/home/cpan/pit/bare/conf/perl-5.10.1/.cpanplus/5.10.1/build/1Gjp41wcwg/base-2.23/blib/arch:/usr/home/cpan/pit/bare/conf/perl-5.10.1/.cpanplus/5.10.1/build/7o77BaRwNf/IO-Pipely-0.005/blib/lib:/usr/home/cpan/pit/bare/conf/perl-5.10.1/.cpanplus/5.10.1/build/7o77BaRwNf/IO-Pipely-0.005/blib/arch:/usr/home/cpan/pit/bare/conf/perl-5.10.1/.cpanplus/5.10.1/build/HqRdxNj3nd/IO-Tty-1.12/blib/lib:/usr/home/cpan/pit/bare/conf/perl-5.10.1/.cpanplus/5.10.1/build/HqRdxNj3nd/IO-Tty-1.12/blib/arch:/usr/home/cpan/pit/bare/conf/perl-5.10.1/.cpanplus/5.10.1/build/8TC048pKbw/POE-1.367/blib/lib:/usr/home/cpan/pit/bare/conf/perl-5.10.1/.cpanplus/5.10.1/build/8TC048pKbw/POE-1.367/blib/arch
    PERL5_CPANPLUS_IS_RUNNING = 4046
    PERL5_CPANPLUS_IS_VERSION = 0.9164
    PERL5_MINISMOKEBOX = 0.64
    PERL5_YACSMOKE_BASE = /usr/home/cpan/pit/bare/conf/perl-5.10.1
    PERL_EXTUTILS_AUTOINSTALL = --defaultdeps
    PERL_MM_USE_DEFAULT = 1
    PERL_USE_UNSAFE_INC = 1
    SHELL = /usr/local/bin/bash
    TERM = screen

Perl special variables (and OS-specific diagnostics, for MSWin32):

    Perl: $^X = /usr/home/cpan/pit/bare/perl-5.10.1/bin/perl
    UID:  $<  = 1002
    EUID: $>  = 1002
    GID:  $(  = 1002 1002
    EGID: $)  = 1002 1002


-------------------------------


--

Summary of my perl5 (revision 5 version 10 subversion 1) configuration:
   
  Platform:
    osname=freebsd, osvers=11.0-release-p1, archname=amd64-freebsd
    uname='freebsd fforc 11.0-release-p1 freebsd 11.0-release-p1 #0 r306420: thu sep 29 01:43:23 utc 2016 root@releng2.nyi.freebsd.org:usrobjusrsrcsysgeneric amd64 '
    config_args='-des -Dprefix=/usr/home/cpan/pit/bare/perl-5.10.1'
    hint=recommended, useposix=true, d_sigaction=define
    useithreads=undef, usemultiplicity=undef
    useperlio=define, d_sfio=undef, uselargefiles=define, usesocks=undef
    use64bitint=define, use64bitall=define, uselongdouble=undef
    usemymalloc=n, bincompat5005=undef
  Compiler:
    cc='cc', ccflags ='-DHAS_FPSETMASK -DHAS_FLOATINGPOINT_H -fno-strict-aliasing -pipe -fstack-protector -I/usr/local/include',
    optimize='-O',
    cppflags='-DHAS_FPSETMASK -DHAS_FLOATINGPOINT_H -fno-strict-aliasing -pipe -fstack-protector -I/usr/local/include'
    ccversion='', gccversion='4.2.1 Compatible FreeBSD Clang 3.8.0 (tags/RELEASE_380/final 262564)', gccosandvers=''
    intsize=4, longsize=8, ptrsize=8, doublesize=8, byteorder=12345678
    d_longlong=define, longlongsize=8, d_longdbl=define, longdblsize=16
    ivtype='long', ivsize=8, nvtype='double', nvsize=8, Off_t='off_t', lseeksize=8
    alignbytes=8, prototype=define
  Linker and Libraries:
    ld='cc', ldflags ='-Wl,-E  -fstack-protector -L/usr/local/lib'
    libpth=/usr/lib /usr/local/lib
    libs=-lgdbm -lm -lcrypt -lutil -lc
    perllibs=-lm -lcrypt -lutil -lc
    libc=, so=so, useshrplib=false, libperl=libperl.a
    gnulibc_version=''
  Dynamic Linking:
    dlsrc=dl_dlopen.xs, dlext=so, d_dlsymun=undef, ccdlflags=' '
    cccdlflags='-DPIC -fPIC', lddlflags='-shared  -L/usr/local/lib -fstack-protector'


Characteristics of this binary (from libperl): 
  Compile-time options: PERL_DONT_CREATE_GVSV PERL_MALLOC_WRAP USE_64_BIT_ALL
                        USE_64_BIT_INT USE_LARGE_FILES USE_PERLIO
  Locally applied patches:
	Devel::PatchPerl 1.48
  Built under freebsd
  Compiled at Mar 15 2017 13:05:54
  %ENV:
    PERL5LIB=":/usr/home/cpan/pit/bare/conf/perl-5.10.1/.cpanplus/5.10.1/build/ZZMHJiM9kV/IRC-Utils-0.12/blib/lib:/usr/home/cpan/pit/bare/conf/perl-5.10.1/.cpanplus/5.10.1/build/ZZMHJiM9kV/IRC-Utils-0.12/blib/arch:/usr/home/cpan/pit/bare/conf/perl-5.10.1/.cpanplus/5.10.1/build/8VpDlKn1Ne/POE-Test-Loops-1.360/blib/lib:/usr/home/cpan/pit/bare/conf/perl-5.10.1/.cpanplus/5.10.1/build/8VpDlKn1Ne/POE-Test-Loops-1.360/blib/arch:/usr/home/cpan/pit/bare/conf/perl-5.10.1/.cpanplus/5.10.1/build/My7x7H6wLV/Carp-1.38/blib/lib:/usr/home/cpan/pit/bare/conf/perl-5.10.1/.cpanplus/5.10.1/build/My7x7H6wLV/Carp-1.38/blib/arch:/usr/home/cpan/pit/bare/conf/perl-5.10.1/.cpanplus/5.10.1/build/72ry12UpcS/Exporter-5.72/blib/lib:/usr/home/cpan/pit/bare/conf/perl-5.10.1/.cpanplus/5.10.1/build/72ry12UpcS/Exporter-5.72/blib/arch:/usr/home/cpan/pit/bare/conf/perl-5.10.1/.cpanplus/5.10.1/build/l10TwAOlTm/Scalar-List-Utils-1.47/blib/lib:/usr/home/cpan/pit/bare/conf/perl-5.10.1/.cpanplus/5.10.1/build/l10TwAOlTm/Scalar-List-Utils-1.47/blib/arch:/usr/home/cpan/pit/bare/conf/perl-5.10.1/.cpanplus/5.10.1/build/1Gjp41wcwg/base-2.23/blib/lib:/usr/home/cpan/pit/bare/conf/perl-5.10.1/.cpanplus/5.10.1/build/1Gjp41wcwg/base-2.23/blib/arch:/usr/home/cpan/pit/bare/conf/perl-5.10.1/.cpanplus/5.10.1/build/7o77BaRwNf/IO-Pipely-0.005/blib/lib:/usr/home/cpan/pit/bare/conf/perl-5.10.1/.cpanplus/5.10.1/build/7o77BaRwNf/IO-Pipely-0.005/blib/arch:/usr/home/cpan/pit/bare/conf/perl-5.10.1/.cpanplus/5.10.1/build/HqRdxNj3nd/IO-Tty-1.12/blib/lib:/usr/home/cpan/pit/bare/conf/perl-5.10.1/.cpanplus/5.10.1/build/HqRdxNj3nd/IO-Tty-1.12/blib/arch:/usr/home/cpan/pit/bare/conf/perl-5.10.1/.cpanplus/5.10.1/build/8TC048pKbw/POE-1.367/blib/lib:/usr/home/cpan/pit/bare/conf/perl-5.10.1/.cpanplus/5.10.1/build/8TC048pKbw/POE-1.367/blib/arch"
    PERL5_CPANPLUS_IS_RUNNING="4046"
    PERL5_CPANPLUS_IS_VERSION="0.9164"
    PERL5_MINISMOKEBOX="0.64"
    PERL5_YACSMOKE_BASE="/usr/home/cpan/pit/bare/conf/perl-5.10.1"
    PERL_EXTUTILS_AUTOINSTALL="--defaultdeps"
    PERL_MM_USE_DEFAULT="1"
    PERL_USE_UNSAFE_INC="1"
  @INC:
    /usr/home/cpan/pit/bare/conf/perl-5.10.1/.cpanplus/5.10.1/build/ZZMHJiM9kV/IRC-Utils-0.12/blib/lib
    /usr/home/cpan/pit/bare/conf/perl-5.10.1/.cpanplus/5.10.1/build/ZZMHJiM9kV/IRC-Utils-0.12/blib/arch
    /usr/home/cpan/pit/bare/conf/perl-5.10.1/.cpanplus/5.10.1/build/8VpDlKn1Ne/POE-Test-Loops-1.360/blib/lib
    /usr/home/cpan/pit/bare/conf/perl-5.10.1/.cpanplus/5.10.1/build/8VpDlKn1Ne/POE-Test-Loops-1.360/blib/arch
    /usr/home/cpan/pit/bare/conf/perl-5.10.1/.cpanplus/5.10.1/build/My7x7H6wLV/Carp-1.38/blib/lib
    /usr/home/cpan/pit/bare/conf/perl-5.10.1/.cpanplus/5.10.1/build/My7x7H6wLV/Carp-1.38/blib/arch
    /usr/home/cpan/pit/bare/conf/perl-5.10.1/.cpanplus/5.10.1/build/72ry12UpcS/Exporter-5.72/blib/lib
    /usr/home/cpan/pit/bare/conf/perl-5.10.1/.cpanplus/5.10.1/build/72ry12UpcS/Exporter-5.72/blib/arch
    /usr/home/cpan/pit/bare/conf/perl-5.10.1/.cpanplus/5.10.1/build/l10TwAOlTm/Scalar-List-Utils-1.47/blib/lib
    /usr/home/cpan/pit/bare/conf/perl-5.10.1/.cpanplus/5.10.1/build/l10TwAOlTm/Scalar-List-Utils-1.47/blib/arch
    /usr/home/cpan/pit/bare/conf/perl-5.10.1/.cpanplus/5.10.1/build/1Gjp41wcwg/base-2.23/blib/lib
    /usr/home/cpan/pit/bare/conf/perl-5.10.1/.cpanplus/5.10.1/build/1Gjp41wcwg/base-2.23/blib/arch
    /usr/home/cpan/pit/bare/conf/perl-5.10.1/.cpanplus/5.10.1/build/7o77BaRwNf/IO-Pipely-0.005/blib/lib
    /usr/home/cpan/pit/bare/conf/perl-5.10.1/.cpanplus/5.10.1/build/7o77BaRwNf/IO-Pipely-0.005/blib/arch
    /usr/home/cpan/pit/bare/conf/perl-5.10.1/.cpanplus/5.10.1/build/HqRdxNj3nd/IO-Tty-1.12/blib/lib
    /usr/home/cpan/pit/bare/conf/perl-5.10.1/.cpanplus/5.10.1/build/HqRdxNj3nd/IO-Tty-1.12/blib/arch
    /usr/home/cpan/pit/bare/conf/perl-5.10.1/.cpanplus/5.10.1/build/8TC048pKbw/POE-1.367/blib/lib
    /usr/home/cpan/pit/bare/conf/perl-5.10.1/.cpanplus/5.10.1/build/8TC048pKbw/POE-1.367/blib/arch
    /usr/home/cpan/pit/bare/perl-5.10.1/lib/5.10.1/amd64-freebsd
    /usr/home/cpan/pit/bare/perl-5.10.1/lib/5.10.1
    /usr/home/cpan/pit/bare/perl-5.10.1/lib/site_perl/5.10.1/amd64-freebsd
    /usr/home/cpan/pit/bare/perl-5.10.1/lib/site_perl/5.10.1
    .