Excel-Writer-XLSX v1.12 Perl 5 v5.39.11 amd64-freebsd-thread-multi

Status
Pass
From
Carlos Guevara
Dist
Excel-Writer-XLSX v1.12
Platform
Perl 5 v5.39.11 amd64-freebsd-thread-multi
Date
2024-05-09 04:32:28
ID
24cad37c-0dbd-11ef-a0f6-e6acdd5bfe21
This distribution has been tested as part of the CPAN Testers
project, supporting the Perl programming language.  See
http://wiki.cpantesters.org/ for more information or email
questions to cpan-testers-discuss@perl.org


--
Dear John McNamara,

This is a computer-generated report for Excel-Writer-XLSX-1.12
on perl 5.39.11, created by CPAN-Reporter-1.2019.

Thank you for uploading your work to CPAN.  Congratulations!
All tests were successful.

Sections of this report:

    * Tester comments
    * Program output
    * Prerequisites
    * Environment and other context

------------------------------
TESTER COMMENTS
------------------------------

Additional comments from tester:

this report is from an automated smoke testing program
and was not reviewed by a human for accuracy

------------------------------
PROGRAM OUTPUT
------------------------------

Output from '/usr/bin/make test':

PERL_DL_NONLAZY=1 "/home/cpan/bin/perl/bin/perl5.39.11" "-MExtUtils::Command::MM" "-MTest::Harness" "-e" "undef *Test::Harness::Switches; test_harness(0, 'blib/lib', 'blib/arch')" t/*/*.t t/*/*/*.t
t/chart/area/sub_write_xml_declaration.t .............. ok
t/chart/bar/sub_write_bar_dir.t ....................... ok
t/chart/bar/sub_write_grouping.t ...................... ok
t/chart/bar/sub_write_xml_declaration.t ............... ok
t/chart/column/sub_write_xml_declaration.t ............ ok
t/chart/line/sub_write_xml_declaration.t .............. ok
t/chart/pie/sub_write_xml_declaration.t ............... ok
t/chart/scatter/sub_write_xml_declaration.t ........... ok
t/chart/stock/sub_write_xml_declaration.t ............. ok
t/chart/sub_add_series.t .............................. ok
t/chart/sub_process_names.t ........................... ok
t/chart/sub_write_a_latin.t ........................... ok
t/chart/sub_write_auto.t .............................. ok
t/chart/sub_write_ax_id.t ............................. ok
t/chart/sub_write_ax_pos.t ............................ ok
t/chart/sub_write_chart_space.t ....................... ok
t/chart/sub_write_cross_ax.t .......................... ok
t/chart/sub_write_crosses.t ........................... ok
t/chart/sub_write_d_lbls.t ............................ ok
t/chart/sub_write_format_code.t ....................... ok
t/chart/sub_write_idx.t ............................... ok
t/chart/sub_write_label_align.t ....................... ok
t/chart/sub_write_label_offset.t ...................... ok
t/chart/sub_write_lang.t .............................. ok
t/chart/sub_write_layout.t ............................ ok
t/chart/sub_write_legend.t ............................ ok
t/chart/sub_write_legend_pos.t ........................ ok
t/chart/sub_write_major_gridlines.t ................... ok
t/chart/sub_write_marker.t ............................ ok
t/chart/sub_write_marker_size.t ....................... ok
t/chart/sub_write_marker_value.t ...................... ok
t/chart/sub_write_num_cache.t ......................... ok
t/chart/sub_write_number_format.t ..................... ok
t/chart/sub_write_order.t ............................. ok
t/chart/sub_write_orientation.t ....................... ok
t/chart/sub_write_page_margins.t ...................... ok
t/chart/sub_write_page_setup.t ........................ ok
t/chart/sub_write_plot_vis_only.t ..................... ok
t/chart/sub_write_pt.t ................................ ok
t/chart/sub_write_pt_count.t .......................... ok
t/chart/sub_write_series_formula.t .................... ok
t/chart/sub_write_style.t ............................. ok
t/chart/sub_write_symbol.t ............................ ok
t/chart/sub_write_tick_lbl_pos.t ...................... ok
t/chart/sub_write_v.t ................................. ok
t/chart/sub_write_xml_declaration.t ................... ok
t/chartsheet/chartsheet01.t ........................... ok
t/chartsheet/chartsheet_subs.t ........................ ok
t/chartsheet/sub_write_sheet_protection.t ............. ok
t/chartsheet/sub_write_xml_declaration.t .............. ok
t/drawing/drawing_chart_01.t .......................... ok
t/drawing/drawing_image_01.t .......................... ok
t/drawing/drawing_shape_01.t .......................... ok
t/drawing/drawing_shape_02.t .......................... ok
t/drawing/drawing_shape_03.t .......................... ok
t/drawing/drawing_shape_04.t .......................... ok
t/drawing/drawing_shape_05.t .......................... ok
t/drawing/drawing_shape_06.t .......................... ok
t/drawing/drawing_shape_07.t .......................... ok
t/drawing/drawing_shape_08.t .......................... ok
t/drawing/sub_write_a_graphic_frame_locks.t ........... ok
t/drawing/sub_write_c_chart.t ......................... ok
t/drawing/sub_write_c_nv_graphic_frame_pr.t ........... ok
t/drawing/sub_write_c_nv_pr.t ......................... ok
t/drawing/sub_write_col.t ............................. ok
t/drawing/sub_write_col_off.t ......................... ok
t/drawing/sub_write_ext.t ............................. ok
t/drawing/sub_write_pos.t ............................. ok
t/drawing/sub_write_row.t ............................. ok
t/drawing/sub_write_row_off.t ......................... ok
t/drawing/sub_write_xfrm_extension.t .................. ok
t/drawing/sub_write_xfrm_offset.t ..................... ok
t/drawing/sub_write_xml_declaration.t ................. ok
t/package/app/app01.t ................................. ok
t/package/app/app02.t ................................. ok
t/package/app/app03.t ................................. ok
t/package/app/sub_write_xml_declaration.t ............. ok
t/package/comments/comments_01.t ...................... ok
t/package/comments/comments_02.t ...................... ok
t/package/comments/sub_write_text_t.t ................. ok
t/package/comments/sub_write_xml_declaration.t ........ ok
t/package/content_types/content_types.t ............... ok
t/package/content_types/sub_write_default.t ........... ok
t/package/content_types/sub_write_override.t .......... ok
t/package/content_types/sub_write_xml_declaration.t ... ok
t/package/core/core01.t ............................... ok
t/package/core/core02.t ............................... ok
t/package/core/sub_write_xml_declaration.t ............ ok
t/package/relationships/relationships.t ............... ok
t/package/relationships/sheet_rels.t .................. ok
t/package/relationships/sub_write_xml_declaration.t ... ok
t/package/shared_strings/shared_strings01.t ........... ok
t/package/shared_strings/shared_strings02.t ........... ok
t/package/shared_strings/sub_write_si.t ............... ok
t/package/shared_strings/sub_write_sst.t .............. ok
t/package/shared_strings/sub_write_xml_declaration.t .. ok
t/package/styles/styles_01.t .......................... ok
t/package/styles/styles_02.t .......................... ok
t/package/styles/styles_03.t .......................... ok
t/package/styles/styles_04.t .......................... ok
t/package/styles/styles_05.t .......................... ok
t/package/styles/styles_06.t .......................... ok
t/package/styles/styles_07.t .......................... ok
t/package/styles/styles_08.t .......................... ok
t/package/styles/styles_09.t .......................... ok
t/package/styles/sub_write_border.t ................... ok
t/package/styles/sub_write_borders.t .................. ok
t/package/styles/sub_write_cell_style.t ............... ok
t/package/styles/sub_write_cell_style_xfs.t ........... ok
t/package/styles/sub_write_cell_styles.t .............. ok
t/package/styles/sub_write_cell_xfs.t ................. ok
t/package/styles/sub_write_colors.t ................... ok
t/package/styles/sub_write_default_fill.t ............. ok
t/package/styles/sub_write_dxfs.t ..................... ok
t/package/styles/sub_write_fills.t .................... ok
t/package/styles/sub_write_font.t ..................... ok
t/package/styles/sub_write_fonts.t .................... ok
t/package/styles/sub_write_mru_colors.t ............... ok
t/package/styles/sub_write_num_fmt.t .................. ok
t/package/styles/sub_write_num_fmts.t ................. ok
t/package/styles/sub_write_style_sheet.t .............. ok
t/package/styles/sub_write_style_xf.t ................. ok
t/package/styles/sub_write_xf.t ....................... ok
t/package/styles/sub_write_xml_declaration.t .......... ok
t/package/table/sub_write_auto_filter.t ............... ok
t/package/table/sub_write_table_column.t .............. ok
t/package/table/sub_write_table_style_info.t .......... ok
t/package/table/sub_write_xml_declaration.t ........... ok
t/package/table/table01.t ............................. ok
t/package/table/table02.t ............................. ok
t/package/table/table03.t ............................. ok
t/package/table/table04.t ............................. ok
t/package/table/table05.t ............................. ok
t/package/table/table06.t ............................. ok
t/package/table/table07.t ............................. ok
t/package/table/table08.t ............................. ok
t/package/table/table09.t ............................. ok
t/package/table/table10.t ............................. ok
t/package/table/table11.t ............................. ok
t/package/table/table12.t ............................. ok
t/package/vml/sub_write_anchor.t ...................... ok
t/package/vml/sub_write_auto_fill.t ................... ok
t/package/vml/sub_write_column.t ...................... ok
t/package/vml/sub_write_div.t ......................... ok
t/package/vml/sub_write_fill.t ........................ ok
t/package/vml/sub_write_idmap.t ....................... ok
t/package/vml/sub_write_move_with_cells.t ............. ok
t/package/vml/sub_write_path.t ........................ ok
t/package/vml/sub_write_row.t ......................... ok
t/package/vml/sub_write_shadow.t ...................... ok
t/package/vml/sub_write_shapelayout.t ................. ok
t/package/vml/sub_write_shapetype.t ................... ok
t/package/vml/sub_write_size_with_cells.t ............. ok
t/package/vml/sub_write_stroke.t ...................... ok
t/package/vml/sub_write_textbox.t ..................... ok
t/package/vml/vml_01.t ................................ ok
t/package/vml/vml_02.t ................................ ok
t/package/vml/vml_03.t ................................ ok
t/package/xml_writer/sub_write_xml_declaration.t ...... ok
t/regression/array_formula01.t ........................ ok
t/regression/array_formula02.t ........................ ok
t/regression/array_formula03.t ........................ ok
t/regression/array_formula04.t ........................ ok
t/regression/autofilter00.t ........................... ok
t/regression/autofilter01.t ........................... ok
t/regression/autofilter02.t ........................... ok
t/regression/autofilter03.t ........................... ok
t/regression/autofilter04.t ........................... ok
t/regression/autofilter05.t ........................... ok
t/regression/autofilter06.t ........................... ok
t/regression/autofilter07.t ........................... ok
t/regression/autofilter08.t ........................... ok
t/regression/autofilter09.t ........................... ok
t/regression/autofilter10.t ........................... ok
t/regression/autofilter11.t ........................... ok
t/regression/autofit01.t .............................. ok
t/regression/autofit02.t .............................. ok
t/regression/autofit03.t .............................. ok
t/regression/autofit04.t .............................. ok
t/regression/autofit05.t .............................. ok
t/regression/autofit06.t .............................. ok
t/regression/autofit07.t .............................. ok
t/regression/autofit08.t .............................. ok
t/regression/autofit09.t .............................. ok
t/regression/autofit10.t .............................. ok
t/regression/autofit11.t .............................. ok
t/regression/autofit12.t .............................. ok
t/regression/autofit13.t .............................. ok
t/regression/background01.t ........................... ok
t/regression/background02.t ........................... ok
t/regression/background03.t ........................... ok
t/regression/background04.t ........................... ok
t/regression/background05.t ........................... ok
t/regression/background06.t ........................... ok
t/regression/background07.t ........................... ok
t/regression/button01.t ............................... ok
t/regression/button02.t ............................... ok
t/regression/button03.t ............................... ok
t/regression/button04.t ............................... ok
t/regression/button05.t ............................... ok
t/regression/button06.t ............................... ok
t/regression/button07.t ............................... ok
t/regression/button08.t ............................... ok
t/regression/button09.t ............................... ok
t/regression/button10.t ............................... ok
t/regression/button11.t ............................... ok
t/regression/button12.t ............................... ok
t/regression/button13.t ............................... ok
t/regression/button14.t ............................... ok
t/regression/button15.t ............................... ok
t/regression/chart_area01.t ........................... ok
t/regression/chart_area02.t ........................... ok
t/regression/chart_area03.t ........................... ok
t/regression/chart_area04.t ........................... ok
t/regression/chart_area05.t ........................... ok
t/regression/chart_area06.t ........................... ok
t/regression/chart_axis01.t ........................... ok
t/regression/chart_axis02.t ........................... ok
t/regression/chart_axis03.t ........................... ok
t/regression/chart_axis04.t ........................... ok
t/regression/chart_axis05.t ........................... ok
t/regression/chart_axis06.t ........................... ok
t/regression/chart_axis07.t ........................... ok
t/regression/chart_axis08.t ........................... ok
t/regression/chart_axis09.t ........................... ok
t/regression/chart_axis10.t ........................... ok
t/regression/chart_axis11.t ........................... ok
t/regression/chart_axis12.t ........................... ok
t/regression/chart_axis13.t ........................... ok
t/regression/chart_axis14.t ........................... ok
t/regression/chart_axis15.t ........................... ok
t/regression/chart_axis16.t ........................... ok
t/regression/chart_axis17.t ........................... ok
t/regression/chart_axis18.t ........................... ok
t/regression/chart_axis19.t ........................... ok
t/regression/chart_axis20.t ........................... ok
t/regression/chart_axis21.t ........................... ok
t/regression/chart_axis22.t ........................... ok
t/regression/chart_axis23.t ........................... ok
t/regression/chart_axis24.t ........................... ok
t/regression/chart_axis25.t ........................... ok
t/regression/chart_axis26.t ........................... ok
t/regression/chart_axis27.t ........................... ok
t/regression/chart_axis28.t ........................... ok
t/regression/chart_axis29.t ........................... ok
t/regression/chart_axis30.t ........................... ok
t/regression/chart_axis31.t ........................... ok
t/regression/chart_axis32.t ........................... ok
t/regression/chart_axis33.t ........................... ok
t/regression/chart_axis34.t ........................... ok
t/regression/chart_axis35.t ........................... ok
t/regression/chart_axis36.t ........................... ok
t/regression/chart_axis37.t ........................... ok
t/regression/chart_axis38.t ........................... ok
t/regression/chart_axis39.t ........................... ok
t/regression/chart_axis40.t ........................... ok
t/regression/chart_axis41.t ........................... ok
t/regression/chart_axis42.t ........................... ok
t/regression/chart_axis43.t ........................... ok
t/regression/chart_axis44.t ........................... ok
t/regression/chart_axis45.t ........................... ok
t/regression/chart_axis46.t ........................... ok
t/regression/chart_axis47.t ........................... ok
t/regression/chart_axis48.t ........................... ok
t/regression/chart_axis49.t ........................... ok
t/regression/chart_axis50.t ........................... ok
t/regression/chart_axis51.t ........................... ok
t/regression/chart_axis52.t ........................... ok
t/regression/chart_bar01.t ............................ ok
t/regression/chart_bar02.t ............................ ok
t/regression/chart_bar03.t ............................ ok
t/regression/chart_bar04.t ............................ ok
t/regression/chart_bar05.t ............................ ok
t/regression/chart_bar06.t ............................ ok
t/regression/chart_bar07.t ............................ ok
t/regression/chart_bar08.t ............................ ok
t/regression/chart_bar09.t ............................ ok
t/regression/chart_bar10.t ............................ ok
t/regression/chart_bar11.t ............................ ok
t/regression/chart_bar12.t ............................ ok
t/regression/chart_bar13.t ............................ ok
t/regression/chart_bar14.t ............................ ok
t/regression/chart_bar15.t ............................ ok
t/regression/chart_bar16.t ............................ ok
t/regression/chart_bar17.t ............................ ok
t/regression/chart_bar18.t ............................ ok
t/regression/chart_bar19.t ............................ ok
t/regression/chart_bar20.t ............................ ok
t/regression/chart_bar21.t ............................ ok
t/regression/chart_bar22.t ............................ ok
t/regression/chart_bar23.t ............................ ok
t/regression/chart_bar24.t ............................ ok
t/regression/chart_blank01.t .......................... ok
t/regression/chart_blank02.t .......................... ok
t/regression/chart_blank03.t .......................... ok
t/regression/chart_blank04.t .......................... ok
t/regression/chart_blank05.t .......................... ok
t/regression/chart_blank06.t .......................... ok
t/regression/chart_blank07.t .......................... ok
t/regression/chart_chartarea01.t ...................... ok
t/regression/chart_chartarea02.t ...................... ok
t/regression/chart_chartarea03.t ...................... ok
t/regression/chart_chartarea04.t ...................... ok
t/regression/chart_chartarea05.t ...................... ok
t/regression/chart_chartarea06.t ...................... ok
t/regression/chart_clustered01.t ...................... ok
t/regression/chart_column01.t ......................... ok
t/regression/chart_column02.t ......................... ok
t/regression/chart_column03.t ......................... ok
t/regression/chart_column04.t ......................... ok
t/regression/chart_column05.t ......................... ok
t/regression/chart_column06.t ......................... ok
t/regression/chart_column07.t ......................... ok
t/regression/chart_column08.t ......................... ok
t/regression/chart_column09.t ......................... ok
t/regression/chart_column10.t ......................... ok
t/regression/chart_column11.t ......................... ok
t/regression/chart_column12.t ......................... ok
t/regression/chart_column13.t ......................... ok
t/regression/chart_combined01.t ....................... ok
t/regression/chart_combined02.t ....................... ok
t/regression/chart_combined03.t ....................... ok
t/regression/chart_combined04.t ....................... ok
t/regression/chart_combined05.t ....................... ok
t/regression/chart_combined06.t ....................... ok
t/regression/chart_combined07.t ....................... ok
t/regression/chart_combined08.t ....................... ok
t/regression/chart_combined09.t ....................... ok
t/regression/chart_combined10.t ....................... ok
t/regression/chart_combined11.t ....................... ok
t/regression/chart_crossing01.t ....................... ok
t/regression/chart_crossing02.t ....................... ok
t/regression/chart_crossing03.t ....................... ok
t/regression/chart_crossing04.t ....................... ok
t/regression/chart_crossing05.t ....................... ok
t/regression/chart_crossing06.t ....................... ok
t/regression/chart_crossing07.t ....................... ok
t/regression/chart_data_labels01.t .................... ok
t/regression/chart_data_labels02.t .................... ok
t/regression/chart_data_labels03.t .................... ok
t/regression/chart_data_labels04.t .................... ok
t/regression/chart_data_labels05.t .................... ok
t/regression/chart_data_labels06.t .................... ok
t/regression/chart_data_labels07.t .................... ok
t/regression/chart_data_labels08.t .................... ok
t/regression/chart_data_labels09.t .................... ok
t/regression/chart_data_labels10.t .................... ok
t/regression/chart_data_labels11.t .................... ok
t/regression/chart_data_labels12.t .................... ok
t/regression/chart_data_labels13.t .................... ok
t/regression/chart_data_labels14.t .................... ok
t/regression/chart_data_labels15.t .................... ok
t/regression/chart_data_labels16.t .................... ok
t/regression/chart_data_labels17.t .................... ok
t/regression/chart_data_labels18.t .................... ok
t/regression/chart_data_labels19.t .................... ok
t/regression/chart_data_labels20.t .................... ok
t/regression/chart_data_labels21.t .................... ok
t/regression/chart_data_labels22.t .................... ok
t/regression/chart_data_labels23.t .................... ok
t/regression/chart_data_labels24.t .................... ok
t/regression/chart_data_labels25.t .................... ok
t/regression/chart_data_labels26.t .................... ok
t/regression/chart_data_labels27.t .................... ok
t/regression/chart_data_labels28.t .................... ok
t/regression/chart_data_labels29.t .................... ok
t/regression/chart_data_labels30.t .................... ok
t/regression/chart_data_labels31.t .................... ok
t/regression/chart_data_labels32.t .................... ok
t/regression/chart_data_labels33.t .................... ok
t/regression/chart_data_labels34.t .................... ok
t/regression/chart_data_labels35.t .................... ok
t/regression/chart_data_labels36.t .................... ok
t/regression/chart_data_labels37.t .................... ok
t/regression/chart_data_labels38.t .................... ok
t/regression/chart_data_labels39.t .................... ok
t/regression/chart_data_labels40.t .................... ok
t/regression/chart_data_labels41.t .................... ok
t/regression/chart_data_labels42.t .................... ok
t/regression/chart_data_labels43.t .................... ok
t/regression/chart_data_labels44.t .................... ok
t/regression/chart_data_labels45.t .................... ok
t/regression/chart_data_labels46.t .................... ok
t/regression/chart_data_labels47.t .................... ok
t/regression/chart_data_labels48.t .................... ok
t/regression/chart_data_labels49.t .................... ok
t/regression/chart_data_labels50.t .................... ok
t/regression/chart_data_labels51.t .................... ok
t/regression/chart_date01.t ........................... ok
t/regression/chart_date02.t ........................... ok
t/regression/chart_date03.t ........................... ok
t/regression/chart_date04.t ........................... ok
t/regression/chart_date05.t ........................... ok
t/regression/chart_display_units01.t .................. ok
t/regression/chart_display_units02.t .................. ok
t/regression/chart_display_units03.t .................. ok
t/regression/chart_display_units04.t .................. ok
t/regression/chart_display_units05.t .................. ok
t/regression/chart_display_units06.t .................. ok
t/regression/chart_display_units07.t .................. ok
t/regression/chart_display_units08.t .................. ok
t/regression/chart_display_units09.t .................. ok
t/regression/chart_display_units10.t .................. ok
t/regression/chart_display_units11.t .................. ok
t/regression/chart_display_units12.t .................. ok
t/regression/chart_doughnut01.t ....................... ok
t/regression/chart_doughnut02.t ....................... ok
t/regression/chart_doughnut03.t ....................... ok
t/regression/chart_doughnut04.t ....................... ok
t/regression/chart_doughnut05.t ....................... ok
t/regression/chart_doughnut06.t ....................... ok
t/regression/chart_doughnut07.t ....................... ok
t/regression/chart_drop_lines01.t ..................... ok
t/regression/chart_drop_lines02.t ..................... ok
t/regression/chart_drop_lines03.t ..................... ok
t/regression/chart_drop_lines04.t ..................... ok
t/regression/chart_errorbars01.t ...................... ok
t/regression/chart_errorbars02.t ...................... ok
t/regression/chart_errorbars03.t ...................... ok
t/regression/chart_errorbars04.t ...................... ok
t/regression/chart_errorbars05.t ...................... ok
t/regression/chart_errorbars06.t ...................... ok
t/regression/chart_errorbars07.t ...................... ok
t/regression/chart_errorbars08.t ...................... ok
t/regression/chart_errorbars09.t ...................... ok
t/regression/chart_errorbars10.t ...................... ok
t/regression/chart_font01.t ........................... ok
t/regression/chart_font02.t ........................... ok
t/regression/chart_font03.t ........................... ok
t/regression/chart_font04.t ........................... ok
t/regression/chart_font05.t ........................... ok
t/regression/chart_font06.t ........................... ok
t/regression/chart_font07.t ........................... ok
t/regression/chart_font08.t ........................... ok
t/regression/chart_font09.t ........................... ok
t/regression/chart_format01.t ......................... ok
t/regression/chart_format02.t ......................... ok
t/regression/chart_format03.t ......................... ok
t/regression/chart_format04.t ......................... ok
t/regression/chart_format05.t ......................... ok
t/regression/chart_format06.t ......................... ok
t/regression/chart_format07.t ......................... ok
t/regression/chart_format08.t ......................... ok
t/regression/chart_format09.t ......................... ok
t/regression/chart_format10.t ......................... ok
t/regression/chart_format11.t ......................... ok
t/regression/chart_format12.t ......................... ok
t/regression/chart_format13.t ......................... ok
t/regression/chart_format14.t ......................... ok
t/regression/chart_format15.t ......................... ok
t/regression/chart_format16.t ......................... ok
t/regression/chart_format17.t ......................... ok
t/regression/chart_format18.t ......................... ok
t/regression/chart_format19.t ......................... ok
t/regression/chart_format20.t ......................... ok
t/regression/chart_format21.t ......................... ok
t/regression/chart_format22.t ......................... ok
t/regression/chart_format23.t ......................... ok
t/regression/chart_format24.t ......................... ok
t/regression/chart_format25.t ......................... ok
t/regression/chart_format26.t ......................... ok
t/regression/chart_format27.t ......................... ok
t/regression/chart_format28.t ......................... ok
t/regression/chart_format29.t ......................... ok
t/regression/chart_format30.t ......................... ok
t/regression/chart_format31.t ......................... ok
t/regression/chart_format32.t ......................... ok
t/regression/chart_format33.t ......................... ok
t/regression/chart_format34.t ......................... ok
t/regression/chart_format35.t ......................... ok
t/regression/chart_gap01.t ............................ ok
t/regression/chart_gap02.t ............................ ok
t/regression/chart_gap03.t ............................ ok
t/regression/chart_gap04.t ............................ ok
t/regression/chart_gap05.t ............................ ok
t/regression/chart_gradient01.t ....................... ok
t/regression/chart_gradient02.t ....................... ok
t/regression/chart_gradient03.t ....................... ok
t/regression/chart_gradient04.t ....................... ok
t/regression/chart_gradient05.t ....................... ok
t/regression/chart_gradient06.t ....................... ok
t/regression/chart_gradient07.t ....................... ok
t/regression/chart_gradient08.t ....................... ok
t/regression/chart_gradient09.t ....................... ok
t/regression/chart_gradient10.t ....................... ok
t/regression/chart_gradient11.t ....................... ok
t/regression/chart_gradient12.t ....................... ok
t/regression/chart_gradient13.t ....................... ok
t/regression/chart_gridlines01.t ...................... ok
t/regression/chart_gridlines02.t ...................... ok
t/regression/chart_gridlines03.t ...................... ok
t/regression/chart_gridlines04.t ...................... ok
t/regression/chart_gridlines05.t ...................... ok
t/regression/chart_gridlines06.t ...................... ok
t/regression/chart_gridlines07.t ...................... ok
t/regression/chart_gridlines08.t ...................... ok
t/regression/chart_gridlines09.t ...................... ok
t/regression/chart_high_low_lines01.t ................. ok
t/regression/chart_high_low_lines02.t ................. ok
t/regression/chart_layout01.t ......................... ok
t/regression/chart_layout02.t ......................... ok
t/regression/chart_layout03.t ......................... ok
t/regression/chart_layout04.t ......................... ok
t/regression/chart_layout05.t ......................... ok
t/regression/chart_layout06.t ......................... ok
t/regression/chart_layout07.t ......................... ok
t/regression/chart_layout08.t ......................... ok
t/regression/chart_legend01.t ......................... ok
t/regression/chart_legend02.t ......................... ok
t/regression/chart_legend03.t ......................... ok
t/regression/chart_legend04.t ......................... ok
t/regression/chart_legend05.t ......................... ok
t/regression/chart_legend06.t ......................... ok
t/regression/chart_legend07.t ......................... ok
t/regression/chart_line01.t ........................... ok
t/regression/chart_line02.t ........................... ok
t/regression/chart_line03.t ........................... ok
t/regression/chart_line04.t ........................... ok
t/regression/chart_line05.t ........................... ok
t/regression/chart_line06.t ........................... ok
t/regression/chart_name01.t ........................... ok
t/regression/chart_name02.t ........................... ok
t/regression/chart_name03.t ........................... ok
t/regression/chart_order01.t .......................... ok
t/regression/chart_order02.t .......................... ok
t/regression/chart_order03.t .......................... ok
t/regression/chart_pattern01.t ........................ ok
t/regression/chart_pattern02.t ........................ ok
t/regression/chart_pattern03.t ........................ ok
t/regression/chart_pattern04.t ........................ ok
t/regression/chart_pattern05.t ........................ ok
t/regression/chart_pattern06.t ........................ ok
t/regression/chart_pattern07.t ........................ ok
t/regression/chart_pattern08.t ........................ ok
t/regression/chart_pattern09.t ........................ ok
t/regression/chart_pattern10.t ........................ ok
t/regression/chart_pie01.t ............................ ok
t/regression/chart_pie02.t ............................ ok
t/regression/chart_pie03.t ............................ ok
t/regression/chart_pie04.t ............................ ok
t/regression/chart_pie05.t ............................ ok
t/regression/chart_points01.t ......................... ok
t/regression/chart_points02.t ......................... ok
t/regression/chart_points03.t ......................... ok
t/regression/chart_points04.t ......................... ok
t/regression/chart_points05.t ......................... ok
t/regression/chart_points06.t ......................... ok
t/regression/chart_radar01.t .......................... ok
t/regression/chart_radar02.t .......................... ok
t/regression/chart_radar03.t .......................... ok
t/regression/chart_scatter01.t ........................ ok
t/regression/chart_scatter02.t ........................ ok
t/regression/chart_scatter03.t ........................ ok
t/regression/chart_scatter04.t ........................ ok
t/regression/chart_scatter05.t ........................ ok
t/regression/chart_scatter06.t ........................ ok
t/regression/chart_scatter07.t ........................ ok
t/regression/chart_scatter08.t ........................ ok
t/regression/chart_scatter09.t ........................ ok
t/regression/chart_scatter10.t ........................ ok
t/regression/chart_scatter11.t ........................ ok
t/regression/chart_scatter12.t ........................ ok
t/regression/chart_scatter13.t ........................ ok
t/regression/chart_scatter14.t ........................ ok
t/regression/chart_scatter15.t ........................ ok
t/regression/chart_size01.t ........................... ok
t/regression/chart_size02.t ........................... ok
t/regression/chart_size03.t ........................... ok
t/regression/chart_size04.t ........................... ok
t/regression/chart_size05.t ........................... ok
t/regression/chart_sparse01.t ......................... ok
t/regression/chart_stock01.t .......................... ok
t/regression/chart_stock02.t .......................... ok
t/regression/chart_stock03.t .......................... ok
t/regression/chart_str01.t ............................ ok
t/regression/chart_str02.t ............................ ok
t/regression/chart_table01.t .......................... ok
t/regression/chart_table02.t .......................... ok
t/regression/chart_table03.t .......................... ok
t/regression/chart_title01.t .......................... ok
t/regression/chart_title02.t .......................... ok
t/regression/chart_title03.t .......................... ok
t/regression/chart_up_down_bars01.t ................... ok
t/regression/chart_up_down_bars02.t ................... ok
t/regression/chart_up_down_bars03.t ................... ok
t/regression/chartsheet01.t ........................... ok
t/regression/chartsheet02.t ........................... ok
t/regression/chartsheet03.t ........................... ok
t/regression/chartsheet04.t ........................... ok
t/regression/chartsheet05.t ........................... ok
t/regression/chartsheet06.t ........................... ok
t/regression/chartsheet07.t ........................... ok
t/regression/chartsheet08.t ........................... ok
t/regression/chartsheet09.t ........................... ok
t/regression/chartsheet10.t ........................... ok
t/regression/comment01.t .............................. ok
t/regression/comment02.t .............................. ok
t/regression/comment03.t .............................. ok
t/regression/comment04.t .............................. ok
t/regression/comment05.t .............................. ok
t/regression/comment06.t .............................. ok
t/regression/comment07.t .............................. ok
t/regression/comment08.t .............................. ok
t/regression/comment09.t .............................. ok
t/regression/comment10.t .............................. ok
t/regression/comment11.t .............................. ok
t/regression/comment12.t .............................. ok
t/regression/comment13.t .............................. ok
t/regression/comment14.t .............................. ok
t/regression/comment15.t .............................. ok
t/regression/comment16.t .............................. ok
t/regression/cond_format01.t .......................... ok
t/regression/cond_format02.t .......................... ok
t/regression/cond_format03.t .......................... ok
t/regression/cond_format04.t .......................... ok
t/regression/cond_format05.t .......................... ok
t/regression/cond_format06.t .......................... ok
t/regression/cond_format07.t .......................... ok
t/regression/cond_format08.t .......................... ok
t/regression/cond_format09.t .......................... ok
t/regression/cond_format10.t .......................... ok
t/regression/cond_format11.t .......................... ok
t/regression/cond_format12.t .......................... ok
t/regression/cond_format13.t .......................... ok
t/regression/cond_format14.t .......................... ok
t/regression/cond_format15.t .......................... ok
t/regression/cond_format16.t .......................... ok
t/regression/cond_format17.t .......................... ok
t/regression/cond_format18.t .......................... ok
t/regression/cond_format19.t .......................... ok
t/regression/cond_format20.t .......................... ok
t/regression/custom_colors01.t ........................ ok
t/regression/data_validation01.t ...................... ok
t/regression/data_validation02.t ...................... ok
t/regression/data_validation03.t ...................... ok
t/regression/data_validation04.t ...................... ok
t/regression/data_validation05.t ...................... ok
t/regression/data_validation06.t ...................... ok
t/regression/data_validation08.t ...................... ok
t/regression/date_1904_01.t ........................... ok
t/regression/date_1904_02.t ........................... ok
t/regression/date_examples01.t ........................ ok
t/regression/default_format01.t ....................... ok
t/regression/default_row01.t .......................... ok
t/regression/default_row02.t .......................... ok
t/regression/default_row03.t .......................... ok
t/regression/default_row04.t .......................... ok
t/regression/default_row05.t .......................... ok
t/regression/defined_name01.t ......................... ok
t/regression/defined_name02.t ......................... ok
t/regression/defined_name03.t ......................... ok
t/regression/defined_name04.t ......................... ok
t/regression/dynamic_array01.t ........................ ok
t/regression/dynamic_array02.t ........................ ok
t/regression/dynamic_array03.t ........................ ok
t/regression/dynamic_array04.t ........................ ok
t/regression/embed_image01.t .......................... ok
t/regression/embed_image02.t .......................... ok
t/regression/embed_image03.t .......................... ok
t/regression/embed_image04.t .......................... ok
t/regression/embed_image05.t .......................... ok
t/regression/embed_image06.t .......................... ok
t/regression/embed_image07.t .......................... ok
t/regression/embed_image08.t .......................... ok
t/regression/embed_image09.t .......................... ok
t/regression/embed_image10.t .......................... ok
t/regression/embed_image11.t .......................... ok
t/regression/embed_image12.t .......................... ok
t/regression/embed_image13.t .......................... ok
t/regression/escapes01.t .............................. ok
t/regression/escapes02.t .............................. ok
t/regression/escapes03.t .............................. ok
t/regression/escapes04.t .............................. ok
t/regression/escapes05.t .............................. ok
t/regression/escapes06.t .............................. ok
t/regression/escapes07.t .............................. ok
t/regression/escapes08.t .............................. ok
t/regression/escapes09.t .............................. ok
t/regression/excel2003_style01.t ...................... ok
t/regression/excel2003_style02.t ...................... ok
t/regression/excel2003_style03.t ...................... ok
t/regression/excel2003_style04.t ...................... ok
t/regression/excel2003_style05.t ...................... ok
t/regression/excel2003_style06.t ...................... ok
t/regression/excel2003_style07.t ...................... ok
t/regression/excel2003_style08.t ...................... ok
t/regression/filehandle01.t ........................... ok
t/regression/firstsheet01.t ........................... ok
t/regression/fit_to_page01.t .......................... ok
t/regression/fit_to_page02.t .......................... ok
t/regression/fit_to_page03.t .......................... ok
t/regression/fit_to_page04.t .......................... ok
t/regression/fit_to_page05.t .......................... ok
t/regression/format01.t ............................... ok
t/regression/format02.t ............................... ok
t/regression/format03.t ............................... ok
t/regression/format04.t ............................... ok
t/regression/format05.t ............................... ok
t/regression/format11.t ............................... ok
t/regression/format12.t ............................... ok
t/regression/format13.t ............................... ok
t/regression/format14.t ............................... ok
t/regression/format15.t ............................... ok
t/regression/format16.t ............................... ok
t/regression/format17.t ............................... ok
t/regression/format18.t ............................... ok
t/regression/format19.t ............................... ok
t/regression/format20.t ............................... ok
t/regression/format21.t ............................... ok
t/regression/format22.t ............................... ok
t/regression/format23.t ............................... ok
t/regression/format24.t ............................... ok
t/regression/formula_results01.t ...................... ok
t/regression/gridlines01.t ............................ ok
t/regression/header01.t ............................... ok
t/regression/header02.t ............................... ok
t/regression/header03.t ............................... ok
t/regression/header04.t ............................... ok
t/regression/header_image01.t ......................... ok
t/regression/header_image02.t ......................... ok
t/regression/header_image03.t ......................... ok
t/regression/header_image04.t ......................... ok
t/regression/header_image05.t ......................... ok
t/regression/header_image06.t ......................... ok
t/regression/header_image07.t ......................... ok
t/regression/header_image08.t ......................... ok
t/regression/header_image09.t ......................... ok
t/regression/header_image10.t ......................... ok
t/regression/header_image11.t ......................... ok
t/regression/header_image12.t ......................... ok
t/regression/header_image13.t ......................... ok
t/regression/header_image14.t ......................... ok
t/regression/header_image15.t ......................... ok
t/regression/header_image16.t ......................... ok
t/regression/header_image17.t ......................... ok
t/regression/header_image18.t ......................... ok
t/regression/header_image19.t ......................... ok
t/regression/header_image20.t ......................... ok
t/regression/header_image21.t ......................... ok
t/regression/hide01.t ................................. ok
t/regression/hide02.t ................................. ok
t/regression/hyperlink01.t ............................ ok
t/regression/hyperlink02.t ............................ ok
t/regression/hyperlink03.t ............................ ok
t/regression/hyperlink04.t ............................ ok
t/regression/hyperlink05.t ............................ ok
t/regression/hyperlink06.t ............................ ok
t/regression/hyperlink07.t ............................ ok
t/regression/hyperlink08.t ............................ ok
t/regression/hyperlink09.t ............................ ok
t/regression/hyperlink10.t ............................ ok
t/regression/hyperlink11.t ............................ ok
t/regression/hyperlink12.t ............................ ok
t/regression/hyperlink13.t ............................ ok
t/regression/hyperlink14.t ............................ ok
t/regression/hyperlink15.t ............................ ok
t/regression/hyperlink16.t ............................ ok
t/regression/hyperlink17.t ............................ ok
t/regression/hyperlink18.t ............................ ok
t/regression/hyperlink19.t ............................ ok
t/regression/hyperlink20.t ............................ ok
t/regression/hyperlink21.t ............................ ok
t/regression/hyperlink22.t ............................ ok
t/regression/hyperlink23.t ............................ ok
t/regression/hyperlink24.t ............................ ok
t/regression/hyperlink25.t ............................ ok
t/regression/hyperlink26.t ............................ ok
t/regression/hyperlink27.t ............................ ok
t/regression/hyperlink28.t ............................ ok
t/regression/hyperlink29.t ............................ ok
t/regression/hyperlink30.t ............................ ok
t/regression/hyperlink31.t ............................ ok
t/regression/hyperlink32.t ............................ ok
t/regression/hyperlink33.t ............................ ok
t/regression/hyperlink34.t ............................ ok
t/regression/hyperlink35.t ............................ ok
t/regression/hyperlink36.t ............................ ok
t/regression/hyperlink37.t ............................ ok
t/regression/hyperlink38.t ............................ ok
t/regression/hyperlink39.t ............................ ok
t/regression/hyperlink40.t ............................ ok
t/regression/hyperlink41.t ............................ ok
t/regression/hyperlink42.t ............................ ok
t/regression/hyperlink43.t ............................ ok
t/regression/hyperlink44.t ............................ ok
t/regression/hyperlink45.t ............................ ok
t/regression/hyperlink46.t ............................ ok
t/regression/hyperlink47.t ............................ ok
t/regression/hyperlink48.t ............................ ok
t/regression/hyperlink49.t ............................ ok
t/regression/hyperlink50.t ............................ ok
t/regression/hyperlink51.t ............................ ok
t/regression/ignore_error01.t ......................... ok
t/regression/ignore_error02.t ......................... ok
t/regression/ignore_error03.t ......................... ok
t/regression/ignore_error04.t ......................... ok
t/regression/ignore_error05.t ......................... ok
t/regression/ignore_error06.t ......................... ok
t/regression/image01.t ................................ ok
t/regression/image02.t ................................ ok
t/regression/image03.t ................................ ok
t/regression/image04.t ................................ ok
t/regression/image05.t ................................ ok
t/regression/image06.t ................................ ok
t/regression/image07.t ................................ ok
t/regression/image08.t ................................ ok
t/regression/image09.t ................................ ok
t/regression/image10.t ................................ ok
t/regression/image11.t ................................ ok
t/regression/image12.t ................................ ok
t/regression/image13.t ................................ ok
t/regression/image14.t ................................ ok
t/regression/image15.t ................................ ok
t/regression/image16.t ................................ ok
t/regression/image17.t ................................ ok
t/regression/image18.t ................................ ok
t/regression/image19.t ................................ ok
t/regression/image22.t ................................ ok
t/regression/image23.t ................................ ok
t/regression/image24.t ................................ ok
t/regression/image25.t ................................ ok
t/regression/image26.t ................................ ok
t/regression/image27.t ................................ ok
t/regression/image28.t ................................ ok
t/regression/image29.t ................................ ok
t/regression/image30.t ................................ ok
t/regression/image31.t ................................ ok
t/regression/image32.t ................................ ok
t/regression/image33.t ................................ ok
t/regression/image34.t ................................ ok
t/regression/image35.t ................................ ok
t/regression/image36.t ................................ ok
t/regression/image44.t ................................ ok
t/regression/image45.t ................................ ok
t/regression/image46.t ................................ ok
t/regression/image47.t ................................ ok
t/regression/image48.t ................................ ok
t/regression/image49.t ................................ ok
t/regression/image50.t ................................ ok
t/regression/image51.t ................................ ok
t/regression/image52.t ................................ ok
t/regression/image53.t ................................ ok
t/regression/image54.t ................................ ok
t/regression/image55.t ................................ ok
t/regression/image56.t ................................ ok
t/regression/image57.t ................................ ok
t/regression/image58.t ................................ ok
t/regression/landscape01.t ............................ ok
t/regression/macro01.t ................................ ok
t/regression/macro02.t ................................ ok
t/regression/macro03.t ................................ ok
t/regression/merge_cells01.t .......................... ok
t/regression/merge_range01.t .......................... ok
t/regression/merge_range02.t .......................... ok
t/regression/merge_range03.t .......................... ok
t/regression/merge_range04.t .......................... ok
t/regression/merge_range05.t .......................... ok
t/regression/object_position01.t ...................... ok
t/regression/object_position02.t ...................... ok
t/regression/object_position03.t ...................... ok
t/regression/object_position04.t ...................... ok
t/regression/object_position06.t ...................... ok
t/regression/object_position07.t ...................... ok
t/regression/object_position08.t ...................... ok
t/regression/object_position09.t ...................... ok
t/regression/object_position10.t ...................... ok
t/regression/object_position12.t ...................... ok
t/regression/object_position13.t ...................... ok
t/regression/object_position14.t ...................... ok
t/regression/object_position15.t ...................... ok
t/regression/object_position16.t ...................... ok
t/regression/object_position17.t ...................... ok
t/regression/object_position18.t ...................... ok
t/regression/object_position19.t ...................... ok
t/regression/object_position20.t ...................... ok
t/regression/optimize01.t ............................. ok
t/regression/optimize02.t ............................. ok
t/regression/optimize03.t ............................. ok
t/regression/optimize04.t ............................. ok
t/regression/optimize05.t ............................. ok
t/regression/optimize06.t ............................. ok
t/regression/optimize07.t ............................. ok
t/regression/optimize08.t ............................. ok
t/regression/optimize13.t ............................. ok
t/regression/optimize14.t ............................. ok
t/regression/outline01.t .............................. ok
t/regression/outline02.t .............................. ok
t/regression/outline03.t .............................. ok
t/regression/outline04.t .............................. ok
t/regression/outline05.t .............................. ok
t/regression/outline06.t .............................. ok
t/regression/page_breaks01.t .......................... ok
t/regression/page_breaks02.t .......................... ok
t/regression/page_breaks03.t .......................... ok
t/regression/page_breaks04.t .......................... ok
t/regression/page_breaks05.t .......................... ok
t/regression/page_breaks06.t .......................... ok
t/regression/page_view01.t ............................ ok
t/regression/page_view02.t ............................ ok
t/regression/page_view03.t ............................ ok
t/regression/panes01.t ................................ ok
t/regression/print_across01.t ......................... ok
t/regression/print_area01.t ........................... ok
t/regression/print_area02.t ........................... ok
t/regression/print_area03.t ........................... ok
t/regression/print_area04.t ........................... ok
t/regression/print_area05.t ........................... ok
t/regression/print_area06.t ........................... ok
t/regression/print_area07.t ........................... ok
t/regression/print_area08.t ........................... ok
t/regression/print_options01.t ........................ ok
t/regression/print_options02.t ........................ ok
t/regression/print_options03.t ........................ ok
t/regression/print_options04.t ........................ ok
t/regression/print_options05.t ........................ ok
t/regression/print_options06.t ........................ ok
t/regression/print_options07.t ........................ ok
t/regression/print_scale01.t .......................... ok
t/regression/print_scale02.t .......................... ok
t/regression/properties01.t ........................... ok
t/regression/properties02.t ........................... ok
t/regression/properties03.t ........................... ok
t/regression/properties04.t ........................... ok
t/regression/properties05.t ........................... ok
t/regression/protect01.t .............................. ok
t/regression/protect02.t .............................. ok
t/regression/protect03.t .............................. ok
t/regression/protect04.t .............................. ok
t/regression/protect05.t .............................. ok
t/regression/protect06.t .............................. ok
t/regression/protect07.t .............................. ok
t/regression/protect08.t .............................. ok
t/regression/quote_name01.t ........................... ok
t/regression/quote_name02.t ........................... ok
t/regression/quote_name03.t ........................... ok
t/regression/quote_name04.t ........................... ok
t/regression/repeat01.t ............................... ok
t/regression/repeat02.t ............................... ok
t/regression/repeat03.t ............................... ok
t/regression/repeat04.t ............................... ok
t/regression/repeat05.t ............................... ok
t/regression/rich_string01.t .......................... ok
t/regression/rich_string02.t .......................... ok
t/regression/rich_string03.t .......................... ok
t/regression/rich_string04.t .......................... ok
t/regression/rich_string05.t .......................... ok
t/regression/rich_string06.t .......................... ok
t/regression/rich_string07.t .......................... ok
t/regression/rich_string08.t .......................... ok
t/regression/rich_string09.t .......................... ok
t/regression/rich_string10.t .......................... ok
t/regression/rich_string11.t .......................... ok
t/regression/rich_string12.t .......................... ok
t/regression/row_col_format01.t ....................... ok
t/regression/row_col_format02.t ....................... ok
t/regression/row_col_format03.t ....................... ok
t/regression/row_col_format04.t ....................... ok
t/regression/row_col_format05.t ....................... ok
t/regression/row_col_format06.t ....................... ok
t/regression/row_col_format07.t ....................... ok
t/regression/row_col_format08.t ....................... ok
t/regression/row_col_format09.t ....................... ok
t/regression/row_col_format10.t ....................... ok
t/regression/row_col_format11.t ....................... ok
t/regression/row_col_format12.t ....................... ok
t/regression/row_col_format13.t ....................... ok
t/regression/row_col_format14.t ....................... ok
t/regression/selection01.t ............................ ok
t/regression/selection02.t ............................ ok
t/regression/set_column01.t ........................... ok
t/regression/set_column02.t ........................... ok
t/regression/set_column03.t ........................... ok
t/regression/set_column04.t ........................... ok
t/regression/set_column05.t ........................... ok
t/regression/set_column06.t ........................... ok
t/regression/set_column07.t ........................... ok
t/regression/set_column08.t ........................... ok
t/regression/set_column09.t ........................... ok
t/regression/set_column10.t ........................... ok
t/regression/set_column11.t ........................... ok
t/regression/set_print_scale01.t ...................... ok
t/regression/set_row01.t .............................. ok
t/regression/set_row02.t .............................. ok
t/regression/set_row03.t .............................. ok
t/regression/set_row04.t .............................. ok
t/regression/set_start_page01.t ....................... ok
t/regression/set_start_page02.t ....................... ok
t/regression/set_start_page03.t ....................... ok
t/regression/shape01.t ................................ ok
t/regression/shape02.t ................................ ok
t/regression/shape03.t ................................ ok
t/regression/shape04.t ................................ ok
t/regression/shape_connect01.t ........................ ok
t/regression/shape_connect02.t ........................ ok
t/regression/shape_connect03.t ........................ ok
t/regression/shape_connect04.t ........................ ok
t/regression/shape_scale01.t .......................... ok
t/regression/shape_stencil01.t ........................ ok
t/regression/shared_strings01.t ....................... ok
t/regression/shared_strings02.t ....................... ok
t/regression/simple01.t ............................... ok
t/regression/simple02.t ............................... ok
t/regression/simple03.t ............................... ok
t/regression/simple04.t ............................... ok
t/regression/simple05.t ............................... ok
t/regression/tab_color01.t ............................ ok
t/regression/table01.t ................................ ok
t/regression/table02.t ................................ ok
t/regression/table03.t ................................ ok
t/regression/table04.t ................................ ok
t/regression/table05.t ................................ ok
t/regression/table06.t ................................ ok
t/regression/table07.t ................................ ok
t/regression/table08.t ................................ ok
t/regression/table09.t ................................ ok
t/regression/table10.t ................................ ok
t/regression/table11.t ................................ ok
t/regression/table12.t ................................ ok
t/regression/table13.t ................................ ok
t/regression/table14.t ................................ ok
t/regression/table15.t ................................ ok
t/regression/table16.t ................................ ok
t/regression/table17.t ................................ ok
t/regression/table18.t ................................ ok
t/regression/table19.t ................................ ok
t/regression/table20.t ................................ ok
t/regression/table21.t ................................ ok
t/regression/table22.t ................................ ok
t/regression/table23.t ................................ ok
t/regression/table24.t ................................ ok
t/regression/table25.t ................................ ok
t/regression/table26.t ................................ ok
t/regression/table27.t ................................ ok
t/regression/table28.t ................................ ok
t/regression/table29.t ................................ ok
t/regression/table30.t ................................ ok
t/regression/table31.t ................................ ok
t/regression/table32.t ................................ ok
t/regression/table33.t ................................ ok
t/regression/table34.t ................................ ok
t/regression/table35.t ................................ ok
t/regression/table36.t ................................ ok
t/regression/taint01.t ................................ ok
t/regression/taint02.t ................................ ok
t/regression/top_left_cell01.t ........................ ok
t/regression/top_left_cell02.t ........................ ok
t/regression/top_left_cell03.t ........................ ok
t/regression/tutorial01.t ............................. ok
t/regression/tutorial02.t ............................. ok
t/regression/tutorial03.t ............................. ok
t/regression/types02.t ................................ ok
t/regression/types08.t ................................ ok
t/regression/utf8_01.t ................................ ok
t/regression/utf8_02.t ................................ ok
t/regression/utf8_03.t ................................ ok
t/regression/utf8_04.t ................................ ok
t/regression/utf8_05.t ................................ ok
t/regression/utf8_06.t ................................ ok
t/regression/utf8_07.t ................................ ok
t/regression/utf8_08.t ................................ ok
t/regression/utf8_09.t ................................ ok
t/regression/utf8_10.t ................................ ok
t/regression/utf8_11.t ................................ ok
t/regression/vml01.t .................................. ok
t/regression/vml02.t .................................. ok
t/regression/vml03.t .................................. ok
t/regression/vml04.t .................................. ok
t/utility/xl_cell_to_rowcol.t ......................... ok
t/utility/xl_col_to_name.t ............................ ok
t/utility/xl_date_1904.t .............................. ok
t/utility/xl_date_list.t .............................. ok
t/utility/xl_dec_col.t ................................ ok
t/utility/xl_dec_row.t ................................ ok
t/utility/xl_decode_date_EU.t ......................... ok
t/utility/xl_decode_date_US.t ......................... ok
t/utility/xl_inc_col.t ................................ ok
t/utility/xl_inc_row.t ................................ ok
WARNING: the TZ Date::Manip config variable is deprecated
         and will be removed in version 7.00.  Please use
         the SetDate or ForceDate config variables instead.
 at /home/cpan/bin/perl/lib/site_perl/5.39.11/Date/Manip/Obj.pm line 286.
t/utility/xl_parse_date.t ............................. ok
t/utility/xl_parse_time.t ............................. ok
t/utility/xl_range.t .................................. ok
t/utility/xl_range_formula.t .......................... ok
t/utility/xl_rowcol_to_cell.t ......................... ok
t/utility/xl_string_pixel_width.t ..................... ok
t/workbook/sub_close.t ................................ ok
t/workbook/sub_get_chart_range.t ...................... ok
t/workbook/sub_sort_defined_names.t ................... ok
t/workbook/sub_write_book_views.t ..................... ok
t/workbook/sub_write_calc_pr.t ........................ ok
t/workbook/sub_write_defined_name.t ................... ok
t/workbook/sub_write_defined_names.t .................. ok
t/workbook/sub_write_ext.t ............................ ok
t/workbook/sub_write_ext_lst.t ........................ ok
t/workbook/sub_write_file_version.t ................... ok
t/workbook/sub_write_mx_arch_id.t ..................... ok
t/workbook/sub_write_sheet.t .......................... ok
t/workbook/sub_write_sheets.t ......................... ok
t/workbook/sub_write_workbook.t ....................... ok
t/workbook/sub_write_workbook_pr.t .................... ok
t/workbook/sub_write_workbook_view.t .................. ok
t/workbook/sub_write_xml_declaration.t ................ ok
t/workbook/workbook_01.t .............................. ok
t/workbook/workbook_02.t .............................. ok
t/workbook/workbook_03.t .............................. ok
t/workbook/workbook_check_sheetname.t ................. ok
t/workbook/workbook_get_worksheet_by_name.t ........... ok
t/worksheet/sparkline_01.t ............................ ok
t/worksheet/sparkline_02.t ............................ ok
t/worksheet/sparkline_03.t ............................ ok
t/worksheet/sparkline_04.t ............................ ok
t/worksheet/sparkline_05.t ............................ ok
t/worksheet/sparkline_06.t ............................ ok
t/worksheet/sparkline_07.t ............................ ok
t/worksheet/sparkline_08.t ............................ ok
t/worksheet/sparkline_09.t ............................ ok
t/worksheet/sparkline_10.t ............................ ok
t/worksheet/sparkline_11.t ............................ ok
t/worksheet/sparkline_12.t ............................ ok
t/worksheet/sub_calculate_spans.t ..................... ok
t/worksheet/sub_convert_date_time_01.t ................ ok
t/worksheet/sub_convert_date_time_02.t ................ ok
t/worksheet/sub_convert_date_time_03.t ................ ok
t/worksheet/sub_extract_filter_tokens.t ............... ok
t/worksheet/sub_parse_filter_expression.t ............. ok
t/worksheet/sub_pixels_to_row_col.t ................... ok
t/worksheet/sub_position_object.t ..................... ok
t/worksheet/sub_prepare_formula.t ..................... ok
t/worksheet/sub_repeat_formula.t ...................... ok
t/worksheet/sub_write_auto_filter.t ................... ok
t/worksheet/sub_write_brk.t ........................... ok
t/worksheet/sub_write_cell.t .......................... ok
t/worksheet/sub_write_cell_value.t .................... ok
t/worksheet/sub_write_col_breaks.t .................... ok
t/worksheet/sub_write_col_info.t ...................... ok
t/worksheet/sub_write_conditional_formatting.t ........ ok
t/worksheet/sub_write_custom_filter.t ................. ok
t/worksheet/sub_write_custom_filters.t ................ ok
t/worksheet/sub_write_data_validations_01.t ........... ok
t/worksheet/sub_write_data_validations_02.t ........... ok
t/worksheet/sub_write_dimension.t ..................... ok
t/worksheet/sub_write_filter.t ........................ ok
t/worksheet/sub_write_filter_column.t ................. ok
t/worksheet/sub_write_filters.t ....................... ok
t/worksheet/sub_write_header_footer.t ................. ok
t/worksheet/sub_write_hyperlink.t ..................... ok
t/worksheet/sub_write_legacy_drawing.t ................ ok
t/worksheet/sub_write_merge_cell.t .................... ok
t/worksheet/sub_write_merge_cells.t ................... ok
t/worksheet/sub_write_page_margins.t .................. ok
t/worksheet/sub_write_page_set_up_pr.t ................ ok
t/worksheet/sub_write_page_setup.t .................... ok
t/worksheet/sub_write_pane.t .......................... ok
t/worksheet/sub_write_phonetic_pr.t ................... ok
t/worksheet/sub_write_print_options.t ................. ok
t/worksheet/sub_write_row.t ........................... ok
t/worksheet/sub_write_row_breaks.t .................... ok
t/worksheet/sub_write_selection.t ..................... ok
t/worksheet/sub_write_sheet_calc_pr.t ................. ok
t/worksheet/sub_write_sheet_data.t .................... ok
t/worksheet/sub_write_sheet_format_pr.t ............... ok
t/worksheet/sub_write_sheet_pr.t ...................... ok
t/worksheet/sub_write_sheet_protection.t .............. ok
t/worksheet/sub_write_sheet_view.t .................... ok
t/worksheet/sub_write_sheet_views1.t .................. ok
t/worksheet/sub_write_sheet_views2.t .................. ok
t/worksheet/sub_write_sheet_views3.t .................. ok
t/worksheet/sub_write_sheet_views4.t .................. ok
t/worksheet/sub_write_sheet_views5.t .................. ok
t/worksheet/sub_write_sheet_views6.t .................. ok
t/worksheet/sub_write_sheet_views7.t .................. ok
t/worksheet/sub_write_sheet_views8.t .................. ok
t/worksheet/sub_write_sheet_views9.t .................. ok
t/worksheet/sub_write_tab_color.t ..................... ok
t/worksheet/sub_write_worksheet.t ..................... ok
t/worksheet/sub_write_xml_declaration.t ............... ok
t/worksheet/test_range_return_values.t ................ ok
t/worksheet/worksheet_01.t ............................ ok
t/worksheet/worksheet_02.t ............................ ok
t/worksheet/worksheet_03.t ............................ ok
t/worksheet/worksheet_04.t ............................ ok
t/worksheet/worksheet_array_formula_01.t .............. ok
t/worksheet/worksheet_cond_format_01.t ................ ok
t/worksheet/worksheet_cond_format_02.t ................ ok
t/worksheet/worksheet_cond_format_03.t ................ ok
t/worksheet/worksheet_cond_format_04.t ................ ok
t/worksheet/worksheet_cond_format_05.t ................ ok
t/worksheet/worksheet_cond_format_06.t ................ ok
t/worksheet/worksheet_cond_format_07.t ................ ok
t/worksheet/worksheet_cond_format_08.t ................ ok
t/worksheet/worksheet_cond_format_09.t ................ ok
t/worksheet/worksheet_cond_format_10.t ................ ok
t/worksheet/worksheet_cond_format_11.t ................ ok
t/worksheet/worksheet_cond_format_12.t ................ ok
t/worksheet/worksheet_cond_format_13.t ................ ok
t/worksheet/worksheet_cond_format_14.t ................ ok
t/worksheet/worksheet_cond_format_15.t ................ ok
t/worksheet/worksheet_cond_format_16.t ................ ok
t/worksheet/worksheet_cond_format_17.t ................ ok
t/worksheet/worksheet_cond_format_18.t ................ ok
t/worksheet/worksheet_cond_format_19.t ................ ok
t/worksheet/worksheet_cond_format_20.t ................ ok
t/worksheet/worksheet_cond_format_21.t ................ ok
t/worksheet/worksheet_cond_format_22.t ................ ok
t/worksheet/worksheet_cond_format_23.t ................ ok
t/worksheet/worksheet_cond_format_24.t ................ ok
t/worksheet/worksheet_data_bar_01.t ................... ok
t/worksheet/worksheet_data_bar_02.t ................... ok
t/worksheet/worksheet_data_bar_03.t ................... ok
t/worksheet/worksheet_data_bar_04.t ................... ok
t/worksheet/worksheet_data_bar_05.t ................... ok
t/worksheet/worksheet_data_bar_06.t ................... ok
t/worksheet/worksheet_data_bar_07.t ................... ok
t/worksheet/worksheet_data_bar_08.t ................... ok
t/worksheet/worksheet_data_bar_09.t ................... ok
t/worksheet/worksheet_data_bar_10.t ................... ok
t/worksheet/worksheet_data_bar_11.t ................... ok
t/worksheet/worksheet_data_bar_12.t ................... ok
t/worksheet/worksheet_data_bar_13.t ................... ok
t/worksheet/worksheet_encode_password.t ............... ok
t/worksheet/worksheet_merge_cells_01.t ................ ok
t/worksheet/worksheet_merge_cells_02.t ................ ok
t/worksheet/worksheet_merge_cells_03.t ................ ok
All tests successful.
Files=1221, Tests=5017, 167 wallclock secs ( 1.95 usr  0.98 sys + 144.48 cusr 19.57 csys = 166.98 CPU)
Result: PASS

------------------------------
PREREQUISITES
------------------------------

Prerequisite modules loaded:

requires:

    Module              Need Have  
    ------------------- ---- ------
    Archive::Zip        1.3  1.68  
    File::Temp          0.19 0.2311
    IO::File            1.14 1.55  

build_requires:

    Module              Need Have  
    ------------------- ---- ------
    ExtUtils::MakeMaker 0    7.70  

configure_requires:

    Module              Need Have  
    ------------------- ---- ------
    ExtUtils::MakeMaker 0    7.70  


------------------------------
ENVIRONMENT AND OTHER CONTEXT
------------------------------

Environment variables:

    AUTOMATED_TESTING = 1
    DATE_MANIP_TEST_DM5 = 1
    LANG = C.UTF-8
    LC_ALL = C
    NONINTERACTIVE_TESTING = 1
    NO_NETWORK_TESTING = 1
    PATH = /home/cpan/bin/perl/bin:/home/cpan/bin:/sbin:/bin:/usr/sbin:/usr/bin:/usr/local/sbin:/usr/local/bin:/home/cpan/bin
    PERL5LIB = 
    PERL5OPT = 
    PERL5_CPANPLUS_IS_RUNNING = 72979
    PERL5_CPAN_IS_RUNNING = 72979
    PERL_MM_USE_DEFAULT = 1
    PERL_USE_UNSAFE_INC = 1
    SHELL = /usr/local/bin/bash
    TERM = screen
    TMPDIR = /home/cpan/tmp

Perl special variables (and OS-specific diagnostics, for MSWin32):

    $^X = /home/cpan/bin/perl/bin/perl5.39.11
    $UID/$EUID = 1002 / 1002
    $GID = 1002 1002
    $EGID = 1002 1002

Perl module toolchain versions installed:

    Module              Have    
    ------------------- --------
    CPAN                2.36    
    CPAN::Meta          2.150010
    Cwd                 3.90    
    ExtUtils::CBuilder  0.280240
    ExtUtils::Command   7.70    
    ExtUtils::Install   2.22    
    ExtUtils::MakeMaker 7.70    
    ExtUtils::Manifest  1.75    
    ExtUtils::ParseXS   3.51    
    File::Spec          3.90    
    JSON                4.10    
    JSON::PP            4.16    
    Module::Build       0.4234  
    Module::Signature   n/a     
    Parse::CPAN::Meta   2.150010
    Test2               1.302199
    Test::Harness       3.48    
    Test::More          1.302199
    YAML                1.31    
    YAML::Syck          1.34    
    version             0.9932  


--

Summary of my perl5 (revision 5 version 39 subversion 11) configuration:
  Commit id: 1e439224289df3172aedd2b1b72f98845bd1f89d
  Platform:
    osname=freebsd
    osvers=14.0-release-p6
    archname=amd64-freebsd-thread-multi
    uname='freebsd cjg-freebsd14 14.0-release-p6 freebsd 14.0-release-p6 #0: tue mar 26 20:26:20 utc 2024 root@amd64-builder.daemonology.net:usrobjusrsrcamd64.amd64sysgeneric amd64 '
    config_args='-des -Dprefix=/home/cpan/bin/perl -Dscriptdir=/home/cpan/bin/perl/bin -Dusedevel -Duse64bitall -Duseithreads'
    hint=recommended
    useposix=true
    d_sigaction=define
    useithreads=define
    usemultiplicity=define
    use64bitint=define
    use64bitall=define
    uselongdouble=undef
    usemymalloc=n
    default_inc_excludes_dot=define
  Compiler:
    cc='cc'
    ccflags ='-DHAS_FPSETMASK -DHAS_FLOATINGPOINT_H -DNO_POSIX_2008_LOCALE -fno-strict-aliasing -pipe -fstack-protector-strong -I/usr/local/include'
    optimize='-O2'
    cppflags='-DHAS_FPSETMASK -DHAS_FLOATINGPOINT_H -DNO_POSIX_2008_LOCALE -fno-strict-aliasing -pipe -fstack-protector-strong -I/usr/local/include'
    ccversion=''
    gccversion='FreeBSD Clang 16.0.6 (https://github.com/llvm/llvm-project.git llvmorg-16.0.6-0-g7cbf1a259152)'
    gccosandvers=''
    intsize=4
    longsize=8
    ptrsize=8
    doublesize=8
    byteorder=12345678
    doublekind=3
    d_longlong=define
    longlongsize=8
    d_longdbl=define
    longdblsize=16
    longdblkind=3
    ivtype='long'
    ivsize=8
    nvtype='double'
    nvsize=8
    Off_t='off_t'
    lseeksize=8
    alignbytes=8
    prototype=define
  Linker and Libraries:
    ld='cc'
    ldflags ='-pthread -Wl,-E  -fstack-protector-strong -L/usr/local/lib'
    libpth=/usr/lib /usr/local/lib /usr/lib/clang/16/lib
    libs=-lpthread -lgdbm -ldl -lm -lcrypt -lutil
    perllibs=-lpthread -ldl -lm -lcrypt -lutil
    libc=
    so=so
    useshrplib=false
    libperl=libperl.a
    gnulibc_version=''
  Dynamic Linking:
    dlsrc=dl_dlopen.xs
    dlext=so
    d_dlsymun=undef
    ccdlflags=' '
    cccdlflags='-DPIC -fPIC'
    lddlflags='-shared  -L/usr/local/lib -fstack-protector-strong'


Characteristics of this binary (from libperl): 
  Compile-time options:
    HAS_LONG_DOUBLE
    HAS_STRTOLD
    HAS_TIMES
    MULTIPLICITY
    PERLIO_LAYERS
    PERL_COPY_ON_WRITE
    PERL_DONT_CREATE_GVSV
    PERL_HASH_FUNC_SIPHASH13
    PERL_HASH_USE_SBOX32
    PERL_MALLOC_WRAP
    PERL_OP_PARENT
    PERL_PRESERVE_IVUV
    PERL_USE_DEVEL
    PERL_USE_SAFE_PUTENV
    USE_64_BIT_ALL
    USE_64_BIT_INT
    USE_ITHREADS
    USE_LARGE_FILES
    USE_LOCALE
    USE_LOCALE_COLLATE
    USE_LOCALE_CTYPE
    USE_LOCALE_NUMERIC
    USE_LOCALE_TIME
    USE_PERLIO
    USE_PERL_ATOF
    USE_REENTRANT_API
  Built under freebsd
  Compiled at May  8 2024 20:08:15
  %ENV:
    PERL5LIB=""
    PERL5OPT=""
    PERL5_CPANPLUS_IS_RUNNING="72979"
    PERL5_CPAN_IS_RUNNING="72979"
    PERL_MM_USE_DEFAULT="1"
    PERL_USE_UNSAFE_INC="1"
  @INC:
    /home/cpan/bin/perl/lib/site_perl/5.39.11/amd64-freebsd-thread-multi
    /home/cpan/bin/perl/lib/site_perl/5.39.11
    /home/cpan/bin/perl/lib/5.39.11/amd64-freebsd-thread-multi
    /home/cpan/bin/perl/lib/5.39.11
    .