Report for Data-Sah-JS-0.87

Back
From: metabase:user:30977d10-2aae-11df-837a-5e0a49663a4f
Subject: PASS Data-Sah-JS-0.87 v5.20.3 SunOS/Solaris
Date: 2017-03-18T15:18:30Z

This distribution has been tested as part of the CPAN Testers
project, supporting the Perl programming language.  See
http://wiki.cpantesters.org/ for more information or email
questions to cpan-testers-discuss@perl.org


--
Dear perlancar,

This is a computer-generated report for Data-Sah-JS-0.87
on perl 5.20.3, created by CPAN-Reporter-1.2018.

Thank you for uploading your work to CPAN.  Congratulations!
All tests were successful.

Sections of this report:

    * Tester comments
    * Program output
    * Prerequisites
    * Environment and other context

------------------------------
TESTER COMMENTS
------------------------------

Additional comments from tester:

this report is from an automated smoke testing program
and was not reviewed by a human for accuracy

------------------------------
PROGRAM OUTPUT
------------------------------

Output from '/usr/bin/make test':

PERL_DL_NONLAZY=1 "/home/stro/perl/5.20.3m/bin/perl" "-MExtUtils::Command::MM" "-MTest::Harness" "-e" "undef *Test::Harness::Switches; test_harness(0, 'blib/lib', 'blib/arch')" t/*.t
t/00-compile.t ........... ok
    # node.js not available, skipping JS test
t/99-various.t ........... ok
t/author-pod-coverage.t .. skipped: these tests are for testing by the author
t/author-pod-syntax.t .... skipped: these tests are for testing by the author
t/js-misc.t .............. skipped: node.js is not available
t/js-type-date.t ......... skipped: node.js is not available
t/js-type-duration.t ..... skipped: node.js is not available
t/spectest-js.t .......... skipped: node.js is not available
All tests successful.
Files=8, Tests=22,  2 wallclock secs ( 0.04 usr  0.01 sys +  0.76 cusr  0.13 csys =  0.94 CPU)
Result: PASS

------------------------------
PREREQUISITES
------------------------------

Prerequisite modules loaded:

requires:

    Module                        Need     Have    
    ----------------------------- -------- --------
    Capture::Tiny                 0        0.44    
    Data::Clean::JSON             0.11     0.38    
    Data::Sah                     0.84     0.87    
    Data::Sah::Coerce             0.014    0.020   
    Data::Sah::Compiler::Prog     0        0.87    
    Data::Sah::Compiler::Prog::TH 0        0.87    
    Data::Sah::Type::array        0        0.87    
    Data::Sah::Type::bool         0        0.87    
    Data::Sah::Type::buf          0        0.87    
    Data::Sah::Type::cistr        0        0.87    
    Data::Sah::Type::code         0        0.87    
    Data::Sah::Type::date         0        0.87    
    Data::Sah::Type::duration     0        0.87    
    Data::Sah::Type::float        0        0.87    
    Data::Sah::Type::hash         0        0.87    
    Data::Sah::Type::int          0        0.87    
    Data::Sah::Type::num          0        0.87    
    Data::Sah::Type::obj          0        0.87    
    Data::Sah::Type::re           0        0.87    
    Data::Sah::Type::str          0        0.87    
    Data::Sah::Type::undef        0        0.87    
    Exporter                      0        5.72    
    File::Temp                    0        0.2304  
    IPC::System::Options          0.27     0.30    
    JSON::MaybeXS                 0        1.003008
    Mo                            0        0.40    
    Nodejs::Util                  0.006    0.006   
    parent                        0        0.228   
    perl                          5.010001 5.020003
    Role::Tiny::With              0        2.000005
    Scalar::Util                  0        1.47    
    Scalar::Util::Numeric::PP     0        0.04    
    strict                        0        1.08    
    String::Indent                0        0.03    
    Test::Data::Sah               0.87     0.87    
    Test::More                    0.98     1.302075
    warnings                      0        1.23    

build_requires:

    Module                        Need     Have    
    ----------------------------- -------- --------
    ExtUtils::MakeMaker           0        7.24    
    File::Spec                    0        3.62    
    IO::Handle                    0        1.35    
    IPC::Open3                    0        1.16    
    Sah::SpecTest                 v0.9.42  0.9.44  
    Test::Exception               0        0.43    
    Test::More                    0.98     1.302075

configure_requires:

    Module                        Need     Have    
    ----------------------------- -------- --------
    ExtUtils::MakeMaker           0        7.24    


------------------------------
ENVIRONMENT AND OTHER CONTEXT
------------------------------

Environment variables:

    AUTOMATED_TESTING = 1
    LANG = en_US.UTF-8
    PATH = /usr/gnu/bin:/usr/bin:/usr/sbin:/sbin:/usr/sfw/bin:
    PERL5LIB = 
    PERL5OPT = 
    PERL5_CPANPLUS_IS_RUNNING = 11060
    PERL5_CPAN_IS_RUNNING = 11060
    PERL5_CPAN_IS_RUNNING_IN_RECURSION = 27685,11060
    PERL_CR_SMOKER_CURRENT = App-SahUtils-0.42
    PERL_EXTUTILS_AUTOINSTALL = --defaultdeps
    PERL_MM_USE_DEFAULT = 1
    SHELL = /bin/bash
    TERM = xterm

Perl special variables (and OS-specific diagnostics, for MSWin32):

    $^X = /home/stro/perl/5.20.3m/bin/perl
    $UID/$EUID = 101 / 101
    $GID = 10 10
    $EGID = 10 10

Perl module toolchain versions installed:

    Module              Have    
    ------------------- --------
    CPAN                2.14    
    CPAN::Meta          2.150010
    Cwd                 3.62    
    ExtUtils::CBuilder  0.280224
    ExtUtils::Command   7.24    
    ExtUtils::Install   2.04    
    ExtUtils::MakeMaker 7.24    
    ExtUtils::Manifest  1.70    
    ExtUtils::ParseXS   3.24    
    File::Spec          3.62    
    JSON                2.90    
    JSON::PP            2.27400 
    Module::Build       0.4220  
    Module::Signature   0.81    
    Parse::CPAN::Meta   2.150010
    Test::Harness       3.36    
    Test::More          1.302075
    YAML                1.22    
    YAML::Syck          1.29    
    version             0.9917  


--

Summary of my perl5 (revision 5 version 20 subversion 3) configuration:
   
  Platform:
    osname=solaris, osvers=2.11, archname=i86pc-solaris-multi
    uname='sunos vm-openindiana-001 5.11 illumos-2816291 i86pc i386 i86pc '
    config_args='-Dcc=gcc'
    hint=recommended, useposix=true, d_sigaction=define
    useithreads=undef, usemultiplicity=define
    use64bitint=undef, use64bitall=undef, uselongdouble=undef
    usemymalloc=n, bincompat5005=undef
  Compiler:
    cc='gcc', ccflags ='-fno-strict-aliasing -pipe -I/usr/gnu/include -D_LARGEFILE_SOURCE -D_FILE_OFFSET_BITS=64 -DPERL_USE_SAFE_PUTENV',
    optimize='-O',
    cppflags='-fno-strict-aliasing -pipe -I/usr/gnu/include'
    ccversion='', gccversion='3.4.3 (csl-sol210-3_4-20050802)', gccosandvers='solaris2.11'
    intsize=4, longsize=4, ptrsize=4, doublesize=8, byteorder=1234
    d_longlong=define, longlongsize=8, d_longdbl=define, longdblsize=12
    ivtype='long', ivsize=4, nvtype='double', nvsize=8, Off_t='off_t', lseeksize=8
    alignbytes=4, prototype=define
  Linker and Libraries:
    ld='gcc', ldflags =' -L/usr/gnu/lib '
    libpth=/usr/gcc/3.4/lib /usr/lib /usr/gnu/lib /usr/ccs/lib
    libs=-lpthread -lsocket -lnsl -lgdbm -ldb -ldl -lm -lc
    perllibs=-lpthread -lsocket -lnsl -ldl -lm -lc
    libc=/lib/libc.so, so=so, useshrplib=false, libperl=libperl.a
    gnulibc_version=''
  Dynamic Linking:
    dlsrc=dl_dlopen.xs, dlext=so, d_dlsymun=undef, ccdlflags=' '
    cccdlflags='-fPIC', lddlflags='-shared -L/usr/gnu/lib'


Characteristics of this binary (from libperl): 
  Compile-time options: HAS_TIMES MULTIPLICITY PERLIO_LAYERS
                        PERL_DONT_CREATE_GVSV
                        PERL_HASH_FUNC_ONE_AT_A_TIME_HARD
                        PERL_IMPLICIT_CONTEXT PERL_MALLOC_WRAP
                        PERL_NEW_COPY_ON_WRITE PERL_PRESERVE_IVUV
                        PERL_USE_SAFE_PUTENV USE_LARGE_FILES USE_LOCALE
                        USE_LOCALE_COLLATE USE_LOCALE_CTYPE
                        USE_LOCALE_NUMERIC USE_PERLIO USE_PERL_ATOF
  Built under solaris
  Compiled at Dec 24 2016 13:21:37
  %ENV:
    PERL5LIB=""
    PERL5OPT=""
    PERL5_CPANPLUS_IS_RUNNING="11060"
    PERL5_CPAN_IS_RUNNING="11060"
    PERL5_CPAN_IS_RUNNING_IN_RECURSION="27685,11060"
    PERL_CR_SMOKER_CURRENT="App-SahUtils-0.42"
    PERL_EXTUTILS_AUTOINSTALL="--defaultdeps"
    PERL_MM_USE_DEFAULT="1"
  @INC:
    /home/stro/perl/5.20.3m/lib/site_perl/5.20.3/i86pc-solaris-multi
    /home/stro/perl/5.20.3m/lib/site_perl/5.20.3
    /home/stro/perl/5.20.3m/lib/5.20.3/i86pc-solaris-multi
    /home/stro/perl/5.20.3m/lib/5.20.3
    .