JSON-Schema-Draft201909 v0.128 Perl 5 v5.30.3 i386-freebsd-thread-multi

Status
Pass
From
Chris Williams (BINGOS)
Dist
JSON-Schema-Draft201909 v0.128
Platform
Perl 5 v5.30.3 i386-freebsd-thread-multi
Date
2021-06-12 00:28:43
ID
24b35334-cb15-11eb-bc66-57723b537541
This distribution has been tested as part of the CPAN Testers
project, supporting the Perl programming language.  See
http://wiki.cpantesters.org/ for more information or email
questions to cpan-testers-discuss@perl.org


--

Dear ETHER,

This is a computer-generated error report created automatically by
CPANPLUS, version 0.9910. Testers personal comments may appear
at the end of this report.


Thank you for uploading your work to CPAN.  Congratulations!
All tests were successful.

TEST RESULTS:

Below is the error stack from stage 'make test':

# 
# Versions for all modules listed in MYMETA.json (including optional ones):
# 
# === Configure Requires ===
# 
#     Module               Want  Have
#     ------------------- ----- -----
#     ExtUtils::MakeMaker   any  7.62
#     Module::Build::Tiny 0.034 0.039
# 
# === Test Requires ===
# 
#     Module                          Want     Have
#     ------------------------------ ----- --------
#     Feature::Compat::Try             any     0.04
#     File::Spec                       any     3.78
#     JSON::MaybeXS                    any 1.004003
#     JSON::PP                         any     4.02
#     List::Util                      1.50     1.56
#     Module::Metadata                 any 1.000036
#     Path::Tiny                       any    0.118
#     Safe::Isa                        any 1.000010
#     Test::Deep                       any    1.130
#     Test::JSON::Schema::Acceptance 1.008    1.009
#     Test::Memory::Cycle              any     1.06
#     Test::More                      0.96 1.302185
#     Test::Warnings                   any    0.030
#     constant                         any     1.33
#     lib                              any     0.65
#     open                             any     1.11
# 
# === Test Recommends ===
# 
#     Module         Want     Have
#     ---------- -------- --------
#     CPAN::Meta 2.120900 2.150010
# 
# === Runtime Requires ===
# 
#     Module                                       Want     Have
#     -------------------------------------------- ---- --------
#     Import::Into                                  any 1.002005
#     JSON::Schema::Modern                          any    0.512
#     JSON::Schema::Modern::Annotation              any    0.512
#     JSON::Schema::Modern::Document                any    0.512
#     JSON::Schema::Modern::Error                   any    0.512
#     JSON::Schema::Modern::Result                  any    0.512
#     JSON::Schema::Modern::Utilities               any    0.512
#     JSON::Schema::Modern::Vocabulary              any    0.512
#     JSON::Schema::Modern::Vocabulary::Applicator  any    0.512
#     JSON::Schema::Modern::Vocabulary::Content     any    0.512
#     JSON::Schema::Modern::Vocabulary::Core        any    0.512
#     JSON::Schema::Modern::Vocabulary::Format      any    0.512
#     JSON::Schema::Modern::Vocabulary::MetaData    any    0.512
#     JSON::Schema::Modern::Vocabulary::Validation  any    0.512
#     Moo                                           any 2.005004
#     Moo::Role                                     any 2.005004
#     if                                            any   0.0608
#     namespace::clean                              any     0.27
#     strict                                        any     1.11
#     strictures                                      2 2.000006
#     warnings                                      any     1.44
# 
# === Other Modules ===
# 
#     Module             Have
#     --------------- -------
#     Encode             3.01
#     File::Temp       0.2311
#     JSON::PP           4.02
#     Module::Runtime   0.016
#     Pod::Coverage   missing
#     Sub::Name       missing
#     YAML            missing
#     autodie            2.29
# 
t/00-report-prereqs.t ................... ok
# 
# 
# Results using Test::JSON::Schema::Acceptance 1.009
# specification version: draft2019-09
# using custom test directory: t/additional-tests-draft2019-09
# optional tests included: no
# 
# filename                                  pass  todo-fail  fail
# ---------------------------------------------------------------
# anchor.json                                  2          0     0
# badRef.json                                  3          0     0
# faux-buggy-schemas.json                      2          0     0
# format-duration.json                         9          0     0
# format-ipv4.json                             3          0     0
# format-relative-json-pointer.json            7          0     0
# format-time.json                            11          0     0
# future-keywords-draft2019-09.json           10          0     0
# id.json                                      6          0     0
# keyword-independence.json                  812          0     0
# loose-types-const-enum.json                  8          0     0
# recursive-dynamic.json                       2          0     0
# ref-and-id.json                              6          0     0
# ref.json                                    12          0     0
# short-circuit.json                          20          0     0
# unicode.json                                 4          0     0
# vocabulary.json                              1          0     0
# ---------------------------------------------------------------
# TOTAL                                      918          0     0
# 
# Congratulations, all non-optional tests are passing!
# 
t/additional-tests-draft2019-09.t ....... ok
# 
# 
# Results using Test::JSON::Schema::Acceptance 1.009
# specification version: draft2019-09
# using custom test directory: t/invalid-schemas-draft2019-09
# optional tests included: no
# 
# filename                                  pass  todo-fail  fail
# ---------------------------------------------------------------
# invalid-input.json                           2          0     0
# ref.json                                     6          0     0
# ---------------------------------------------------------------
# TOTAL                                        8          0     0
# 
# Congratulations, all non-optional tests are passing!
# 
t/invalid-schemas-draft2019-09.t ........ ok
t/unsupported-keywords.t ................ ok
# 
# 
# Results using Test::JSON::Schema::Acceptance 1.009
# with commit 8a3a542bfe6b671a51f4e39cdc0dbbf543e8903d (2.0.0-362-g8a3a542)
# from git://github.com/json-schema-org/JSON-Schema-Test-Suite.git:
# specification version: draft2019-09
# using custom test directory: <base test directory>/optional/format
# optional tests included: yes
# 
# filename                                  pass  todo-fail  fail
# ---------------------------------------------------------------
# date-time.json                               5          6     0
# date.json                                    5          0     0
# duration.json                               17          0     0
# email.json                                   5          4     0
# hostname.json                                3          9     0
# idn-email.json                               2          2     0
# idn-hostname.json                           16         29     0
# ipv4.json                                    8          0     0
# ipv6.json                                   29          0     0
# iri-reference.json                           5          2     0
# iri.json                                     8          1     0
# json-pointer.json                           32          0     0
# regex.json                                   2          0     0
# relative-json-pointer.json                   9          0     0
# time.json                                   18          0     0
# uri-reference.json                           7          0     0
# uri-template.json                            3          1     0
# uri.json                                    19          1     0
# uuid.json                                   12          0     0
# ---------------------------------------------------------------
# TOTAL                                      205         55     0
# 
# Congratulations, all non-optional tests are passing!
# 
t/zzz-acceptance-draft2019-09-format.t .. ok
# 
# 
# Results using Test::JSON::Schema::Acceptance 1.009
# with commit 8a3a542bfe6b671a51f4e39cdc0dbbf543e8903d (2.0.0-362-g8a3a542)
# from git://github.com/json-schema-org/JSON-Schema-Test-Suite.git:
# specification version: draft2019-09
# optional tests included: yes
# skipping directory: optional/format
# 
# filename                                  pass  todo-fail  fail
# ---------------------------------------------------------------
# additionalItems.json                        15          0     0
# additionalProperties.json                   15          0     0
# allOf.json                                  30          0     0
# anchor.json                                 10          0     0
# anyOf.json                                  18          0     0
# boolean_schema.json                         18          0     0
# const.json                                  49          1     0
# contains.json                               18          0     0
# content.json                                18          0     0
# default.json                                 7          0     0
# defs.json                                    2          0     0
# dependentRequired.json                      20          0     0
# dependentSchemas.json                       13          0     0
# enum.json                                   33          0     0
# exclusiveMaximum.json                        4          0     0
# exclusiveMinimum.json                        4          0     0
# format.json                                133          0     0
# id.json                                     16          0     0
# if-then-else.json                           26          0     0
# infinite-loop-detection.json                 2          0     0
# items.json                                  26          0     0
# maxContains.json                            10          0     0
# maxItems.json                                4          0     0
# maxLength.json                               5          0     0
# maxProperties.json                           8          0     0
# maximum.json                                 8          0     0
# minContains.json                            23          0     0
# minItems.json                                4          0     0
# minLength.json                               5          0     0
# minProperties.json                           6          0     0
# minimum.json                                11          0     0
# multipleOf.json                              9          0     0
# not.json                                    12          0     0
# oneOf.json                                  27          0     0
# pattern.json                                 9          0     0
# patternProperties.json                      22          0     0
# properties.json                             20          0     0
# propertyNames.json                          10          0     0
# recursiveRef.json                           32          0     0
# ref.json                                    41          0     0
# refRemote.json                              17          0     0
# required.json                                9          0     0
# type.json                                   80          0     0
# unevaluatedItems.json                       35          0     0
# unevaluatedProperties.json                  59          0     0
# uniqueItems.json                            64          0     0
# unknownKeyword.json                          3          0     0
# optional/bignum.json                         2          7     0
# optional/ecmascript-regex.json              31          9     0
# optional/float-overflow.json                 0          1     0
# optional/non-bmp-regex.json                 12          0     0
# optional/refOfUnknownKeyword.json            4          0     0
# ---------------------------------------------------------------
# TOTAL                                     1059         18     0
# 
# WARNING: some non-optional tests are failing! This implementation is not fully compliant with the specification!
# 
t/zzz-acceptance-draft2019-09.t ......... ok
All tests successful.

Test Summary Report
-------------------
t/zzz-acceptance-draft2019-09-format.t (Wstat: 0 Tests: 262 Failed: 0)
  TODO passed:   1-16, 34-103, 141-147, 153, 200-217, 225-228
                248
t/zzz-acceptance-draft2019-09.t       (Wstat: 0 Tests: 1079 Failed: 0)
  TODO passed:   153, 1012-1061
Files=6, Tests=2277, 43 wallclock secs ( 2.49 usr  1.63 sys + 32.59 cusr  4.74 csys = 41.46 CPU)
Result: PASS


PREREQUISITES:

Here is a list of prerequisites you specified and versions we
managed to load:

	  Module Name                        Have     Want
	  Feature::Compat::Try               0.04        0
	  File::Spec                         3.78        0
	  Import::Into                   1.002005        0
	  JSON::MaybeXS                  1.004003        0
	  JSON::PP                           4.02        0
	  JSON::Schema::Modern              0.512        0
	  JSON::Schema::Modern::Annotation    0.512        0
	  JSON::Schema::Modern::Document    0.512        0
	  JSON::Schema::Modern::Error       0.512        0
	  JSON::Schema::Modern::Result      0.512        0
	  JSON::Schema::Modern::Utilities    0.512        0
	  JSON::Schema::Modern::Vocabulary    0.512        0
	  JSON::Schema::Modern::Vocabulary::Applicator    0.512        0
	  JSON::Schema::Modern::Vocabulary::Content    0.512        0
	  JSON::Schema::Modern::Vocabulary::Core    0.512        0
	  JSON::Schema::Modern::Vocabulary::Format    0.512        0
	  JSON::Schema::Modern::Vocabulary::MetaData    0.512        0
	  JSON::Schema::Modern::Vocabulary::Validation    0.512        0
	  List::Util                         1.56     1.50
	  Module::Metadata               1.000036        0
	  Moo                            2.005004        0
	  Moo::Role                      2.005004        0
	  Path::Tiny                        0.118        0
	  Safe::Isa                      1.000010        0
	  Test::Deep                        1.130        0
	  Test::JSON::Schema::Acceptance    1.009    1.008
	  Test::Memory::Cycle                1.06        0
	  Test::More                     1.302185     0.96
	  Test::Warnings                    0.030        0
	  constant                           1.33        0
	  if                               0.0608        0
	  lib                                0.65        0
	  namespace::clean                   0.27        0
	  open                               1.11        0
	  strict                             1.11        0
	  strictures                     2.000006        2
	  warnings                           1.44        0

Perl module toolchain versions installed:
	Module Name                        Have
	CPANPLUS                         0.9910
	CPANPLUS::Dist::Build              0.90
	Cwd                                3.78
	ExtUtils::CBuilder             0.280236
	ExtUtils::Command                  7.62
	ExtUtils::Install                  2.20
	ExtUtils::MakeMaker                7.62
	ExtUtils::Manifest                 1.73
	ExtUtils::ParseXS                  3.40
	File::Spec                         3.78
	Module::Build                    0.4231
	Pod::Parser                        1.63
	Pod::Simple                        3.35
	Test2                          1.302185
	Test::Harness                      3.42
	Test::More                     1.302185
	version                          0.9929

******************************** NOTE ********************************
The comments above are created mechanically, possibly without manual
checking by the sender.  As there are many people performing automatic
tests on each upload to CPAN, it is likely that you will receive
identical messages about the same problem.

If you believe that the message is mistaken, please reply to the first
one with correction and/or additional informations, and do not take
it personally.  We appreciate your patience. :)
**********************************************************************

Additional comments:


This report was machine-generated by CPANPLUS::Dist::YACSmoke 1.08.
Powered by minismokebox version 0.68

CPANPLUS is prefering Build.PL

------------------------------
ENVIRONMENT AND OTHER CONTEXT
------------------------------

Environment variables:

    AUTOMATED_TESTING = 1
    LANG = C.UTF-8
    NONINTERACTIVE_TESTING = 1
    PATH = /sbin:/bin:/usr/sbin:/usr/bin:/usr/local/sbin:/usr/local/bin:/home/cpan/bin
    PERL5LIB = /usr/home/cpan/pit/jail/nKzVwTzCn7/lib/perl5:/usr/home/cpan/pit/thr/conf/perl-5.30.3/.cpanplus/5.30.3/build/9xrf0UQcj2/JSON-Schema-Modern-0.512/blib/lib:/usr/home/cpan/pit/thr/conf/perl-5.30.3/.cpanplus/5.30.3/build/9xrf0UQcj2/JSON-Schema-Modern-0.512/blib/arch:/usr/home/cpan/pit/thr/conf/perl-5.30.3/.cpanplus/5.30.3/build/mPIlT2rlbA/JSON-Schema-Draft201909-0.128/blib/lib:/usr/home/cpan/pit/thr/conf/perl-5.30.3/.cpanplus/5.30.3/build/mPIlT2rlbA/JSON-Schema-Draft201909-0.128/blib/arch
    PERL5_CPANPLUS_IS_RUNNING = 53958
    PERL5_CPANPLUS_IS_VERSION = 0.9910
    PERL5_MINISMOKEBOX = 0.68
    PERL5_YACSMOKE_BASE = /usr/home/cpan/pit/thr/conf/perl-5.30.3
    PERL_EXTUTILS_AUTOINSTALL = --defaultdeps
    PERL_LOCAL_LIB_ROOT = /usr/home/cpan/pit/jail/nKzVwTzCn7
    PERL_MB_OPT = --install_base "/usr/home/cpan/pit/jail/nKzVwTzCn7"
    PERL_MM_OPT = INSTALL_BASE=/usr/home/cpan/pit/jail/nKzVwTzCn7
    PERL_MM_USE_DEFAULT = 1
    SHELL = /usr/local/bin/bash
    TERM = screen

Perl special variables (and OS-specific diagnostics, for MSWin32):

    Perl: $^X = /usr/home/cpan/pit/thr/perl-5.30.3/bin/perl
    UID:  $<  = 1002
    EUID: $>  = 1002
    GID:  $(  = 1002 1002
    EGID: $)  = 1002 1002


-------------------------------


--

Summary of my perl5 (revision 5 version 30 subversion 3) configuration:
   
  Platform:
    osname=freebsd
    osvers=13.0-release
    archname=i386-freebsd-thread-multi
    uname='freebsd fiat 13.0-release freebsd 13.0-release #0 releng13.0-n244733-ea31abc261f: fri apr 9 04:04:45 utc 2021 root@releng1.nyi.freebsd.org:usrobjusrsrci386.i386sysgeneric i386 '
    config_args='-des -Dprefix=/usr/home/cpan/pit/thr/perl-5.30.3 -Dusethreads'
    hint=recommended
    useposix=true
    d_sigaction=define
    useithreads=define
    usemultiplicity=define
    use64bitint=undef
    use64bitall=undef
    uselongdouble=undef
    usemymalloc=n
    default_inc_excludes_dot=define
    bincompat5005=undef
  Compiler:
    cc='cc'
    ccflags ='-DHAS_FPSETMASK -DHAS_FLOATINGPOINT_H -fno-strict-aliasing -pipe -fstack-protector-strong -I/usr/local/include'
    optimize='-O2'
    cppflags='-DHAS_FPSETMASK -DHAS_FLOATINGPOINT_H -fno-strict-aliasing -pipe -fstack-protector-strong -I/usr/local/include'
    ccversion=''
    gccversion='FreeBSD Clang 11.0.1 (git@github.com:llvm/llvm-project.git llvmorg-11.0.1-0-g43ff75f2c3fe)'
    gccosandvers=''
    intsize=4
    longsize=4
    ptrsize=4
    doublesize=8
    byteorder=1234
    doublekind=3
    d_longlong=define
    longlongsize=8
    d_longdbl=define
    longdblsize=12
    longdblkind=3
    ivtype='long'
    ivsize=4
    nvtype='double'
    nvsize=8
    Off_t='off_t'
    lseeksize=8
    alignbytes=4
    prototype=define
  Linker and Libraries:
    ld='cc'
    ldflags ='-pthread -Wl,-E  -fstack-protector-strong -L/usr/local/lib'
    libpth=/usr/lib /usr/local/lib /usr/lib/clang/11.0.1/lib /usr/lib
    libs=-lpthread -lgdbm -ldl -lm -lcrypt -lutil
    perllibs=-lpthread -ldl -lm -lcrypt -lutil
    libc=
    so=so
    useshrplib=false
    libperl=libperl.a
    gnulibc_version=''
  Dynamic Linking:
    dlsrc=dl_dlopen.xs
    dlext=so
    d_dlsymun=undef
    ccdlflags=' '
    cccdlflags='-DPIC -fPIC'
    lddlflags='-shared  -L/usr/local/lib -fstack-protector-strong'


Characteristics of this binary (from libperl): 
  Compile-time options:
    HAS_TIMES
    MULTIPLICITY
    PERLIO_LAYERS
    PERL_COPY_ON_WRITE
    PERL_DONT_CREATE_GVSV
    PERL_IMPLICIT_CONTEXT
    PERL_MALLOC_WRAP
    PERL_OP_PARENT
    PERL_PRESERVE_IVUV
    USE_ITHREADS
    USE_LARGE_FILES
    USE_LOCALE
    USE_LOCALE_COLLATE
    USE_LOCALE_CTYPE
    USE_LOCALE_NUMERIC
    USE_LOCALE_TIME
    USE_PERLIO
    USE_PERL_ATOF
    USE_REENTRANT_API
    USE_THREAD_SAFE_LOCALE
  Locally applied patches:
    Devel::PatchPerl 2.08
  Built under freebsd
  Compiled at Apr 18 2021 21:16:47
  %ENV:
    PERL5LIB="/usr/home/cpan/pit/jail/nKzVwTzCn7/lib/perl5:/usr/home/cpan/pit/thr/conf/perl-5.30.3/.cpanplus/5.30.3/build/9xrf0UQcj2/JSON-Schema-Modern-0.512/blib/lib:/usr/home/cpan/pit/thr/conf/perl-5.30.3/.cpanplus/5.30.3/build/9xrf0UQcj2/JSON-Schema-Modern-0.512/blib/arch:/usr/home/cpan/pit/thr/conf/perl-5.30.3/.cpanplus/5.30.3/build/mPIlT2rlbA/JSON-Schema-Draft201909-0.128/blib/lib:/usr/home/cpan/pit/thr/conf/perl-5.30.3/.cpanplus/5.30.3/build/mPIlT2rlbA/JSON-Schema-Draft201909-0.128/blib/arch"
    PERL5_CPANPLUS_IS_RUNNING="53958"
    PERL5_CPANPLUS_IS_VERSION="0.9910"
    PERL5_MINISMOKEBOX="0.68"
    PERL5_YACSMOKE_BASE="/usr/home/cpan/pit/thr/conf/perl-5.30.3"
    PERL_EXTUTILS_AUTOINSTALL="--defaultdeps"
    PERL_LOCAL_LIB_ROOT="/usr/home/cpan/pit/jail/nKzVwTzCn7"
    PERL_MB_OPT="--install_base "/usr/home/cpan/pit/jail/nKzVwTzCn7""
    PERL_MM_OPT="INSTALL_BASE=/usr/home/cpan/pit/jail/nKzVwTzCn7"
    PERL_MM_USE_DEFAULT="1"
  @INC:
    /usr/home/cpan/pit/jail/nKzVwTzCn7/lib/perl5/5.30.3/i386-freebsd-thread-multi
    /usr/home/cpan/pit/jail/nKzVwTzCn7/lib/perl5/5.30.3
    /usr/home/cpan/pit/jail/nKzVwTzCn7/lib/perl5/i386-freebsd-thread-multi
    /usr/home/cpan/pit/jail/nKzVwTzCn7/lib/perl5
    /usr/home/cpan/pit/thr/conf/perl-5.30.3/.cpanplus/5.30.3/build/9xrf0UQcj2/JSON-Schema-Modern-0.512/blib/lib
    /usr/home/cpan/pit/thr/conf/perl-5.30.3/.cpanplus/5.30.3/build/9xrf0UQcj2/JSON-Schema-Modern-0.512/blib/arch
    /usr/home/cpan/pit/thr/conf/perl-5.30.3/.cpanplus/5.30.3/build/mPIlT2rlbA/JSON-Schema-Draft201909-0.128/blib/lib
    /usr/home/cpan/pit/thr/conf/perl-5.30.3/.cpanplus/5.30.3/build/mPIlT2rlbA/JSON-Schema-Draft201909-0.128/blib/arch
    /usr/home/cpan/pit/thr/perl-5.30.3/lib/site_perl/5.30.3/i386-freebsd-thread-multi
    /usr/home/cpan/pit/thr/perl-5.30.3/lib/site_perl/5.30.3
    /usr/home/cpan/pit/thr/perl-5.30.3/lib/5.30.3/i386-freebsd-thread-multi
    /usr/home/cpan/pit/thr/perl-5.30.3/lib/5.30.3